{"text_format":"1","workbook":"xlsx","n_sheets":12,"sheets":["Users Guide","2019-20 Farm Bill Calculator","IRRIGATION","1 Farm 2019 Prevent Plant","Multiple ARC-IC Farms","Trend Adj Yield","Background Calculations","County Trend Yields","2019 Ylds","MYA Prices","FSA 18","FSA19"],"not_rendered":{"charts":2,"images":5,"macros":1,"external_links":1,"defined_names":5,"comments":2,"pivot_tables":0},"unopened":[],"bounds":{"document_bytes":16777216,"sheet_cells":100000,"rows_first":2000,"rows_last":500,"rows_between":2000,"halvings":0,"cell_chars":16384,"cell_head_chars":4096},"cells_cut":0,"cells_raw":0,"read":"whole","date_system":"1900"}

{"sheet":"Users Guide","index":0,"n_rows":70,"n_cols":3,"rows_kept":70,"cut":false,"hidden":true,"merged":[]}
[]
[]
[]
[]
[]
[]
[]
[]
[]
[null,null,"MSU 2018 Farm Bill Analyzer USERS GUIDE"]
[]
[null,null,"USER’S GUIDE"]
[null,null,"Version 2.0 October 27, 2019"]
[null,null," Roger Betz, Senior Farm Management"]
[null,null,"Michigan State University Extension"]
[]
[null,null,"The MSU 2018 FARM BILL ANALYZER provides an analysis of two important decisions that are included in the Agricultural Act of 2018 (the 2018 Farm Bill).  First, land owners will be permitted to update the Price Loss Coverage (PLC) program yields on their farms. Second, owners and/or tenants can elect either the Agricultural Risk Coverage (ARC-CO or ARC-IC) or Price Loss Coverage (PLC) programs for each covered commodity on each of their farms."]
[null,null,"This FARM BILL ANALYZER provides farm management information on the PLC yield update and ARC Co versus PLC decisions based on assumptions about farm yields, county yields, and national market prices.  Given the inputted variables listed below, the MSU 2018 FARM BILL ANALYZER will calculate the consequences for the farm manager’s alternative decisions regarding PLC yield updates and the election of ARC-CO, or PLC programs. The ARC Individual program is not analyzed by the tool but is available in the 2018 Farm Bill."]
[]
[]
[null,null,"Disclaimer: This MSU 2018 FARM BILL ANALYZER is designed with the most recent information available about the provisions of the 2018 Farm Bill."]
[]
[null,null,"I.     To operate the MSU 2018 FARM BILL ANALYZER, the user will need the following information:"]
[null,null,"A.    The Farm Service Agency (FSA) base acres and PLC program yields by FSA farm number."]
[null,null,"B.    Historical yields by FSA farm number from 2013 - 2017. "]
[null,null,"C.    If the farm has irrigated yields, the irrigated and non-irrigated yields by acres by year need to be separated."]
[null,null,"D.    Assumed county average yields (irrigated and non-irrigated) for the county in which the farm is located for 2019 and 2020."]
[null,null,"E.    Assumed national market year average prices (MYA) for 2019 and 2020."]
[]
[null,null,"II.    Operation of the tool:"]
[null,null,"A.    The green colored cells are where data and information can be entered. All non-green cells are protected from changes. "]
[null,null,"B.    Where the program says to < SELECT, highlight the green colored cells to the left by clicking on it and a \"scroll button\" will appear to make your selection. Click on the \"scroll button\" to activate the choices."]
[null,null,"   C.    The tool has several grey colored buttons to perform various macros contained with in the spreadsheet."]
[null,null,"   D.    Various formulas may appear in green cells that can be changed.  It is ok and encouraged to use your own values in these cells.  The various macro buttons will restore these formulas and default values. "]
[]
[null,null,"III.   Steps for Data Entry:  "]
[null,null,"Step 1.     Select from pull down menu the Farm's County. Then enter a farm name of your choice and the FSA Farm Number."]
[null,null,"Step 2.     Enter the farm’s PLC program yield for all covered commodities on the farm. FSA form CCC-861"]
[null,null,"Note: In the 2018 Farm Bill, “covered commodities” with base acres in Michigan include barley, oats, and some others. If you have a significant base in these crops, please contact Roger Betz or use one of the other national analyzer programs."]
[null,null,"Step 3 .     Enter your actual yields for the FSA farm number. This needs to be the weighted yield (dry and irrigated combined)."]
[null,null,"Note: The \"Irrigation\" Sheet is used to calculate the percentage of irrigated acres and yields by year and can be imported to the \"2019-20 Farm Bill Calculator\" worksheet by using the \"Use Irrigation Worksheet Percentages\" button.    "]
[null,null,"Step 4 .     Enter the known (2019) or expected yields for the County. This needs to be the weighted yield (dry and irrigated combined)."]
[null,null,"Note: It is important to enter the 2019 actual county yield when known. Sign-up final date is March 15th, 2020 for the 2019 crop year and yield information should be fairy well known at this time. The default is simply the ARC-CO Benchmark yield and the actual will be different and will effect the decision."]
[null,null,"Step 5 .     Select or Enter Projected Market Year National Average Prices. (MYA) "]
[null,null,"Note: The 2019 projected MYA price will be 75% known by March 15, 2020 and there will be indications of what the 2020 prices may be.  Use your own various prices and different sources (pull down menu) to see the impact on the decision of PLC versus ARC-Co. Use combinations of prices and yields to test at what points the decision between ARC-Co and PLC may change."]
[null,null,"A.    Various projected prices from alternative sources can be chosen by using the “drop-down” menu. "]
[null,null,"B.    The user can also increase or decrease these base price projections by entering the desired percent change."]
[null,null,"C.    The default values can be restored by using the “Restore Default Price Projections” button."]
[]
[null,null,"IV.   FSA Decisions:"]
[null,null,"FSA Decision 1: "]
[null,null,"Update PLC Yields? Choose the resulting highest yield.  Unlike the 2014 Farm Bill there are no possible offsets where you would not want to choose the highest yield."]
[null,null,"FSA Decision 2: "]
[null,null,"Based on the inputted values the tool calculates the results. Look for the highest payments for the 2019 and 2020 years combined for each crop; corn, soys and wheat.  It is important to test various scenarios to see the impacts of various yields and prices. Low prices and average or high yields usually favors PLC. Low yields and low prices may favor ARC-CO or PLC depending on the crop, the county and levels of low prices and low yields."]
[]
[null,null,"V.    Interpretation of Results: The results calculated by the MSU 2018 FARM BILL ANALYZER -- Results include:"]
[null,null,"A.      PLC Yield update: What is the consequence of electing to update the farm’s FSA PLC program yield? The MSU 2018 FARM BILL ANALYZER compares the farm’s updated yield under the 2018 Farm Bill to the farm’s existing PLC yield. The user should select the highest payment PLC yield by crop. The “Checked YES box” for each crop is where the user can choose whether to update PLC yields or not. This choice can be made on a covered commodity-by-covered commodity basis."]
[null,null,"B.       ARC-CO versus PLC: What is the consequence of electing to enroll the farm in ARC-CO or PLC? The MSU 2018 FARM BILL ANALYZER compares the farm’s expected total program payment (2019 and 2020) for each covered commodity under each of these two program choices."]
[null,null,"C. Color coding is used to help quickly see which program has the highs payment given the inputted information.  Green is highest and red is lowest program payment choice."]
[]
[null,null,"VI.    Conclusion: "]
[null,null,"Given the many factors that could affect the two major decisions contained in the 2018 Farm Bill, users are encouraged to consider:"]
[null,null,"A.         Running a wide range of scenarios for prices and yields for the 2020 year. Use the best information available for the 2019 year as sign up deadline is March 15th of 2020 for the 2019 crop year decision.  You must choose the same program for the 2019 and the 2020 years. The 2021, 2022, and 2023 years will each be separate decisions.  Testing various prices and yields is highly recommended and the calculator is designed to accommodate this testing of the USDA program."]
[null,null,"B.     The farm managers risk preference will effect the final decision made; not simply the result from the most likely prices and yields.  What happens when prices and/or yields……………..and how much benefit from the USDA risk management program?"]
[]
[]
[null,null,"MSU 2018 Farm Bill ARC-PLC Decision Making Tool © 2015 Michigan State University Board of Trustees. 4-H and other Cooperative Extension System groups and other nonprofit educational groups may print hard copies of this material for noncommercial, educational use, provided that attribution is given to Michigan State University Extension. All other rights reserved. For information, contact MSU Extension, 108 Agriculture Hall, 446 West Circle Drive, East Lansing, MI 48824."]
[null,null,"MSU is an affirmative-action, equal-opportunity employer, committed to achieving excellence through a diverse workforce and inclusive culture that encourages all people to reach their full potential. Michigan State University Extension programs and materials are open to all without regard to race, color, national origin, gender, gender identity, religion, age, height, weight, disability, political beliefs, sexual orientation, marital status, family status or veteran status. Issued in furtherance of MSU Extension work, acts of May 8 and June 30, 1914, in cooperation with the U.S. Department of Agriculture, Director, MSU Extension, East Lansing, MI 48824. This information is for educational purposes only. Reference to commercial products or trade names does not imply endorsement by MSU Extension or bias against those not mentioned."]
[]
[null,null,"VII. Version Updates"]

{"sheet":"2019-20 Farm Bill Calculator","index":1,"n_rows":74,"n_cols":31,"rows_kept":74,"cut":false,"hidden":false,"merged":[[0,3,0,8],[32,4,32,8],[58,2,58,3],[59,2,59,3],[46,4,46,5],[46,6,46,7],[46,8,46,9],[19,4,19,9],[24,0,24,2],[10,0,10,1],[18,0,18,2],[19,0,19,2],[60,0,61,0],[17,14,17,17],[44,4,44,5],[60,2,60,3],[61,2,61,3],[52,2,52,3],[59,13,60,13]]}
[null,null,null,"2019 - 2020 FARM BILL ANALYZER"]
[null,null,null,"Roger Betz,  Farm Business Management Agent",null,null,"Version 6.5"]
["Step 1.   Select Farm's County",null,null,null,"With NASS 2019 ESTIMATED YIELDS"]
[null,"County Farm located:","EATON","< Select County",null,"Farm Name:","Smith Farm"]
[null,null,null,null,null,"Farm Number:",1234]
["Step 2.   Enter Farms Base Acres (FSA CCC-861) for each farm separately",null,null,null,null,null,null,null,null,null,null,null,null,null,null,null,null,null,"Irrigation Data"]
[]
[null,"Commodity","Corn","Soybeans","Wheat","Total Base Acres"]
[null,"Base Acres",null,null,null,{"$f":"SUM(C9:E9)","v":0}]
[null,"2018 PLC Yield"]
["13-17 Historical Irrigated Percentage",null,0,0,0,null,null,null,null,null,null,null,null,null,null,null,null,null,null,null,null,null,null,null,"FSA 2018 BASE Acres (FSA CCC-861) ",{"$f":"C9","v":0},"Acres",{"$f":"D9","v":0},"Acres",{"$f":"E9","v":0},"Acres"]
[null,null,null,null,null,null,null,null,null,null,null,null,null,null,null,null,null,null,null,null,null,null,null,null,"2018 CC Yield (FSA CCC-861) ",{"$f":"C10","v":0},"Bu/ac",{"$f":"D10","v":0},"Bu/ac",{"$f":"E10","v":0},"Bu/ac"]
[null,null,null,null,null,null,null,null,null,null,null,null,null,null,null,null,null,null,null,null,null,null,null,null,null,null,null,null,null,"Total FSA Base Acres",{"$f":"Z11+AB11+AD11","v":0}]
[]
[null,null,null,null,"CORN",null,"SOYBEANS",null,"WHEAT"]
[null,null,null,"National Loan Rate",2.2000000000000002,null,6.2,null,3.38]
[null,null,null,"Reference Price",3.7,null,8.4,null,5.5,null,null,null,null,null,"Please check the FIRM website for possible updates:"]
[null,null,null,null,null,null,null,null,null,null,null,null,null,null,"http://firm.msue.msu.edu/"]
["Step 3.     Enter Your Actual Yields for Farm #",null,null,{"$f":"G5","v":1234},null,null,null,null,null,null,null,null,null,null,"This is ",{"$f":"J1","v":0}]
["         Weighted Yield (dry and irrigated combined)",null,null,null,"Historical and Projected Farm Yields and Acreages",null,null,null,null,null,null,null,null,null,null,null,null,null,null,"WARNING!! Use \"BLANK\" for no yield."]
[null,null,null,null,"Corn ",null,"Soybean",null,"Wheat",null,null,null,null,null,null,null,null,null,"Default FARM Yields = Actual County Yields",null,null,null,null,null,"Irrigation Yields"]
[null,null,null,null,"Farm Yield","Acres","Farm Yield","Acres","Farm Yield","Acres","Total Commodity Acres",null,null,null,null,null,null,null,"corn",null,"soys",null,"wheat",null,"corn",null,"soys",null,"wheat"]
[null,null,null,2013,null,{"$f":"IF(E23>0.00001,1,0)","v":0},"",{"$f":"IF(G23>0.00001,1,0)","v":1},null,{"$f":"IF(I23>0.00001,1,0)","v":0},{"$f":"F23+H23+J23","v":1},null,null,null,null,null,null,2013,{"$f":"('Background Calculations'!$R$63)+('Background Calculations'!$R$66*'2019-20 Farm Bill Calculator'!$C$11)+('Background Calculations'!$R$68*(1-'2019-20 Farm Bill Calculator'!$C$11))","v":170},null,{"$f":"('Background Calculations'!$R$64)+('Background Calculations'!$R$67*'2019-20 Farm Bill Calculator'!$D$11)+('Background Calculations'!$R$69*(1-'2019-20 Farm Bill Calculator'!$D$11))","v":48},null,{"$f":"('Background Calculations'!$R$65)","v":72},null,{"$f":"IRRIGATION!$K$5","v":""},null,{"$f":"IRRIGATION!$K$18","v":""},null,{"$f":"IRRIGATION!$K$30","v":""}]
[null,null,null,2014,null,0,null,0,null,0,{"$f":"F24+H24+J24","v":0},null,null,null,null,null,null,2014,{"$f":"('Background Calculations'!$S$63)+('Background Calculations'!$S$66*'2019-20 Farm Bill Calculator'!$C$11)+('Background Calculations'!$S$68*(1-'2019-20 Farm Bill Calculator'!$C$11))","v":176},null,{"$f":"('Background Calculations'!$S$64)+('Background Calculations'!$S$67*'2019-20 Farm Bill Calculator'!$D$11)+('Background Calculations'!$S$69*(1-'2019-20 Farm Bill Calculator'!$D$11))","v":45},null,{"$f":"('Background Calculations'!$S$65)","v":77},null,{"$f":"IRRIGATION!$K$6","v":""},null,{"$f":"IRRIGATION!$K$19","v":""},null,{"$f":"IRRIGATION!$K$31","v":""}]
["Caution! Changes Base Acres to Sum of Mutilple Farms",null,null,2015,null,0,null,0,null,0,0,null,null,null,null,null,null,2015,{"$f":"('Background Calculations'!$T$63)+('Background Calculations'!$T$66*'2019-20 Farm Bill Calculator'!$C$11)+('Background Calculations'!$T$68*(1-'2019-20 Farm Bill Calculator'!$C$11))","v":163},null,{"$f":"('Background Calculations'!$T$64)+('Background Calculations'!$T$67*'2019-20 Farm Bill Calculator'!$D$11)+('Background Calculations'!$T$69*(1-'2019-20 Farm Bill Calculator'!$D$11))","v":49},null,{"$f":"('Background Calculations'!$T$65)","v":68},null,{"$f":"IRRIGATION!$K$7","v":""},null,{"$f":"IRRIGATION!$K$20","v":""},null,{"$f":"IRRIGATION!$K$32","v":""}]
[null,null,null,2016,null,0,null,0,null,0,0,null,null,null,null,"Default Values",null,2016,{"$f":"('Background Calculations'!$U$63)+('Background Calculations'!$U$66*'2019-20 Farm Bill Calculator'!$C$11)+('Background Calculations'!$U$68*(1-'2019-20 Farm Bill Calculator'!$C$11))","v":145},null,{"$f":"('Background Calculations'!$U$64)+('Background Calculations'!$U$67*'2019-20 Farm Bill Calculator'!$D$11)+('Background Calculations'!$U$69*(1-'2019-20 Farm Bill Calculator'!$D$11))","v":49},null,{"$f":"('Background Calculations'!$U$65)","v":86},null,{"$f":"IRRIGATION!$K$8","v":""},null,{"$f":"IRRIGATION!$K$21","v":""},null,{"$f":"IRRIGATION!$K$33","v":""}]
[null,null,null,2017,null,0,null,0,null,0,0,null,null,null,null,0,null,2017,{"$f":"('Background Calculations'!$V$63)+('Background Calculations'!$V$66*'2019-20 Farm Bill Calculator'!$C$11)+('Background Calculations'!$V$68*(1-'2019-20 Farm Bill Calculator'!$C$11))","v":167},null,{"$f":"('Background Calculations'!$V$64)+('Background Calculations'!$V$67*'2019-20 Farm Bill Calculator'!$D$11)+('Background Calculations'!$V$69*(1-'2019-20 Farm Bill Calculator'!$D$11))","v":41},null,{"$f":"('Background Calculations'!$V$65)","v":60},null,{"$f":"IRRIGATION!$K$9","v":""},null,{"$f":"IRRIGATION!$K$22","v":""},null,{"$f":"IRRIGATION!$K$34","v":""}]
[null,null,null,2018,null,0,null,0,null,0,0,null,null,null,null,null,null,2018,{"$f":"('Background Calculations'!$W$63)+('Background Calculations'!$W$66*'2019-20 Farm Bill Calculator'!$C$11)+('Background Calculations'!$W$68*(1-'2019-20 Farm Bill Calculator'!$C$11))","v":148},null,{"$f":"('Background Calculations'!$W$64)+('Background Calculations'!$W$67*'2019-20 Farm Bill Calculator'!$D$11)+('Background Calculations'!$W$69*(1-'2019-20 Farm Bill Calculator'!$D$11))","v":48.695999999999991},null,{"$f":"('Background Calculations'!$W$65)","v":67}]
[null,null,null,2019,null,null,null,null,null,null,0,null,null,null,null,null,null,2019,{"$f":"('Background Calculations'!$X$63)+('Background Calculations'!$X$66*'2019-20 Farm Bill Calculator'!$C$11)+('Background Calculations'!$X$68*(1-'2019-20 Farm Bill Calculator'!$C$11))","v":167.46000000000004},null,{"$f":"('Background Calculations'!$X$64)+('Background Calculations'!$X$67*'2019-20 Farm Bill Calculator'!$D$11)+('Background Calculations'!$X$69*(1-'2019-20 Farm Bill Calculator'!$D$11))","v":48.459199999999996},null,{"$f":"('Background Calculations'!$X$65)","v":75.704000000000008}]
[null,null,null,2020,"",null,"",null,null,null,0,null,null,null,null,null,null,2020,{"$f":"('Background Calculations'!$Y$63)+('Background Calculations'!$Y$66*'2019-20 Farm Bill Calculator'!$C$11)+('Background Calculations'!$Y$68*(1-'2019-20 Farm Bill Calculator'!$C$11))","v":165.42800000000003},null,{"$f":"('Background Calculations'!$Y$64)+('Background Calculations'!$Y$67*'2019-20 Farm Bill Calculator'!$D$11)+('Background Calculations'!$Y$69*(1-'2019-20 Farm Bill Calculator'!$D$11))","v":48.901039999999995},null,{"$f":"('Background Calculations'!$Y$65)","v":75.190799999999996}]
[null,null,null,"Updated PLC Yield Potential ",{"$f":"IFERROR(AVERAGE(E23:E27)*0.81,0)","v":0},null,{"$f":"IFERROR(AVERAGE(G23:G27)*0.81,0)","v":0},null,{"$f":"IFERROR(AVERAGE(I23:I27)*0.8591,0)","v":0},null,null,null,null,null,null,{"$f":"P27","v":0}]
["Step 4. Enter Known or Expected County Yields",null,null,null,{"$f":"IF(F30+H30+J30=0,K32,\"\")","v":"ERROR Must have Acres in 2019 and 2020"},null,null,{"$f":"IF(F29+H29+J29=0,K32,\"\")","v":"ERROR Must have Acres in 2019 and 2020"},null,null,"ERROR Must have Acres in 2019 and 2020",null,null,null,null,{"$f":"P31","v":0}]
[null,null,null,{"$f":"C4","v":"EATON"},"County Weighted Yield (Irrigated and Dry)",null,null,null,null,null,"Actual County Yields Not Trended with Adjustment",null,null,null,null,null,null,null,"Default = Olympic Weighted Average Trend Yields (Benchmark)",null,null,null,null,null,"County Yield  Increase"]
[null,null,null,"% Irrigated",{"$f":"C11","v":0},null,{"$f":"D11","v":0},null,{"$f":"E11","v":0},null,"County","corn","soys","wht",null,null,null,"County","Corn",null,"Soybeans",null,"Wheat",null,"Corn %",{"$f":"F35","v":0},"Soys %",{"$f":"H35","v":0},"Wheat %",{"$f":"J35","v":0}]
["High Yield = The highest Actual County Yield in last 5 years",null,null,2019,{"$f":"VLOOKUP($D$33,'2019 Ylds'!$C$2:$G$186,2,0)","v":140.30000000000001},0,{"$f":"VLOOKUP($D$33,'2019 Ylds'!$C$2:$G$186,3,0)","v":34.4},0,{"$f":"VLOOKUP($D$33,'2019 Ylds'!$C$2:$G$186,4,0)","v":59.6},0,"High Yld",{"$f":"MAX('Background Calculations'!$O$37:$S$37)*(1+$F$36)","v":176},{"$f":"MAX('Background Calculations'!$O$38:$S$38)*(1+$H$36)","v":49},{"$f":"MAX('Background Calculations'!$O$39:$S$39)*(1+$J$36)","v":86},"Market Year Prices",null,null,2019,{"$f":"'Background Calculations'!$T$32","v":175.61666666666667},0,{"$f":"'Background Calculations'!$T$33","v":49.129999999999995},{"$f":"T35","v":0},{"$f":"'Background Calculations'!$T$34","v":77.323333333333323},{"$f":"V35","v":0},null,{"$f":"F36","v":0},null,{"$f":"H36","v":0},null,{"$f":"J36","v":0}]
[null,null,null,2020,{"$f":"'Background Calculations'!$U$32*(1+$Z$35)","v":166.24},0,{"$f":"'Background Calculations'!$U$33*(1+$AB$35)","v":47.991999999999997},{"$f":"F36","v":0},{"$f":"'Background Calculations'!$U$34*(1+$AD$35)","v":75.526666666666657},{"$f":"H36","v":0},"Low Yld",{"$f":"MIN('Background Calculations'!$O$37:$S$37)*(1+$F$36)","v":145},{"$f":"MIN('Background Calculations'!$O$38:$S$38)*(1+$H$36)","v":41},{"$f":"MIN('Background Calculations'!$O$39:$S$39)*(1+$J$36)","v":60},"Corn","Soybeans","Wheat",2020,{"$f":"'Background Calculations'!$U$32","v":166.24},0,{"$f":"'Background Calculations'!$U$33","v":47.991999999999997},{"$f":"T36","v":0},{"$f":"'Background Calculations'!$U$34","v":75.526666666666657},{"$f":"V36","v":0}]
["Low Yield = The lowest Actual County Yield in last 5 Years ",null,null,null,null,null,null,null,null,null,null,null,null,2013,{"$f":"VLOOKUP($E$45,'MYA Prices'!$B$4:$AL$11,2,FALSE)","v":4.46},{"$f":"VLOOKUP($E$45,'MYA Prices'!$B$4:$AL$11,14,FALSE)","v":13},{"$f":"VLOOKUP($E$45,'MYA Prices'!$B$4:$AL$11,26,FALSE)","v":6.87}]
[null,null,null,"Percent of '19 Benchmark Yield",{"$f":"E35/S35","v":0.79889911739584329},null,{"$f":"G35/U35","v":0.70018318746183594},null,{"$f":"I35/W35","v":0.77078932620597507},null,null,null,null,2014,{"$f":"VLOOKUP($E$45,'MYA Prices'!$B$4:$AL$11,3,FALSE)","v":3.6999999999999997},{"$f":"VLOOKUP($E$45,'MYA Prices'!$B$4:$AL$11,15,FALSE)","v":10.1},{"$f":"VLOOKUP($E$45,'MYA Prices'!$B$4:$AL$11,27,FALSE)","v":5.9900000000000011},"2019 86%",{"$f":"$S$35*0.86*(1+$F$35)","v":151.03033333333335},0,{"$f":"$U$35*0.86*(1+$H$35)","v":42.251799999999996},{"$f":"T38","v":0},{"$f":"$W$35*0.86*(1+$J$35)","v":66.498066666666659},{"$f":"V38","v":0}]
[null,null,null,"Percent of '20 Benchmark Yield",{"$f":"E36/S36","v":1},null,{"$f":"G36/U36","v":1},null,{"$f":"I36/W36","v":1},null,null,null,null,2015,{"$f":"VLOOKUP($E$45,'MYA Prices'!$B$4:$AL$11,4,FALSE)","v":3.61},{"$f":"VLOOKUP($E$45,'MYA Prices'!$B$4:$AL$11,16,FALSE)","v":8.9500000000000011},{"$f":"VLOOKUP($E$45,'MYA Prices'!$B$4:$AL$11,28,FALSE)","v":4.8899999999999997},"2020 86%",{"$f":"$S$36*0.86*(1+$F$36)","v":142.96639999999999},0,{"$f":"$U$36*0.86*(1+$H$36)","v":41.273119999999999},{"$f":"T39","v":0},{"$f":"$W$36*0.86*(1+$J$36)","v":64.95293333333332},{"$f":"V39","v":0}]
[null,null,null,null,null,null,null,null,null,null,null,null,null,2016,{"$f":"VLOOKUP($E$45,'MYA Prices'!$B$4:$AL$11,5,FALSE)","v":3.36},{"$f":"VLOOKUP($E$45,'MYA Prices'!$B$4:$AL$11,17,FALSE)","v":9.4700000000000006},{"$f":"VLOOKUP($E$45,'MYA Prices'!$B$4:$AL$11,29,FALSE)","v":3.89},null,"Trend yield with Annual Increase "]
[null,null,null,null,null,null,null,null,null,null,null,null,null,2017,{"$f":"VLOOKUP($E$45,'MYA Prices'!$B$4:$AL$11,6,FALSE)","v":3.36},{"$f":"VLOOKUP($E$45,'MYA Prices'!$B$4:$AL$11,18,FALSE)","v":9.33},{"$f":"VLOOKUP($E$45,'MYA Prices'!$B$4:$AL$11,30,FALSE)","v":4.72},2019,{"$f":"'Background Calculations'!$T$32*(1+$Z$34)","v":175.61666666666667},0,{"$f":"'Background Calculations'!$T$33*(1+$AB$34)","v":49.129999999999995},{"$f":"T41","v":0},{"$f":"'Background Calculations'!$T$34*(1+$AD$34)","v":77.323333333333323},{"$f":"V41","v":0}]
[null,null,null,null,null,null,null,null,null,null,null,null,null,2018,{"$f":"VLOOKUP($E$45,'MYA Prices'!$B$4:$AL$11,7,FALSE)","v":3.61},{"$f":"VLOOKUP($E$45,'MYA Prices'!$B$4:$AL$11,19,FALSE)","v":8.48},{"$f":"VLOOKUP($E$45,'MYA Prices'!$B$4:$AL$11,31,FALSE)","v":5.16},2020,{"$f":"'Background Calculations'!$U$32*(1+$Z$35)","v":166.24},0,{"$f":"'Background Calculations'!$U$33*(1+$AB$35)","v":47.991999999999997},{"$f":"T42","v":0},{"$f":"'Background Calculations'!$U$34*(1+$AD$35)","v":75.526666666666657},{"$f":"V42","v":0}]
[null,null,null,null,null,null,null,null,null,null,null,null,null,2019,{"$f":"VLOOKUP($E$45,'MYA Prices'!$B$4:$AL$11,8,FALSE)","v":3.8666666666666667},{"$f":"VLOOKUP($E$45,'MYA Prices'!$B$4:$AL$11,20,FALSE)","v":8.84},{"$f":"VLOOKUP($E$45,'MYA Prices'!$B$4:$AL$11,32,FALSE)","v":4.5704166666666666}]
["Step 5 . Select or Enter Projected Prices",null,null,null,null,null,null,null,null,null,null,null,null,2020,{"$f":"VLOOKUP($E$45,'MYA Prices'!$B$4:$AL$11,9,FALSE)","v":3.5716666666666668},{"$f":"VLOOKUP($E$45,'MYA Prices'!$B$4:$AL$11,21,FALSE)","v":8.706666666666667},{"$f":"VLOOKUP($E$45,'MYA Prices'!$B$4:$AL$11,33,FALSE)","v":4.8370833333333332},"NASS 2019 Yields",{"$f":"VLOOKUP($D$33,'2019 Ylds'!$C$2:$G$186,2,0)","v":140.30000000000001},0,{"$f":"VLOOKUP($D$33,'2019 Ylds'!$C$2:$G$186,3,0)","v":34.4},0,{"$f":"VLOOKUP($D$33,'2019 Ylds'!$C$2:$G$186,4,0)","v":59.6},0]
[null,null,null,"Base Assumptions for MYA Prices to Use:","Composite ",null,"< Select Base Prices Source",null,null,null,null,null,null,2021,{"$f":"VLOOKUP($E$45,'MYA Prices'!$B$4:$AL$11,10,FALSE)","v":3.6019999999999994},{"$f":"VLOOKUP($E$45,'MYA Prices'!$B$4:$AL$11,22,FALSE)","v":8.650500000000001},{"$f":"VLOOKUP($E$45,'MYA Prices'!$B$4:$AL$11,34,FALSE)","v":4.9189999999999996}]
[null,null,null,"Price Change from Base assumptions:",null,null,null,null,null,null,null,null,null,2022,{"$f":"VLOOKUP($E$45,'MYA Prices'!$B$4:$AL$11,11,FALSE)","v":3.5874999999999999},{"$f":"VLOOKUP($E$45,'MYA Prices'!$B$4:$AL$11,23,FALSE)","v":8.7218750000000007},{"$f":"VLOOKUP($E$45,'MYA Prices'!$B$4:$AL$11,35,FALSE)","v":5.016}]
[null,null,null,"Crop Year ","CORN",null,"SOYBEANS",null,"WHEAT",null,null,null,null,2023,{"$f":"VLOOKUP($E$45,'MYA Prices'!$B$4:$AL$11,12,FALSE)","v":3.6350000000000002},{"$f":"VLOOKUP($E$45,'MYA Prices'!$B$4:$AL$11,24,FALSE)","v":8.823125000000001},{"$f":"VLOOKUP($E$45,'MYA Prices'!$B$4:$AL$11,36,FALSE)","v":5.0575000000000001},null,"CORN",null,"SOYBEANS",null,"WHEAT"]
[null,null,null,2019,{"$f":"$O$43*(1+$F$48)","v":3.8666666666666667},0,{"$f":"$P$43*(1+$H$48)","v":8.84},{"$f":"F48","v":0},{"$f":"$Q$43*(1+$J$48)","v":4.5704166666666666},{"$f":"H48","v":0},null,null,null,2024,{"$f":"VLOOKUP($E$45,'MYA Prices'!$B$4:$AL$11,13,FALSE)","v":3.6675},{"$f":"VLOOKUP($E$45,'MYA Prices'!$B$4:$AL$11,25,FALSE)","v":8.8625000000000007},{"$f":"VLOOKUP($E$45,'MYA Prices'!$B$4:$AL$11,37,FALSE)","v":5.1124999999999998},null,{"$f":"$O$43*(1+$F$48)","v":3.8666666666666667},0,{"$f":"$P$43*(1+$H$48)","v":8.84},{"$f":"T48","v":0},{"$f":"$Q$43*(1+$J$48)","v":4.5704166666666666},{"$f":"V48","v":0}]
[null,null,null,2020,{"$f":"$O$44*(1+$F$49)","v":3.5716666666666668},0,{"$f":"$P$44*(1+$H$49)","v":8.706666666666667},{"$f":"F49","v":0},{"$f":"$Q$44*(1+$J$49)","v":4.8370833333333332},{"$f":"H49","v":0},null,null,null,null,null,null,null,null,{"$f":"$O$44*(1+$F$49)","v":3.5716666666666668},0,{"$f":"$P$44*(1+$H$49)","v":8.706666666666667},{"$f":"T49","v":0},{"$f":"$Q$44*(1+$J$49)","v":4.8370833333333332},{"$f":"V49","v":0}]
[null,null,null,null,3.1,"Market Year Prices"]
[]
[]
[null,"FSA Decision 1 :","Update PLC Yields?",null,"CORN ?",null,"SOYS ?",null,"WHEAT ?"]
[null,null,null,"Choose Highest Yield for Each Crop-->",{"$f":"IF($S54,'Background Calculations'!D2,Z12)","v":0},{"$f":"IF(S54=FALSE,\"NO\",\"YES\")","v":"NO"},{"$f":"IF($T54,'Background Calculations'!F2,AB12)","v":0},{"$f":"IF(T54=FALSE,\"NO\",\"YES\")","v":"NO"},{"$f":"IF($U54,'Background Calculations'!H2,AD12)","v":0},{"$f":"IF(U54=FALSE,\"NO\",\"YES\")","v":"NO"},null,null,null,null,null,null,null,null,false,false,false]
[null,null,null,null,null,null,null,null,null,null,null,null,null,null,null,null,null,null,false]
[null,"FSA Decision 2 :","2019 and 2020 Combined Program Choice?"]
[null,"Choose Resulting Highest 2yr Total Program Payments:"]
["Decision Point >","2yr Total Program Payments",null,null,"CORN 2 yrs",null,"SOYBEANS 2 yrs",null,"WHEAT 2 yrs"]
[null,null,"PLC",null,{"$f":"SUM('Background Calculations'!D5:D9)*C9*0.85","v":0},null,{"$f":"SUM('Background Calculations'!F5:F9)*D9*0.85","v":0},null,{"$f":"SUM('Background Calculations'!H5:H9)*E9*0.85","v":0}]
[null,null,"ARC-CO",null,{"$f":"SUM('Background Calculations'!D12:D16)*C9*0.85","v":0},null,{"$f":"SUM('Background Calculations'!F12:F16)*D9*0.85","v":0},null,{"$f":"SUM('Background Calculations'!H12:H16)*E9*0.85","v":0},null,null,null,null,"ARC-IC from Multiple ARC-IC Farms","ARC IC from Back ground calculations"]
[null,{"$f":"'Background Calculations'!$J$96+'Background Calculations'!$J$97","v":{"$error":"#DIV/0!"}},"ARC-IC",null,"NA",null,"NA",null,"NA",null,null,null,null,null,{"$f":"'Background Calculations'!$J$96+'Background Calculations'!$J$97","v":{"$error":"#DIV/0!"}}]
[null,{"$f":"SUM(E62+G62+I62)","v":0},"Best PLC or ARC-CO",null,{"$f":"MAX(E59:E60)","v":0},null,{"$f":"MAX(G59:G60)","v":0},null,{"$f":"MAX(I59:I60)","v":0}]
["Decision Point >",{"$f":"MAX(B59:B62)-MIN(B59:B62)","v":{"$error":"#DIV/0!"}},"Difference Max vs Min"]
[]
[null,{"$f":"IFERROR((MAX(B59:B62)/F9),0)","v":0},"Total Payments per Base Acre (2 years combined)"]
[null,{"$f":"B65/2","v":0},"Average Payment per Base Acre per Year"]
[]
[null,null,null,null,null,null,null,null,null,null,null,null,null,"WHAT IF 2019 ?",null,null,"Corn",null,"Soys",null,"Wheat"]
[null,null,null,null,null,null,null,null,null,null,null,null,null,"Break Even Price - PLC versus ARC-Co"]
[null,null,null,null,null,null,null,null,null,null,null,null,null,"Break Even Yield - PLC versus ARC-Co"]
[]
[null,null,null,null,null,null,null,null,null,null,null,null,null,"WHAT IF 2020 ?"]
[null,null,null,null,null,null,null,null,null,null,null,null,null,"Break Even Price - PLC versus ARC-Co"]
[null,null,null,null,null,null,null,null,null,null,null,null,null,"Break Even Yield - PLC versus ARC-Co"]

{"sheet":"IRRIGATION","index":2,"n_rows":35,"n_cols":12,"rows_kept":35,"cut":false,"hidden":false,"merged":[[0,4,0,5],[0,8,0,9],[1,4,1,10],[14,4,14,10],[26,4,26,10]]}
[null,null,null,null,{"$f":"'2019-20 Farm Bill Calculator'!C4","v":"EATON"},null,"County",null,"FSA Farm Number:",null,{"$f":"'2019-20 Farm Bill Calculator'!G5","v":1234}]
[null,null,null,null,"Corn - Acres and Yields for this Farm #",null,null,null,null,null,null,{"$f":"K1","v":1234}]
[null,null,null,"Year","Irrigated Acres","Irrigated Yield","DryLand Acres","Dryland Yield","Total Acres","Total Production","Weighted Yield","Percent Irrigated"]
[]
[null,null,null,2013,null,null,null,null,{"$f":"E5+G5","v":0},{"$f":"E5*F5+G5*H5","v":0},{"$f":"IFERROR($J$5/$I$5,\"\")","v":""},{"$f":"IFERROR(E5/($E$5+$G$5),\"\")","v":""}]
[null,null,null,2014,null,null,null,null,{"$f":"E6+G6","v":0},{"$f":"E6*F6+G6*H6","v":0},{"$f":"IFERROR($J$6/$I$6,\"\")","v":""},{"$f":"IFERROR(E6/($E$6+$G$6),\"\")","v":""}]
[null,null,null,2015,null,null,null,null,{"$f":"E7+G7","v":0},{"$f":"E7*F7+G7*H7","v":0},{"$f":"IFERROR($J$7/$I$7,\"\")","v":""},{"$f":"IFERROR(E7/($E$7+$G$7),\"\")","v":""}]
[null,null,null,2016,null,null,null,null,{"$f":"E8+G8","v":0},{"$f":"E8*F8+G8*H8","v":0},{"$f":"IFERROR($J$8/$I$8,\"\")","v":""},{"$f":"IFERROR(E8/($E$8+$G$8),\"\")","v":""}]
[null,null,null,2017,null,null,null,null,{"$f":"E9+G9","v":0},{"$f":"E9*F9+G9*H9","v":0},{"$f":"IFERROR($J$9/$I$9,\"\")","v":""},{"$f":"IFERROR(E9/($E$9+$G$9),\"\")","v":""}]
[null,null,null,null,null,null,null,null,null,{"$f":"E2","v":"Corn - Acres and Yields for this Farm #"},{"$f":"IFERROR(AVERAGE(K5:K9),0)","v":0},{"$f":"IFERROR(AVERAGE(L5:L9),0)","v":0}]
[]
[]
[]
[]
[null,null,null,null,"Soybeans - Acres and Yield for this Farm #",null,null,null,null,null,null,{"$f":"K1","v":1234}]
[null,null,null,"Year","Irrigated Acres","Irrigated Yield","DryLand Acres","Dryland Yield","Total Acres","Total Production","Weighted Yield","Percent Irrigated"]
[]
[null,null,null,2013,null,null,null,null,{"$f":"E18+G18","v":0},{"$f":"E18*F18+G18*H18","v":0},{"$f":"IFERROR($J$18/$I$18,\"\")","v":""},{"$f":"IFERROR(E18/($E$18+$G$18),\"\")","v":""}]
[null,null,null,2014,null,null,null,null,{"$f":"E19+G19","v":0},{"$f":"E19*F19+G19*H19","v":0},{"$f":"IFERROR($J$19/$I$19,\"\")","v":""},{"$f":"IFERROR(E19/($E$19+$G$19),\"\")","v":""}]
[null,null,null,2015,null,null,null,null,{"$f":"E20+G20","v":0},{"$f":"E20*F20+G20*H20","v":0},{"$f":"IFERROR($J$20/$I$20,\"\")","v":""},{"$f":"IFERROR(E20/($E$20+$G$20),\"\")","v":""}]
[null,null,null,2016,null,null,null,null,{"$f":"E21+G21","v":0},{"$f":"E21*F21+G21*H21","v":0},{"$f":"IFERROR($J$21/$I$21,\"\")","v":""},{"$f":"IFERROR(E21/($E$21+$G$21),\"\")","v":""}]
[null,null,null,2017,null,null,null,null,{"$f":"E22+G22","v":0},{"$f":"E22*F22+G22*H22","v":0},{"$f":"IFERROR($J$22/$I$22,\"\")","v":""},{"$f":"IFERROR(E22/($E$22+$G$22),\"\")","v":""}]
[null,null,null,null,null,null,null,null,{"$f":"IRRIGATION!K30","v":""},{"$f":"E15","v":"Soybeans - Acres and Yield for this Farm #"},{"$f":"IFERROR(AVERAGE(K18:K22),0)","v":0},{"$f":"IFERROR(AVERAGE(L18:L22),0)","v":0}]
[]
[]
[]
[null,null,null,null,"Wheat - Acres and Yield for this Farm #",null,null,null,null,null,null,{"$f":"K1","v":1234}]
[null,null,null,null,"Irrigated Acres","Irrigated Yield","DryLand Acres","Dryland Yield","Total Acres","Total Production","Weighted Yield","Percent Irrigated"]
[]
[null,null,null,2013,null,null,null,null,{"$f":"E30+G30","v":0},{"$f":"E30*F30+G30*H30","v":0},{"$f":"IFERROR($J$30/$I$30,\"\")","v":""},{"$f":"IFERROR(E30/(E30+G30),\"\")","v":""}]
[null,null,null,2014,null,null,null,null,{"$f":"E31+G31","v":0},{"$f":"E31*F31+G31*H31","v":0},{"$f":"IFERROR($J$31/$I$31,\"\")","v":""},{"$f":"IFERROR(E31/(E31+G31),\"\")","v":""}]
[null,null,null,2015,null,null,null,null,{"$f":"E32+G32","v":0},{"$f":"E32*F32+G32*H32","v":0},{"$f":"IFERROR($J$32/$I$32,\"\")","v":""},{"$f":"IFERROR(E32/(E32+G32),\"\")","v":""}]
[null,null,null,2016,null,null,null,null,{"$f":"E33+G33","v":0},{"$f":"E33*F33+G33*H33","v":0},{"$f":"IFERROR($J$33/$I$33,\"\")","v":""},{"$f":"IFERROR(E33/(E33+G33),\"\")","v":""}]
[null,null,null,2017,null,null,null,null,{"$f":"E34+G34","v":0},{"$f":"E34*F34+G34*H34","v":0},{"$f":"IFERROR($J$34/$I$34,\"\")","v":""},{"$f":"IFERROR(E34/(E34+G34),\"\")","v":""}]
[null,null,null,null,null,null,null,null,null,{"$f":"E27","v":"Wheat - Acres and Yield for this Farm #"},{"$f":"IFERROR(AVERAGE(K30:K34),0)","v":0},{"$f":"IFERROR(AVERAGE(L30:L34),0)","v":0}]

{"sheet":"1 Farm 2019 Prevent Plant","index":3,"n_rows":43,"n_cols":57,"rows_kept":43,"cut":false,"hidden":false,"merged":[[3,3,3,7],[15,3,15,8],[1,1,1,29]]}
[]
[null,"Enter the FSA considered planted acres as Prevent Planted acres with a zero yield.  In order to qualify for ARC-IC as 100% Prevent Plant, 100 % of the farm's covered commodities must be FSA approved for Prevented Planting."]
[null,"Farm Name:",{"$f":"'2019-20 Farm Bill Calculator'!G4","v":"Smith Farm"}]
[null,"Farm Number:",{"$f":"'2019-20 Farm Bill Calculator'!G5","v":1234},"2019 Prevent Planted, 1 FSA Farm Number"]
[null,null,null,"Corn 2019",null,"Soys 2019",null,"Wheat 2019"]
[null,null,"2019 Prevent Planted Acres"]
[null,null,null,"Note: If you have planted acres, that yield will be used."]
[null,null,"2019 Actually Planted Acres"]
[null,null,"Planted Acres Yield bu/ac"]
[null,null,"Total Crop Production",null,null,null,null,{"$f":"H8*H9","v":0}]
[null,null,"Total Acres",{"$f":"D8+D6","v":0},null,{"$f":"F8+F6","v":0},null,{"$f":"H8+H6","v":0}]
[null,null,"Yield USED for ARC-IC bu/ac",{"$f":"IFERROR(D10/D8,0)","v":0},null,{"$f":"IFERROR(F10/F8,0)","v":0},null,{"$f":"IFERROR(H10/H8,0)","v":0}]
[]
[]
[null,null,null,null,null,null,null,null,null,null,{"$f":"$D$12","v":0},{"$f":"$D$11","v":0},{"$f":"$F$12","v":0},{"$f":"$F$11","v":0},{"$f":"$H$12","v":0},{"$f":"$H$11","v":0}]
[]
[]
[]
[]
[]
[]
[]
[]
[]
[]
[]
[]
[]
[]
[]
[]
[]
[]
[]
[]
[]
[]
[]
[]
[]
[]
[]
[null,null,null,null,null,null,null,null,null,null,null,null,null,null,null,null,null,null,null,2020,{"$f":"IF(U34*V34>1,U34*V34,\"\")","v":""},null,{"$f":"IF(W34*X34>1,W34*X34,\"\")","v":""},null,{"$f":"IF(Y34*Z34>1,Y34*Z34,\"\")","v":""},null,null,null,{"$f":"IF(AC34*AD34>1,AC34*AD34,\"\")","v":""},null,{"$f":"IF(AE34*AF34>1,AE34*AF34,\"\")","v":""},null,{"$f":"IF(AG34*AH34>1,AG34*AH34,\"\")","v":""},null,null,null,{"$f":"IF(AK34*AL34>1,AK34*AL34,\"\")","v":""},null,{"$f":"IF(AM34*AN34>1,AM34*AN34,\"\")","v":""},null,{"$f":"IF(AO34*AP34>1,AO34*AP34,\"\")","v":""},null,null,null,{"$f":"IF(AS34*AT34>1,AS34*AT34,\"\")","v":""},null,{"$f":"IF(AU34*AV34>1,AU34*AV34,\"\")","v":""},null,{"$f":"IF(AW34*AX34>1,AW34*AX34,\"\")","v":""},null,null,null,{"$f":"IF(BA34*BB34>1,BA34*BB34,\"\")","v":""},null,{"$f":"IF(BC34*BD34>1,BC34*BD34,\"\")","v":""},null,{"$f":"IF(BE34*BF34>1,BE34*BF34,\"\")","v":""}]

{"sheet":"Multiple ARC-IC Farms","index":4,"n_rows":159,"n_cols":408,"rows_kept":159,"cut":false,"hidden":false,"merged":[[1,0,1,15],[0,0,0,15],[10,393,10,398],[10,401,10,406],[6,393,8,393],[6,401,8,401],[10,281,10,286],[10,289,10,294],[10,297,10,302],[10,305,10,310],[10,313,10,318],[10,321,10,326],[10,329,10,334],[10,337,10,342],[10,345,10,350],[10,353,10,358],[10,361,10,366],[10,369,10,374],[10,377,10,382],[10,385,10,390],[2,394,2,395],[2,402,2,403],[6,281,8,281],[6,289,8,289],[6,377,8,377],[6,385,8,385],[2,354,2,355],[2,362,2,363],[2,370,2,371],[2,378,2,379],[2,386,2,387],[2,314,2,315],[2,322,2,323],[2,330,2,331],[6,321,8,321],[6,329,8,329],[6,337,8,337],[6,345,8,345],[6,353,8,353],[6,361,8,361],[10,249,10,254],[10,257,10,262],[10,265,10,270],[2,258,2,259],[2,266,2,267],[2,274,2,275],[6,369,8,369],[6,297,8,297],[6,305,8,305],[6,313,8,313],[2,338,2,339],[2,346,2,347],[10,273,10,278],[2,282,2,283],[2,290,2,291],[2,298,2,299],[2,306,2,307],[6,265,8,265],[6,273,8,273],[6,249,8,249],[10,177,10,182],[10,185,10,190],[10,193,10,198],[10,201,10,206],[10,209,10,214],[10,217,10,222],[10,225,10,230],[10,233,10,238],[10,241,10,246],[6,177,8,177],[6,185,8,185],[6,257,8,257],[2,218,2,219],[2,226,2,227],[2,234,2,235],[2,242,2,243],[2,250,2,251],[2,178,2,179],[2,186,2,187],[2,194,2,195],[2,202,2,203],[2,210,2,211],[6,193,8,193],[6,201,8,201],[6,209,8,209],[6,217,8,217],[6,225,8,225],[6,233,8,233],[6,241,8,241],[2,138,2,139],[6,137,8,137],[10,137,10,142],[2,146,2,147],[6,145,8,145],[10,145,10,150],[10,161,10,166],[10,169,10,174],[2,122,2,123],[2,154,2,155],[6,153,8,153],[10,153,10,158],[2,162,2,163],[2,170,2,171],[6,161,8,161],[6,169,8,169],[10,41,10,46],[6,121,8,121],[10,121,10,126],[2,130,2,131],[6,129,8,129],[10,129,10,134],[2,106,2,107],[6,105,8,105],[10,105,10,110],[2,114,2,115],[6,113,8,113],[10,113,10,118],[43,0,43,1],[6,33,8,33],[2,34,2,35],[10,33,10,38],[2,90,2,91],[6,89,8,89],[10,89,10,94],[2,98,2,99],[6,97,8,97],[10,97,10,102],[2,74,2,75],[6,73,8,73],[10,73,10,78],[2,82,2,83],[6,81,8,81],[10,81,10,86],[2,58,2,59],[6,57,8,57],[10,57,10,62],[2,66,2,67],[6,65,8,65],[10,65,10,70],[2,42,2,43],[6,41,8,41],[44,0,44,1],[2,50,2,51],[6,49,8,49],[10,49,10,54],[50,2,50,7],[6,1,8,1],[32,0,32,1],[30,0,30,1],[31,0,31,1],[40,0,40,1],[41,0,41,1],[2,26,2,27],[10,17,10,22],[10,25,10,30],[2,2,2,3],[2,10,2,11],[2,18,2,19],[10,1,10,6],[10,9,10,14],[6,9,8,9],[6,17,8,17],[6,25,8,25],[46,0,46,3],[42,0,42,1]]}
["This worksheet is designed to help analyse using ARC-IC, where ARC-IC enrolled farms are combined into one unit, for calculation of benefits. "]
["For the 2019 year, Include FSA (Farm Service Agency) farms that are 100% Prevent Plant by entering the FSA considered planted acres with a zero yield.  ALWAYS enter FSA actual planted acres UNLESS considered 100% FSA Prevent Plant and then use the reported FSA Prevent Planted acres as planted.   In order to qualify, 100 % of the farm's covered commodities must be FSA approved for Prevented Planting."]
[{"$f":"'2019-20 Farm Bill Calculator'!C4","v":"EATON"},"Farm 1","FSA FARM NUMBER:",null,null,null,null,null,null,"Farm 2","FSA FARM NUMBER:",null,null,null,null,null,null,"Farm 3","FSA FARM NUMBER:",null,null,null,null,null,null,"Farm 4","FSA FARM NUMBER:",null,null,null,null,null,null,"Farm 5","FSA FARM NUMBER:",null,null,null,null,null,null,"Farm 6","FSA FARM NUMBER:",null,null,null,null,null,null,"Farm 7","FSA FARM NUMBER:",null,null,null,null,null,null,"Farm 8","FSA FARM NUMBER:",null,null,null,null,null,null,"Farm 9","FSA FARM NUMBER:",null,null,null,null,null,null,"Farm 10","FSA FARM NUMBER:",null,null,null,null,null,null,"Farm 11","FSA FARM NUMBER:",null,null,null,null,null,null,"Farm 12","FSA FARM NUMBER:",null,null,null,null,null,null,"Farm 13","FSA FARM NUMBER:",null,null,null,null,null,null,"Farm 14","FSA FARM NUMBER:",null,null,null,null,null,null,"Farm 15","FSA FARM NUMBER:",null,null,null,null,null,null,"Farm 16","FSA FARM NUMBER:",null,null,null,null,null,null,"Farm 17","FSA FARM NUMBER:",null,null,null,null,null,null,"Farm 18","FSA FARM NUMBER:",null,null,null,null,null,null,"Farm 19","FSA FARM NUMBER:",null,null,null,null,null,null,"Farm 20","FSA FARM NUMBER:",null,null,null,null,null,null,"Farm 21","FSA FARM NUMBER:",null,null,null,null,null,null,"Farm 22","FSA FARM NUMBER:",null,null,null,null,null,null,"Farm 23","FSA FARM NUMBER:",null,null,null,null,null,null,"Farm 24","FSA FARM NUMBER:",null,null,null,null,null,null,"Farm 25","FSA FARM NUMBER:",null,null,null,null,null,null,"Farm 26","FSA FARM NUMBER:",null,null,null,null,null,null,"Farm 27","FSA FARM NUMBER:",null,null,null,null,null,null,"Farm 28","FSA FARM NUMBER:",null,null,null,null,null,null,"Farm 29","FSA FARM NUMBER:",null,null,null,null,null,null,"Farm 30","FSA FARM NUMBER:",null,null,null,null,null,null,"Farm 31","FSA FARM NUMBER:",null,null,null,null,null,null,"Farm 32","FSA FARM NUMBER:",null,null,null,null,null,null,"Farm 33","FSA FARM NUMBER:",null,null,null,null,null,null,"Farm 34","FSA FARM NUMBER:",null,null,null,null,null,null,"Farm 35","FSA FARM NUMBER:",null,null,null,null,null,null,"Farm 36","FSA FARM NUMBER:",null,null,null,null,null,null,"Farm 37","FSA FARM NUMBER:",null,null,null,null,null,null,"Farm 38","FSA FARM NUMBER:",null,null,null,null,null,null,"Farm 39","FSA FARM NUMBER:",null,null,null,null,null,null,"Farm 40","FSA FARM NUMBER:",null,null,null,null,null,null,"Farm 41","FSA FARM NUMBER:",null,null,null,null,null,null,"Farm 42","FSA FARM NUMBER:",null,null,null,null,null,null,"Farm 43","FSA FARM NUMBER:",null,null,null,null,null,null,"Farm 44","FSA FARM NUMBER:",null,null,null,null,null,null,"Farm 45","FSA FARM NUMBER:",null,null,null,null,null,null,"Farm 46","FSA FARM NUMBER:",null,null,null,null,null,null,"Farm 47","FSA FARM NUMBER:",null,null,null,null,null,null,"Farm 48","FSA FARM NUMBER:",null,null,null,null,null,null,"Farm 49","FSA FARM NUMBER:",null,null,null,null,null,null,"Farm 50","FSA FARM NUMBER:",null,null,null,null,null,null,"Farm 51","FSA FARM NUMBER:"]
[null,"Commodity","Corn",null,"Soybeans",null,"Wheat","Total Base Acres",null,"Commodity","Corn",null,"Soybeans",null,"Wheat","Total Base Acres",null,"Commodity","Corn",null,"Soybeans",null,"Wheat","Total Base Acres",null,"Commodity","Corn",null,"Soybeans",null,"Wheat","Total Base Acres",null,"Commodity","Corn",null,"Soybeans",null,"Wheat","Total Base Acres",null,"Commodity","Corn",null,"Soybeans",null,"Wheat","Total Base Acres",null,"Commodity","Corn",null,"Soybeans",null,"Wheat","Total Base Acres",null,"Commodity","Corn",null,"Soybeans",null,"Wheat","Total Base Acres",null,"Commodity","Corn",null,"Soybeans",null,"Wheat","Total Base Acres",null,"Commodity","Corn",null,"Soybeans",null,"Wheat","Total Base Acres",null,"Commodity","Corn",null,"Soybeans",null,"Wheat","Total Base Acres",null,"Commodity","Corn",null,"Soybeans",null,"Wheat","Total Base Acres",null,"Commodity","Corn",null,"Soybeans",null,"Wheat","Total Base Acres",null,"Commodity","Corn",null,"Soybeans",null,"Wheat","Total Base Acres",null,"Commodity","Corn",null,"Soybeans",null,"Wheat","Total Base Acres",null,"Commodity","Corn",null,"Soybeans",null,"Wheat","Total Base Acres",null,"Commodity","Corn",null,"Soybeans",null,"Wheat","Total Base Acres",null,"Commodity","Corn",null,"Soybeans",null,"Wheat","Total Base Acres",null,"Commodity","Corn",null,"Soybeans",null,"Wheat","Total Base Acres",null,"Commodity","Corn",null,"Soybeans",null,"Wheat","Total Base Acres",null,"Commodity","Corn",null,"Soybeans",null,"Wheat","Total Base Acres",null,"Commodity","Corn",null,"Soybeans",null,"Wheat","Total Base Acres",null,"Commodity","Corn",null,"Soybeans",null,"Wheat","Total Base Acres",null,"Commodity","Corn",null,"Soybeans",null,"Wheat","Total Base Acres",null,"Commodity","Corn",null,"Soybeans",null,"Wheat","Total Base Acres",null,"Commodity","Corn",null,"Soybeans",null,"Wheat","Total Base Acres",null,"Commodity","Corn",null,"Soybeans",null,"Wheat","Total Base Acres",null,"Commodity","Corn",null,"Soybeans",null,"Wheat","Total Base Acres",null,"Commodity","Corn",null,"Soybeans",null,"Wheat","Total Base Acres",null,"Commodity","Corn",null,"Soybeans",null,"Wheat","Total Base Acres",null,"Commodity","Corn",null,"Soybeans",null,"Wheat","Total Base Acres",null,"Commodity","Corn",null,"Soybeans",null,"Wheat","Total Base Acres",null,"Commodity","Corn",null,"Soybeans",null,"Wheat","Total Base Acres",null,"Commodity","Corn",null,"Soybeans",null,"Wheat","Total Base Acres",null,"Commodity","Corn",null,"Soybeans",null,"Wheat","Total Base Acres",null,"Commodity","Corn",null,"Soybeans",null,"Wheat","Total Base Acres",null,"Commodity","Corn",null,"Soybeans",null,"Wheat","Total Base Acres",null,"Commodity","Corn",null,"Soybeans",null,"Wheat","Total Base Acres",null,"Commodity","Corn",null,"Soybeans",null,"Wheat","Total Base Acres",null,"Commodity","Corn",null,"Soybeans",null,"Wheat","Total Base Acres",null,"Commodity","Corn",null,"Soybeans",null,"Wheat","Total Base Acres",null,"Commodity","Corn",null,"Soybeans",null,"Wheat","Total Base Acres",null,"Commodity","Corn",null,"Soybeans",null,"Wheat","Total Base Acres",null,"Commodity","Corn",null,"Soybeans",null,"Wheat","Total Base Acres",null,"Commodity","Corn",null,"Soybeans",null,"Wheat","Total Base Acres",null,"Commodity","Corn",null,"Soybeans",null,"Wheat","Total Base Acres",null,"Commodity","Corn",null,"Soybeans",null,"Wheat","Total Base Acres",null,"Commodity","Corn",null,"Soybeans",null,"Wheat","Total Base Acres",null,"Commodity","Corn",null,"Soybeans",null,"Wheat","Total Base Acres",null,"Commodity","Corn",null,"Soybeans",null,"Wheat","Total Base Acres",null,"Commodity","Corn",null,"Soybeans",null,"Wheat","Total Base Acres"]
[null,"Base Acres",null,null,null,null,null,{"$f":"SUM(C5:G5)","v":0},null,"Base Acres",null,null,null,null,null,{"$f":"SUM(K5:O5)","v":0},null,"Base Acres",null,null,null,null,null,{"$f":"SUM(S5:W5)","v":0},null,"Base Acres",null,null,null,null,null,{"$f":"SUM(AA5:AE5)","v":0},null,"Base Acres",null,null,null,null,null,{"$f":"SUM(AI5:AM5)","v":0},null,"Base Acres",null,null,null,null,null,{"$f":"SUM(AQ5:AU5)","v":0},null,"Base Acres",null,null,null,null,null,{"$f":"SUM(AY5:BC5)","v":0},null,"Base Acres",null,null,null,null,null,{"$f":"SUM(BG5:BK5)","v":0},null,"Base Acres",null,null,null,null,null,{"$f":"SUM(BO5:BS5)","v":0},null,"Base Acres",null,null,null,null,null,{"$f":"SUM(BW5:CA5)","v":0},null,"Base Acres",null,null,null,null,null,{"$f":"SUM(CE5:CI5)","v":0},null,"Base Acres",null,null,null,null,null,{"$f":"SUM(CM5:CQ5)","v":0},null,"Base Acres",null,null,null,null,null,{"$f":"SUM(CU5:CY5)","v":0},null,"Base Acres",null,null,null,null,null,{"$f":"SUM(DC5:DG5)","v":0},null,"Base Acres",null,null,null,null,null,{"$f":"SUM(DK5:DO5)","v":0},null,"Base Acres",null,null,null,null,null,{"$f":"SUM(DS5:DW5)","v":0},null,"Base Acres",null,null,null,null,null,{"$f":"SUM(EA5:EE5)","v":0},null,"Base Acres",null,null,null,null,null,{"$f":"SUM(EI5:EM5)","v":0},null,"Base Acres",null,null,null,null,null,{"$f":"SUM(EQ5:EU5)","v":0},null,"Base Acres",null,null,null,null,null,{"$f":"SUM(EY5:FC5)","v":0},null,"Base Acres",null,null,null,null,null,{"$f":"SUM(FG5:FK5)","v":0},null,"Base Acres",null,null,null,null,null,{"$f":"SUM(FO5:FS5)","v":0},null,"Base Acres",null,null,null,null,null,{"$f":"SUM(FW5:GA5)","v":0},null,"Base Acres",null,null,null,null,null,{"$f":"SUM(GE5:GI5)","v":0},null,"Base Acres",null,null,null,null,null,{"$f":"SUM(GM5:GQ5)","v":0},null,"Base Acres",null,null,null,null,null,{"$f":"SUM(GU5:GY5)","v":0},null,"Base Acres",null,null,null,null,null,{"$f":"SUM(HC5:HG5)","v":0},null,"Base Acres",null,null,null,null,null,{"$f":"SUM(HK5:HO5)","v":0},null,"Base Acres",null,null,null,null,null,{"$f":"SUM(HS5:HW5)","v":0},null,"Base Acres",null,null,null,null,null,{"$f":"SUM(IA5:IE5)","v":0},null,"Base Acres",null,null,null,null,null,{"$f":"SUM(II5:IM5)","v":0},null,"Base Acres",null,null,null,null,null,{"$f":"SUM(IQ5:IU5)","v":0},null,"Base Acres",null,null,null,null,null,{"$f":"SUM(IY5:JC5)","v":0},null,"Base Acres",null,null,null,null,null,{"$f":"SUM(JG5:JK5)","v":0},null,"Base Acres",null,null,null,null,null,{"$f":"SUM(JO5:JS5)","v":0},null,"Base Acres",null,null,null,null,null,{"$f":"SUM(JW5:KA5)","v":0},null,"Base Acres",null,null,null,null,null,{"$f":"SUM(KE5:KI5)","v":0},null,"Base Acres",null,null,null,null,null,{"$f":"SUM(KM5:KQ5)","v":0},null,"Base Acres",null,null,null,null,null,{"$f":"SUM(KU5:KY5)","v":0},null,"Base Acres",null,null,null,null,null,{"$f":"SUM(LC5:LG5)","v":0},null,"Base Acres",null,null,null,null,null,{"$f":"SUM(LK5:LO5)","v":0},null,"Base Acres",null,null,null,null,null,{"$f":"SUM(LS5:LW5)","v":0},null,"Base Acres",null,null,null,null,null,{"$f":"SUM(MA5:ME5)","v":0},null,"Base Acres",null,null,null,null,null,{"$f":"SUM(MI5:MM5)","v":0},null,"Base Acres",null,null,null,null,null,{"$f":"SUM(MQ5:MU5)","v":0},null,"Base Acres",null,null,null,null,null,{"$f":"SUM(MY5:NC5)","v":0},null,"Base Acres",null,null,null,null,null,{"$f":"SUM(NG5:NK5)","v":0},null,"Base Acres",null,null,null,null,null,{"$f":"SUM(NO5:NS5)","v":0},null,"Base Acres",null,null,null,null,null,{"$f":"SUM(NW5:OA5)","v":0},null,"Base Acres",null,null,null,null,null,{"$f":"SUM(OE5:OI5)","v":0},null,"Base Acres",null,null,null,null,null,{"$f":"SUM(OM5:OQ5)","v":0}]
[null,"2018 PLC Yield",null,null,null,null,null,null,null,"2018 PLC Yield",null,null,null,null,null,null,null,"2018 PLC Yield",null,null,null,null,null,null,null,"2018 PLC Yield",null,null,null,null,null,null,null,"2018 PLC Yield",null,null,null,null,null,null,null,"2018 PLC Yield",null,null,null,null,null,null,null,"2018 PLC Yield",null,null,null,null,null,null,null,"2018 PLC Yield",null,null,null,null,null,null,null,"2018 PLC Yield",null,null,null,null,null,null,null,"2018 PLC Yield",null,null,null,null,null,null,null,"2018 PLC Yield",null,null,null,null,null,null,null,"2018 PLC Yield",null,null,null,null,null,null,null,"2018 PLC Yield",null,null,null,null,null,null,null,"2018 PLC Yield",null,null,null,null,null,null,null,"2018 PLC Yield",null,null,null,null,null,null,null,"2018 PLC Yield",null,null,null,null,null,null,null,"2018 PLC Yield",null,null,null,null,null,null,null,"2018 PLC Yield",null,null,null,null,null,null,null,"2018 PLC Yield",null,null,null,null,null,null,null,"2018 PLC Yield",null,null,null,null,null,null,null,"2018 PLC Yield",null,null,null,null,null,null,null,"2018 PLC Yield",null,null,null,null,null,null,null,"2018 PLC Yield",null,null,null,null,null,null,null,"2018 PLC Yield",null,null,null,null,null,null,null,"2018 PLC Yield",null,null,null,null,null,null,null,"2018 PLC Yield",null,null,null,null,null,null,null,"2018 PLC Yield",null,null,null,null,null,null,null,"2018 PLC Yield",null,null,null,null,null,null,null,"2018 PLC Yield",null,null,null,null,null,null,null,"2018 PLC Yield",null,null,null,null,null,null,null,"2018 PLC Yield",null,null,null,null,null,null,null,"2018 PLC Yield",null,null,null,null,null,null,null,"2018 PLC Yield",null,null,null,null,null,null,null,"2018 PLC Yield",null,null,null,null,null,null,null,"2018 PLC Yield",null,null,null,null,null,null,null,"2018 PLC Yield",null,null,null,null,null,null,null,"2018 PLC Yield",null,null,null,null,null,null,null,"2018 PLC Yield",null,null,null,null,null,null,null,"2018 PLC Yield",null,null,null,null,null,null,null,"2018 PLC Yield",null,null,null,null,null,null,null,"2018 PLC Yield",null,null,null,null,null,null,null,"2018 PLC Yield",null,null,null,null,null,null,null,"2018 PLC Yield",null,null,null,null,null,null,null,"2018 PLC Yield",null,null,null,null,null,null,null,"2018 PLC Yield",null,null,null,null,null,null,null,"2018 PLC Yield",null,null,null,null,null,null,null,"2018 PLC Yield",null,null,null,null,null,null,null,"2018 PLC Yield",null,null,null,null,null,null,null,"2018 PLC Yield",null,null,null,null,null,null,null,"2018 PLC Yield",null,null,null,null,null,null,null,"2018 PLC Yield"]
[null,"13-17 Historical Irrigated Percentage",0,null,0,null,0,null,null,"13-17 Historical Irrigated Percentage",0,null,0,null,0,null,null,"13-17 Historical Irrigated Percentage",0,null,0,null,0,null,null,"13-17 Historical Irrigated Percentage",0,null,0,null,0,null,null,"13-17 Historical Irrigated Percentage",0,null,0,null,0,null,null,"13-17 Historical Irrigated Percentage",0,null,0,null,0,null,null,"13-17 Historical Irrigated Percentage",0,null,0,null,0,null,null,"13-17 Historical Irrigated Percentage",0,null,0,null,0,null,null,"13-17 Historical Irrigated Percentage",0,null,0,null,0,null,null,"13-17 Historical Irrigated Percentage",0,null,0,null,0,null,null,"13-17 Historical Irrigated Percentage",0,null,0,null,0,null,null,"13-17 Historical Irrigated Percentage",0,null,0,null,0,null,null,"13-17 Historical Irrigated Percentage",0,null,0,null,0,null,null,"13-17 Historical Irrigated Percentage",0,null,0,null,0,null,null,"13-17 Historical Irrigated Percentage",0,null,0,null,0,null,null,"13-17 Historical Irrigated Percentage",0,null,0,null,0,null,null,"13-17 Historical Irrigated Percentage",0,null,0,null,0,null,null,"13-17 Historical Irrigated Percentage",0,null,0,null,0,null,null,"13-17 Historical Irrigated Percentage",0,null,0,null,0,null,null,"13-17 Historical Irrigated Percentage",0,null,0,null,0,null,null,"13-17 Historical Irrigated Percentage",0,null,0,null,0,null,null,"13-17 Historical Irrigated Percentage",0,null,0,null,0,null,null,"13-17 Historical Irrigated Percentage",0,null,0,null,0,null,null,"13-17 Historical Irrigated Percentage",0,null,0,null,0,null,null,"13-17 Historical Irrigated Percentage",0,null,0,null,0,null,null,"13-17 Historical Irrigated Percentage",0,null,0,null,0,null,null,"13-17 Historical Irrigated Percentage",0,null,0,null,0,null,null,"13-17 Historical Irrigated Percentage",0,null,0,null,0,null,null,"13-17 Historical Irrigated Percentage",0,null,0,null,0,null,null,"13-17 Historical Irrigated Percentage",0,null,0,null,0,null,null,"13-17 Historical Irrigated Percentage",0,null,0,null,0,null,null,"13-17 Historical Irrigated Percentage",0,null,0,null,0,null,null,"13-17 Historical Irrigated Percentage",0,null,0,null,0,null,null,"13-17 Historical Irrigated Percentage",0,null,0,null,0,null,null,"13-17 Historical Irrigated Percentage",0,null,0,null,0,null,null,"13-17 Historical Irrigated Percentage",0,null,0,null,0,null,null,"13-17 Historical Irrigated Percentage",0,null,0,null,0,null,null,"13-17 Historical Irrigated Percentage",0,null,0,null,0,null,null,"13-17 Historical Irrigated Percentage",0,null,0,null,0,null,null,"13-17 Historical Irrigated Percentage",0,null,0,null,0,null,null,"13-17 Historical Irrigated Percentage",0,null,0,null,0,null,null,"13-17 Historical Irrigated Percentage",0,null,0,null,0,null,null,"13-17 Historical Irrigated Percentage",0,null,0,null,0,null,null,"13-17 Historical Irrigated Percentage",0,null,0,null,0,null,null,"13-17 Historical Irrigated Percentage",0,null,0,null,0,null,null,"13-17 Historical Irrigated Percentage",0,null,0,null,0,null,null,"13-17 Historical Irrigated Percentage",0,null,0,null,0,null,null,"13-17 Historical Irrigated Percentage",0,null,0,null,0,null,null,"13-17 Historical Irrigated Percentage",0,null,0,null,0,null,null,"13-17 Historical Irrigated Percentage",0,null,0,null,0,null,null,"13-17 Historical Irrigated Percentage",0,null,0,null,0]
[]
[]
[null,{"$f":"B3","v":"Farm 1"},null,null,null,null,null,null,null,"Farm 2",null,null,null,null,null,null,null,"Farm 3",null,null,null,null,null,null,null,"Farm 4",null,null,null,null,null,null,null,"Farm 5",null,null,null,null,null,null,null,"Farm 6",null,null,null,null,null,null,null,"Farm 7",null,null,null,null,null,null,null,{"$f":"BF3","v":"Farm 8"},null,null,null,null,null,null,null,{"$f":"BN3","v":"Farm 9"},null,null,null,null,null,null,null,{"$f":"BV3","v":"Farm 10"},null,null,null,null,null,null,null,{"$f":"CD3","v":"Farm 11"},null,null,null,null,null,null,null,{"$f":"CL3","v":"Farm 12"},null,null,null,null,null,null,null,{"$f":"CT3","v":"Farm 13"},null,null,null,null,null,null,null,{"$f":"DB3","v":"Farm 14"},null,null,null,null,null,null,null,{"$f":"DJ3","v":"Farm 15"},null,null,null,null,null,null,null,{"$f":"DR3","v":"Farm 16"},null,null,null,null,null,null,null,{"$f":"DZ3","v":"Farm 17"},null,null,null,null,null,null,null,{"$f":"EH3","v":"Farm 18"},null,null,null,null,null,null,null,{"$f":"EP3","v":"Farm 19"},null,null,null,null,null,null,null,{"$f":"EX3","v":"Farm 20"},null,null,null,null,null,null,null,{"$f":"FF3","v":"Farm 21"},null,null,null,null,null,null,null,{"$f":"FN3","v":"Farm 22"},null,null,null,null,null,null,null,{"$f":"FV3","v":"Farm 23"},null,null,null,null,null,null,null,{"$f":"GD3","v":"Farm 24"},null,null,null,null,null,null,null,{"$f":"GL3","v":"Farm 25"},null,null,null,null,null,null,null,{"$f":"GT3","v":"Farm 26"},null,null,null,null,null,null,null,{"$f":"HB3","v":"Farm 27"},null,null,null,null,null,null,null,{"$f":"HJ3","v":"Farm 28"},null,null,null,null,null,null,null,{"$f":"HR3","v":"Farm 29"},null,null,null,null,null,null,null,{"$f":"HZ3","v":"Farm 30"},null,null,null,null,null,null,null,{"$f":"IH3","v":"Farm 31"},null,null,null,null,null,null,null,{"$f":"IP3","v":"Farm 32"},null,null,null,null,null,null,null,{"$f":"IX3","v":"Farm 33"},null,null,null,null,null,null,null,{"$f":"JF3","v":"Farm 34"},null,null,null,null,null,null,null,{"$f":"JN3","v":"Farm 35"},null,null,null,null,null,null,null,{"$f":"JV3","v":"Farm 36"},null,null,null,null,null,null,null,{"$f":"KD3","v":"Farm 37"},null,null,null,null,null,null,null,{"$f":"KL3","v":"Farm 38"},null,null,null,null,null,null,null,{"$f":"KT3","v":"Farm 39"},null,null,null,null,null,null,null,{"$f":"LB3","v":"Farm 40"},null,null,null,null,null,null,null,{"$f":"LJ3","v":"Farm 41"},null,null,null,null,null,null,null,{"$f":"LR3","v":"Farm 42"},null,null,null,null,null,null,null,{"$f":"LZ3","v":"Farm 43"},null,null,null,null,null,null,null,{"$f":"MH3","v":"Farm 44"},null,null,null,null,null,null,null,{"$f":"MP3","v":"Farm 45"},null,null,null,null,null,null,null,{"$f":"MX3","v":"Farm 46"},null,null,null,null,null,null,null,{"$f":"NF3","v":"Farm 47"},null,null,null,null,null,null,null,{"$f":"NN3","v":"Farm 48"},null,null,null,null,null,null,null,{"$f":"NV3","v":"Farm 49"},null,null,null,null,null,null,null,{"$f":"OD3","v":"Farm 50"},null,null,null,null,null,null,null,{"$f":"OL3","v":"Farm 51"}]
[null,"Historical and Projected Farm Yields and Acreages",null,null,null,null,null,null,null,"Historical and Projected Farm Yields and Acreages",null,null,null,null,null,null,null,"Historical and Projected Farm Yields and Acreages",null,null,null,null,null,null,null,"Historical and Projected Farm Yields and Acreages",null,null,null,null,null,null,null,"Historical and Projected Farm Yields and Acreages",null,null,null,null,null,null,null,"Historical and Projected Farm Yields and Acreages",null,null,null,null,null,null,null,"Historical and Projected Farm Yields and Acreages",null,null,null,null,null,null,null,"Historical and Projected Farm Yields and Acreages",null,null,null,null,null,null,null,"Historical and Projected Farm Yields and Acreages",null,null,null,null,null,null,null,"Historical and Projected Farm Yields and Acreages",null,null,null,null,null,null,null,"Historical and Projected Farm Yields and Acreages",null,null,null,null,null,null,null,"Historical and Projected Farm Yields and Acreages",null,null,null,null,null,null,null,"Historical and Projected Farm Yields and Acreages",null,null,null,null,null,null,null,"Historical and Projected Farm Yields and Acreages",null,null,null,null,null,null,null,"Historical and Projected Farm Yields and Acreages",null,null,null,null,null,null,null,"Historical and Projected Farm Yields and Acreages",null,null,null,null,null,null,null,"Historical and Projected Farm Yields and Acreages",null,null,null,null,null,null,null,"Historical and Projected Farm Yields and Acreages",null,null,null,null,null,null,null,"Historical and Projected Farm Yields and Acreages",null,null,null,null,null,null,null,"Historical and Projected Farm Yields and Acreages",null,null,null,null,null,null,null,"Historical and Projected Farm Yields and Acreages",null,null,null,null,null,null,null,"Historical and Projected Farm Yields and Acreages",null,null,null,null,null,null,null,"Historical and Projected Farm Yields and Acreages",null,null,null,null,null,null,null,"Historical and Projected Farm Yields and Acreages",null,null,null,null,null,null,null,"Historical and Projected Farm Yields and Acreages",null,null,null,null,null,null,null,"Historical and Projected Farm Yields and Acreages",null,null,null,null,null,null,null,"Historical and Projected Farm Yields and Acreages",null,null,null,null,null,null,null,"Historical and Projected Farm Yields and Acreages",null,null,null,null,null,null,null,"Historical and Projected Farm Yields and Acreages",null,null,null,null,null,null,null,"Historical and Projected Farm Yields and Acreages",null,null,null,null,null,null,null,"Historical and Projected Farm Yields and Acreages",null,null,null,null,null,null,null,"Historical and Projected Farm Yields and Acreages",null,null,null,null,null,null,null,"Historical and Projected Farm Yields and Acreages",null,null,null,null,null,null,null,"Historical and Projected Farm Yields and Acreages",null,null,null,null,null,null,null,"Historical and Projected Farm Yields and Acreages",null,null,null,null,null,null,null,"Historical and Projected Farm Yields and Acreages",null,null,null,null,null,null,null,"Historical and Projected Farm Yields and Acreages",null,null,null,null,null,null,null,"Historical and Projected Farm Yields and Acreages",null,null,null,null,null,null,null,"Historical and Projected Farm Yields and Acreages",null,null,null,null,null,null,null,"Historical and Projected Farm Yields and Acreages",null,null,null,null,null,null,null,"Historical and Projected Farm Yields and Acreages",null,null,null,null,null,null,null,"Historical and Projected Farm Yields and Acreages",null,null,null,null,null,null,null,"Historical and Projected Farm Yields and Acreages",null,null,null,null,null,null,null,"Historical and Projected Farm Yields and Acreages",null,null,null,null,null,null,null,"Historical and Projected Farm Yields and Acreages",null,null,null,null,null,null,null,"Historical and Projected Farm Yields and Acreages",null,null,null,null,null,null,null,"Historical and Projected Farm Yields and Acreages",null,null,null,null,null,null,null,"Historical and Projected Farm Yields and Acreages",null,null,null,null,null,null,null,"Historical and Projected Farm Yields and Acreages",null,null,null,null,null,null,null,"Historical and Projected Farm Yields and Acreages",null,null,null,null,null,null,null,"Historical and Projected Farm Yields and Acreages"]
[null,null,"Corn ","Planted","Soybean","Planted","Wheat","Planted",null,null,"Corn ","Planted","Soybean","Planted","Wheat","Planted",null,null,"Corn ","Planted","Soybean","Planted","Wheat","Planted",null,null,"Corn ","Planted","Soybean","Planted","Wheat","Planted",null,null,"Corn ","Planted","Soybean","Planted","Wheat","Planted",null,null,"Corn ","Planted","Soybean","Planted","Wheat","Planted",null,null,"Corn ","Planted","Soybean","Planted","Wheat","Planted",null,null,"Corn ","Planted","Soybean","Planted","Wheat","Planted",null,null,"Corn ","Planted","Soybean","Planted","Wheat","Planted",null,null,"Corn ","Planted","Soybean","Planted","Wheat","Planted",null,null,"Corn ","Planted","Soybean","Planted","Wheat","Planted",null,null,"Corn ","Planted","Soybean","Planted","Wheat","Planted",null,null,"Corn ","Planted","Soybean","Planted","Wheat","Planted",null,null,"Corn ","Planted","Soybean","Planted","Wheat","Planted",null,null,"Corn ","Planted","Soybean","Planted","Wheat","Planted",null,null,"Corn ","Planted","Soybean","Planted","Wheat","Planted",null,null,"Corn ","Planted","Soybean","Planted","Wheat","Planted",null,null,"Corn ","Planted","Soybean","Planted","Wheat","Planted",null,null,"Corn ","Planted","Soybean","Planted","Wheat","Planted",null,null,"Corn ","Planted","Soybean","Planted","Wheat","Planted",null,null,"Corn ","Planted","Soybean","Planted","Wheat","Planted",null,null,"Corn ","Planted","Soybean","Planted","Wheat","Planted",null,null,"Corn ","Planted","Soybean","Planted","Wheat","Planted",null,null,"Corn ","Planted","Soybean","Planted","Wheat","Planted",null,null,"Corn ","Planted","Soybean","Planted","Wheat","Planted",null,null,"Corn ","Planted","Soybean","Planted","Wheat","Planted",null,null,"Corn ","Planted","Soybean","Planted","Wheat","Planted",null,null,"Corn ","Planted","Soybean","Planted","Wheat","Planted",null,null,"Corn ","Planted","Soybean","Planted","Wheat","Planted",null,null,"Corn ","Planted","Soybean","Planted","Wheat","Planted",null,null,"Corn ","Planted","Soybean","Planted","Wheat","Planted",null,null,"Corn ","Planted","Soybean","Planted","Wheat","Planted",null,null,"Corn ","Planted","Soybean","Planted","Wheat","Planted",null,null,"Corn ","Planted","Soybean","Planted","Wheat","Planted",null,null,"Corn ","Planted","Soybean","Planted","Wheat","Planted",null,null,"Corn ","Planted","Soybean","Planted","Wheat","Planted",null,null,"Corn ","Planted","Soybean","Planted","Wheat","Planted",null,null,"Corn ","Planted","Soybean","Planted","Wheat","Planted",null,null,"Corn ","Planted","Soybean","Planted","Wheat","Planted",null,null,"Corn ","Planted","Soybean","Planted","Wheat","Planted",null,null,"Corn ","Planted","Soybean","Planted","Wheat","Planted",null,null,"Corn ","Planted","Soybean","Planted","Wheat","Planted",null,null,"Corn ","Planted","Soybean","Planted","Wheat","Planted",null,null,"Corn ","Planted","Soybean","Planted","Wheat","Planted",null,null,"Corn ","Planted","Soybean","Planted","Wheat","Planted",null,null,"Corn ","Planted","Soybean","Planted","Wheat","Planted",null,null,"Corn ","Planted","Soybean","Planted","Wheat","Planted",null,null,"Corn ","Planted","Soybean","Planted","Wheat","Planted",null,null,"Corn ","Planted","Soybean","Planted","Wheat","Planted",null,null,"Corn ","Planted","Soybean","Planted","Wheat","Planted",null,null,"Corn ","Planted","Soybean","Planted","Wheat","Planted"]
[null,null,"Farm Yield","Acres","Farm Yield","Acres","Farm Yield","Acres",null,null,"Farm Yield","Acres","Farm Yield","Acres","Farm Yield","Acres",null,null,"Farm Yield","Acres","Farm Yield","Acres","Farm Yield","Acres",null,null,"Farm Yield","Acres","Farm Yield","Acres","Farm Yield","Acres",null,null,"Farm Yield","Acres","Farm Yield","Acres","Farm Yield","Acres",null,null,"Farm Yield","Acres","Farm Yield","Acres","Farm Yield","Acres",null,null,"Farm Yield","Acres","Farm Yield","Acres","Farm Yield","Acres",null,null,"Farm Yield","Acres","Farm Yield","Acres","Farm Yield","Acres",null,null,"Farm Yield","Acres","Farm Yield","Acres","Farm Yield","Acres",null,null,"Farm Yield","Acres","Farm Yield","Acres","Farm Yield","Acres",null,null,"Farm Yield","Acres","Farm Yield","Acres","Farm Yield","Acres",null,null,"Farm Yield","Acres","Farm Yield","Acres","Farm Yield","Acres",null,null,"Farm Yield","Acres","Farm Yield","Acres","Farm Yield","Acres",null,null,"Farm Yield","Acres","Farm Yield","Acres","Farm Yield","Acres",null,null,"Farm Yield","Acres","Farm Yield","Acres","Farm Yield","Acres",null,null,"Farm Yield","Acres","Farm Yield","Acres","Farm Yield","Acres",null,null,"Farm Yield","Acres","Farm Yield","Acres","Farm Yield","Acres",null,null,"Farm Yield","Acres","Farm Yield","Acres","Farm Yield","Acres",null,null,"Farm Yield","Acres","Farm Yield","Acres","Farm Yield","Acres",null,null,"Farm Yield","Acres","Farm Yield","Acres","Farm Yield","Acres",null,null,"Farm Yield","Acres","Farm Yield","Acres","Farm Yield","Acres",null,null,"Farm Yield","Acres","Farm Yield","Acres","Farm Yield","Acres",null,null,"Farm Yield","Acres","Farm Yield","Acres","Farm Yield","Acres",null,null,"Farm Yield","Acres","Farm Yield","Acres","Farm Yield","Acres",null,null,"Farm Yield","Acres","Farm Yield","Acres","Farm Yield","Acres",null,null,"Farm Yield","Acres","Farm Yield","Acres","Farm Yield","Acres",null,null,"Farm Yield","Acres","Farm Yield","Acres","Farm Yield","Acres",null,null,"Farm Yield","Acres","Farm Yield","Acres","Farm Yield","Acres",null,null,"Farm Yield","Acres","Farm Yield","Acres","Farm Yield","Acres",null,null,"Farm Yield","Acres","Farm Yield","Acres","Farm Yield","Acres",null,null,"Farm Yield","Acres","Farm Yield","Acres","Farm Yield","Acres",null,null,"Farm Yield","Acres","Farm Yield","Acres","Farm Yield","Acres",null,null,"Farm Yield","Acres","Farm Yield","Acres","Farm Yield","Acres",null,null,"Farm Yield","Acres","Farm Yield","Acres","Farm Yield","Acres",null,null,"Farm Yield","Acres","Farm Yield","Acres","Farm Yield","Acres",null,null,"Farm Yield","Acres","Farm Yield","Acres","Farm Yield","Acres",null,null,"Farm Yield","Acres","Farm Yield","Acres","Farm Yield","Acres",null,null,"Farm Yield","Acres","Farm Yield","Acres","Farm Yield","Acres",null,null,"Farm Yield","Acres","Farm Yield","Acres","Farm Yield","Acres",null,null,"Farm Yield","Acres","Farm Yield","Acres","Farm Yield","Acres",null,null,"Farm Yield","Acres","Farm Yield","Acres","Farm Yield","Acres",null,null,"Farm Yield","Acres","Farm Yield","Acres","Farm Yield","Acres",null,null,"Farm Yield","Acres","Farm Yield","Acres","Farm Yield","Acres",null,null,"Farm Yield","Acres","Farm Yield","Acres","Farm Yield","Acres",null,null,"Farm Yield","Acres","Farm Yield","Acres","Farm Yield","Acres",null,null,"Farm Yield","Acres","Farm Yield","Acres","Farm Yield","Acres",null,null,"Farm Yield","Acres","Farm Yield","Acres","Farm Yield","Acres",null,null,"Farm Yield","Acres","Farm Yield","Acres","Farm Yield","Acres",null,null,"Farm Yield","Acres","Farm Yield","Acres","Farm Yield","Acres",null,null,"Farm Yield","Acres","Farm Yield","Acres","Farm Yield","Acres",null,null,"Farm Yield","Acres","Farm Yield","Acres","Farm Yield","Acres"]
[null,2013,null,null,null,null,null,null,null,2013,null,null,null,null,null,null,null,2013,null,null,null,null,null,null,null,2013,null,null,null,null,null,null,null,2013,null,null,null,null,null,null,null,2013,null,null,null,null,null,null,null,2013,null,null,null,null,null,null,null,2013,null,null,null,null,null,null,null,2013,null,null,null,null,null,null,null,2013,null,null,null,null,null,null,null,2013,null,null,null,null,null,null,null,2013,null,null,null,null,null,null,null,2013,null,null,null,null,null,null,null,2013,null,null,null,null,null,null,null,2013,null,null,null,null,null,null,null,2013,null,null,null,null,null,null,null,2013,null,null,null,null,null,null,null,2013,null,null,null,null,null,null,null,2013,null,null,null,null,null,null,null,2013,null,null,null,null,null,null,null,2013,null,null,null,null,null,null,null,2013,null,null,null,null,null,null,null,2013,null,null,null,null,null,null,null,2013,null,null,null,null,null,null,null,2013,null,null,null,null,null,null,null,2013,null,null,null,null,null,null,null,2013,null,null,null,null,null,null,null,2013,null,null,null,null,null,null,null,2013,null,null,null,null,null,null,null,2013,null,null,null,null,null,null,null,2013,null,null,null,null,null,null,null,2013,null,null,null,null,null,null,null,2013,null,null,null,null,null,null,null,2013,null,null,null,null,null,null,null,2013,null,null,null,null,null,null,null,2013,null,null,null,null,null,null,null,2013,null,null,null,null,null,null,null,2013,null,null,null,null,null,null,null,2013,null,null,null,null,null,null,null,2013,null,null,null,null,null,null,null,2013,null,null,null,null,null,null,null,2013,null,null,null,null,null,null,null,2013,null,null,null,null,null,null,null,2013,null,null,null,null,null,null,null,2013,null,null,null,null,null,null,null,2013,null,null,null,null,null,null,null,2013,null,null,null,null,null,null,null,2013,null,null,null,null,null,null,null,2013,null,null,null,null,null,null,null,2013,null,null,null,null,null,null,null,2013]
[null,2014,null,null,null,null,null,null,null,2014,null,null,null,null,null,null,null,2014,null,null,null,null,null,null,null,2014,null,null,null,null,null,null,null,2014,null,null,null,null,null,null,null,2014,null,null,null,null,null,null,null,2014,null,null,null,null,null,null,null,2014,null,null,null,null,null,null,null,2014,null,null,null,null,null,null,null,2014,null,null,null,null,null,null,null,2014,null,null,null,null,null,null,null,2014,null,null,null,null,null,null,null,2014,null,null,null,null,null,null,null,2014,null,null,null,null,null,null,null,2014,null,null,null,null,null,null,null,2014,null,null,null,null,null,null,null,2014,null,null,null,null,null,null,null,2014,null,null,null,null,null,null,null,2014,null,null,null,null,null,null,null,2014,null,null,null,null,null,null,null,2014,null,null,null,null,null,null,null,2014,null,null,null,null,null,null,null,2014,null,null,null,null,null,null,null,2014,null,null,null,null,null,null,null,2014,null,null,null,null,null,null,null,2014,null,null,null,null,null,null,null,2014,null,null,null,null,null,null,null,2014,null,null,null,null,null,null,null,2014,null,null,null,null,null,null,null,2014,null,null,null,null,null,null,null,2014,null,null,null,null,null,null,null,2014,null,null,null,null,null,null,null,2014,null,null,null,null,null,null,null,2014,null,null,null,null,null,null,null,2014,null,null,null,null,null,null,null,2014,null,null,null,null,null,null,null,2014,null,null,null,null,null,null,null,2014,null,null,null,null,null,null,null,2014,null,null,null,null,null,null,null,2014,null,null,null,null,null,null,null,2014,null,null,null,null,null,null,null,2014,null,null,null,null,null,null,null,2014,null,null,null,null,null,null,null,2014,null,null,null,null,null,null,null,2014,null,null,null,null,null,null,null,2014,null,null,null,null,null,null,null,2014,null,null,null,null,null,null,null,2014,null,null,null,null,null,null,null,2014,null,null,null,null,null,null,null,2014,null,null,null,null,null,null,null,2014]
[null,2015,null,null,null,null,null,null,null,2015,null,null,null,null,null,null,null,2015,null,null,null,null,null,null,null,2015,null,null,null,null,null,null,null,2015,null,null,null,null,null,null,null,2015,null,null,null,null,null,null,null,2015,null,null,null,null,null,null,null,2015,null,null,null,null,null,null,null,2015,null,null,null,null,null,null,null,2015,null,null,null,null,null,null,null,2015,null,null,null,null,null,null,null,2015,null,null,null,null,null,null,null,2015,null,null,null,null,null,null,null,2015,null,null,null,null,null,null,null,2015,null,null,null,null,null,null,null,2015,null,null,null,null,null,null,null,2015,null,null,null,null,null,null,null,2015,null,null,null,null,null,null,null,2015,null,null,null,null,null,null,null,2015,null,null,null,null,null,null,null,2015,null,null,null,null,null,null,null,2015,null,null,null,null,null,null,null,2015,null,null,null,null,null,null,null,2015,null,null,null,null,null,null,null,2015,null,null,null,null,null,null,null,2015,null,null,null,null,null,null,null,2015,null,null,null,null,null,null,null,2015,null,null,null,null,null,null,null,2015,null,null,null,null,null,null,null,2015,null,null,null,null,null,null,null,2015,null,null,null,null,null,null,null,2015,null,null,null,null,null,null,null,2015,null,null,null,null,null,null,null,2015,null,null,null,null,null,null,null,2015,null,null,null,null,null,null,null,2015,null,null,null,null,null,null,null,2015,null,null,null,null,null,null,null,2015,null,null,null,null,null,null,null,2015,null,null,null,null,null,null,null,2015,null,null,null,null,null,null,null,2015,null,null,null,null,null,null,null,2015,null,null,null,null,null,null,null,2015,null,null,null,null,null,null,null,2015,null,null,null,null,null,null,null,2015,null,null,null,null,null,null,null,2015,null,null,null,null,null,null,null,2015,null,null,null,null,null,null,null,2015,null,null,null,null,null,null,null,2015,null,null,null,null,null,null,null,2015,null,null,null,null,null,null,null,2015]
[null,2016,null,null,null,null,null,null,null,2016,null,null,null,null,null,null,null,2016,null,null,null,null,null,null,null,2016,null,null,null,null,null,null,null,2016,null,null,null,null,null,null,null,2016,null,null,null,null,null,null,null,2016,null,null,null,null,null,null,null,2016,null,null,null,null,null,null,null,2016,null,null,null,null,null,null,null,2016,null,null,null,null,null,null,null,2016,null,null,null,null,null,null,null,2016,null,null,null,null,null,null,null,2016,null,null,null,null,null,null,null,2016,null,null,null,null,null,null,null,2016,null,null,null,null,null,null,null,2016,null,null,null,null,null,null,null,2016,null,null,null,null,null,null,null,2016,null,null,null,null,null,null,null,2016,null,null,null,null,null,null,null,2016,null,null,null,null,null,null,null,2016,null,null,null,null,null,null,null,2016,null,null,null,null,null,null,null,2016,null,null,null,null,null,null,null,2016,null,null,null,null,null,null,null,2016,null,null,null,null,null,null,null,2016,null,null,null,null,null,null,null,2016,null,null,null,null,null,null,null,2016,null,null,null,null,null,null,null,2016,null,null,null,null,null,null,null,2016,null,null,null,null,null,null,null,2016,null,null,null,null,null,null,null,2016,null,null,null,null,null,null,null,2016,null,null,null,null,null,null,null,2016,null,null,null,null,null,null,null,2016,null,null,null,null,null,null,null,2016,null,null,null,null,null,null,null,2016,null,null,null,null,null,null,null,2016,null,null,null,null,null,null,null,2016,null,null,null,null,null,null,null,2016,null,null,null,null,null,null,null,2016,null,null,null,null,null,null,null,2016,null,null,null,null,null,null,null,2016,null,null,null,null,null,null,null,2016,null,null,null,null,null,null,null,2016,null,null,null,null,null,null,null,2016,null,null,null,null,null,null,null,2016,null,null,null,null,null,null,null,2016,null,null,null,null,null,null,null,2016,null,null,null,null,null,null,null,2016,null,null,null,null,null,null,null,2016]
[null,2017,null,null,null,null,null,null,null,2017,null,null,null,null,null,null,null,2017,null,null,null,null,null,null,null,2017,null,null,null,null,null,null,null,2017,null,null,null,null,null,null,null,2017,null,null,null,null,null,null,null,2017,null,null,null,null,null,null,null,2017,null,null,null,null,null,null,null,2017,null,null,null,null,null,null,null,2017,null,null,null,null,null,null,null,2017,null,null,null,null,null,null,null,2017,null,null,null,null,null,null,null,2017,null,null,null,null,null,null,null,2017,null,null,null,null,null,null,null,2017,null,null,null,null,null,null,null,2017,null,null,null,null,null,null,null,2017,null,null,null,null,null,null,null,2017,null,null,null,null,null,null,null,2017,null,null,null,null,null,null,null,2017,null,null,null,null,null,null,null,2017,null,null,null,null,null,null,null,2017,null,null,null,null,null,null,null,2017,null,null,null,null,null,null,null,2017,null,null,null,null,null,null,null,2017,null,null,null,null,null,null,null,2017,null,null,null,null,null,null,null,2017,null,null,null,null,null,null,null,2017,null,null,null,null,null,null,null,2017,null,null,null,null,null,null,null,2017,null,null,null,null,null,null,null,2017,null,null,null,null,null,null,null,2017,null,null,null,null,null,null,null,2017,null,null,null,null,null,null,null,2017,null,null,null,null,null,null,null,2017,null,null,null,null,null,null,null,2017,null,null,null,null,null,null,null,2017,null,null,null,null,null,null,null,2017,null,null,null,null,null,null,null,2017,null,null,null,null,null,null,null,2017,null,null,null,null,null,null,null,2017,null,null,null,null,null,null,null,2017,null,null,null,null,null,null,null,2017,null,null,null,null,null,null,null,2017,null,null,null,null,null,null,null,2017,null,null,null,null,null,null,null,2017,null,null,null,null,null,null,null,2017,null,null,null,null,null,null,null,2017,null,null,null,null,null,null,null,2017,null,null,null,null,null,null,null,2017,null,null,null,null,null,null,null,2017]
[null,2018,null,null,null,null,null,null,null,2018,null,null,null,null,null,null,null,2018,null,null,null,null,null,null,null,2018,null,null,null,null,null,null,null,2018,null,null,null,null,null,null,null,2018,null,null,null,null,null,null,null,2018,null,null,null,null,null,null,null,2018,null,null,null,null,null,null,null,2018,null,null,null,null,null,null,null,2018,null,null,null,null,null,null,null,2018,null,null,null,null,null,null,null,2018,null,null,null,null,null,null,null,2018,null,null,null,null,null,null,null,2018,null,null,null,null,null,null,null,2018,null,null,null,null,null,null,null,2018,null,null,null,null,null,null,null,2018,null,null,null,null,null,null,null,2018,null,null,null,null,null,null,null,2018,null,null,null,null,null,null,null,2018,null,null,null,null,null,null,null,2018,null,null,null,null,null,null,null,2018,null,null,null,null,null,null,null,2018,null,null,null,null,null,null,null,2018,null,null,null,null,null,null,null,2018,null,null,null,null,null,null,null,2018,null,null,null,null,null,null,null,2018,null,null,null,null,null,null,null,2018,null,null,null,null,null,null,null,2018,null,null,null,null,null,null,null,2018,null,null,null,null,null,null,null,2018,null,null,null,null,null,null,null,2018,null,null,null,null,null,null,null,2018,null,null,null,null,null,null,null,2018,null,null,null,null,null,null,null,2018,null,null,null,null,null,null,null,2018,null,null,null,null,null,null,null,2018,null,null,null,null,null,null,null,2018,null,null,null,null,null,null,null,2018,null,null,null,null,null,null,null,2018,null,null,null,null,null,null,null,2018,null,null,null,null,null,null,null,2018,null,null,null,null,null,null,null,2018,null,null,null,null,null,null,null,2018,null,null,null,null,null,null,null,2018,null,null,null,null,null,null,null,2018,null,null,null,null,null,null,null,2018,null,null,null,null,null,null,null,2018,null,null,null,null,null,null,null,2018,null,null,null,null,null,null,null,2018,null,null,null,null,null,null,null,2018]
["Planted or Considered",2019,null,null,null,null,null,null,null,2019,null,null,null,null,null,null,null,2019,null,null,null,null,null,null,null,2019,null,null,null,null,null,null,null,2019,null,null,null,null,null,null,null,2019,null,null,null,null,null,null,null,2019,null,null,null,null,null,null,null,2019,null,null,null,null,null,null,null,2019,null,null,null,null,null,null,null,2019,null,null,null,null,null,null,null,2019,null,null,null,null,null,null,null,2019,null,null,null,null,null,null,null,2019,null,null,null,null,null,null,null,2019,null,null,null,null,null,null,null,2019,null,null,null,null,null,null,null,2019,null,null,null,null,null,null,null,2019,null,null,null,null,null,null,null,2019,null,null,null,null,null,null,null,2019,null,null,null,null,null,null,null,2019,null,null,null,null,null,null,null,2019,null,null,null,null,null,null,null,2019,null,null,null,null,null,null,null,2019,null,null,null,null,null,null,null,2019,null,null,null,null,null,null,null,2019,null,null,null,null,null,null,null,2019,null,null,null,null,null,null,null,2019,null,null,null,null,null,null,null,2019,null,null,null,null,null,null,null,2019,null,null,null,null,null,null,null,2019,null,null,null,null,null,null,null,2019,null,null,null,null,null,null,null,2019,null,null,null,null,null,null,null,2019,null,null,null,null,null,null,null,2019,null,null,null,null,null,null,null,2019,null,null,null,null,null,null,null,2019,null,null,null,null,null,null,null,2019,null,null,null,null,null,null,null,2019,null,null,null,null,null,null,null,2019,null,null,null,null,null,null,null,2019,null,null,null,null,null,null,null,2019,null,null,null,null,null,null,null,2019,null,null,null,null,null,null,null,2019,null,null,null,null,null,null,null,2019,null,null,null,null,null,null,null,2019,null,null,null,null,null,null,null,2019,null,null,null,null,null,null,null,2019,null,null,null,null,null,null,null,2019,null,null,null,null,null,null,null,2019,null,null,null,null,null,null,null,2019,null,null,null,null,null,null,null,2019]
[null,2020,null,null,null,null,null,null,null,2020,null,null,null,null,null,null,null,2020,null,null,null,null,null,null,null,2020,null,null,null,null,null,null,null,2020,null,null,null,null,null,null,null,2020,null,null,null,null,null,null,null,2020,null,null,null,null,null,null,null,2020,null,null,null,null,null,null,null,2020,null,null,null,null,null,null,null,2020,null,null,null,null,null,null,null,2020,null,null,null,null,null,null,null,2020,null,null,null,null,null,null,null,2020,null,null,null,null,null,null,null,2020,null,null,null,null,null,null,null,2020,null,null,null,null,null,null,null,2020,null,null,null,null,null,null,null,2020,null,null,null,null,null,null,null,2020,null,null,null,null,null,null,null,2020,null,null,null,null,null,null,null,2020,null,null,null,null,null,null,null,2020,null,null,null,null,null,null,null,2020,null,null,null,null,null,null,null,2020,null,null,null,null,null,null,null,2020,null,null,null,null,null,null,null,2020,null,null,null,null,null,null,null,2020,null,null,null,null,null,null,null,2020,null,null,null,null,null,null,null,2020,null,null,null,null,null,null,null,2020,null,null,null,null,null,null,null,2020,null,null,null,null,null,null,null,2020,null,null,null,null,null,null,null,2020,null,null,null,null,null,null,null,2020,null,null,null,null,null,null,null,2020,null,null,null,null,null,null,null,2020,null,null,null,null,null,null,null,2020,null,null,null,null,null,null,null,2020,null,null,null,null,null,null,null,2020,null,null,null,null,null,null,null,2020,null,null,null,null,null,null,null,2020,null,null,null,null,null,null,null,2020,null,null,null,null,null,null,null,2020,null,null,null,null,null,null,null,2020,null,null,null,null,null,null,null,2020,null,null,null,null,null,null,null,2020,null,null,null,null,null,null,null,2020,null,null,null,null,null,null,null,2020,null,null,null,null,null,null,null,2020,null,null,null,null,null,null,null,2020,null,null,null,null,null,null,null,2020,null,null,null,null,null,null,null,2020]
[]
[]
[null,null,"Farm Revenue","Percent Acres","Farm Revenue","Percent Acres","Farm Revenue","Percent Acres",null,null,"Farm Revenue","Percent Acres","Farm Revenue","Percent Acres","Farm Revenue","Percent Acres",null,null,"Farm Revenue","Percent Acres","Farm Revenue","Percent Acres","Farm Revenue","Percent Acres",null,null,"Farm Revenue","Percent Acres","Farm Revenue","Percent Acres","Farm Revenue","Percent Acres",null,null,"Farm Revenue","Percent Acres","Farm Revenue","Percent Acres","Farm Revenue","Percent Acres",null,null,"Farm Revenue","Percent Acres","Farm Revenue","Percent Acres","Farm Revenue","Percent Acres",null,null,"Farm Revenue","Percent Acres","Farm Revenue","Percent Acres","Farm Revenue","Percent Acres",null,null,"Farm Revenue","Percent Acres","Farm Revenue","Percent Acres","Farm Revenue","Percent Acres",null,null,"Farm Revenue","Percent Acres","Farm Revenue","Percent Acres","Farm Revenue","Percent Acres",null,null,"Farm Revenue","Percent Acres","Farm Revenue","Percent Acres","Farm Revenue","Percent Acres",null,null,"Farm Revenue","Percent Acres","Farm Revenue","Percent Acres","Farm Revenue","Percent Acres",null,null,"Farm Revenue","Percent Acres","Farm Revenue","Percent Acres","Farm Revenue","Percent Acres",null,null,"Farm Revenue","Percent Acres","Farm Revenue","Percent Acres","Farm Revenue","Percent Acres",null,null,"Farm Revenue","Percent Acres","Farm Revenue","Percent Acres","Farm Revenue","Percent Acres",null,null,"Farm Revenue","Percent Acres","Farm Revenue","Percent Acres","Farm Revenue","Percent Acres",null,null,"Farm Revenue","Percent Acres","Farm Revenue","Percent Acres","Farm Revenue","Percent Acres",null,null,"Farm Revenue","Percent Acres","Farm Revenue","Percent Acres","Farm Revenue","Percent Acres",null,null,"Farm Revenue","Percent Acres","Farm Revenue","Percent Acres","Farm Revenue","Percent Acres",null,null,"Farm Revenue","Percent Acres","Farm Revenue","Percent Acres","Farm Revenue","Percent Acres",null,null,"Farm Revenue","Percent Acres","Farm Revenue","Percent Acres","Farm Revenue","Percent Acres",null,null,"Farm Revenue","Percent Acres","Farm Revenue","Percent Acres","Farm Revenue","Percent Acres",null,null,"Farm Revenue","Percent Acres","Farm Revenue","Percent Acres","Farm Revenue","Percent Acres",null,null,"Farm Revenue","Percent Acres","Farm Revenue","Percent Acres","Farm Revenue","Percent Acres",null,null,"Farm Revenue","Percent Acres","Farm Revenue","Percent Acres","Farm Revenue","Percent Acres",null,null,"Farm Revenue","Percent Acres","Farm Revenue","Percent Acres","Farm Revenue","Percent Acres",null,null,"Farm Revenue","Percent Acres","Farm Revenue","Percent Acres","Farm Revenue","Percent Acres",null,null,"Farm Revenue","Percent Acres","Farm Revenue","Percent Acres","Farm Revenue","Percent Acres",null,null,"Farm Revenue","Percent Acres","Farm Revenue","Percent Acres","Farm Revenue","Percent Acres",null,null,"Farm Revenue","Percent Acres","Farm Revenue","Percent Acres","Farm Revenue","Percent Acres",null,null,"Farm Revenue","Percent Acres","Farm Revenue","Percent Acres","Farm Revenue","Percent Acres",null,null,"Farm Revenue","Percent Acres","Farm Revenue","Percent Acres","Farm Revenue","Percent Acres",null,null,"Farm Revenue","Percent Acres","Farm Revenue","Percent Acres","Farm Revenue","Percent Acres",null,null,"Farm Revenue","Percent Acres","Farm Revenue","Percent Acres","Farm Revenue","Percent Acres",null,null,"Farm Revenue","Percent Acres","Farm Revenue","Percent Acres","Farm Revenue","Percent Acres",null,null,"Farm Revenue","Percent Acres","Farm Revenue","Percent Acres","Farm Revenue","Percent Acres",null,null,"Farm Revenue","Percent Acres","Farm Revenue","Percent Acres","Farm Revenue","Percent Acres",null,null,"Farm Revenue","Percent Acres","Farm Revenue","Percent Acres","Farm Revenue","Percent Acres",null,null,"Farm Revenue","Percent Acres","Farm Revenue","Percent Acres","Farm Revenue","Percent Acres",null,null,"Farm Revenue","Percent Acres","Farm Revenue","Percent Acres","Farm Revenue","Percent Acres",null,null,"Farm Revenue","Percent Acres","Farm Revenue","Percent Acres","Farm Revenue","Percent Acres",null,null,"Farm Revenue","Percent Acres","Farm Revenue","Percent Acres","Farm Revenue","Percent Acres",null,null,"Farm Revenue","Percent Acres","Farm Revenue","Percent Acres","Farm Revenue","Percent Acres",null,null,"Farm Revenue","Percent Acres","Farm Revenue","Percent Acres","Farm Revenue","Percent Acres",null,null,"Farm Revenue","Percent Acres","Farm Revenue","Percent Acres","Farm Revenue","Percent Acres",null,null,"Farm Revenue","Percent Acres","Farm Revenue","Percent Acres","Farm Revenue","Percent Acres",null,null,"Farm Revenue","Percent Acres","Farm Revenue","Percent Acres","Farm Revenue","Percent Acres",null,null,"Farm Revenue","Percent Acres","Farm Revenue","Percent Acres","Farm Revenue","Percent Acres",null,null,"Farm Revenue","Percent Acres","Farm Revenue","Percent Acres","Farm Revenue","Percent Acres",null,null,"Farm Revenue","Percent Acres","Farm Revenue","Percent Acres","Farm Revenue","Percent Acres",null,null,"Farm Revenue","Percent Acres","Farm Revenue","Percent Acres","Farm Revenue","Percent Acres",null,null,"Farm Revenue","Percent Acres","Farm Revenue","Percent Acres","Farm Revenue","Percent Acres"]
[null,null,null,{"$f":"D20/$C$48","v":{"$error":"#DIV/0!"}},null,{"$f":"F20/$C$48","v":{"$error":"#DIV/0!"}},null,{"$f":"H20/$C$48","v":{"$error":"#DIV/0!"}},null,null,null,{"$f":"L20/$C$48","v":{"$error":"#DIV/0!"}},null,{"$f":"N20/$C$48","v":{"$error":"#DIV/0!"}},null,{"$f":"P20/$C$48","v":{"$error":"#DIV/0!"}},null,null,null,{"$f":"T20/$C$48","v":{"$error":"#DIV/0!"}},null,{"$f":"V20/$C$48","v":{"$error":"#DIV/0!"}},null,{"$f":"X20/$C$48","v":{"$error":"#DIV/0!"}},null,null,null,{"$f":"AB20/$C$48","v":{"$error":"#DIV/0!"}},null,{"$f":"AD20/$C$48","v":{"$error":"#DIV/0!"}},null,{"$f":"AF20/$C$48","v":{"$error":"#DIV/0!"}},null,null,null,{"$f":"AJ20/$C$48","v":{"$error":"#DIV/0!"}},null,{"$f":"AL20/$C$48","v":{"$error":"#DIV/0!"}},null,{"$f":"AN20/$C$48","v":{"$error":"#DIV/0!"}},null,null,null,{"$f":"AR20/$C$48","v":{"$error":"#DIV/0!"}},null,{"$f":"AT20/$C$48","v":{"$error":"#DIV/0!"}},null,{"$f":"AV20/$C$48","v":{"$error":"#DIV/0!"}},null,null,null,{"$f":"AZ20/$C$48","v":{"$error":"#DIV/0!"}},null,{"$f":"BB20/$C$48","v":{"$error":"#DIV/0!"}},null,{"$f":"BD20/$C$48","v":{"$error":"#DIV/0!"}},null,null,null,{"$f":"BH20/$C$48","v":{"$error":"#DIV/0!"}},null,{"$f":"BJ20/$C$48","v":{"$error":"#DIV/0!"}},null,{"$f":"BL20/$C$48","v":{"$error":"#DIV/0!"}},null,null,null,{"$f":"BP20/$C$48","v":{"$error":"#DIV/0!"}},null,{"$f":"BR20/$C$48","v":{"$error":"#DIV/0!"}},null,{"$f":"BT20/$C$48","v":{"$error":"#DIV/0!"}},null,null,null,{"$f":"BX20/$C$48","v":{"$error":"#DIV/0!"}},null,{"$f":"BZ20/$C$48","v":{"$error":"#DIV/0!"}},null,{"$f":"CB20/$C$48","v":{"$error":"#DIV/0!"}},null,null,null,{"$f":"CF20/$C$48","v":{"$error":"#DIV/0!"}},null,{"$f":"CH20/$C$48","v":{"$error":"#DIV/0!"}},null,{"$f":"CJ20/$C$48","v":{"$error":"#DIV/0!"}},null,null,null,{"$f":"CN20/$C$48","v":{"$error":"#DIV/0!"}},null,{"$f":"CP20/$C$48","v":{"$error":"#DIV/0!"}},null,{"$f":"CR20/$C$48","v":{"$error":"#DIV/0!"}},null,null,null,{"$f":"CV20/$C$48","v":{"$error":"#DIV/0!"}},null,{"$f":"CX20/$C$48","v":{"$error":"#DIV/0!"}},null,{"$f":"CZ20/$C$48","v":{"$error":"#DIV/0!"}},null,null,null,{"$f":"DD20/$C$48","v":{"$error":"#DIV/0!"}},null,{"$f":"DF20/$C$48","v":{"$error":"#DIV/0!"}},null,{"$f":"DH20/$C$48","v":{"$error":"#DIV/0!"}},null,null,null,{"$f":"DL20/$C$48","v":{"$error":"#DIV/0!"}},null,{"$f":"DN20/$C$48","v":{"$error":"#DIV/0!"}},null,{"$f":"DP20/$C$48","v":{"$error":"#DIV/0!"}},null,null,null,{"$f":"DT20/$C$48","v":{"$error":"#DIV/0!"}},null,{"$f":"DV20/$C$48","v":{"$error":"#DIV/0!"}},null,{"$f":"DX20/$C$48","v":{"$error":"#DIV/0!"}},null,null,null,{"$f":"EB20/$C$48","v":{"$error":"#DIV/0!"}},null,{"$f":"ED20/$C$48","v":{"$error":"#DIV/0!"}},null,{"$f":"EF20/$C$48","v":{"$error":"#DIV/0!"}},null,null,null,{"$f":"EJ20/$C$48","v":{"$error":"#DIV/0!"}},null,{"$f":"EL20/$C$48","v":{"$error":"#DIV/0!"}},null,{"$f":"EN20/$C$48","v":{"$error":"#DIV/0!"}},null,null,null,{"$f":"ER20/$C$48","v":{"$error":"#DIV/0!"}},null,{"$f":"ET20/$C$48","v":{"$error":"#DIV/0!"}},null,{"$f":"EV20/$C$48","v":{"$error":"#DIV/0!"}},null,null,null,{"$f":"EZ20/$C$48","v":{"$error":"#DIV/0!"}},null,{"$f":"FB20/$C$48","v":{"$error":"#DIV/0!"}},null,{"$f":"FD20/$C$48","v":{"$error":"#DIV/0!"}},null,null,null,{"$f":"FH20/$C$48","v":{"$error":"#DIV/0!"}},null,{"$f":"FJ20/$C$48","v":{"$error":"#DIV/0!"}},null,{"$f":"FL20/$C$48","v":{"$error":"#DIV/0!"}},null,null,null,{"$f":"FP20/$C$48","v":{"$error":"#DIV/0!"}},null,{"$f":"FR20/$C$48","v":{"$error":"#DIV/0!"}},null,{"$f":"FT20/$C$48","v":{"$error":"#DIV/0!"}},null,null,null,{"$f":"FX20/$C$48","v":{"$error":"#DIV/0!"}},null,{"$f":"FZ20/$C$48","v":{"$error":"#DIV/0!"}},null,{"$f":"GB20/$C$48","v":{"$error":"#DIV/0!"}},null,null,null,{"$f":"GF20/$C$48","v":{"$error":"#DIV/0!"}},null,{"$f":"GH20/$C$48","v":{"$error":"#DIV/0!"}},null,{"$f":"GJ20/$C$48","v":{"$error":"#DIV/0!"}},null,null,null,{"$f":"GN20/$C$48","v":{"$error":"#DIV/0!"}},null,{"$f":"GP20/$C$48","v":{"$error":"#DIV/0!"}},null,{"$f":"GR20/$C$48","v":{"$error":"#DIV/0!"}},null,null,null,{"$f":"GV20/$C$48","v":{"$error":"#DIV/0!"}},null,{"$f":"GX20/$C$48","v":{"$error":"#DIV/0!"}},null,{"$f":"GZ20/$C$48","v":{"$error":"#DIV/0!"}},null,null,null,{"$f":"HD20/$C$48","v":{"$error":"#DIV/0!"}},null,{"$f":"HF20/$C$48","v":{"$error":"#DIV/0!"}},null,{"$f":"HH20/$C$48","v":{"$error":"#DIV/0!"}},null,null,null,{"$f":"HL20/$C$48","v":{"$error":"#DIV/0!"}},null,{"$f":"HN20/$C$48","v":{"$error":"#DIV/0!"}},null,{"$f":"HP20/$C$48","v":{"$error":"#DIV/0!"}},null,null,null,{"$f":"HT20/$C$48","v":{"$error":"#DIV/0!"}},null,{"$f":"HV20/$C$48","v":{"$error":"#DIV/0!"}},null,{"$f":"HX20/$C$48","v":{"$error":"#DIV/0!"}},null,null,null,{"$f":"IB20/$C$48","v":{"$error":"#DIV/0!"}},null,{"$f":"ID20/$C$48","v":{"$error":"#DIV/0!"}},null,{"$f":"IF20/$C$48","v":{"$error":"#DIV/0!"}},null,null,null,{"$f":"IJ20/$C$48","v":{"$error":"#DIV/0!"}},null,{"$f":"IL20/$C$48","v":{"$error":"#DIV/0!"}},null,{"$f":"IN20/$C$48","v":{"$error":"#DIV/0!"}},null,null,null,{"$f":"IR20/$C$48","v":{"$error":"#DIV/0!"}},null,{"$f":"IT20/$C$48","v":{"$error":"#DIV/0!"}},null,{"$f":"IV20/$C$48","v":{"$error":"#DIV/0!"}},null,null,null,{"$f":"IZ20/$C$48","v":{"$error":"#DIV/0!"}},null,{"$f":"JB20/$C$48","v":{"$error":"#DIV/0!"}},null,{"$f":"JD20/$C$48","v":{"$error":"#DIV/0!"}},null,null,null,{"$f":"JH20/$C$48","v":{"$error":"#DIV/0!"}},null,{"$f":"JJ20/$C$48","v":{"$error":"#DIV/0!"}},null,{"$f":"JL20/$C$48","v":{"$error":"#DIV/0!"}},null,null,null,{"$f":"JP20/$C$48","v":{"$error":"#DIV/0!"}},null,{"$f":"JR20/$C$48","v":{"$error":"#DIV/0!"}},null,{"$f":"JT20/$C$48","v":{"$error":"#DIV/0!"}},null,null,null,{"$f":"JX20/$C$48","v":{"$error":"#DIV/0!"}},null,{"$f":"JZ20/$C$48","v":{"$error":"#DIV/0!"}},null,{"$f":"KB20/$C$48","v":{"$error":"#DIV/0!"}},null,null,null,{"$f":"KF20/$C$48","v":{"$error":"#DIV/0!"}},null,{"$f":"KH20/$C$48","v":{"$error":"#DIV/0!"}},null,{"$f":"KJ20/$C$48","v":{"$error":"#DIV/0!"}},null,null,null,{"$f":"KN20/$C$48","v":{"$error":"#DIV/0!"}},null,{"$f":"KP20/$C$48","v":{"$error":"#DIV/0!"}},null,{"$f":"KR20/$C$48","v":{"$error":"#DIV/0!"}},null,null,null,{"$f":"KV20/$C$48","v":{"$error":"#DIV/0!"}},null,{"$f":"KX20/$C$48","v":{"$error":"#DIV/0!"}},null,{"$f":"KZ20/$C$48","v":{"$error":"#DIV/0!"}},null,null,null,{"$f":"LD20/$C$48","v":{"$error":"#DIV/0!"}},null,{"$f":"LF20/$C$48","v":{"$error":"#DIV/0!"}},null,{"$f":"LH20/$C$48","v":{"$error":"#DIV/0!"}},null,null,null,{"$f":"LL20/$C$48","v":{"$error":"#DIV/0!"}},null,{"$f":"LN20/$C$48","v":{"$error":"#DIV/0!"}},null,{"$f":"LP20/$C$48","v":{"$error":"#DIV/0!"}},null,null,null,{"$f":"LT20/$C$48","v":{"$error":"#DIV/0!"}},null,{"$f":"LV20/$C$48","v":{"$error":"#DIV/0!"}},null,{"$f":"LX20/$C$48","v":{"$error":"#DIV/0!"}},null,null,null,{"$f":"MB20/$C$48","v":{"$error":"#DIV/0!"}},null,{"$f":"MD20/$C$48","v":{"$error":"#DIV/0!"}},null,{"$f":"MF20/$C$48","v":{"$error":"#DIV/0!"}},null,null,null,{"$f":"MJ20/$C$48","v":{"$error":"#DIV/0!"}},null,{"$f":"ML20/$C$48","v":{"$error":"#DIV/0!"}},null,{"$f":"MN20/$C$48","v":{"$error":"#DIV/0!"}},null,null,null,{"$f":"MR20/$C$48","v":{"$error":"#DIV/0!"}},null,{"$f":"MT20/$C$48","v":{"$error":"#DIV/0!"}},null,{"$f":"MV20/$C$48","v":{"$error":"#DIV/0!"}},null,null,null,{"$f":"MZ20/$C$48","v":{"$error":"#DIV/0!"}},null,{"$f":"NB20/$C$48","v":{"$error":"#DIV/0!"}},null,{"$f":"ND20/$C$48","v":{"$error":"#DIV/0!"}},null,null,null,{"$f":"NH20/$C$48","v":{"$error":"#DIV/0!"}},null,{"$f":"NJ20/$C$48","v":{"$error":"#DIV/0!"}},null,{"$f":"NL20/$C$48","v":{"$error":"#DIV/0!"}},null,null,null,{"$f":"NP20/$C$48","v":{"$error":"#DIV/0!"}},null,{"$f":"NR20/$C$48","v":{"$error":"#DIV/0!"}},null,{"$f":"NT20/$C$48","v":{"$error":"#DIV/0!"}},null,null,null,{"$f":"NX20/$C$48","v":{"$error":"#DIV/0!"}},null,{"$f":"NZ20/$C$48","v":{"$error":"#DIV/0!"}},null,{"$f":"OB20/$C$48","v":{"$error":"#DIV/0!"}},null,null,null,{"$f":"OF20/$C$48","v":{"$error":"#DIV/0!"}},null,{"$f":"OH20/$C$48","v":{"$error":"#DIV/0!"}},null,{"$f":"OJ20/$C$48","v":{"$error":"#DIV/0!"}},null,null,null,{"$f":"ON20/$C$48","v":{"$error":"#DIV/0!"}},null,{"$f":"OP20/$C$48","v":{"$error":"#DIV/0!"}},null,{"$f":"OR20/$C$48","v":{"$error":"#DIV/0!"}}]
[null,2013,{"$f":"MAX(C14,C35)*'Background Calculations'!$N$51","v":758.2},null,{"$f":"MAX(E14,E35)*'Background Calculations'!$N$52","v":624},null,{"$f":"MAX(G14,G35)*'Background Calculations'!$N$53","v":494.64},null,null,2013,{"$f":"MAX(K14,K35)*'Background Calculations'!$N$51","v":758.2},null,{"$f":"MAX(M14,M35)*'Background Calculations'!$N$52","v":624},null,{"$f":"MAX(O14,O35)*'Background Calculations'!$N$53","v":494.64},null,null,2013,{"$f":"MAX(S14,S35)*'Background Calculations'!$N$51","v":758.2},null,{"$f":"MAX(U14,U35)*'Background Calculations'!$N$52","v":624},null,{"$f":"MAX(W14,W35)*'Background Calculations'!$N$53","v":494.64},null,null,2013,{"$f":"MAX(AA14,AA35)*'Background Calculations'!$N$51","v":758.2},null,{"$f":"MAX(AC14,AC35)*'Background Calculations'!$N$52","v":624},null,{"$f":"MAX(AE14,AE35)*'Background Calculations'!$N$53","v":494.64},null,null,2013,{"$f":"MAX(AI14,AI35)*'Background Calculations'!$N$51","v":758.2},null,{"$f":"MAX(AK14,AK35)*'Background Calculations'!$N$52","v":624},null,{"$f":"MAX(AM14,AM35)*'Background Calculations'!$N$53","v":494.64},null,null,2013,{"$f":"MAX(AQ14,AQ35)*'Background Calculations'!$N$51","v":758.2},null,{"$f":"MAX(AS14,AS35)*'Background Calculations'!$N$52","v":624},null,{"$f":"MAX(AU14,AU35)*'Background Calculations'!$N$53","v":494.64},null,null,2013,{"$f":"MAX(AY14,AY35)*'Background Calculations'!$N$51","v":758.2},null,{"$f":"MAX(BA14,BA35)*'Background Calculations'!$N$52","v":624},null,{"$f":"MAX(BC14,BC35)*'Background Calculations'!$N$53","v":494.64},null,null,2013,{"$f":"MAX(BG14,BG35)*'Background Calculations'!$N$51","v":758.2},null,{"$f":"MAX(BI14,BI35)*'Background Calculations'!$N$52","v":624},null,{"$f":"MAX(BK14,BK35)*'Background Calculations'!$N$53","v":494.64},null,null,2013,{"$f":"MAX(BO14,BO35)*'Background Calculations'!$N$51","v":758.2},null,{"$f":"MAX(BQ14,BQ35)*'Background Calculations'!$N$52","v":624},null,{"$f":"MAX(BS14,BS35)*'Background Calculations'!$N$53","v":494.64},null,null,2013,{"$f":"MAX(BW14,BW35)*'Background Calculations'!$N$51","v":758.2},null,{"$f":"MAX(BY14,BY35)*'Background Calculations'!$N$52","v":624},null,{"$f":"MAX(CA14,CA35)*'Background Calculations'!$N$53","v":494.64},null,null,2013,{"$f":"MAX(CE14,CE35)*'Background Calculations'!$N$51","v":758.2},null,{"$f":"MAX(CG14,CG35)*'Background Calculations'!$N$52","v":624},null,{"$f":"MAX(CI14,CI35)*'Background Calculations'!$N$53","v":494.64},null,null,2013,{"$f":"MAX(CM14,CM35)*'Background Calculations'!$N$51","v":758.2},null,{"$f":"MAX(CO14,CO35)*'Background Calculations'!$N$52","v":624},null,{"$f":"MAX(CQ14,CQ35)*'Background Calculations'!$N$53","v":494.64},null,null,2013,{"$f":"MAX(CU14,CU35)*'Background Calculations'!$N$51","v":758.2},null,{"$f":"MAX(CW14,CW35)*'Background Calculations'!$N$52","v":624},null,{"$f":"MAX(CY14,CY35)*'Background Calculations'!$N$53","v":494.64},null,null,2013,{"$f":"MAX(DC14,DC35)*'Background Calculations'!$N$51","v":758.2},null,{"$f":"MAX(DE14,DE35)*'Background Calculations'!$N$52","v":624},null,{"$f":"MAX(DG14,DG35)*'Background Calculations'!$N$53","v":494.64},null,null,2013,{"$f":"MAX(DK14,DK35)*'Background Calculations'!$N$51","v":758.2},null,{"$f":"MAX(DM14,DM35)*'Background Calculations'!$N$52","v":624},null,{"$f":"MAX(DO14,DO35)*'Background Calculations'!$N$53","v":494.64},null,null,2013,{"$f":"MAX(DS14,DS35)*'Background Calculations'!$N$51","v":758.2},null,{"$f":"MAX(DU14,DU35)*'Background Calculations'!$N$52","v":624},null,{"$f":"MAX(DW14,DW35)*'Background Calculations'!$N$53","v":494.64},null,null,2013,{"$f":"MAX(EA14,EA35)*'Background Calculations'!$N$51","v":758.2},null,{"$f":"MAX(EC14,EC35)*'Background Calculations'!$N$52","v":624},null,{"$f":"MAX(EE14,EE35)*'Background Calculations'!$N$53","v":494.64},null,null,2013,{"$f":"MAX(EI14,EI35)*'Background Calculations'!$N$51","v":758.2},null,{"$f":"MAX(EK14,EK35)*'Background Calculations'!$N$52","v":624},null,{"$f":"MAX(EM14,EM35)*'Background Calculations'!$N$53","v":494.64},null,null,2013,{"$f":"MAX(EQ14,EQ35)*'Background Calculations'!$N$51","v":758.2},null,{"$f":"MAX(ES14,ES35)*'Background Calculations'!$N$52","v":624},null,{"$f":"MAX(EU14,EU35)*'Background Calculations'!$N$53","v":494.64},null,null,2013,{"$f":"MAX(EY14,EY35)*'Background Calculations'!$N$51","v":758.2},null,{"$f":"MAX(FA14,FA35)*'Background Calculations'!$N$52","v":624},null,{"$f":"MAX(FC14,FC35)*'Background Calculations'!$N$53","v":494.64},null,null,2013,{"$f":"MAX(FG14,FG35)*'Background Calculations'!$N$51","v":758.2},null,{"$f":"MAX(FI14,FI35)*'Background Calculations'!$N$52","v":624},null,{"$f":"MAX(FK14,FK35)*'Background Calculations'!$N$53","v":494.64},null,null,2013,{"$f":"MAX(FO14,FO35)*'Background Calculations'!$N$51","v":758.2},null,{"$f":"MAX(FQ14,FQ35)*'Background Calculations'!$N$52","v":624},null,{"$f":"MAX(FS14,FS35)*'Background Calculations'!$N$53","v":494.64},null,null,2013,{"$f":"MAX(FW14,FW35)*'Background Calculations'!$N$51","v":758.2},null,{"$f":"MAX(FY14,FY35)*'Background Calculations'!$N$52","v":624},null,{"$f":"MAX(GA14,GA35)*'Background Calculations'!$N$53","v":494.64},null,null,2013,{"$f":"MAX(GE14,GE35)*'Background Calculations'!$N$51","v":758.2},null,{"$f":"MAX(GG14,GG35)*'Background Calculations'!$N$52","v":624},null,{"$f":"MAX(GI14,GI35)*'Background Calculations'!$N$53","v":494.64},null,null,2013,{"$f":"MAX(GM14,GM35)*'Background Calculations'!$N$51","v":758.2},null,{"$f":"MAX(GO14,GO35)*'Background Calculations'!$N$52","v":624},null,{"$f":"MAX(GQ14,GQ35)*'Background Calculations'!$N$53","v":494.64},null,null,2013,{"$f":"MAX(GU14,GU35)*'Background Calculations'!$N$51","v":758.2},null,{"$f":"MAX(GW14,GW35)*'Background Calculations'!$N$52","v":624},null,{"$f":"MAX(GY14,GY35)*'Background Calculations'!$N$53","v":494.64},null,null,2013,{"$f":"MAX(HC14,HC35)*'Background Calculations'!$N$51","v":758.2},null,{"$f":"MAX(HE14,HE35)*'Background Calculations'!$N$52","v":624},null,{"$f":"MAX(HG14,HG35)*'Background Calculations'!$N$53","v":494.64},null,null,2013,{"$f":"MAX(HK14,HK35)*'Background Calculations'!$N$51","v":758.2},null,{"$f":"MAX(HM14,HM35)*'Background Calculations'!$N$52","v":624},null,{"$f":"MAX(HO14,HO35)*'Background Calculations'!$N$53","v":494.64},null,null,2013,{"$f":"MAX(HS14,HS35)*'Background Calculations'!$N$51","v":758.2},null,{"$f":"MAX(HU14,HU35)*'Background Calculations'!$N$52","v":624},null,{"$f":"MAX(HW14,HW35)*'Background Calculations'!$N$53","v":494.64},null,null,2013,{"$f":"MAX(IA14,IA35)*'Background Calculations'!$N$51","v":758.2},null,{"$f":"MAX(IC14,IC35)*'Background Calculations'!$N$52","v":624},null,{"$f":"MAX(IE14,IE35)*'Background Calculations'!$N$53","v":494.64},null,null,2013,{"$f":"MAX(II14,II35)*'Background Calculations'!$N$51","v":758.2},null,{"$f":"MAX(IK14,IK35)*'Background Calculations'!$N$52","v":624},null,{"$f":"MAX(IM14,IM35)*'Background Calculations'!$N$53","v":494.64},null,null,2013,{"$f":"MAX(IQ14,IQ35)*'Background Calculations'!$N$51","v":758.2},null,{"$f":"MAX(IS14,IS35)*'Background Calculations'!$N$52","v":624},null,{"$f":"MAX(IU14,IU35)*'Background Calculations'!$N$53","v":494.64},null,null,2013,{"$f":"MAX(IY14,IY35)*'Background Calculations'!$N$51","v":758.2},null,{"$f":"MAX(JA14,JA35)*'Background Calculations'!$N$52","v":624},null,{"$f":"MAX(JC14,JC35)*'Background Calculations'!$N$53","v":494.64},null,null,2013,{"$f":"MAX(JG14,JG35)*'Background Calculations'!$N$51","v":758.2},null,{"$f":"MAX(JI14,JI35)*'Background Calculations'!$N$52","v":624},null,{"$f":"MAX(JK14,JK35)*'Background Calculations'!$N$53","v":494.64},null,null,2013,{"$f":"MAX(JO14,JO35)*'Background Calculations'!$N$51","v":758.2},null,{"$f":"MAX(JQ14,JQ35)*'Background Calculations'!$N$52","v":624},null,{"$f":"MAX(JS14,JS35)*'Background Calculations'!$N$53","v":494.64},null,null,2013,{"$f":"MAX(JW14,JW35)*'Background Calculations'!$N$51","v":758.2},null,{"$f":"MAX(JY14,JY35)*'Background Calculations'!$N$52","v":624},null,{"$f":"MAX(KA14,KA35)*'Background Calculations'!$N$53","v":494.64},null,null,2013,{"$f":"MAX(KE14,KE35)*'Background Calculations'!$N$51","v":758.2},null,{"$f":"MAX(KG14,KG35)*'Background Calculations'!$N$52","v":624},null,{"$f":"MAX(KI14,KI35)*'Background Calculations'!$N$53","v":494.64},null,null,2013,{"$f":"MAX(KM14,KM35)*'Background Calculations'!$N$51","v":758.2},null,{"$f":"MAX(KO14,KO35)*'Background Calculations'!$N$52","v":624},null,{"$f":"MAX(KQ14,KQ35)*'Background Calculations'!$N$53","v":494.64},null,null,2013,{"$f":"MAX(KU14,KU35)*'Background Calculations'!$N$51","v":758.2},null,{"$f":"MAX(KW14,KW35)*'Background Calculations'!$N$52","v":624},null,{"$f":"MAX(KY14,KY35)*'Background Calculations'!$N$53","v":494.64},null,null,2013,{"$f":"MAX(LC14,LC35)*'Background Calculations'!$N$51","v":758.2},null,{"$f":"MAX(LE14,LE35)*'Background Calculations'!$N$52","v":624},null,{"$f":"MAX(LG14,LG35)*'Background Calculations'!$N$53","v":494.64},null,null,2013,{"$f":"MAX(LK14,LK35)*'Background Calculations'!$N$51","v":758.2},null,{"$f":"MAX(LM14,LM35)*'Background Calculations'!$N$52","v":624},null,{"$f":"MAX(LO14,LO35)*'Background Calculations'!$N$53","v":494.64},null,null,2013,{"$f":"MAX(LS14,LS35)*'Background Calculations'!$N$51","v":758.2},null,{"$f":"MAX(LU14,LU35)*'Background Calculations'!$N$52","v":624},null,{"$f":"MAX(LW14,LW35)*'Background Calculations'!$N$53","v":494.64},null,null,2013,{"$f":"MAX(MA14,MA35)*'Background Calculations'!$N$51","v":758.2},null,{"$f":"MAX(MC14,MC35)*'Background Calculations'!$N$52","v":624},null,{"$f":"MAX(ME14,ME35)*'Background Calculations'!$N$53","v":494.64},null,null,2013,{"$f":"MAX(MI14,MI35)*'Background Calculations'!$N$51","v":758.2},null,{"$f":"MAX(MK14,MK35)*'Background Calculations'!$N$52","v":624},null,{"$f":"MAX(MM14,MM35)*'Background Calculations'!$N$53","v":494.64},null,null,2013,{"$f":"MAX(MQ14,MQ35)*'Background Calculations'!$N$51","v":758.2},null,{"$f":"MAX(MS14,MS35)*'Background Calculations'!$N$52","v":624},null,{"$f":"MAX(MU14,MU35)*'Background Calculations'!$N$53","v":494.64},null,null,2013,{"$f":"MAX(MY14,MY35)*'Background Calculations'!$N$51","v":758.2},null,{"$f":"MAX(NA14,NA35)*'Background Calculations'!$N$52","v":624},null,{"$f":"MAX(NC14,NC35)*'Background Calculations'!$N$53","v":494.64},null,null,2013,{"$f":"MAX(NG14,NG35)*'Background Calculations'!$N$51","v":758.2},null,{"$f":"MAX(NI14,NI35)*'Background Calculations'!$N$52","v":624},null,{"$f":"MAX(NK14,NK35)*'Background Calculations'!$N$53","v":494.64},null,null,2013,{"$f":"MAX(NO14,NO35)*'Background Calculations'!$N$51","v":758.2},null,{"$f":"MAX(NQ14,NQ35)*'Background Calculations'!$N$52","v":624},null,{"$f":"MAX(NS14,NS35)*'Background Calculations'!$N$53","v":494.64},null,null,2013,{"$f":"MAX(NW14,NW35)*'Background Calculations'!$N$51","v":758.2},null,{"$f":"MAX(NY14,NY35)*'Background Calculations'!$N$52","v":624},null,{"$f":"MAX(OA14,OA35)*'Background Calculations'!$N$53","v":494.64},null,null,2013,{"$f":"MAX(OE14,OE35)*'Background Calculations'!$N$51","v":758.2},null,{"$f":"MAX(OG14,OG35)*'Background Calculations'!$N$52","v":624},null,{"$f":"MAX(OI14,OI35)*'Background Calculations'!$N$53","v":494.64},null,null,2013,{"$f":"MAX(OM14,OM35)*'Background Calculations'!$N$51","v":758.2},null,{"$f":"MAX(OO14,OO35)*'Background Calculations'!$N$52","v":624},null,{"$f":"MAX(OQ14,OQ35)*'Background Calculations'!$N$53","v":494.64}]
[null,2014,{"$f":"MAX(C15,C36)*'Background Calculations'!$O$51","v":651.19999999999993},null,{"$f":"MAX(E15,E36)*'Background Calculations'!$O$52","v":454.5},null,{"$f":"MAX(G15,G36)*'Background Calculations'!$O$53","v":461.23000000000008},null,null,2014,{"$f":"MAX(K15,K36)*'Background Calculations'!$O$51","v":651.19999999999993},null,{"$f":"MAX(M15,M36)*'Background Calculations'!$O$52","v":454.5},null,{"$f":"MAX(O15,O36)*'Background Calculations'!$O$53","v":461.23000000000008},null,null,2014,{"$f":"MAX(S15,S36)*'Background Calculations'!$O$51","v":651.19999999999993},null,{"$f":"MAX(U15,U36)*'Background Calculations'!$O$52","v":454.5},null,{"$f":"MAX(W15,W36)*'Background Calculations'!$O$53","v":461.23000000000008},null,null,2014,{"$f":"MAX(AA15,AA36)*'Background Calculations'!$O$51","v":651.19999999999993},null,{"$f":"MAX(AC15,AC36)*'Background Calculations'!$O$52","v":454.5},null,{"$f":"MAX(AE15,AE36)*'Background Calculations'!$O$53","v":461.23000000000008},null,null,2014,{"$f":"MAX(AI15,AI36)*'Background Calculations'!$O$51","v":651.19999999999993},null,{"$f":"MAX(AK15,AK36)*'Background Calculations'!$O$52","v":454.5},null,{"$f":"MAX(AM15,AM36)*'Background Calculations'!$O$53","v":461.23000000000008},null,null,2014,{"$f":"MAX(AQ15,AQ36)*'Background Calculations'!$O$51","v":651.19999999999993},null,{"$f":"MAX(AS15,AS36)*'Background Calculations'!$O$52","v":454.5},null,{"$f":"MAX(AU15,AU36)*'Background Calculations'!$O$53","v":461.23000000000008},null,null,2014,{"$f":"MAX(AY15,AY36)*'Background Calculations'!$O$51","v":651.19999999999993},null,{"$f":"MAX(BA15,BA36)*'Background Calculations'!$O$52","v":454.5},null,{"$f":"MAX(BC15,BC36)*'Background Calculations'!$O$53","v":461.23000000000008},null,null,2014,{"$f":"MAX(BG15,BG36)*'Background Calculations'!$O$51","v":651.19999999999993},null,{"$f":"MAX(BI15,BI36)*'Background Calculations'!$O$52","v":454.5},null,{"$f":"MAX(BK15,BK36)*'Background Calculations'!$O$53","v":461.23000000000008},null,null,2014,{"$f":"MAX(BO15,BO36)*'Background Calculations'!$O$51","v":651.19999999999993},null,{"$f":"MAX(BQ15,BQ36)*'Background Calculations'!$O$52","v":454.5},null,{"$f":"MAX(BS15,BS36)*'Background Calculations'!$O$53","v":461.23000000000008},null,null,2014,{"$f":"MAX(BW15,BW36)*'Background Calculations'!$O$51","v":651.19999999999993},null,{"$f":"MAX(BY15,BY36)*'Background Calculations'!$O$52","v":454.5},null,{"$f":"MAX(CA15,CA36)*'Background Calculations'!$O$53","v":461.23000000000008},null,null,2014,{"$f":"MAX(CE15,CE36)*'Background Calculations'!$O$51","v":651.19999999999993},null,{"$f":"MAX(CG15,CG36)*'Background Calculations'!$O$52","v":454.5},null,{"$f":"MAX(CI15,CI36)*'Background Calculations'!$O$53","v":461.23000000000008},null,null,2014,{"$f":"MAX(CM15,CM36)*'Background Calculations'!$O$51","v":651.19999999999993},null,{"$f":"MAX(CO15,CO36)*'Background Calculations'!$O$52","v":454.5},null,{"$f":"MAX(CQ15,CQ36)*'Background Calculations'!$O$53","v":461.23000000000008},null,null,2014,{"$f":"MAX(CU15,CU36)*'Background Calculations'!$O$51","v":651.19999999999993},null,{"$f":"MAX(CW15,CW36)*'Background Calculations'!$O$52","v":454.5},null,{"$f":"MAX(CY15,CY36)*'Background Calculations'!$O$53","v":461.23000000000008},null,null,2014,{"$f":"MAX(DC15,DC36)*'Background Calculations'!$O$51","v":651.19999999999993},null,{"$f":"MAX(DE15,DE36)*'Background Calculations'!$O$52","v":454.5},null,{"$f":"MAX(DG15,DG36)*'Background Calculations'!$O$53","v":461.23000000000008},null,null,2014,{"$f":"MAX(DK15,DK36)*'Background Calculations'!$O$51","v":651.19999999999993},null,{"$f":"MAX(DM15,DM36)*'Background Calculations'!$O$52","v":454.5},null,{"$f":"MAX(DO15,DO36)*'Background Calculations'!$O$53","v":461.23000000000008},null,null,2014,{"$f":"MAX(DS15,DS36)*'Background Calculations'!$O$51","v":651.19999999999993},null,{"$f":"MAX(DU15,DU36)*'Background Calculations'!$O$52","v":454.5},null,{"$f":"MAX(DW15,DW36)*'Background Calculations'!$O$53","v":461.23000000000008},null,null,2014,{"$f":"MAX(EA15,EA36)*'Background Calculations'!$O$51","v":651.19999999999993},null,{"$f":"MAX(EC15,EC36)*'Background Calculations'!$O$52","v":454.5},null,{"$f":"MAX(EE15,EE36)*'Background Calculations'!$O$53","v":461.23000000000008},null,null,2014,{"$f":"MAX(EI15,EI36)*'Background Calculations'!$O$51","v":651.19999999999993},null,{"$f":"MAX(EK15,EK36)*'Background Calculations'!$O$52","v":454.5},null,{"$f":"MAX(EM15,EM36)*'Background Calculations'!$O$53","v":461.23000000000008},null,null,2014,{"$f":"MAX(EQ15,EQ36)*'Background Calculations'!$O$51","v":651.19999999999993},null,{"$f":"MAX(ES15,ES36)*'Background Calculations'!$O$52","v":454.5},null,{"$f":"MAX(EU15,EU36)*'Background Calculations'!$O$53","v":461.23000000000008},null,null,2014,{"$f":"MAX(EY15,EY36)*'Background Calculations'!$O$51","v":651.19999999999993},null,{"$f":"MAX(FA15,FA36)*'Background Calculations'!$O$52","v":454.5},null,{"$f":"MAX(FC15,FC36)*'Background Calculations'!$O$53","v":461.23000000000008},null,null,2014,{"$f":"MAX(FG15,FG36)*'Background Calculations'!$O$51","v":651.19999999999993},null,{"$f":"MAX(FI15,FI36)*'Background Calculations'!$O$52","v":454.5},null,{"$f":"MAX(FK15,FK36)*'Background Calculations'!$O$53","v":461.23000000000008},null,null,2014,{"$f":"MAX(FO15,FO36)*'Background Calculations'!$O$51","v":651.19999999999993},null,{"$f":"MAX(FQ15,FQ36)*'Background Calculations'!$O$52","v":454.5},null,{"$f":"MAX(FS15,FS36)*'Background Calculations'!$O$53","v":461.23000000000008},null,null,2014,{"$f":"MAX(FW15,FW36)*'Background Calculations'!$O$51","v":651.19999999999993},null,{"$f":"MAX(FY15,FY36)*'Background Calculations'!$O$52","v":454.5},null,{"$f":"MAX(GA15,GA36)*'Background Calculations'!$O$53","v":461.23000000000008},null,null,2014,{"$f":"MAX(GE15,GE36)*'Background Calculations'!$O$51","v":651.19999999999993},null,{"$f":"MAX(GG15,GG36)*'Background Calculations'!$O$52","v":454.5},null,{"$f":"MAX(GI15,GI36)*'Background Calculations'!$O$53","v":461.23000000000008},null,null,2014,{"$f":"MAX(GM15,GM36)*'Background Calculations'!$O$51","v":651.19999999999993},null,{"$f":"MAX(GO15,GO36)*'Background Calculations'!$O$52","v":454.5},null,{"$f":"MAX(GQ15,GQ36)*'Background Calculations'!$O$53","v":461.23000000000008},null,null,2014,{"$f":"MAX(GU15,GU36)*'Background Calculations'!$O$51","v":651.19999999999993},null,{"$f":"MAX(GW15,GW36)*'Background Calculations'!$O$52","v":454.5},null,{"$f":"MAX(GY15,GY36)*'Background Calculations'!$O$53","v":461.23000000000008},null,null,2014,{"$f":"MAX(HC15,HC36)*'Background Calculations'!$O$51","v":651.19999999999993},null,{"$f":"MAX(HE15,HE36)*'Background Calculations'!$O$52","v":454.5},null,{"$f":"MAX(HG15,HG36)*'Background Calculations'!$O$53","v":461.23000000000008},null,null,2014,{"$f":"MAX(HK15,HK36)*'Background Calculations'!$O$51","v":651.19999999999993},null,{"$f":"MAX(HM15,HM36)*'Background Calculations'!$O$52","v":454.5},null,{"$f":"MAX(HO15,HO36)*'Background Calculations'!$O$53","v":461.23000000000008},null,null,2014,{"$f":"MAX(HS15,HS36)*'Background Calculations'!$O$51","v":651.19999999999993},null,{"$f":"MAX(HU15,HU36)*'Background Calculations'!$O$52","v":454.5},null,{"$f":"MAX(HW15,HW36)*'Background Calculations'!$O$53","v":461.23000000000008},null,null,2014,{"$f":"MAX(IA15,IA36)*'Background Calculations'!$O$51","v":651.19999999999993},null,{"$f":"MAX(IC15,IC36)*'Background Calculations'!$O$52","v":454.5},null,{"$f":"MAX(IE15,IE36)*'Background Calculations'!$O$53","v":461.23000000000008},null,null,2014,{"$f":"MAX(II15,II36)*'Background Calculations'!$O$51","v":651.19999999999993},null,{"$f":"MAX(IK15,IK36)*'Background Calculations'!$O$52","v":454.5},null,{"$f":"MAX(IM15,IM36)*'Background Calculations'!$O$53","v":461.23000000000008},null,null,2014,{"$f":"MAX(IQ15,IQ36)*'Background Calculations'!$O$51","v":651.19999999999993},null,{"$f":"MAX(IS15,IS36)*'Background Calculations'!$O$52","v":454.5},null,{"$f":"MAX(IU15,IU36)*'Background Calculations'!$O$53","v":461.23000000000008},null,null,2014,{"$f":"MAX(IY15,IY36)*'Background Calculations'!$O$51","v":651.19999999999993},null,{"$f":"MAX(JA15,JA36)*'Background Calculations'!$O$52","v":454.5},null,{"$f":"MAX(JC15,JC36)*'Background Calculations'!$O$53","v":461.23000000000008},null,null,2014,{"$f":"MAX(JG15,JG36)*'Background Calculations'!$O$51","v":651.19999999999993},null,{"$f":"MAX(JI15,JI36)*'Background Calculations'!$O$52","v":454.5},null,{"$f":"MAX(JK15,JK36)*'Background Calculations'!$O$53","v":461.23000000000008},null,null,2014,{"$f":"MAX(JO15,JO36)*'Background Calculations'!$O$51","v":651.19999999999993},null,{"$f":"MAX(JQ15,JQ36)*'Background Calculations'!$O$52","v":454.5},null,{"$f":"MAX(JS15,JS36)*'Background Calculations'!$O$53","v":461.23000000000008},null,null,2014,{"$f":"MAX(JW15,JW36)*'Background Calculations'!$O$51","v":651.19999999999993},null,{"$f":"MAX(JY15,JY36)*'Background Calculations'!$O$52","v":454.5},null,{"$f":"MAX(KA15,KA36)*'Background Calculations'!$O$53","v":461.23000000000008},null,null,2014,{"$f":"MAX(KE15,KE36)*'Background Calculations'!$O$51","v":651.19999999999993},null,{"$f":"MAX(KG15,KG36)*'Background Calculations'!$O$52","v":454.5},null,{"$f":"MAX(KI15,KI36)*'Background Calculations'!$O$53","v":461.23000000000008},null,null,2014,{"$f":"MAX(KM15,KM36)*'Background Calculations'!$O$51","v":651.19999999999993},null,{"$f":"MAX(KO15,KO36)*'Background Calculations'!$O$52","v":454.5},null,{"$f":"MAX(KQ15,KQ36)*'Background Calculations'!$O$53","v":461.23000000000008},null,null,2014,{"$f":"MAX(KU15,KU36)*'Background Calculations'!$O$51","v":651.19999999999993},null,{"$f":"MAX(KW15,KW36)*'Background Calculations'!$O$52","v":454.5},null,{"$f":"MAX(KY15,KY36)*'Background Calculations'!$O$53","v":461.23000000000008},null,null,2014,{"$f":"MAX(LC15,LC36)*'Background Calculations'!$O$51","v":651.19999999999993},null,{"$f":"MAX(LE15,LE36)*'Background Calculations'!$O$52","v":454.5},null,{"$f":"MAX(LG15,LG36)*'Background Calculations'!$O$53","v":461.23000000000008},null,null,2014,{"$f":"MAX(LK15,LK36)*'Background Calculations'!$O$51","v":651.19999999999993},null,{"$f":"MAX(LM15,LM36)*'Background Calculations'!$O$52","v":454.5},null,{"$f":"MAX(LO15,LO36)*'Background Calculations'!$O$53","v":461.23000000000008},null,null,2014,{"$f":"MAX(LS15,LS36)*'Background Calculations'!$O$51","v":651.19999999999993},null,{"$f":"MAX(LU15,LU36)*'Background Calculations'!$O$52","v":454.5},null,{"$f":"MAX(LW15,LW36)*'Background Calculations'!$O$53","v":461.23000000000008},null,null,2014,{"$f":"MAX(MA15,MA36)*'Background Calculations'!$O$51","v":651.19999999999993},null,{"$f":"MAX(MC15,MC36)*'Background Calculations'!$O$52","v":454.5},null,{"$f":"MAX(ME15,ME36)*'Background Calculations'!$O$53","v":461.23000000000008},null,null,2014,{"$f":"MAX(MI15,MI36)*'Background Calculations'!$O$51","v":651.19999999999993},null,{"$f":"MAX(MK15,MK36)*'Background Calculations'!$O$52","v":454.5},null,{"$f":"MAX(MM15,MM36)*'Background Calculations'!$O$53","v":461.23000000000008},null,null,2014,{"$f":"MAX(MQ15,MQ36)*'Background Calculations'!$O$51","v":651.19999999999993},null,{"$f":"MAX(MS15,MS36)*'Background Calculations'!$O$52","v":454.5},null,{"$f":"MAX(MU15,MU36)*'Background Calculations'!$O$53","v":461.23000000000008},null,null,2014,{"$f":"MAX(MY15,MY36)*'Background Calculations'!$O$51","v":651.19999999999993},null,{"$f":"MAX(NA15,NA36)*'Background Calculations'!$O$52","v":454.5},null,{"$f":"MAX(NC15,NC36)*'Background Calculations'!$O$53","v":461.23000000000008},null,null,2014,{"$f":"MAX(NG15,NG36)*'Background Calculations'!$O$51","v":651.19999999999993},null,{"$f":"MAX(NI15,NI36)*'Background Calculations'!$O$52","v":454.5},null,{"$f":"MAX(NK15,NK36)*'Background Calculations'!$O$53","v":461.23000000000008},null,null,2014,{"$f":"MAX(NO15,NO36)*'Background Calculations'!$O$51","v":651.19999999999993},null,{"$f":"MAX(NQ15,NQ36)*'Background Calculations'!$O$52","v":454.5},null,{"$f":"MAX(NS15,NS36)*'Background Calculations'!$O$53","v":461.23000000000008},null,null,2014,{"$f":"MAX(NW15,NW36)*'Background Calculations'!$O$51","v":651.19999999999993},null,{"$f":"MAX(NY15,NY36)*'Background Calculations'!$O$52","v":454.5},null,{"$f":"MAX(OA15,OA36)*'Background Calculations'!$O$53","v":461.23000000000008},null,null,2014,{"$f":"MAX(OE15,OE36)*'Background Calculations'!$O$51","v":651.19999999999993},null,{"$f":"MAX(OG15,OG36)*'Background Calculations'!$O$52","v":454.5},null,{"$f":"MAX(OI15,OI36)*'Background Calculations'!$O$53","v":461.23000000000008},null,null,2014,{"$f":"MAX(OM15,OM36)*'Background Calculations'!$O$51","v":651.19999999999993},null,{"$f":"MAX(OO15,OO36)*'Background Calculations'!$O$52","v":454.5},null,{"$f":"MAX(OQ15,OQ36)*'Background Calculations'!$O$53","v":461.23000000000008}]
[null,2015,{"$f":"MAX(C16,C37)*'Background Calculations'!$P$51","v":603.1},null,{"$f":"MAX(E16,E37)*'Background Calculations'!$P$52","v":438.55000000000007},null,{"$f":"MAX(G16,G37)*'Background Calculations'!$P$53","v":374},null,null,2015,{"$f":"MAX(K16,K37)*'Background Calculations'!$P$51","v":603.1},null,{"$f":"MAX(M16,M37)*'Background Calculations'!$P$52","v":438.55000000000007},null,{"$f":"MAX(O16,O37)*'Background Calculations'!$P$53","v":374},null,null,2015,{"$f":"MAX(S16,S37)*'Background Calculations'!$P$51","v":603.1},null,{"$f":"MAX(U16,U37)*'Background Calculations'!$P$52","v":438.55000000000007},null,{"$f":"MAX(W16,W37)*'Background Calculations'!$P$53","v":374},null,null,2015,{"$f":"MAX(AA16,AA37)*'Background Calculations'!$P$51","v":603.1},null,{"$f":"MAX(AC16,AC37)*'Background Calculations'!$P$52","v":438.55000000000007},null,{"$f":"MAX(AE16,AE37)*'Background Calculations'!$P$53","v":374},null,null,2015,{"$f":"MAX(AI16,AI37)*'Background Calculations'!$P$51","v":603.1},null,{"$f":"MAX(AK16,AK37)*'Background Calculations'!$P$52","v":438.55000000000007},null,{"$f":"MAX(AM16,AM37)*'Background Calculations'!$P$53","v":374},null,null,2015,{"$f":"MAX(AQ16,AQ37)*'Background Calculations'!$P$51","v":603.1},null,{"$f":"MAX(AS16,AS37)*'Background Calculations'!$P$52","v":438.55000000000007},null,{"$f":"MAX(AU16,AU37)*'Background Calculations'!$P$53","v":374},null,null,2015,{"$f":"MAX(AY16,AY37)*'Background Calculations'!$P$51","v":603.1},null,{"$f":"MAX(BA16,BA37)*'Background Calculations'!$P$52","v":438.55000000000007},null,{"$f":"MAX(BC16,BC37)*'Background Calculations'!$P$53","v":374},null,null,2015,{"$f":"MAX(BG16,BG37)*'Background Calculations'!$P$51","v":603.1},null,{"$f":"MAX(BI16,BI37)*'Background Calculations'!$P$52","v":438.55000000000007},null,{"$f":"MAX(BK16,BK37)*'Background Calculations'!$P$53","v":374},null,null,2015,{"$f":"MAX(BO16,BO37)*'Background Calculations'!$P$51","v":603.1},null,{"$f":"MAX(BQ16,BQ37)*'Background Calculations'!$P$52","v":438.55000000000007},null,{"$f":"MAX(BS16,BS37)*'Background Calculations'!$P$53","v":374},null,null,2015,{"$f":"MAX(BW16,BW37)*'Background Calculations'!$P$51","v":603.1},null,{"$f":"MAX(BY16,BY37)*'Background Calculations'!$P$52","v":438.55000000000007},null,{"$f":"MAX(CA16,CA37)*'Background Calculations'!$P$53","v":374},null,null,2015,{"$f":"MAX(CE16,CE37)*'Background Calculations'!$P$51","v":603.1},null,{"$f":"MAX(CG16,CG37)*'Background Calculations'!$P$52","v":438.55000000000007},null,{"$f":"MAX(CI16,CI37)*'Background Calculations'!$P$53","v":374},null,null,2015,{"$f":"MAX(CM16,CM37)*'Background Calculations'!$P$51","v":603.1},null,{"$f":"MAX(CO16,CO37)*'Background Calculations'!$P$52","v":438.55000000000007},null,{"$f":"MAX(CQ16,CQ37)*'Background Calculations'!$P$53","v":374},null,null,2015,{"$f":"MAX(CU16,CU37)*'Background Calculations'!$P$51","v":603.1},null,{"$f":"MAX(CW16,CW37)*'Background Calculations'!$P$52","v":438.55000000000007},null,{"$f":"MAX(CY16,CY37)*'Background Calculations'!$P$53","v":374},null,null,2015,{"$f":"MAX(DC16,DC37)*'Background Calculations'!$P$51","v":603.1},null,{"$f":"MAX(DE16,DE37)*'Background Calculations'!$P$52","v":438.55000000000007},null,{"$f":"MAX(DG16,DG37)*'Background Calculations'!$P$53","v":374},null,null,2015,{"$f":"MAX(DK16,DK37)*'Background Calculations'!$P$51","v":603.1},null,{"$f":"MAX(DM16,DM37)*'Background Calculations'!$P$52","v":438.55000000000007},null,{"$f":"MAX(DO16,DO37)*'Background Calculations'!$P$53","v":374},null,null,2015,{"$f":"MAX(DS16,DS37)*'Background Calculations'!$P$51","v":603.1},null,{"$f":"MAX(DU16,DU37)*'Background Calculations'!$P$52","v":438.55000000000007},null,{"$f":"MAX(DW16,DW37)*'Background Calculations'!$P$53","v":374},null,null,2015,{"$f":"MAX(EA16,EA37)*'Background Calculations'!$P$51","v":603.1},null,{"$f":"MAX(EC16,EC37)*'Background Calculations'!$P$52","v":438.55000000000007},null,{"$f":"MAX(EE16,EE37)*'Background Calculations'!$P$53","v":374},null,null,2015,{"$f":"MAX(EI16,EI37)*'Background Calculations'!$P$51","v":603.1},null,{"$f":"MAX(EK16,EK37)*'Background Calculations'!$P$52","v":438.55000000000007},null,{"$f":"MAX(EM16,EM37)*'Background Calculations'!$P$53","v":374},null,null,2015,{"$f":"MAX(EQ16,EQ37)*'Background Calculations'!$P$51","v":603.1},null,{"$f":"MAX(ES16,ES37)*'Background Calculations'!$P$52","v":438.55000000000007},null,{"$f":"MAX(EU16,EU37)*'Background Calculations'!$P$53","v":374},null,null,2015,{"$f":"MAX(EY16,EY37)*'Background Calculations'!$P$51","v":603.1},null,{"$f":"MAX(FA16,FA37)*'Background Calculations'!$P$52","v":438.55000000000007},null,{"$f":"MAX(FC16,FC37)*'Background Calculations'!$P$53","v":374},null,null,2015,{"$f":"MAX(FG16,FG37)*'Background Calculations'!$P$51","v":603.1},null,{"$f":"MAX(FI16,FI37)*'Background Calculations'!$P$52","v":438.55000000000007},null,{"$f":"MAX(FK16,FK37)*'Background Calculations'!$P$53","v":374},null,null,2015,{"$f":"MAX(FO16,FO37)*'Background Calculations'!$P$51","v":603.1},null,{"$f":"MAX(FQ16,FQ37)*'Background Calculations'!$P$52","v":438.55000000000007},null,{"$f":"MAX(FS16,FS37)*'Background Calculations'!$P$53","v":374},null,null,2015,{"$f":"MAX(FW16,FW37)*'Background Calculations'!$P$51","v":603.1},null,{"$f":"MAX(FY16,FY37)*'Background Calculations'!$P$52","v":438.55000000000007},null,{"$f":"MAX(GA16,GA37)*'Background Calculations'!$P$53","v":374},null,null,2015,{"$f":"MAX(GE16,GE37)*'Background Calculations'!$P$51","v":603.1},null,{"$f":"MAX(GG16,GG37)*'Background Calculations'!$P$52","v":438.55000000000007},null,{"$f":"MAX(GI16,GI37)*'Background Calculations'!$P$53","v":374},null,null,2015,{"$f":"MAX(GM16,GM37)*'Background Calculations'!$P$51","v":603.1},null,{"$f":"MAX(GO16,GO37)*'Background Calculations'!$P$52","v":438.55000000000007},null,{"$f":"MAX(GQ16,GQ37)*'Background Calculations'!$P$53","v":374},null,null,2015,{"$f":"MAX(GU16,GU37)*'Background Calculations'!$P$51","v":603.1},null,{"$f":"MAX(GW16,GW37)*'Background Calculations'!$P$52","v":438.55000000000007},null,{"$f":"MAX(GY16,GY37)*'Background Calculations'!$P$53","v":374},null,null,2015,{"$f":"MAX(HC16,HC37)*'Background Calculations'!$P$51","v":603.1},null,{"$f":"MAX(HE16,HE37)*'Background Calculations'!$P$52","v":438.55000000000007},null,{"$f":"MAX(HG16,HG37)*'Background Calculations'!$P$53","v":374},null,null,2015,{"$f":"MAX(HK16,HK37)*'Background Calculations'!$P$51","v":603.1},null,{"$f":"MAX(HM16,HM37)*'Background Calculations'!$P$52","v":438.55000000000007},null,{"$f":"MAX(HO16,HO37)*'Background Calculations'!$P$53","v":374},null,null,2015,{"$f":"MAX(HS16,HS37)*'Background Calculations'!$P$51","v":603.1},null,{"$f":"MAX(HU16,HU37)*'Background Calculations'!$P$52","v":438.55000000000007},null,{"$f":"MAX(HW16,HW37)*'Background Calculations'!$P$53","v":374},null,null,2015,{"$f":"MAX(IA16,IA37)*'Background Calculations'!$P$51","v":603.1},null,{"$f":"MAX(IC16,IC37)*'Background Calculations'!$P$52","v":438.55000000000007},null,{"$f":"MAX(IE16,IE37)*'Background Calculations'!$P$53","v":374},null,null,2015,{"$f":"MAX(II16,II37)*'Background Calculations'!$P$51","v":603.1},null,{"$f":"MAX(IK16,IK37)*'Background Calculations'!$P$52","v":438.55000000000007},null,{"$f":"MAX(IM16,IM37)*'Background Calculations'!$P$53","v":374},null,null,2015,{"$f":"MAX(IQ16,IQ37)*'Background Calculations'!$P$51","v":603.1},null,{"$f":"MAX(IS16,IS37)*'Background Calculations'!$P$52","v":438.55000000000007},null,{"$f":"MAX(IU16,IU37)*'Background Calculations'!$P$53","v":374},null,null,2015,{"$f":"MAX(IY16,IY37)*'Background Calculations'!$P$51","v":603.1},null,{"$f":"MAX(JA16,JA37)*'Background Calculations'!$P$52","v":438.55000000000007},null,{"$f":"MAX(JC16,JC37)*'Background Calculations'!$P$53","v":374},null,null,2015,{"$f":"MAX(JG16,JG37)*'Background Calculations'!$P$51","v":603.1},null,{"$f":"MAX(JI16,JI37)*'Background Calculations'!$P$52","v":438.55000000000007},null,{"$f":"MAX(JK16,JK37)*'Background Calculations'!$P$53","v":374},null,null,2015,{"$f":"MAX(JO16,JO37)*'Background Calculations'!$P$51","v":603.1},null,{"$f":"MAX(JQ16,JQ37)*'Background Calculations'!$P$52","v":438.55000000000007},null,{"$f":"MAX(JS16,JS37)*'Background Calculations'!$P$53","v":374},null,null,2015,{"$f":"MAX(JW16,JW37)*'Background Calculations'!$P$51","v":603.1},null,{"$f":"MAX(JY16,JY37)*'Background Calculations'!$P$52","v":438.55000000000007},null,{"$f":"MAX(KA16,KA37)*'Background Calculations'!$P$53","v":374},null,null,2015,{"$f":"MAX(KE16,KE37)*'Background Calculations'!$P$51","v":603.1},null,{"$f":"MAX(KG16,KG37)*'Background Calculations'!$P$52","v":438.55000000000007},null,{"$f":"MAX(KI16,KI37)*'Background Calculations'!$P$53","v":374},null,null,2015,{"$f":"MAX(KM16,KM37)*'Background Calculations'!$P$51","v":603.1},null,{"$f":"MAX(KO16,KO37)*'Background Calculations'!$P$52","v":438.55000000000007},null,{"$f":"MAX(KQ16,KQ37)*'Background Calculations'!$P$53","v":374},null,null,2015,{"$f":"MAX(KU16,KU37)*'Background Calculations'!$P$51","v":603.1},null,{"$f":"MAX(KW16,KW37)*'Background Calculations'!$P$52","v":438.55000000000007},null,{"$f":"MAX(KY16,KY37)*'Background Calculations'!$P$53","v":374},null,null,2015,{"$f":"MAX(LC16,LC37)*'Background Calculations'!$P$51","v":603.1},null,{"$f":"MAX(LE16,LE37)*'Background Calculations'!$P$52","v":438.55000000000007},null,{"$f":"MAX(LG16,LG37)*'Background Calculations'!$P$53","v":374},null,null,2015,{"$f":"MAX(LK16,LK37)*'Background Calculations'!$P$51","v":603.1},null,{"$f":"MAX(LM16,LM37)*'Background Calculations'!$P$52","v":438.55000000000007},null,{"$f":"MAX(LO16,LO37)*'Background Calculations'!$P$53","v":374},null,null,2015,{"$f":"MAX(LS16,LS37)*'Background Calculations'!$P$51","v":603.1},null,{"$f":"MAX(LU16,LU37)*'Background Calculations'!$P$52","v":438.55000000000007},null,{"$f":"MAX(LW16,LW37)*'Background Calculations'!$P$53","v":374},null,null,2015,{"$f":"MAX(MA16,MA37)*'Background Calculations'!$P$51","v":603.1},null,{"$f":"MAX(MC16,MC37)*'Background Calculations'!$P$52","v":438.55000000000007},null,{"$f":"MAX(ME16,ME37)*'Background Calculations'!$P$53","v":374},null,null,2015,{"$f":"MAX(MI16,MI37)*'Background Calculations'!$P$51","v":603.1},null,{"$f":"MAX(MK16,MK37)*'Background Calculations'!$P$52","v":438.55000000000007},null,{"$f":"MAX(MM16,MM37)*'Background Calculations'!$P$53","v":374},null,null,2015,{"$f":"MAX(MQ16,MQ37)*'Background Calculations'!$P$51","v":603.1},null,{"$f":"MAX(MS16,MS37)*'Background Calculations'!$P$52","v":438.55000000000007},null,{"$f":"MAX(MU16,MU37)*'Background Calculations'!$P$53","v":374},null,null,2015,{"$f":"MAX(MY16,MY37)*'Background Calculations'!$P$51","v":603.1},null,{"$f":"MAX(NA16,NA37)*'Background Calculations'!$P$52","v":438.55000000000007},null,{"$f":"MAX(NC16,NC37)*'Background Calculations'!$P$53","v":374},null,null,2015,{"$f":"MAX(NG16,NG37)*'Background Calculations'!$P$51","v":603.1},null,{"$f":"MAX(NI16,NI37)*'Background Calculations'!$P$52","v":438.55000000000007},null,{"$f":"MAX(NK16,NK37)*'Background Calculations'!$P$53","v":374},null,null,2015,{"$f":"MAX(NO16,NO37)*'Background Calculations'!$P$51","v":603.1},null,{"$f":"MAX(NQ16,NQ37)*'Background Calculations'!$P$52","v":438.55000000000007},null,{"$f":"MAX(NS16,NS37)*'Background Calculations'!$P$53","v":374},null,null,2015,{"$f":"MAX(NW16,NW37)*'Background Calculations'!$P$51","v":603.1},null,{"$f":"MAX(NY16,NY37)*'Background Calculations'!$P$52","v":438.55000000000007},null,{"$f":"MAX(OA16,OA37)*'Background Calculations'!$P$53","v":374},null,null,2015,{"$f":"MAX(OE16,OE37)*'Background Calculations'!$P$51","v":603.1},null,{"$f":"MAX(OG16,OG37)*'Background Calculations'!$P$52","v":438.55000000000007},null,{"$f":"MAX(OI16,OI37)*'Background Calculations'!$P$53","v":374},null,null,2015,{"$f":"MAX(OM16,OM37)*'Background Calculations'!$P$51","v":603.1},null,{"$f":"MAX(OO16,OO37)*'Background Calculations'!$P$52","v":438.55000000000007},null,{"$f":"MAX(OQ16,OQ37)*'Background Calculations'!$P$53","v":374}]
[null,2016,{"$f":"MAX(C17,C38)*'Background Calculations'!$Q$51","v":536.5},null,{"$f":"MAX(E17,E38)*'Background Calculations'!$Q$52","v":464.03000000000003},null,{"$f":"MAX(G17,G38)*'Background Calculations'!$Q$53","v":473},null,null,2016,{"$f":"MAX(K17,K38)*'Background Calculations'!$Q$51","v":536.5},null,{"$f":"MAX(M17,M38)*'Background Calculations'!$Q$52","v":464.03000000000003},null,{"$f":"MAX(O17,O38)*'Background Calculations'!$Q$53","v":473},null,null,2016,{"$f":"MAX(S17,S38)*'Background Calculations'!$Q$51","v":536.5},null,{"$f":"MAX(U17,U38)*'Background Calculations'!$Q$52","v":464.03000000000003},null,{"$f":"MAX(W17,W38)*'Background Calculations'!$Q$53","v":473},null,null,2016,{"$f":"MAX(AA17,AA38)*'Background Calculations'!$Q$51","v":536.5},null,{"$f":"MAX(AC17,AC38)*'Background Calculations'!$Q$52","v":464.03000000000003},null,{"$f":"MAX(AE17,AE38)*'Background Calculations'!$Q$53","v":473},null,null,2016,{"$f":"MAX(AI17,AI38)*'Background Calculations'!$Q$51","v":536.5},null,{"$f":"MAX(AK17,AK38)*'Background Calculations'!$Q$52","v":464.03000000000003},null,{"$f":"MAX(AM17,AM38)*'Background Calculations'!$Q$53","v":473},null,null,2016,{"$f":"MAX(AQ17,AQ38)*'Background Calculations'!$Q$51","v":536.5},null,{"$f":"MAX(AS17,AS38)*'Background Calculations'!$Q$52","v":464.03000000000003},null,{"$f":"MAX(AU17,AU38)*'Background Calculations'!$Q$53","v":473},null,null,2016,{"$f":"MAX(AY17,AY38)*'Background Calculations'!$Q$51","v":536.5},null,{"$f":"MAX(BA17,BA38)*'Background Calculations'!$Q$52","v":464.03000000000003},null,{"$f":"MAX(BC17,BC38)*'Background Calculations'!$Q$53","v":473},null,null,2016,{"$f":"MAX(BG17,BG38)*'Background Calculations'!$Q$51","v":536.5},null,{"$f":"MAX(BI17,BI38)*'Background Calculations'!$Q$52","v":464.03000000000003},null,{"$f":"MAX(BK17,BK38)*'Background Calculations'!$Q$53","v":473},null,null,2016,{"$f":"MAX(BO17,BO38)*'Background Calculations'!$Q$51","v":536.5},null,{"$f":"MAX(BQ17,BQ38)*'Background Calculations'!$Q$52","v":464.03000000000003},null,{"$f":"MAX(BS17,BS38)*'Background Calculations'!$Q$53","v":473},null,null,2016,{"$f":"MAX(BW17,BW38)*'Background Calculations'!$Q$51","v":536.5},null,{"$f":"MAX(BY17,BY38)*'Background Calculations'!$Q$52","v":464.03000000000003},null,{"$f":"MAX(CA17,CA38)*'Background Calculations'!$Q$53","v":473},null,null,2016,{"$f":"MAX(CE17,CE38)*'Background Calculations'!$Q$51","v":536.5},null,{"$f":"MAX(CG17,CG38)*'Background Calculations'!$Q$52","v":464.03000000000003},null,{"$f":"MAX(CI17,CI38)*'Background Calculations'!$Q$53","v":473},null,null,2016,{"$f":"MAX(CM17,CM38)*'Background Calculations'!$Q$51","v":536.5},null,{"$f":"MAX(CO17,CO38)*'Background Calculations'!$Q$52","v":464.03000000000003},null,{"$f":"MAX(CQ17,CQ38)*'Background Calculations'!$Q$53","v":473},null,null,2016,{"$f":"MAX(CU17,CU38)*'Background Calculations'!$Q$51","v":536.5},null,{"$f":"MAX(CW17,CW38)*'Background Calculations'!$Q$52","v":464.03000000000003},null,{"$f":"MAX(CY17,CY38)*'Background Calculations'!$Q$53","v":473},null,null,2016,{"$f":"MAX(DC17,DC38)*'Background Calculations'!$Q$51","v":536.5},null,{"$f":"MAX(DE17,DE38)*'Background Calculations'!$Q$52","v":464.03000000000003},null,{"$f":"MAX(DG17,DG38)*'Background Calculations'!$Q$53","v":473},null,null,2016,{"$f":"MAX(DK17,DK38)*'Background Calculations'!$Q$51","v":536.5},null,{"$f":"MAX(DM17,DM38)*'Background Calculations'!$Q$52","v":464.03000000000003},null,{"$f":"MAX(DO17,DO38)*'Background Calculations'!$Q$53","v":473},null,null,2016,{"$f":"MAX(DS17,DS38)*'Background Calculations'!$Q$51","v":536.5},null,{"$f":"MAX(DU17,DU38)*'Background Calculations'!$Q$52","v":464.03000000000003},null,{"$f":"MAX(DW17,DW38)*'Background Calculations'!$Q$53","v":473},null,null,2016,{"$f":"MAX(EA17,EA38)*'Background Calculations'!$Q$51","v":536.5},null,{"$f":"MAX(EC17,EC38)*'Background Calculations'!$Q$52","v":464.03000000000003},null,{"$f":"MAX(EE17,EE38)*'Background Calculations'!$Q$53","v":473},null,null,2016,{"$f":"MAX(EI17,EI38)*'Background Calculations'!$Q$51","v":536.5},null,{"$f":"MAX(EK17,EK38)*'Background Calculations'!$Q$52","v":464.03000000000003},null,{"$f":"MAX(EM17,EM38)*'Background Calculations'!$Q$53","v":473},null,null,2016,{"$f":"MAX(EQ17,EQ38)*'Background Calculations'!$Q$51","v":536.5},null,{"$f":"MAX(ES17,ES38)*'Background Calculations'!$Q$52","v":464.03000000000003},null,{"$f":"MAX(EU17,EU38)*'Background Calculations'!$Q$53","v":473},null,null,2016,{"$f":"MAX(EY17,EY38)*'Background Calculations'!$Q$51","v":536.5},null,{"$f":"MAX(FA17,FA38)*'Background Calculations'!$Q$52","v":464.03000000000003},null,{"$f":"MAX(FC17,FC38)*'Background Calculations'!$Q$53","v":473},null,null,2016,{"$f":"MAX(FG17,FG38)*'Background Calculations'!$Q$51","v":536.5},null,{"$f":"MAX(FI17,FI38)*'Background Calculations'!$Q$52","v":464.03000000000003},null,{"$f":"MAX(FK17,FK38)*'Background Calculations'!$Q$53","v":473},null,null,2016,{"$f":"MAX(FO17,FO38)*'Background Calculations'!$Q$51","v":536.5},null,{"$f":"MAX(FQ17,FQ38)*'Background Calculations'!$Q$52","v":464.03000000000003},null,{"$f":"MAX(FS17,FS38)*'Background Calculations'!$Q$53","v":473},null,null,2016,{"$f":"MAX(FW17,FW38)*'Background Calculations'!$Q$51","v":536.5},null,{"$f":"MAX(FY17,FY38)*'Background Calculations'!$Q$52","v":464.03000000000003},null,{"$f":"MAX(GA17,GA38)*'Background Calculations'!$Q$53","v":473},null,null,2016,{"$f":"MAX(GE17,GE38)*'Background Calculations'!$Q$51","v":536.5},null,{"$f":"MAX(GG17,GG38)*'Background Calculations'!$Q$52","v":464.03000000000003},null,{"$f":"MAX(GI17,GI38)*'Background Calculations'!$Q$53","v":473},null,null,2016,{"$f":"MAX(GM17,GM38)*'Background Calculations'!$Q$51","v":536.5},null,{"$f":"MAX(GO17,GO38)*'Background Calculations'!$Q$52","v":464.03000000000003},null,{"$f":"MAX(GQ17,GQ38)*'Background Calculations'!$Q$53","v":473},null,null,2016,{"$f":"MAX(GU17,GU38)*'Background Calculations'!$Q$51","v":536.5},null,{"$f":"MAX(GW17,GW38)*'Background Calculations'!$Q$52","v":464.03000000000003},null,{"$f":"MAX(GY17,GY38)*'Background Calculations'!$Q$53","v":473},null,null,2016,{"$f":"MAX(HC17,HC38)*'Background Calculations'!$Q$51","v":536.5},null,{"$f":"MAX(HE17,HE38)*'Background Calculations'!$Q$52","v":464.03000000000003},null,{"$f":"MAX(HG17,HG38)*'Background Calculations'!$Q$53","v":473},null,null,2016,{"$f":"MAX(HK17,HK38)*'Background Calculations'!$Q$51","v":536.5},null,{"$f":"MAX(HM17,HM38)*'Background Calculations'!$Q$52","v":464.03000000000003},null,{"$f":"MAX(HO17,HO38)*'Background Calculations'!$Q$53","v":473},null,null,2016,{"$f":"MAX(HS17,HS38)*'Background Calculations'!$Q$51","v":536.5},null,{"$f":"MAX(HU17,HU38)*'Background Calculations'!$Q$52","v":464.03000000000003},null,{"$f":"MAX(HW17,HW38)*'Background Calculations'!$Q$53","v":473},null,null,2016,{"$f":"MAX(IA17,IA38)*'Background Calculations'!$Q$51","v":536.5},null,{"$f":"MAX(IC17,IC38)*'Background Calculations'!$Q$52","v":464.03000000000003},null,{"$f":"MAX(IE17,IE38)*'Background Calculations'!$Q$53","v":473},null,null,2016,{"$f":"MAX(II17,II38)*'Background Calculations'!$Q$51","v":536.5},null,{"$f":"MAX(IK17,IK38)*'Background Calculations'!$Q$52","v":464.03000000000003},null,{"$f":"MAX(IM17,IM38)*'Background Calculations'!$Q$53","v":473},null,null,2016,{"$f":"MAX(IQ17,IQ38)*'Background Calculations'!$Q$51","v":536.5},null,{"$f":"MAX(IS17,IS38)*'Background Calculations'!$Q$52","v":464.03000000000003},null,{"$f":"MAX(IU17,IU38)*'Background Calculations'!$Q$53","v":473},null,null,2016,{"$f":"MAX(IY17,IY38)*'Background Calculations'!$Q$51","v":536.5},null,{"$f":"MAX(JA17,JA38)*'Background Calculations'!$Q$52","v":464.03000000000003},null,{"$f":"MAX(JC17,JC38)*'Background Calculations'!$Q$53","v":473},null,null,2016,{"$f":"MAX(JG17,JG38)*'Background Calculations'!$Q$51","v":536.5},null,{"$f":"MAX(JI17,JI38)*'Background Calculations'!$Q$52","v":464.03000000000003},null,{"$f":"MAX(JK17,JK38)*'Background Calculations'!$Q$53","v":473},null,null,2016,{"$f":"MAX(JO17,JO38)*'Background Calculations'!$Q$51","v":536.5},null,{"$f":"MAX(JQ17,JQ38)*'Background Calculations'!$Q$52","v":464.03000000000003},null,{"$f":"MAX(JS17,JS38)*'Background Calculations'!$Q$53","v":473},null,null,2016,{"$f":"MAX(JW17,JW38)*'Background Calculations'!$Q$51","v":536.5},null,{"$f":"MAX(JY17,JY38)*'Background Calculations'!$Q$52","v":464.03000000000003},null,{"$f":"MAX(KA17,KA38)*'Background Calculations'!$Q$53","v":473},null,null,2016,{"$f":"MAX(KE17,KE38)*'Background Calculations'!$Q$51","v":536.5},null,{"$f":"MAX(KG17,KG38)*'Background Calculations'!$Q$52","v":464.03000000000003},null,{"$f":"MAX(KI17,KI38)*'Background Calculations'!$Q$53","v":473},null,null,2016,{"$f":"MAX(KM17,KM38)*'Background Calculations'!$Q$51","v":536.5},null,{"$f":"MAX(KO17,KO38)*'Background Calculations'!$Q$52","v":464.03000000000003},null,{"$f":"MAX(KQ17,KQ38)*'Background Calculations'!$Q$53","v":473},null,null,2016,{"$f":"MAX(KU17,KU38)*'Background Calculations'!$Q$51","v":536.5},null,{"$f":"MAX(KW17,KW38)*'Background Calculations'!$Q$52","v":464.03000000000003},null,{"$f":"MAX(KY17,KY38)*'Background Calculations'!$Q$53","v":473},null,null,2016,{"$f":"MAX(LC17,LC38)*'Background Calculations'!$Q$51","v":536.5},null,{"$f":"MAX(LE17,LE38)*'Background Calculations'!$Q$52","v":464.03000000000003},null,{"$f":"MAX(LG17,LG38)*'Background Calculations'!$Q$53","v":473},null,null,2016,{"$f":"MAX(LK17,LK38)*'Background Calculations'!$Q$51","v":536.5},null,{"$f":"MAX(LM17,LM38)*'Background Calculations'!$Q$52","v":464.03000000000003},null,{"$f":"MAX(LO17,LO38)*'Background Calculations'!$Q$53","v":473},null,null,2016,{"$f":"MAX(LS17,LS38)*'Background Calculations'!$Q$51","v":536.5},null,{"$f":"MAX(LU17,LU38)*'Background Calculations'!$Q$52","v":464.03000000000003},null,{"$f":"MAX(LW17,LW38)*'Background Calculations'!$Q$53","v":473},null,null,2016,{"$f":"MAX(MA17,MA38)*'Background Calculations'!$Q$51","v":536.5},null,{"$f":"MAX(MC17,MC38)*'Background Calculations'!$Q$52","v":464.03000000000003},null,{"$f":"MAX(ME17,ME38)*'Background Calculations'!$Q$53","v":473},null,null,2016,{"$f":"MAX(MI17,MI38)*'Background Calculations'!$Q$51","v":536.5},null,{"$f":"MAX(MK17,MK38)*'Background Calculations'!$Q$52","v":464.03000000000003},null,{"$f":"MAX(MM17,MM38)*'Background Calculations'!$Q$53","v":473},null,null,2016,{"$f":"MAX(MQ17,MQ38)*'Background Calculations'!$Q$51","v":536.5},null,{"$f":"MAX(MS17,MS38)*'Background Calculations'!$Q$52","v":464.03000000000003},null,{"$f":"MAX(MU17,MU38)*'Background Calculations'!$Q$53","v":473},null,null,2016,{"$f":"MAX(MY17,MY38)*'Background Calculations'!$Q$51","v":536.5},null,{"$f":"MAX(NA17,NA38)*'Background Calculations'!$Q$52","v":464.03000000000003},null,{"$f":"MAX(NC17,NC38)*'Background Calculations'!$Q$53","v":473},null,null,2016,{"$f":"MAX(NG17,NG38)*'Background Calculations'!$Q$51","v":536.5},null,{"$f":"MAX(NI17,NI38)*'Background Calculations'!$Q$52","v":464.03000000000003},null,{"$f":"MAX(NK17,NK38)*'Background Calculations'!$Q$53","v":473},null,null,2016,{"$f":"MAX(NO17,NO38)*'Background Calculations'!$Q$51","v":536.5},null,{"$f":"MAX(NQ17,NQ38)*'Background Calculations'!$Q$52","v":464.03000000000003},null,{"$f":"MAX(NS17,NS38)*'Background Calculations'!$Q$53","v":473},null,null,2016,{"$f":"MAX(NW17,NW38)*'Background Calculations'!$Q$51","v":536.5},null,{"$f":"MAX(NY17,NY38)*'Background Calculations'!$Q$52","v":464.03000000000003},null,{"$f":"MAX(OA17,OA38)*'Background Calculations'!$Q$53","v":473},null,null,2016,{"$f":"MAX(OE17,OE38)*'Background Calculations'!$Q$51","v":536.5},null,{"$f":"MAX(OG17,OG38)*'Background Calculations'!$Q$52","v":464.03000000000003},null,{"$f":"MAX(OI17,OI38)*'Background Calculations'!$Q$53","v":473},null,null,2016,{"$f":"MAX(OM17,OM38)*'Background Calculations'!$Q$51","v":536.5},null,{"$f":"MAX(OO17,OO38)*'Background Calculations'!$Q$52","v":464.03000000000003},null,{"$f":"MAX(OQ17,OQ38)*'Background Calculations'!$Q$53","v":473}]
[null,2017,{"$f":"MAX(C18,C39)*'Background Calculations'!$R$51","v":617.9},null,{"$f":"MAX(E18,E39)*'Background Calculations'!$R$52","v":382.53000000000003},null,{"$f":"MAX(G18,G39)*'Background Calculations'!$R$53","v":330},null,null,2017,{"$f":"MAX(K18,K39)*'Background Calculations'!$R$51","v":617.9},null,{"$f":"MAX(M18,M39)*'Background Calculations'!$R$52","v":382.53000000000003},null,{"$f":"MAX(O18,O39)*'Background Calculations'!$R$53","v":330},null,null,2017,{"$f":"MAX(S18,S39)*'Background Calculations'!$R$51","v":617.9},null,{"$f":"MAX(U18,U39)*'Background Calculations'!$R$52","v":382.53000000000003},null,{"$f":"MAX(W18,W39)*'Background Calculations'!$R$53","v":330},null,null,2017,{"$f":"MAX(AA18,AA39)*'Background Calculations'!$R$51","v":617.9},null,{"$f":"MAX(AC18,AC39)*'Background Calculations'!$R$52","v":382.53000000000003},null,{"$f":"MAX(AE18,AE39)*'Background Calculations'!$R$53","v":330},null,null,2017,{"$f":"MAX(AI18,AI39)*'Background Calculations'!$R$51","v":617.9},null,{"$f":"MAX(AK18,AK39)*'Background Calculations'!$R$52","v":382.53000000000003},null,{"$f":"MAX(AM18,AM39)*'Background Calculations'!$R$53","v":330},null,null,2017,{"$f":"MAX(AQ18,AQ39)*'Background Calculations'!$R$51","v":617.9},null,{"$f":"MAX(AS18,AS39)*'Background Calculations'!$R$52","v":382.53000000000003},null,{"$f":"MAX(AU18,AU39)*'Background Calculations'!$R$53","v":330},null,null,2017,{"$f":"MAX(AY18,AY39)*'Background Calculations'!$R$51","v":617.9},null,{"$f":"MAX(BA18,BA39)*'Background Calculations'!$R$52","v":382.53000000000003},null,{"$f":"MAX(BC18,BC39)*'Background Calculations'!$R$53","v":330},null,null,2017,{"$f":"MAX(BG18,BG39)*'Background Calculations'!$R$51","v":617.9},null,{"$f":"MAX(BI18,BI39)*'Background Calculations'!$R$52","v":382.53000000000003},null,{"$f":"MAX(BK18,BK39)*'Background Calculations'!$R$53","v":330},null,null,2017,{"$f":"MAX(BO18,BO39)*'Background Calculations'!$R$51","v":617.9},null,{"$f":"MAX(BQ18,BQ39)*'Background Calculations'!$R$52","v":382.53000000000003},null,{"$f":"MAX(BS18,BS39)*'Background Calculations'!$R$53","v":330},null,null,2017,{"$f":"MAX(BW18,BW39)*'Background Calculations'!$R$51","v":617.9},null,{"$f":"MAX(BY18,BY39)*'Background Calculations'!$R$52","v":382.53000000000003},null,{"$f":"MAX(CA18,CA39)*'Background Calculations'!$R$53","v":330},null,null,2017,{"$f":"MAX(CE18,CE39)*'Background Calculations'!$R$51","v":617.9},null,{"$f":"MAX(CG18,CG39)*'Background Calculations'!$R$52","v":382.53000000000003},null,{"$f":"MAX(CI18,CI39)*'Background Calculations'!$R$53","v":330},null,null,2017,{"$f":"MAX(CM18,CM39)*'Background Calculations'!$R$51","v":617.9},null,{"$f":"MAX(CO18,CO39)*'Background Calculations'!$R$52","v":382.53000000000003},null,{"$f":"MAX(CQ18,CQ39)*'Background Calculations'!$R$53","v":330},null,null,2017,{"$f":"MAX(CU18,CU39)*'Background Calculations'!$R$51","v":617.9},null,{"$f":"MAX(CW18,CW39)*'Background Calculations'!$R$52","v":382.53000000000003},null,{"$f":"MAX(CY18,CY39)*'Background Calculations'!$R$53","v":330},null,null,2017,{"$f":"MAX(DC18,DC39)*'Background Calculations'!$R$51","v":617.9},null,{"$f":"MAX(DE18,DE39)*'Background Calculations'!$R$52","v":382.53000000000003},null,{"$f":"MAX(DG18,DG39)*'Background Calculations'!$R$53","v":330},null,null,2017,{"$f":"MAX(DK18,DK39)*'Background Calculations'!$R$51","v":617.9},null,{"$f":"MAX(DM18,DM39)*'Background Calculations'!$R$52","v":382.53000000000003},null,{"$f":"MAX(DO18,DO39)*'Background Calculations'!$R$53","v":330},null,null,2017,{"$f":"MAX(DS18,DS39)*'Background Calculations'!$R$51","v":617.9},null,{"$f":"MAX(DU18,DU39)*'Background Calculations'!$R$52","v":382.53000000000003},null,{"$f":"MAX(DW18,DW39)*'Background Calculations'!$R$53","v":330},null,null,2017,{"$f":"MAX(EA18,EA39)*'Background Calculations'!$R$51","v":617.9},null,{"$f":"MAX(EC18,EC39)*'Background Calculations'!$R$52","v":382.53000000000003},null,{"$f":"MAX(EE18,EE39)*'Background Calculations'!$R$53","v":330},null,null,2017,{"$f":"MAX(EI18,EI39)*'Background Calculations'!$R$51","v":617.9},null,{"$f":"MAX(EK18,EK39)*'Background Calculations'!$R$52","v":382.53000000000003},null,{"$f":"MAX(EM18,EM39)*'Background Calculations'!$R$53","v":330},null,null,2017,{"$f":"MAX(EQ18,EQ39)*'Background Calculations'!$R$51","v":617.9},null,{"$f":"MAX(ES18,ES39)*'Background Calculations'!$R$52","v":382.53000000000003},null,{"$f":"MAX(EU18,EU39)*'Background Calculations'!$R$53","v":330},null,null,2017,{"$f":"MAX(EY18,EY39)*'Background Calculations'!$R$51","v":617.9},null,{"$f":"MAX(FA18,FA39)*'Background Calculations'!$R$52","v":382.53000000000003},null,{"$f":"MAX(FC18,FC39)*'Background Calculations'!$R$53","v":330},null,null,2017,{"$f":"MAX(FG18,FG39)*'Background Calculations'!$R$51","v":617.9},null,{"$f":"MAX(FI18,FI39)*'Background Calculations'!$R$52","v":382.53000000000003},null,{"$f":"MAX(FK18,FK39)*'Background Calculations'!$R$53","v":330},null,null,2017,{"$f":"MAX(FO18,FO39)*'Background Calculations'!$R$51","v":617.9},null,{"$f":"MAX(FQ18,FQ39)*'Background Calculations'!$R$52","v":382.53000000000003},null,{"$f":"MAX(FS18,FS39)*'Background Calculations'!$R$53","v":330},null,null,2017,{"$f":"MAX(FW18,FW39)*'Background Calculations'!$R$51","v":617.9},null,{"$f":"MAX(FY18,FY39)*'Background Calculations'!$R$52","v":382.53000000000003},null,{"$f":"MAX(GA18,GA39)*'Background Calculations'!$R$53","v":330},null,null,2017,{"$f":"MAX(GE18,GE39)*'Background Calculations'!$R$51","v":617.9},null,{"$f":"MAX(GG18,GG39)*'Background Calculations'!$R$52","v":382.53000000000003},null,{"$f":"MAX(GI18,GI39)*'Background Calculations'!$R$53","v":330},null,null,2017,{"$f":"MAX(GM18,GM39)*'Background Calculations'!$R$51","v":617.9},null,{"$f":"MAX(GO18,GO39)*'Background Calculations'!$R$52","v":382.53000000000003},null,{"$f":"MAX(GQ18,GQ39)*'Background Calculations'!$R$53","v":330},null,null,2017,{"$f":"MAX(GU18,GU39)*'Background Calculations'!$R$51","v":617.9},null,{"$f":"MAX(GW18,GW39)*'Background Calculations'!$R$52","v":382.53000000000003},null,{"$f":"MAX(GY18,GY39)*'Background Calculations'!$R$53","v":330},null,null,2017,{"$f":"MAX(HC18,HC39)*'Background Calculations'!$R$51","v":617.9},null,{"$f":"MAX(HE18,HE39)*'Background Calculations'!$R$52","v":382.53000000000003},null,{"$f":"MAX(HG18,HG39)*'Background Calculations'!$R$53","v":330},null,null,2017,{"$f":"MAX(HK18,HK39)*'Background Calculations'!$R$51","v":617.9},null,{"$f":"MAX(HM18,HM39)*'Background Calculations'!$R$52","v":382.53000000000003},null,{"$f":"MAX(HO18,HO39)*'Background Calculations'!$R$53","v":330},null,null,2017,{"$f":"MAX(HS18,HS39)*'Background Calculations'!$R$51","v":617.9},null,{"$f":"MAX(HU18,HU39)*'Background Calculations'!$R$52","v":382.53000000000003},null,{"$f":"MAX(HW18,HW39)*'Background Calculations'!$R$53","v":330},null,null,2017,{"$f":"MAX(IA18,IA39)*'Background Calculations'!$R$51","v":617.9},null,{"$f":"MAX(IC18,IC39)*'Background Calculations'!$R$52","v":382.53000000000003},null,{"$f":"MAX(IE18,IE39)*'Background Calculations'!$R$53","v":330},null,null,2017,{"$f":"MAX(II18,II39)*'Background Calculations'!$R$51","v":617.9},null,{"$f":"MAX(IK18,IK39)*'Background Calculations'!$R$52","v":382.53000000000003},null,{"$f":"MAX(IM18,IM39)*'Background Calculations'!$R$53","v":330},null,null,2017,{"$f":"MAX(IQ18,IQ39)*'Background Calculations'!$R$51","v":617.9},null,{"$f":"MAX(IS18,IS39)*'Background Calculations'!$R$52","v":382.53000000000003},null,{"$f":"MAX(IU18,IU39)*'Background Calculations'!$R$53","v":330},null,null,2017,{"$f":"MAX(IY18,IY39)*'Background Calculations'!$R$51","v":617.9},null,{"$f":"MAX(JA18,JA39)*'Background Calculations'!$R$52","v":382.53000000000003},null,{"$f":"MAX(JC18,JC39)*'Background Calculations'!$R$53","v":330},null,null,2017,{"$f":"MAX(JG18,JG39)*'Background Calculations'!$R$51","v":617.9},null,{"$f":"MAX(JI18,JI39)*'Background Calculations'!$R$52","v":382.53000000000003},null,{"$f":"MAX(JK18,JK39)*'Background Calculations'!$R$53","v":330},null,null,2017,{"$f":"MAX(JO18,JO39)*'Background Calculations'!$R$51","v":617.9},null,{"$f":"MAX(JQ18,JQ39)*'Background Calculations'!$R$52","v":382.53000000000003},null,{"$f":"MAX(JS18,JS39)*'Background Calculations'!$R$53","v":330},null,null,2017,{"$f":"MAX(JW18,JW39)*'Background Calculations'!$R$51","v":617.9},null,{"$f":"MAX(JY18,JY39)*'Background Calculations'!$R$52","v":382.53000000000003},null,{"$f":"MAX(KA18,KA39)*'Background Calculations'!$R$53","v":330},null,null,2017,{"$f":"MAX(KE18,KE39)*'Background Calculations'!$R$51","v":617.9},null,{"$f":"MAX(KG18,KG39)*'Background Calculations'!$R$52","v":382.53000000000003},null,{"$f":"MAX(KI18,KI39)*'Background Calculations'!$R$53","v":330},null,null,2017,{"$f":"MAX(KM18,KM39)*'Background Calculations'!$R$51","v":617.9},null,{"$f":"MAX(KO18,KO39)*'Background Calculations'!$R$52","v":382.53000000000003},null,{"$f":"MAX(KQ18,KQ39)*'Background Calculations'!$R$53","v":330},null,null,2017,{"$f":"MAX(KU18,KU39)*'Background Calculations'!$R$51","v":617.9},null,{"$f":"MAX(KW18,KW39)*'Background Calculations'!$R$52","v":382.53000000000003},null,{"$f":"MAX(KY18,KY39)*'Background Calculations'!$R$53","v":330},null,null,2017,{"$f":"MAX(LC18,LC39)*'Background Calculations'!$R$51","v":617.9},null,{"$f":"MAX(LE18,LE39)*'Background Calculations'!$R$52","v":382.53000000000003},null,{"$f":"MAX(LG18,LG39)*'Background Calculations'!$R$53","v":330},null,null,2017,{"$f":"MAX(LK18,LK39)*'Background Calculations'!$R$51","v":617.9},null,{"$f":"MAX(LM18,LM39)*'Background Calculations'!$R$52","v":382.53000000000003},null,{"$f":"MAX(LO18,LO39)*'Background Calculations'!$R$53","v":330},null,null,2017,{"$f":"MAX(LS18,LS39)*'Background Calculations'!$R$51","v":617.9},null,{"$f":"MAX(LU18,LU39)*'Background Calculations'!$R$52","v":382.53000000000003},null,{"$f":"MAX(LW18,LW39)*'Background Calculations'!$R$53","v":330},null,null,2017,{"$f":"MAX(MA18,MA39)*'Background Calculations'!$R$51","v":617.9},null,{"$f":"MAX(MC18,MC39)*'Background Calculations'!$R$52","v":382.53000000000003},null,{"$f":"MAX(ME18,ME39)*'Background Calculations'!$R$53","v":330},null,null,2017,{"$f":"MAX(MI18,MI39)*'Background Calculations'!$R$51","v":617.9},null,{"$f":"MAX(MK18,MK39)*'Background Calculations'!$R$52","v":382.53000000000003},null,{"$f":"MAX(MM18,MM39)*'Background Calculations'!$R$53","v":330},null,null,2017,{"$f":"MAX(MQ18,MQ39)*'Background Calculations'!$R$51","v":617.9},null,{"$f":"MAX(MS18,MS39)*'Background Calculations'!$R$52","v":382.53000000000003},null,{"$f":"MAX(MU18,MU39)*'Background Calculations'!$R$53","v":330},null,null,2017,{"$f":"MAX(MY18,MY39)*'Background Calculations'!$R$51","v":617.9},null,{"$f":"MAX(NA18,NA39)*'Background Calculations'!$R$52","v":382.53000000000003},null,{"$f":"MAX(NC18,NC39)*'Background Calculations'!$R$53","v":330},null,null,2017,{"$f":"MAX(NG18,NG39)*'Background Calculations'!$R$51","v":617.9},null,{"$f":"MAX(NI18,NI39)*'Background Calculations'!$R$52","v":382.53000000000003},null,{"$f":"MAX(NK18,NK39)*'Background Calculations'!$R$53","v":330},null,null,2017,{"$f":"MAX(NO18,NO39)*'Background Calculations'!$R$51","v":617.9},null,{"$f":"MAX(NQ18,NQ39)*'Background Calculations'!$R$52","v":382.53000000000003},null,{"$f":"MAX(NS18,NS39)*'Background Calculations'!$R$53","v":330},null,null,2017,{"$f":"MAX(NW18,NW39)*'Background Calculations'!$R$51","v":617.9},null,{"$f":"MAX(NY18,NY39)*'Background Calculations'!$R$52","v":382.53000000000003},null,{"$f":"MAX(OA18,OA39)*'Background Calculations'!$R$53","v":330},null,null,2017,{"$f":"MAX(OE18,OE39)*'Background Calculations'!$R$51","v":617.9},null,{"$f":"MAX(OG18,OG39)*'Background Calculations'!$R$52","v":382.53000000000003},null,{"$f":"MAX(OI18,OI39)*'Background Calculations'!$R$53","v":330},null,null,2017,{"$f":"MAX(OM18,OM39)*'Background Calculations'!$R$51","v":617.9},null,{"$f":"MAX(OO18,OO39)*'Background Calculations'!$R$52","v":382.53000000000003},null,{"$f":"MAX(OQ18,OQ39)*'Background Calculations'!$R$53","v":330}]
["Farm Benchmark",null,{"$f":"(C26+C27+C28+C29+C30-MAX(C26:C30)-MIN(C26:C30))/3","v":624.06666666666661},null,{"$f":"(E26+E27+E28+E29+E30-MAX(E26:E30)-MIN(E26:E30))/3","v":452.36000000000007},null,{"$f":"(G26+G27+G28+G29+G30-MAX(G26:G30)-MIN(G26:G30))/3","v":436.07666666666665},null,null,"Farm Benchmark",{"$f":"(K26+K27+K28+K29+K30-MAX(K26:K30)-MIN(K26:K30))/3","v":624.06666666666661},null,{"$f":"(M26+M27+M28+M29+M30-MAX(M26:M30)-MIN(M26:M30))/3","v":452.36000000000007},null,{"$f":"(O26+O27+O28+O29+O30-MAX(O26:O30)-MIN(O26:O30))/3","v":436.07666666666665},null,null,"Farm Benchmark",{"$f":"(S26+S27+S28+S29+S30-MAX(S26:S30)-MIN(S26:S30))/3","v":624.06666666666661},null,{"$f":"(U26+U27+U28+U29+U30-MAX(U26:U30)-MIN(U26:U30))/3","v":452.36000000000007},null,{"$f":"(W26+W27+W28+W29+W30-MAX(W26:W30)-MIN(W26:W30))/3","v":436.07666666666665},null,null,"Farm Benchmark",{"$f":"(AA26+AA27+AA28+AA29+AA30-MAX(AA26:AA30)-MIN(AA26:AA30))/3","v":624.06666666666661},null,{"$f":"(AC26+AC27+AC28+AC29+AC30-MAX(AC26:AC30)-MIN(AC26:AC30))/3","v":452.36000000000007},null,{"$f":"(AE26+AE27+AE28+AE29+AE30-MAX(AE26:AE30)-MIN(AE26:AE30))/3","v":436.07666666666665},null,null,"Farm Benchmark",{"$f":"(AI26+AI27+AI28+AI29+AI30-MAX(AI26:AI30)-MIN(AI26:AI30))/3","v":624.06666666666661},null,{"$f":"(AK26+AK27+AK28+AK29+AK30-MAX(AK26:AK30)-MIN(AK26:AK30))/3","v":452.36000000000007},null,{"$f":"(AM26+AM27+AM28+AM29+AM30-MAX(AM26:AM30)-MIN(AM26:AM30))/3","v":436.07666666666665},null,null,"Farm Benchmark",{"$f":"(AQ26+AQ27+AQ28+AQ29+AQ30-MAX(AQ26:AQ30)-MIN(AQ26:AQ30))/3","v":624.06666666666661},null,{"$f":"(AS26+AS27+AS28+AS29+AS30-MAX(AS26:AS30)-MIN(AS26:AS30))/3","v":452.36000000000007},null,{"$f":"(AU26+AU27+AU28+AU29+AU30-MAX(AU26:AU30)-MIN(AU26:AU30))/3","v":436.07666666666665},null,null,"Farm Benchmark",{"$f":"(AY26+AY27+AY28+AY29+AY30-MAX(AY26:AY30)-MIN(AY26:AY30))/3","v":624.06666666666661},null,{"$f":"(BA26+BA27+BA28+BA29+BA30-MAX(BA26:BA30)-MIN(BA26:BA30))/3","v":452.36000000000007},null,{"$f":"(BC26+BC27+BC28+BC29+BC30-MAX(BC26:BC30)-MIN(BC26:BC30))/3","v":436.07666666666665},null,null,"Farm Benchmark",{"$f":"(BG26+BG27+BG28+BG29+BG30-MAX(BG26:BG30)-MIN(BG26:BG30))/3","v":624.06666666666661},null,{"$f":"(BI26+BI27+BI28+BI29+BI30-MAX(BI26:BI30)-MIN(BI26:BI30))/3","v":452.36000000000007},null,{"$f":"(BK26+BK27+BK28+BK29+BK30-MAX(BK26:BK30)-MIN(BK26:BK30))/3","v":436.07666666666665},null,null,"Farm Benchmark",{"$f":"(BO26+BO27+BO28+BO29+BO30-MAX(BO26:BO30)-MIN(BO26:BO30))/3","v":624.06666666666661},null,{"$f":"(BQ26+BQ27+BQ28+BQ29+BQ30-MAX(BQ26:BQ30)-MIN(BQ26:BQ30))/3","v":452.36000000000007},null,{"$f":"(BS26+BS27+BS28+BS29+BS30-MAX(BS26:BS30)-MIN(BS26:BS30))/3","v":436.07666666666665},null,null,"Farm Benchmark",{"$f":"(BW26+BW27+BW28+BW29+BW30-MAX(BW26:BW30)-MIN(BW26:BW30))/3","v":624.06666666666661},null,{"$f":"(BY26+BY27+BY28+BY29+BY30-MAX(BY26:BY30)-MIN(BY26:BY30))/3","v":452.36000000000007},null,{"$f":"(CA26+CA27+CA28+CA29+CA30-MAX(CA26:CA30)-MIN(CA26:CA30))/3","v":436.07666666666665},null,null,"Farm Benchmark",{"$f":"(CE26+CE27+CE28+CE29+CE30-MAX(CE26:CE30)-MIN(CE26:CE30))/3","v":624.06666666666661},null,{"$f":"(CG26+CG27+CG28+CG29+CG30-MAX(CG26:CG30)-MIN(CG26:CG30))/3","v":452.36000000000007},null,{"$f":"(CI26+CI27+CI28+CI29+CI30-MAX(CI26:CI30)-MIN(CI26:CI30))/3","v":436.07666666666665},null,null,"Farm Benchmark",{"$f":"(CM26+CM27+CM28+CM29+CM30-MAX(CM26:CM30)-MIN(CM26:CM30))/3","v":624.06666666666661},null,{"$f":"(CO26+CO27+CO28+CO29+CO30-MAX(CO26:CO30)-MIN(CO26:CO30))/3","v":452.36000000000007},null,{"$f":"(CQ26+CQ27+CQ28+CQ29+CQ30-MAX(CQ26:CQ30)-MIN(CQ26:CQ30))/3","v":436.07666666666665},null,null,"Farm Benchmark",{"$f":"(CU26+CU27+CU28+CU29+CU30-MAX(CU26:CU30)-MIN(CU26:CU30))/3","v":624.06666666666661},null,{"$f":"(CW26+CW27+CW28+CW29+CW30-MAX(CW26:CW30)-MIN(CW26:CW30))/3","v":452.36000000000007},null,{"$f":"(CY26+CY27+CY28+CY29+CY30-MAX(CY26:CY30)-MIN(CY26:CY30))/3","v":436.07666666666665},null,null,"Farm Benchmark",{"$f":"(DC26+DC27+DC28+DC29+DC30-MAX(DC26:DC30)-MIN(DC26:DC30))/3","v":624.06666666666661},null,{"$f":"(DE26+DE27+DE28+DE29+DE30-MAX(DE26:DE30)-MIN(DE26:DE30))/3","v":452.36000000000007},null,{"$f":"(DG26+DG27+DG28+DG29+DG30-MAX(DG26:DG30)-MIN(DG26:DG30))/3","v":436.07666666666665},null,null,"Farm Benchmark",{"$f":"(DK26+DK27+DK28+DK29+DK30-MAX(DK26:DK30)-MIN(DK26:DK30))/3","v":624.06666666666661},null,{"$f":"(DM26+DM27+DM28+DM29+DM30-MAX(DM26:DM30)-MIN(DM26:DM30))/3","v":452.36000000000007},null,{"$f":"(DO26+DO27+DO28+DO29+DO30-MAX(DO26:DO30)-MIN(DO26:DO30))/3","v":436.07666666666665},null,null,"Farm Benchmark",{"$f":"(DS26+DS27+DS28+DS29+DS30-MAX(DS26:DS30)-MIN(DS26:DS30))/3","v":624.06666666666661},null,{"$f":"(DU26+DU27+DU28+DU29+DU30-MAX(DU26:DU30)-MIN(DU26:DU30))/3","v":452.36000000000007},null,{"$f":"(DW26+DW27+DW28+DW29+DW30-MAX(DW26:DW30)-MIN(DW26:DW30))/3","v":436.07666666666665},null,null,"Farm Benchmark",{"$f":"(EA26+EA27+EA28+EA29+EA30-MAX(EA26:EA30)-MIN(EA26:EA30))/3","v":624.06666666666661},null,{"$f":"(EC26+EC27+EC28+EC29+EC30-MAX(EC26:EC30)-MIN(EC26:EC30))/3","v":452.36000000000007},null,{"$f":"(EE26+EE27+EE28+EE29+EE30-MAX(EE26:EE30)-MIN(EE26:EE30))/3","v":436.07666666666665},null,null,"Farm Benchmark",{"$f":"(EI26+EI27+EI28+EI29+EI30-MAX(EI26:EI30)-MIN(EI26:EI30))/3","v":624.06666666666661},null,{"$f":"(EK26+EK27+EK28+EK29+EK30-MAX(EK26:EK30)-MIN(EK26:EK30))/3","v":452.36000000000007},null,{"$f":"(EM26+EM27+EM28+EM29+EM30-MAX(EM26:EM30)-MIN(EM26:EM30))/3","v":436.07666666666665},null,null,"Farm Benchmark",{"$f":"(EQ26+EQ27+EQ28+EQ29+EQ30-MAX(EQ26:EQ30)-MIN(EQ26:EQ30))/3","v":624.06666666666661},null,{"$f":"(ES26+ES27+ES28+ES29+ES30-MAX(ES26:ES30)-MIN(ES26:ES30))/3","v":452.36000000000007},null,{"$f":"(EU26+EU27+EU28+EU29+EU30-MAX(EU26:EU30)-MIN(EU26:EU30))/3","v":436.07666666666665},null,null,"Farm Benchmark",{"$f":"(EY26+EY27+EY28+EY29+EY30-MAX(EY26:EY30)-MIN(EY26:EY30))/3","v":624.06666666666661},null,{"$f":"(FA26+FA27+FA28+FA29+FA30-MAX(FA26:FA30)-MIN(FA26:FA30))/3","v":452.36000000000007},null,{"$f":"(FC26+FC27+FC28+FC29+FC30-MAX(FC26:FC30)-MIN(FC26:FC30))/3","v":436.07666666666665},null,null,"Farm Benchmark",{"$f":"(FG26+FG27+FG28+FG29+FG30-MAX(FG26:FG30)-MIN(FG26:FG30))/3","v":624.06666666666661},null,{"$f":"(FI26+FI27+FI28+FI29+FI30-MAX(FI26:FI30)-MIN(FI26:FI30))/3","v":452.36000000000007},null,{"$f":"(FK26+FK27+FK28+FK29+FK30-MAX(FK26:FK30)-MIN(FK26:FK30))/3","v":436.07666666666665},null,null,"Farm Benchmark",{"$f":"(FO26+FO27+FO28+FO29+FO30-MAX(FO26:FO30)-MIN(FO26:FO30))/3","v":624.06666666666661},null,{"$f":"(FQ26+FQ27+FQ28+FQ29+FQ30-MAX(FQ26:FQ30)-MIN(FQ26:FQ30))/3","v":452.36000000000007},null,{"$f":"(FS26+FS27+FS28+FS29+FS30-MAX(FS26:FS30)-MIN(FS26:FS30))/3","v":436.07666666666665},null,null,"Farm Benchmark",{"$f":"(FW26+FW27+FW28+FW29+FW30-MAX(FW26:FW30)-MIN(FW26:FW30))/3","v":624.06666666666661},null,{"$f":"(FY26+FY27+FY28+FY29+FY30-MAX(FY26:FY30)-MIN(FY26:FY30))/3","v":452.36000000000007},null,{"$f":"(GA26+GA27+GA28+GA29+GA30-MAX(GA26:GA30)-MIN(GA26:GA30))/3","v":436.07666666666665},null,null,"Farm Benchmark",{"$f":"(GE26+GE27+GE28+GE29+GE30-MAX(GE26:GE30)-MIN(GE26:GE30))/3","v":624.06666666666661},null,{"$f":"(GG26+GG27+GG28+GG29+GG30-MAX(GG26:GG30)-MIN(GG26:GG30))/3","v":452.36000000000007},null,{"$f":"(GI26+GI27+GI28+GI29+GI30-MAX(GI26:GI30)-MIN(GI26:GI30))/3","v":436.07666666666665},null,null,"Farm Benchmark",{"$f":"(GM26+GM27+GM28+GM29+GM30-MAX(GM26:GM30)-MIN(GM26:GM30))/3","v":624.06666666666661},null,{"$f":"(GO26+GO27+GO28+GO29+GO30-MAX(GO26:GO30)-MIN(GO26:GO30))/3","v":452.36000000000007},null,{"$f":"(GQ26+GQ27+GQ28+GQ29+GQ30-MAX(GQ26:GQ30)-MIN(GQ26:GQ30))/3","v":436.07666666666665},null,null,"Farm Benchmark",{"$f":"(GU26+GU27+GU28+GU29+GU30-MAX(GU26:GU30)-MIN(GU26:GU30))/3","v":624.06666666666661},null,{"$f":"(GW26+GW27+GW28+GW29+GW30-MAX(GW26:GW30)-MIN(GW26:GW30))/3","v":452.36000000000007},null,{"$f":"(GY26+GY27+GY28+GY29+GY30-MAX(GY26:GY30)-MIN(GY26:GY30))/3","v":436.07666666666665},null,null,"Farm Benchmark",{"$f":"(HC26+HC27+HC28+HC29+HC30-MAX(HC26:HC30)-MIN(HC26:HC30))/3","v":624.06666666666661},null,{"$f":"(HE26+HE27+HE28+HE29+HE30-MAX(HE26:HE30)-MIN(HE26:HE30))/3","v":452.36000000000007},null,{"$f":"(HG26+HG27+HG28+HG29+HG30-MAX(HG26:HG30)-MIN(HG26:HG30))/3","v":436.07666666666665},null,null,"Farm Benchmark",{"$f":"(HK26+HK27+HK28+HK29+HK30-MAX(HK26:HK30)-MIN(HK26:HK30))/3","v":624.06666666666661},null,{"$f":"(HM26+HM27+HM28+HM29+HM30-MAX(HM26:HM30)-MIN(HM26:HM30))/3","v":452.36000000000007},null,{"$f":"(HO26+HO27+HO28+HO29+HO30-MAX(HO26:HO30)-MIN(HO26:HO30))/3","v":436.07666666666665},null,null,"Farm Benchmark",{"$f":"(HS26+HS27+HS28+HS29+HS30-MAX(HS26:HS30)-MIN(HS26:HS30))/3","v":624.06666666666661},null,{"$f":"(HU26+HU27+HU28+HU29+HU30-MAX(HU26:HU30)-MIN(HU26:HU30))/3","v":452.36000000000007},null,{"$f":"(HW26+HW27+HW28+HW29+HW30-MAX(HW26:HW30)-MIN(HW26:HW30))/3","v":436.07666666666665},null,null,"Farm Benchmark",{"$f":"(IA26+IA27+IA28+IA29+IA30-MAX(IA26:IA30)-MIN(IA26:IA30))/3","v":624.06666666666661},null,{"$f":"(IC26+IC27+IC28+IC29+IC30-MAX(IC26:IC30)-MIN(IC26:IC30))/3","v":452.36000000000007},null,{"$f":"(IE26+IE27+IE28+IE29+IE30-MAX(IE26:IE30)-MIN(IE26:IE30))/3","v":436.07666666666665},null,null,"Farm Benchmark",{"$f":"(II26+II27+II28+II29+II30-MAX(II26:II30)-MIN(II26:II30))/3","v":624.06666666666661},null,{"$f":"(IK26+IK27+IK28+IK29+IK30-MAX(IK26:IK30)-MIN(IK26:IK30))/3","v":452.36000000000007},null,{"$f":"(IM26+IM27+IM28+IM29+IM30-MAX(IM26:IM30)-MIN(IM26:IM30))/3","v":436.07666666666665},null,null,"Farm Benchmark",{"$f":"(IQ26+IQ27+IQ28+IQ29+IQ30-MAX(IQ26:IQ30)-MIN(IQ26:IQ30))/3","v":624.06666666666661},null,{"$f":"(IS26+IS27+IS28+IS29+IS30-MAX(IS26:IS30)-MIN(IS26:IS30))/3","v":452.36000000000007},null,{"$f":"(IU26+IU27+IU28+IU29+IU30-MAX(IU26:IU30)-MIN(IU26:IU30))/3","v":436.07666666666665},null,null,"Farm Benchmark",{"$f":"(IY26+IY27+IY28+IY29+IY30-MAX(IY26:IY30)-MIN(IY26:IY30))/3","v":624.06666666666661},null,{"$f":"(JA26+JA27+JA28+JA29+JA30-MAX(JA26:JA30)-MIN(JA26:JA30))/3","v":452.36000000000007},null,{"$f":"(JC26+JC27+JC28+JC29+JC30-MAX(JC26:JC30)-MIN(JC26:JC30))/3","v":436.07666666666665},null,null,"Farm Benchmark",{"$f":"(JG26+JG27+JG28+JG29+JG30-MAX(JG26:JG30)-MIN(JG26:JG30))/3","v":624.06666666666661},null,{"$f":"(JI26+JI27+JI28+JI29+JI30-MAX(JI26:JI30)-MIN(JI26:JI30))/3","v":452.36000000000007},null,{"$f":"(JK26+JK27+JK28+JK29+JK30-MAX(JK26:JK30)-MIN(JK26:JK30))/3","v":436.07666666666665},null,null,"Farm Benchmark",{"$f":"(JO26+JO27+JO28+JO29+JO30-MAX(JO26:JO30)-MIN(JO26:JO30))/3","v":624.06666666666661},null,{"$f":"(JQ26+JQ27+JQ28+JQ29+JQ30-MAX(JQ26:JQ30)-MIN(JQ26:JQ30))/3","v":452.36000000000007},null,{"$f":"(JS26+JS27+JS28+JS29+JS30-MAX(JS26:JS30)-MIN(JS26:JS30))/3","v":436.07666666666665},null,null,"Farm Benchmark",{"$f":"(JW26+JW27+JW28+JW29+JW30-MAX(JW26:JW30)-MIN(JW26:JW30))/3","v":624.06666666666661},null,{"$f":"(JY26+JY27+JY28+JY29+JY30-MAX(JY26:JY30)-MIN(JY26:JY30))/3","v":452.36000000000007},null,{"$f":"(KA26+KA27+KA28+KA29+KA30-MAX(KA26:KA30)-MIN(KA26:KA30))/3","v":436.07666666666665},null,null,"Farm Benchmark",{"$f":"(KE26+KE27+KE28+KE29+KE30-MAX(KE26:KE30)-MIN(KE26:KE30))/3","v":624.06666666666661},null,{"$f":"(KG26+KG27+KG28+KG29+KG30-MAX(KG26:KG30)-MIN(KG26:KG30))/3","v":452.36000000000007},null,{"$f":"(KI26+KI27+KI28+KI29+KI30-MAX(KI26:KI30)-MIN(KI26:KI30))/3","v":436.07666666666665},null,null,"Farm Benchmark",{"$f":"(KM26+KM27+KM28+KM29+KM30-MAX(KM26:KM30)-MIN(KM26:KM30))/3","v":624.06666666666661},null,{"$f":"(KO26+KO27+KO28+KO29+KO30-MAX(KO26:KO30)-MIN(KO26:KO30))/3","v":452.36000000000007},null,{"$f":"(KQ26+KQ27+KQ28+KQ29+KQ30-MAX(KQ26:KQ30)-MIN(KQ26:KQ30))/3","v":436.07666666666665},null,null,"Farm Benchmark",{"$f":"(KU26+KU27+KU28+KU29+KU30-MAX(KU26:KU30)-MIN(KU26:KU30))/3","v":624.06666666666661},null,{"$f":"(KW26+KW27+KW28+KW29+KW30-MAX(KW26:KW30)-MIN(KW26:KW30))/3","v":452.36000000000007},null,{"$f":"(KY26+KY27+KY28+KY29+KY30-MAX(KY26:KY30)-MIN(KY26:KY30))/3","v":436.07666666666665},null,null,"Farm Benchmark",{"$f":"(LC26+LC27+LC28+LC29+LC30-MAX(LC26:LC30)-MIN(LC26:LC30))/3","v":624.06666666666661},null,{"$f":"(LE26+LE27+LE28+LE29+LE30-MAX(LE26:LE30)-MIN(LE26:LE30))/3","v":452.36000000000007},null,{"$f":"(LG26+LG27+LG28+LG29+LG30-MAX(LG26:LG30)-MIN(LG26:LG30))/3","v":436.07666666666665},null,null,"Farm Benchmark",{"$f":"(LK26+LK27+LK28+LK29+LK30-MAX(LK26:LK30)-MIN(LK26:LK30))/3","v":624.06666666666661},null,{"$f":"(LM26+LM27+LM28+LM29+LM30-MAX(LM26:LM30)-MIN(LM26:LM30))/3","v":452.36000000000007},null,{"$f":"(LO26+LO27+LO28+LO29+LO30-MAX(LO26:LO30)-MIN(LO26:LO30))/3","v":436.07666666666665},null,null,"Farm Benchmark",{"$f":"(LS26+LS27+LS28+LS29+LS30-MAX(LS26:LS30)-MIN(LS26:LS30))/3","v":624.06666666666661},null,{"$f":"(LU26+LU27+LU28+LU29+LU30-MAX(LU26:LU30)-MIN(LU26:LU30))/3","v":452.36000000000007},null,{"$f":"(LW26+LW27+LW28+LW29+LW30-MAX(LW26:LW30)-MIN(LW26:LW30))/3","v":436.07666666666665},null,null,"Farm Benchmark",{"$f":"(MA26+MA27+MA28+MA29+MA30-MAX(MA26:MA30)-MIN(MA26:MA30))/3","v":624.06666666666661},null,{"$f":"(MC26+MC27+MC28+MC29+MC30-MAX(MC26:MC30)-MIN(MC26:MC30))/3","v":452.36000000000007},null,{"$f":"(ME26+ME27+ME28+ME29+ME30-MAX(ME26:ME30)-MIN(ME26:ME30))/3","v":436.07666666666665},null,null,"Farm Benchmark",{"$f":"(MI26+MI27+MI28+MI29+MI30-MAX(MI26:MI30)-MIN(MI26:MI30))/3","v":624.06666666666661},null,{"$f":"(MK26+MK27+MK28+MK29+MK30-MAX(MK26:MK30)-MIN(MK26:MK30))/3","v":452.36000000000007},null,{"$f":"(MM26+MM27+MM28+MM29+MM30-MAX(MM26:MM30)-MIN(MM26:MM30))/3","v":436.07666666666665},null,null,"Farm Benchmark",{"$f":"(MQ26+MQ27+MQ28+MQ29+MQ30-MAX(MQ26:MQ30)-MIN(MQ26:MQ30))/3","v":624.06666666666661},null,{"$f":"(MS26+MS27+MS28+MS29+MS30-MAX(MS26:MS30)-MIN(MS26:MS30))/3","v":452.36000000000007},null,{"$f":"(MU26+MU27+MU28+MU29+MU30-MAX(MU26:MU30)-MIN(MU26:MU30))/3","v":436.07666666666665},null,null,"Farm Benchmark",{"$f":"(MY26+MY27+MY28+MY29+MY30-MAX(MY26:MY30)-MIN(MY26:MY30))/3","v":624.06666666666661},null,{"$f":"(NA26+NA27+NA28+NA29+NA30-MAX(NA26:NA30)-MIN(NA26:NA30))/3","v":452.36000000000007},null,{"$f":"(NC26+NC27+NC28+NC29+NC30-MAX(NC26:NC30)-MIN(NC26:NC30))/3","v":436.07666666666665},null,null,"Farm Benchmark",{"$f":"(NG26+NG27+NG28+NG29+NG30-MAX(NG26:NG30)-MIN(NG26:NG30))/3","v":624.06666666666661},null,{"$f":"(NI26+NI27+NI28+NI29+NI30-MAX(NI26:NI30)-MIN(NI26:NI30))/3","v":452.36000000000007},null,{"$f":"(NK26+NK27+NK28+NK29+NK30-MAX(NK26:NK30)-MIN(NK26:NK30))/3","v":436.07666666666665},null,null,"Farm Benchmark",{"$f":"(NO26+NO27+NO28+NO29+NO30-MAX(NO26:NO30)-MIN(NO26:NO30))/3","v":624.06666666666661},null,{"$f":"(NQ26+NQ27+NQ28+NQ29+NQ30-MAX(NQ26:NQ30)-MIN(NQ26:NQ30))/3","v":452.36000000000007},null,{"$f":"(NS26+NS27+NS28+NS29+NS30-MAX(NS26:NS30)-MIN(NS26:NS30))/3","v":436.07666666666665},null,null,"Farm Benchmark",{"$f":"(NW26+NW27+NW28+NW29+NW30-MAX(NW26:NW30)-MIN(NW26:NW30))/3","v":624.06666666666661},null,{"$f":"(NY26+NY27+NY28+NY29+NY30-MAX(NY26:NY30)-MIN(NY26:NY30))/3","v":452.36000000000007},null,{"$f":"(OA26+OA27+OA28+OA29+OA30-MAX(OA26:OA30)-MIN(OA26:OA30))/3","v":436.07666666666665},null,null,"Farm Benchmark",{"$f":"(OE26+OE27+OE28+OE29+OE30-MAX(OE26:OE30)-MIN(OE26:OE30))/3","v":624.06666666666661},null,{"$f":"(OG26+OG27+OG28+OG29+OG30-MAX(OG26:OG30)-MIN(OG26:OG30))/3","v":452.36000000000007},null,{"$f":"(OI26+OI27+OI28+OI29+OI30-MAX(OI26:OI30)-MIN(OI26:OI30))/3","v":436.07666666666665},null,null,"Farm Benchmark",{"$f":"(OM26+OM27+OM28+OM29+OM30-MAX(OM26:OM30)-MIN(OM26:OM30))/3","v":624.06666666666661},null,{"$f":"(OO26+OO27+OO28+OO29+OO30-MAX(OO26:OO30)-MIN(OO26:OO30))/3","v":452.36000000000007},null,{"$f":"(OQ26+OQ27+OQ28+OQ29+OQ30-MAX(OQ26:OQ30)-MIN(OQ26:OQ30))/3","v":436.07666666666665}]
["Weighted Farm BenchMark Revenue",null,{"$f":"C31*D25","v":{"$error":"#DIV/0!"}},null,{"$f":"E31*F25","v":{"$error":"#DIV/0!"}},null,{"$f":"G31*H25","v":{"$error":"#DIV/0!"}},null,null,"Weighted",{"$f":"K31*L25","v":{"$error":"#DIV/0!"}},null,{"$f":"M31*N25","v":{"$error":"#DIV/0!"}},null,{"$f":"O31*P25","v":{"$error":"#DIV/0!"}},null,null,"Weighted",{"$f":"S31*T25","v":{"$error":"#DIV/0!"}},null,{"$f":"U31*V25","v":{"$error":"#DIV/0!"}},null,{"$f":"W31*X25","v":{"$error":"#DIV/0!"}},null,null,"Weighted",{"$f":"AA31*AB25","v":{"$error":"#DIV/0!"}},null,{"$f":"AC31*AD25","v":{"$error":"#DIV/0!"}},null,{"$f":"AE31*AF25","v":{"$error":"#DIV/0!"}},null,null,"Weighted",{"$f":"AI31*AJ25","v":{"$error":"#DIV/0!"}},null,{"$f":"AK31*AL25","v":{"$error":"#DIV/0!"}},null,{"$f":"AM31*AN25","v":{"$error":"#DIV/0!"}},null,null,"Weighted",{"$f":"AQ31*AR25","v":{"$error":"#DIV/0!"}},null,{"$f":"AS31*AT25","v":{"$error":"#DIV/0!"}},null,{"$f":"AU31*AV25","v":{"$error":"#DIV/0!"}},null,null,"Weighted",{"$f":"AY31*AZ25","v":{"$error":"#DIV/0!"}},null,{"$f":"BA31*BB25","v":{"$error":"#DIV/0!"}},null,{"$f":"BC31*BD25","v":{"$error":"#DIV/0!"}},null,null,"Weighted",{"$f":"BG31*BH25","v":{"$error":"#DIV/0!"}},null,{"$f":"BI31*BJ25","v":{"$error":"#DIV/0!"}},null,{"$f":"BK31*BL25","v":{"$error":"#DIV/0!"}},null,null,"Weighted",{"$f":"BO31*BP25","v":{"$error":"#DIV/0!"}},null,{"$f":"BQ31*BR25","v":{"$error":"#DIV/0!"}},null,{"$f":"BS31*BT25","v":{"$error":"#DIV/0!"}},null,null,"Weighted",{"$f":"BW31*BX25","v":{"$error":"#DIV/0!"}},null,{"$f":"BY31*BZ25","v":{"$error":"#DIV/0!"}},null,{"$f":"CA31*CB25","v":{"$error":"#DIV/0!"}},null,null,"Weighted",{"$f":"CE31*CF25","v":{"$error":"#DIV/0!"}},null,{"$f":"CG31*CH25","v":{"$error":"#DIV/0!"}},null,{"$f":"CI31*CJ25","v":{"$error":"#DIV/0!"}},null,null,"Weighted",{"$f":"CM31*CN25","v":{"$error":"#DIV/0!"}},null,{"$f":"CO31*CP25","v":{"$error":"#DIV/0!"}},null,{"$f":"CQ31*CR25","v":{"$error":"#DIV/0!"}},null,null,"Weighted",{"$f":"CU31*CV25","v":{"$error":"#DIV/0!"}},null,{"$f":"CW31*CX25","v":{"$error":"#DIV/0!"}},null,{"$f":"CY31*CZ25","v":{"$error":"#DIV/0!"}},null,null,"Weighted",{"$f":"DC31*DD25","v":{"$error":"#DIV/0!"}},null,{"$f":"DE31*DF25","v":{"$error":"#DIV/0!"}},null,{"$f":"DG31*DH25","v":{"$error":"#DIV/0!"}},null,null,"Weighted",{"$f":"DK31*DL25","v":{"$error":"#DIV/0!"}},null,{"$f":"DM31*DN25","v":{"$error":"#DIV/0!"}},null,{"$f":"DO31*DP25","v":{"$error":"#DIV/0!"}},null,null,"Weighted",{"$f":"DS31*DT25","v":{"$error":"#DIV/0!"}},null,{"$f":"DU31*DV25","v":{"$error":"#DIV/0!"}},null,{"$f":"DW31*DX25","v":{"$error":"#DIV/0!"}},null,null,"Weighted",{"$f":"EA31*EB25","v":{"$error":"#DIV/0!"}},null,{"$f":"EC31*ED25","v":{"$error":"#DIV/0!"}},null,{"$f":"EE31*EF25","v":{"$error":"#DIV/0!"}},null,null,"Weighted",{"$f":"EI31*EJ25","v":{"$error":"#DIV/0!"}},null,{"$f":"EK31*EL25","v":{"$error":"#DIV/0!"}},null,{"$f":"EM31*EN25","v":{"$error":"#DIV/0!"}},null,null,"Weighted",{"$f":"EQ31*ER25","v":{"$error":"#DIV/0!"}},null,{"$f":"ES31*ET25","v":{"$error":"#DIV/0!"}},null,{"$f":"EU31*EV25","v":{"$error":"#DIV/0!"}},null,null,"Weighted",{"$f":"EY31*EZ25","v":{"$error":"#DIV/0!"}},null,{"$f":"FA31*FB25","v":{"$error":"#DIV/0!"}},null,{"$f":"FC31*FD25","v":{"$error":"#DIV/0!"}},null,null,"Weighted",{"$f":"FG31*FH25","v":{"$error":"#DIV/0!"}},null,{"$f":"FI31*FJ25","v":{"$error":"#DIV/0!"}},null,{"$f":"FK31*FL25","v":{"$error":"#DIV/0!"}},null,null,"Weighted",{"$f":"FO31*FP25","v":{"$error":"#DIV/0!"}},null,{"$f":"FQ31*FR25","v":{"$error":"#DIV/0!"}},null,{"$f":"FS31*FT25","v":{"$error":"#DIV/0!"}},null,null,"Weighted",{"$f":"FW31*FX25","v":{"$error":"#DIV/0!"}},null,{"$f":"FY31*FZ25","v":{"$error":"#DIV/0!"}},null,{"$f":"GA31*GB25","v":{"$error":"#DIV/0!"}},null,null,"Weighted",{"$f":"GE31*GF25","v":{"$error":"#DIV/0!"}},null,{"$f":"GG31*GH25","v":{"$error":"#DIV/0!"}},null,{"$f":"GI31*GJ25","v":{"$error":"#DIV/0!"}},null,null,"Weighted",{"$f":"GM31*GN25","v":{"$error":"#DIV/0!"}},null,{"$f":"GO31*GP25","v":{"$error":"#DIV/0!"}},null,{"$f":"GQ31*GR25","v":{"$error":"#DIV/0!"}},null,null,"Weighted",{"$f":"GU31*GV25","v":{"$error":"#DIV/0!"}},null,{"$f":"GW31*GX25","v":{"$error":"#DIV/0!"}},null,{"$f":"GY31*GZ25","v":{"$error":"#DIV/0!"}},null,null,"Weighted",{"$f":"HC31*HD25","v":{"$error":"#DIV/0!"}},null,{"$f":"HE31*HF25","v":{"$error":"#DIV/0!"}},null,{"$f":"HG31*HH25","v":{"$error":"#DIV/0!"}},null,null,"Weighted",{"$f":"HK31*HL25","v":{"$error":"#DIV/0!"}},null,{"$f":"HM31*HN25","v":{"$error":"#DIV/0!"}},null,{"$f":"HO31*HP25","v":{"$error":"#DIV/0!"}},null,null,"Weighted",{"$f":"HS31*HT25","v":{"$error":"#DIV/0!"}},null,{"$f":"HU31*HV25","v":{"$error":"#DIV/0!"}},null,{"$f":"HW31*HX25","v":{"$error":"#DIV/0!"}},null,null,"Weighted",{"$f":"IA31*IB25","v":{"$error":"#DIV/0!"}},null,{"$f":"IC31*ID25","v":{"$error":"#DIV/0!"}},null,{"$f":"IE31*IF25","v":{"$error":"#DIV/0!"}},null,null,"Weighted",{"$f":"II31*IJ25","v":{"$error":"#DIV/0!"}},null,{"$f":"IK31*IL25","v":{"$error":"#DIV/0!"}},null,{"$f":"IM31*IN25","v":{"$error":"#DIV/0!"}},null,null,"Weighted",{"$f":"IQ31*IR25","v":{"$error":"#DIV/0!"}},null,{"$f":"IS31*IT25","v":{"$error":"#DIV/0!"}},null,{"$f":"IU31*IV25","v":{"$error":"#DIV/0!"}},null,null,"Weighted",{"$f":"IY31*IZ25","v":{"$error":"#DIV/0!"}},null,{"$f":"JA31*JB25","v":{"$error":"#DIV/0!"}},null,{"$f":"JC31*JD25","v":{"$error":"#DIV/0!"}},null,null,"Weighted",{"$f":"JG31*JH25","v":{"$error":"#DIV/0!"}},null,{"$f":"JI31*JJ25","v":{"$error":"#DIV/0!"}},null,{"$f":"JK31*JL25","v":{"$error":"#DIV/0!"}},null,null,"Weighted",{"$f":"JO31*JP25","v":{"$error":"#DIV/0!"}},null,{"$f":"JQ31*JR25","v":{"$error":"#DIV/0!"}},null,{"$f":"JS31*JT25","v":{"$error":"#DIV/0!"}},null,null,"Weighted",{"$f":"JW31*JX25","v":{"$error":"#DIV/0!"}},null,{"$f":"JY31*JZ25","v":{"$error":"#DIV/0!"}},null,{"$f":"KA31*KB25","v":{"$error":"#DIV/0!"}},null,null,"Weighted",{"$f":"KE31*KF25","v":{"$error":"#DIV/0!"}},null,{"$f":"KG31*KH25","v":{"$error":"#DIV/0!"}},null,{"$f":"KI31*KJ25","v":{"$error":"#DIV/0!"}},null,null,"Weighted",{"$f":"KM31*KN25","v":{"$error":"#DIV/0!"}},null,{"$f":"KO31*KP25","v":{"$error":"#DIV/0!"}},null,{"$f":"KQ31*KR25","v":{"$error":"#DIV/0!"}},null,null,"Weighted",{"$f":"KU31*KV25","v":{"$error":"#DIV/0!"}},null,{"$f":"KW31*KX25","v":{"$error":"#DIV/0!"}},null,{"$f":"KY31*KZ25","v":{"$error":"#DIV/0!"}},null,null,"Weighted",{"$f":"LC31*LD25","v":{"$error":"#DIV/0!"}},null,{"$f":"LE31*LF25","v":{"$error":"#DIV/0!"}},null,{"$f":"LG31*LH25","v":{"$error":"#DIV/0!"}},null,null,"Weighted",{"$f":"LK31*LL25","v":{"$error":"#DIV/0!"}},null,{"$f":"LM31*LN25","v":{"$error":"#DIV/0!"}},null,{"$f":"LO31*LP25","v":{"$error":"#DIV/0!"}},null,null,"Weighted",{"$f":"LS31*LT25","v":{"$error":"#DIV/0!"}},null,{"$f":"LU31*LV25","v":{"$error":"#DIV/0!"}},null,{"$f":"LW31*LX25","v":{"$error":"#DIV/0!"}},null,null,"Weighted",{"$f":"MA31*MB25","v":{"$error":"#DIV/0!"}},null,{"$f":"MC31*MD25","v":{"$error":"#DIV/0!"}},null,{"$f":"ME31*MF25","v":{"$error":"#DIV/0!"}},null,null,"Weighted",{"$f":"MI31*MJ25","v":{"$error":"#DIV/0!"}},null,{"$f":"MK31*ML25","v":{"$error":"#DIV/0!"}},null,{"$f":"MM31*MN25","v":{"$error":"#DIV/0!"}},null,null,"Weighted",{"$f":"MQ31*MR25","v":{"$error":"#DIV/0!"}},null,{"$f":"MS31*MT25","v":{"$error":"#DIV/0!"}},null,{"$f":"MU31*MV25","v":{"$error":"#DIV/0!"}},null,null,"Weighted",{"$f":"MY31*MZ25","v":{"$error":"#DIV/0!"}},null,{"$f":"NA31*NB25","v":{"$error":"#DIV/0!"}},null,{"$f":"NC31*ND25","v":{"$error":"#DIV/0!"}},null,null,"Weighted",{"$f":"NG31*NH25","v":{"$error":"#DIV/0!"}},null,{"$f":"NI31*NJ25","v":{"$error":"#DIV/0!"}},null,{"$f":"NK31*NL25","v":{"$error":"#DIV/0!"}},null,null,"Weighted",{"$f":"NO31*NP25","v":{"$error":"#DIV/0!"}},null,{"$f":"NQ31*NR25","v":{"$error":"#DIV/0!"}},null,{"$f":"NS31*NT25","v":{"$error":"#DIV/0!"}},null,null,"Weighted",{"$f":"NW31*NX25","v":{"$error":"#DIV/0!"}},null,{"$f":"NY31*NZ25","v":{"$error":"#DIV/0!"}},null,{"$f":"OA31*OB25","v":{"$error":"#DIV/0!"}},null,null,"Weighted",{"$f":"OE31*OF25","v":{"$error":"#DIV/0!"}},null,{"$f":"OG31*OH25","v":{"$error":"#DIV/0!"}},null,{"$f":"OI31*OJ25","v":{"$error":"#DIV/0!"}},null,null,"Weighted",{"$f":"OM31*ON25","v":{"$error":"#DIV/0!"}},null,{"$f":"OO31*OP25","v":{"$error":"#DIV/0!"}},null,{"$f":"OQ31*OR25","v":{"$error":"#DIV/0!"}}]
["Actual Farm Revenue 2019",null,{"$f":"C20*D20*'2019-20 Farm Bill Calculator'!$E$48","v":0},null,{"$f":"E20*F20*'2019-20 Farm Bill Calculator'!$G$48","v":0},null,{"$f":"G20*H20*'2019-20 Farm Bill Calculator'!$I$48","v":0},null,null,null,{"$f":"K20*L20*'2019-20 Farm Bill Calculator'!$E$48","v":0},null,{"$f":"M20*N20*'2019-20 Farm Bill Calculator'!$G$48","v":0},null,{"$f":"O20*P20*'2019-20 Farm Bill Calculator'!$I$48","v":0},null,null,null,{"$f":"S20*T20*'2019-20 Farm Bill Calculator'!$E$48","v":0},null,{"$f":"U20*V20*'2019-20 Farm Bill Calculator'!$G$48","v":0},null,{"$f":"W20*X20*'2019-20 Farm Bill Calculator'!$I$48","v":0},null,null,null,{"$f":"AA20*AB20*'2019-20 Farm Bill Calculator'!$E$48","v":0},null,{"$f":"AC20*AD20*'2019-20 Farm Bill Calculator'!$G$48","v":0},null,{"$f":"AE20*AF20*'2019-20 Farm Bill Calculator'!$I$48","v":0},null,null,null,{"$f":"AI20*AJ20*'2019-20 Farm Bill Calculator'!$E$48","v":0},null,{"$f":"AK20*AL20*'2019-20 Farm Bill Calculator'!$G$48","v":0},null,{"$f":"AM20*AN20*'2019-20 Farm Bill Calculator'!$I$48","v":0},null,null,null,{"$f":"AQ20*AR20*'2019-20 Farm Bill Calculator'!$E$48","v":0},null,{"$f":"AS20*AT20*'2019-20 Farm Bill Calculator'!$G$48","v":0},null,{"$f":"AU20*AV20*'2019-20 Farm Bill Calculator'!$I$48","v":0},null,null,null,{"$f":"AY20*AZ20*'2019-20 Farm Bill Calculator'!$E$48","v":0},null,{"$f":"BA20*BB20*'2019-20 Farm Bill Calculator'!$G$48","v":0},null,{"$f":"BC20*BD20*'2019-20 Farm Bill Calculator'!$I$48","v":0},null,null,null,{"$f":"BG20*BH20*'2019-20 Farm Bill Calculator'!$E$48","v":0},null,{"$f":"BI20*BJ20*'2019-20 Farm Bill Calculator'!$G$48","v":0},null,{"$f":"BK20*BL20*'2019-20 Farm Bill Calculator'!$I$48","v":0},null,null,null,{"$f":"BO20*BP20*'2019-20 Farm Bill Calculator'!$E$48","v":0},null,{"$f":"BQ20*BR20*'2019-20 Farm Bill Calculator'!$G$48","v":0},null,{"$f":"BS20*BT20*'2019-20 Farm Bill Calculator'!$I$48","v":0},null,null,null,{"$f":"BW20*BX20*'2019-20 Farm Bill Calculator'!$E$48","v":0},null,{"$f":"BY20*BZ20*'2019-20 Farm Bill Calculator'!$G$48","v":0},null,{"$f":"CA20*CB20*'2019-20 Farm Bill Calculator'!$I$48","v":0},null,null,null,{"$f":"CE20*CF20*'2019-20 Farm Bill Calculator'!$E$48","v":0},null,{"$f":"CG20*CH20*'2019-20 Farm Bill Calculator'!$G$48","v":0},null,{"$f":"CI20*CJ20*'2019-20 Farm Bill Calculator'!$I$48","v":0},null,null,null,{"$f":"CM20*CN20*'2019-20 Farm Bill Calculator'!$E$48","v":0},null,{"$f":"CO20*CP20*'2019-20 Farm Bill Calculator'!$G$48","v":0},null,{"$f":"CQ20*CR20*'2019-20 Farm Bill Calculator'!$I$48","v":0},null,null,null,{"$f":"CU20*CV20*'2019-20 Farm Bill Calculator'!$E$48","v":0},null,{"$f":"CW20*CX20*'2019-20 Farm Bill Calculator'!$G$48","v":0},null,{"$f":"CY20*CZ20*'2019-20 Farm Bill Calculator'!$I$48","v":0},null,null,null,{"$f":"DC20*DD20*'2019-20 Farm Bill Calculator'!$E$48","v":0},null,{"$f":"DE20*DF20*'2019-20 Farm Bill Calculator'!$G$48","v":0},null,{"$f":"DG20*DH20*'2019-20 Farm Bill Calculator'!$I$48","v":0},null,null,null,{"$f":"DK20*DL20*'2019-20 Farm Bill Calculator'!$E$48","v":0},null,{"$f":"DM20*DN20*'2019-20 Farm Bill Calculator'!$G$48","v":0},null,{"$f":"DO20*DP20*'2019-20 Farm Bill Calculator'!$I$48","v":0},null,null,null,{"$f":"DS20*DT20*'2019-20 Farm Bill Calculator'!$E$48","v":0},null,{"$f":"DU20*DV20*'2019-20 Farm Bill Calculator'!$G$48","v":0},null,{"$f":"DW20*DX20*'2019-20 Farm Bill Calculator'!$I$48","v":0},null,null,null,{"$f":"EA20*EB20*'2019-20 Farm Bill Calculator'!$E$48","v":0},null,{"$f":"EC20*ED20*'2019-20 Farm Bill Calculator'!$G$48","v":0},null,{"$f":"EE20*EF20*'2019-20 Farm Bill Calculator'!$I$48","v":0},null,null,null,{"$f":"EI20*EJ20*'2019-20 Farm Bill Calculator'!$E$48","v":0},null,{"$f":"EK20*EL20*'2019-20 Farm Bill Calculator'!$G$48","v":0},null,{"$f":"EM20*EN20*'2019-20 Farm Bill Calculator'!$I$48","v":0},null,null,null,{"$f":"EQ20*ER20*'2019-20 Farm Bill Calculator'!$E$48","v":0},null,{"$f":"ES20*ET20*'2019-20 Farm Bill Calculator'!$G$48","v":0},null,{"$f":"EU20*EV20*'2019-20 Farm Bill Calculator'!$I$48","v":0},null,null,null,{"$f":"EY20*EZ20*'2019-20 Farm Bill Calculator'!$E$48","v":0},null,{"$f":"FA20*FB20*'2019-20 Farm Bill Calculator'!$G$48","v":0},null,{"$f":"FC20*FD20*'2019-20 Farm Bill Calculator'!$I$48","v":0},null,null,null,{"$f":"FG20*FH20*'2019-20 Farm Bill Calculator'!$E$48","v":0},null,{"$f":"FI20*FJ20*'2019-20 Farm Bill Calculator'!$G$48","v":0},null,{"$f":"FK20*FL20*'2019-20 Farm Bill Calculator'!$I$48","v":0},null,null,null,{"$f":"FO20*FP20*'2019-20 Farm Bill Calculator'!$E$48","v":0},null,{"$f":"FQ20*FR20*'2019-20 Farm Bill Calculator'!$G$48","v":0},null,{"$f":"FS20*FT20*'2019-20 Farm Bill Calculator'!$I$48","v":0},null,null,null,{"$f":"FW20*FX20*'2019-20 Farm Bill Calculator'!$E$48","v":0},null,{"$f":"FY20*FZ20*'2019-20 Farm Bill Calculator'!$G$48","v":0},null,{"$f":"GA20*GB20*'2019-20 Farm Bill Calculator'!$I$48","v":0},null,null,null,{"$f":"GE20*GF20*'2019-20 Farm Bill Calculator'!$E$48","v":0},null,{"$f":"GG20*GH20*'2019-20 Farm Bill Calculator'!$G$48","v":0},null,{"$f":"GI20*GJ20*'2019-20 Farm Bill Calculator'!$I$48","v":0},null,null,null,{"$f":"GM20*GN20*'2019-20 Farm Bill Calculator'!$E$48","v":0},null,{"$f":"GO20*GP20*'2019-20 Farm Bill Calculator'!$G$48","v":0},null,{"$f":"GQ20*GR20*'2019-20 Farm Bill Calculator'!$I$48","v":0},null,null,null,{"$f":"GU20*GV20*'2019-20 Farm Bill Calculator'!$E$48","v":0},null,{"$f":"GW20*GX20*'2019-20 Farm Bill Calculator'!$G$48","v":0},null,{"$f":"GY20*GZ20*'2019-20 Farm Bill Calculator'!$I$48","v":0},null,null,null,{"$f":"HC20*HD20*'2019-20 Farm Bill Calculator'!$E$48","v":0},null,{"$f":"HE20*HF20*'2019-20 Farm Bill Calculator'!$G$48","v":0},null,{"$f":"HG20*HH20*'2019-20 Farm Bill Calculator'!$I$48","v":0},null,null,null,{"$f":"HK20*HL20*'2019-20 Farm Bill Calculator'!$E$48","v":0},null,{"$f":"HM20*HN20*'2019-20 Farm Bill Calculator'!$G$48","v":0},null,{"$f":"HO20*HP20*'2019-20 Farm Bill Calculator'!$I$48","v":0},null,null,null,{"$f":"HS20*HT20*'2019-20 Farm Bill Calculator'!$E$48","v":0},null,{"$f":"HU20*HV20*'2019-20 Farm Bill Calculator'!$G$48","v":0},null,{"$f":"HW20*HX20*'2019-20 Farm Bill Calculator'!$I$48","v":0},null,null,null,{"$f":"IA20*IB20*'2019-20 Farm Bill Calculator'!$E$48","v":0},null,{"$f":"IC20*ID20*'2019-20 Farm Bill Calculator'!$G$48","v":0},null,{"$f":"IE20*IF20*'2019-20 Farm Bill Calculator'!$I$48","v":0},null,null,null,{"$f":"II20*IJ20*'2019-20 Farm Bill Calculator'!$E$48","v":0},null,{"$f":"IK20*IL20*'2019-20 Farm Bill Calculator'!$G$48","v":0},null,{"$f":"IM20*IN20*'2019-20 Farm Bill Calculator'!$I$48","v":0},null,null,null,{"$f":"IQ20*IR20*'2019-20 Farm Bill Calculator'!$E$48","v":0},null,{"$f":"IS20*IT20*'2019-20 Farm Bill Calculator'!$G$48","v":0},null,{"$f":"IU20*IV20*'2019-20 Farm Bill Calculator'!$I$48","v":0},null,null,null,{"$f":"IY20*IZ20*'2019-20 Farm Bill Calculator'!$E$48","v":0},null,{"$f":"JA20*JB20*'2019-20 Farm Bill Calculator'!$G$48","v":0},null,{"$f":"JC20*JD20*'2019-20 Farm Bill Calculator'!$I$48","v":0},null,null,null,{"$f":"JG20*JH20*'2019-20 Farm Bill Calculator'!$E$48","v":0},null,{"$f":"JI20*JJ20*'2019-20 Farm Bill Calculator'!$G$48","v":0},null,{"$f":"JK20*JL20*'2019-20 Farm Bill Calculator'!$I$48","v":0},null,null,null,{"$f":"JO20*JP20*'2019-20 Farm Bill Calculator'!$E$48","v":0},null,{"$f":"JQ20*JR20*'2019-20 Farm Bill Calculator'!$G$48","v":0},null,{"$f":"JS20*JT20*'2019-20 Farm Bill Calculator'!$I$48","v":0},null,null,null,{"$f":"JW20*JX20*'2019-20 Farm Bill Calculator'!$E$48","v":0},null,{"$f":"JY20*JZ20*'2019-20 Farm Bill Calculator'!$G$48","v":0},null,{"$f":"KA20*KB20*'2019-20 Farm Bill Calculator'!$I$48","v":0},null,null,null,{"$f":"KE20*KF20*'2019-20 Farm Bill Calculator'!$E$48","v":0},null,{"$f":"KG20*KH20*'2019-20 Farm Bill Calculator'!$G$48","v":0},null,{"$f":"KI20*KJ20*'2019-20 Farm Bill Calculator'!$I$48","v":0},null,null,null,{"$f":"KM20*KN20*'2019-20 Farm Bill Calculator'!$E$48","v":0},null,{"$f":"KO20*KP20*'2019-20 Farm Bill Calculator'!$G$48","v":0},null,{"$f":"KQ20*KR20*'2019-20 Farm Bill Calculator'!$I$48","v":0},null,null,null,{"$f":"KU20*KV20*'2019-20 Farm Bill Calculator'!$E$48","v":0},null,{"$f":"KW20*KX20*'2019-20 Farm Bill Calculator'!$G$48","v":0},null,{"$f":"KY20*KZ20*'2019-20 Farm Bill Calculator'!$I$48","v":0},null,null,null,{"$f":"LC20*LD20*'2019-20 Farm Bill Calculator'!$E$48","v":0},null,{"$f":"LE20*LF20*'2019-20 Farm Bill Calculator'!$G$48","v":0},null,{"$f":"LG20*LH20*'2019-20 Farm Bill Calculator'!$I$48","v":0},null,null,null,{"$f":"LK20*LL20*'2019-20 Farm Bill Calculator'!$E$48","v":0},null,{"$f":"LM20*LN20*'2019-20 Farm Bill Calculator'!$G$48","v":0},null,{"$f":"LO20*LP20*'2019-20 Farm Bill Calculator'!$I$48","v":0},null,null,null,{"$f":"LS20*LT20*'2019-20 Farm Bill Calculator'!$E$48","v":0},null,{"$f":"LU20*LV20*'2019-20 Farm Bill Calculator'!$G$48","v":0},null,{"$f":"LW20*LX20*'2019-20 Farm Bill Calculator'!$I$48","v":0},null,null,null,{"$f":"MA20*MB20*'2019-20 Farm Bill Calculator'!$E$48","v":0},null,{"$f":"MC20*MD20*'2019-20 Farm Bill Calculator'!$G$48","v":0},null,{"$f":"ME20*MF20*'2019-20 Farm Bill Calculator'!$I$48","v":0},null,null,null,{"$f":"MI20*MJ20*'2019-20 Farm Bill Calculator'!$E$48","v":0},null,{"$f":"MK20*ML20*'2019-20 Farm Bill Calculator'!$G$48","v":0},null,{"$f":"MM20*MN20*'2019-20 Farm Bill Calculator'!$I$48","v":0},null,null,null,{"$f":"MQ20*MR20*'2019-20 Farm Bill Calculator'!$E$48","v":0},null,{"$f":"MS20*MT20*'2019-20 Farm Bill Calculator'!$G$48","v":0},null,{"$f":"MU20*MV20*'2019-20 Farm Bill Calculator'!$I$48","v":0},null,null,null,{"$f":"MY20*MZ20*'2019-20 Farm Bill Calculator'!$E$48","v":0},null,{"$f":"NA20*NB20*'2019-20 Farm Bill Calculator'!$G$48","v":0},null,{"$f":"NC20*ND20*'2019-20 Farm Bill Calculator'!$I$48","v":0},null,null,null,{"$f":"NG20*NH20*'2019-20 Farm Bill Calculator'!$E$48","v":0},null,{"$f":"NI20*NJ20*'2019-20 Farm Bill Calculator'!$G$48","v":0},null,{"$f":"NK20*NL20*'2019-20 Farm Bill Calculator'!$I$48","v":0},null,null,null,{"$f":"NO20*NP20*'2019-20 Farm Bill Calculator'!$E$48","v":0},null,{"$f":"NQ20*NR20*'2019-20 Farm Bill Calculator'!$G$48","v":0},null,{"$f":"NS20*NT20*'2019-20 Farm Bill Calculator'!$I$48","v":0},null,null,null,{"$f":"NW20*NX20*'2019-20 Farm Bill Calculator'!$E$48","v":0},null,{"$f":"NY20*NZ20*'2019-20 Farm Bill Calculator'!$G$48","v":0},null,{"$f":"OA20*OB20*'2019-20 Farm Bill Calculator'!$I$48","v":0},null,null,null,{"$f":"OE20*OF20*'2019-20 Farm Bill Calculator'!$E$48","v":0},null,{"$f":"OG20*OH20*'2019-20 Farm Bill Calculator'!$G$48","v":0},null,{"$f":"OI20*OJ20*'2019-20 Farm Bill Calculator'!$I$48","v":0},null,null,null,{"$f":"OM20*ON20*'2019-20 Farm Bill Calculator'!$E$48","v":0},null,{"$f":"OO20*OP20*'2019-20 Farm Bill Calculator'!$G$48","v":0},null,{"$f":"OQ20*OR20*'2019-20 Farm Bill Calculator'!$I$48","v":0}]
[null,null,"= max of actual farm yield or 80% of \" 5 yr county average????\" or if not planted the average county yield for the year???? or 5 year average ???? or 10 year avreage??????????"]
[null,2013,{"$f":"IF(C14>0.01,MAX('Background Calculations'!$R$80*0.8,C14),MAX('Background Calculations'!$R$75,'Background Calculations'!$R$80*0.75))","v":170},null,{"$f":"IF(E14>0.01,MAX('Background Calculations'!$R$81*0.8,E14),MAX('Background Calculations'!$R$76,'Background Calculations'!$R$81*0.75))","v":48},null,{"$f":"IF(G14>0.01,MAX('Background Calculations'!$R$82*0.8,G14),MAX('Background Calculations'!$R$77,'Background Calculations'!$R$82*0.75))","v":72},null,null,2013,{"$f":"IF(K14>0.01,MAX('Background Calculations'!$R$80*0.8,K14),MAX('Background Calculations'!$R$75,'Background Calculations'!$R$80*0.75))","v":170},null,{"$f":"IF(M14>0.01,MAX('Background Calculations'!$R$81*0.8,M14),MAX('Background Calculations'!$R$76,'Background Calculations'!$R$81*0.75))","v":48},null,{"$f":"IF(O14>0.01,MAX('Background Calculations'!$R$82*0.8,O14),MAX('Background Calculations'!$R$77,'Background Calculations'!$R$82*0.75))","v":72},null,null,2013,{"$f":"IF(S14>0.01,MAX('Background Calculations'!$R$80*0.8,S14),MAX('Background Calculations'!$R$75,'Background Calculations'!$R$80*0.75))","v":170},null,{"$f":"IF(U14>0.01,MAX('Background Calculations'!$R$81*0.8,U14),MAX('Background Calculations'!$R$76,'Background Calculations'!$R$81*0.75))","v":48},null,{"$f":"IF(W14>0.01,MAX('Background Calculations'!$R$82*0.8,W14),MAX('Background Calculations'!$R$77,'Background Calculations'!$R$82*0.75))","v":72},null,null,2013,{"$f":"IF(AA14>0.01,MAX('Background Calculations'!$R$80*0.8,AA14),MAX('Background Calculations'!$R$75,'Background Calculations'!$R$80*0.75))","v":170},null,{"$f":"IF(AC14>0.01,MAX('Background Calculations'!$R$81*0.8,AC14),MAX('Background Calculations'!$R$76,'Background Calculations'!$R$81*0.75))","v":48},null,{"$f":"IF(AE14>0.01,MAX('Background Calculations'!$R$82*0.8,AE14),MAX('Background Calculations'!$R$77,'Background Calculations'!$R$82*0.75))","v":72},null,null,2013,{"$f":"IF(AI14>0.01,MAX('Background Calculations'!$R$80*0.8,AI14),MAX('Background Calculations'!$R$75,'Background Calculations'!$R$80*0.75))","v":170},null,{"$f":"IF(AK14>0.01,MAX('Background Calculations'!$R$81*0.8,AK14),MAX('Background Calculations'!$R$76,'Background Calculations'!$R$81*0.75))","v":48},null,{"$f":"IF(AM14>0.01,MAX('Background Calculations'!$R$82*0.8,AM14),MAX('Background Calculations'!$R$77,'Background Calculations'!$R$82*0.75))","v":72},null,null,2013,{"$f":"IF(AQ14>0.01,MAX('Background Calculations'!$R$80*0.8,AQ14),MAX('Background Calculations'!$R$75,'Background Calculations'!$R$80*0.75))","v":170},null,{"$f":"IF(AS14>0.01,MAX('Background Calculations'!$R$81*0.8,AS14),MAX('Background Calculations'!$R$76,'Background Calculations'!$R$81*0.75))","v":48},null,{"$f":"IF(AU14>0.01,MAX('Background Calculations'!$R$82*0.8,AU14),MAX('Background Calculations'!$R$77,'Background Calculations'!$R$82*0.75))","v":72},null,null,2013,{"$f":"IF(AY14>0.01,MAX('Background Calculations'!$R$80*0.8,AY14),MAX('Background Calculations'!$R$75,'Background Calculations'!$R$80*0.75))","v":170},null,{"$f":"IF(BA14>0.01,MAX('Background Calculations'!$R$81*0.8,BA14),MAX('Background Calculations'!$R$76,'Background Calculations'!$R$81*0.75))","v":48},null,{"$f":"IF(BC14>0.01,MAX('Background Calculations'!$R$82*0.8,BC14),MAX('Background Calculations'!$R$77,'Background Calculations'!$R$82*0.75))","v":72},null,null,2013,{"$f":"IF(BG14>0.01,MAX('Background Calculations'!$R$80*0.8,BG14),MAX('Background Calculations'!$R$75,'Background Calculations'!$R$80*0.75))","v":170},null,{"$f":"IF(BI14>0.01,MAX('Background Calculations'!$R$81*0.8,BI14),MAX('Background Calculations'!$R$76,'Background Calculations'!$R$81*0.75))","v":48},null,{"$f":"IF(BK14>0.01,MAX('Background Calculations'!$R$82*0.8,BK14),MAX('Background Calculations'!$R$77,'Background Calculations'!$R$82*0.75))","v":72},null,null,2013,{"$f":"IF(BO14>0.01,MAX('Background Calculations'!$R$80*0.8,BO14),MAX('Background Calculations'!$R$75,'Background Calculations'!$R$80*0.75))","v":170},null,{"$f":"IF(BQ14>0.01,MAX('Background Calculations'!$R$81*0.8,BQ14),MAX('Background Calculations'!$R$76,'Background Calculations'!$R$81*0.75))","v":48},null,{"$f":"IF(BS14>0.01,MAX('Background Calculations'!$R$82*0.8,BS14),MAX('Background Calculations'!$R$77,'Background Calculations'!$R$82*0.75))","v":72},null,null,2013,{"$f":"IF(BW14>0.01,MAX('Background Calculations'!$R$80*0.8,BW14),MAX('Background Calculations'!$R$75,'Background Calculations'!$R$80*0.75))","v":170},null,{"$f":"IF(BY14>0.01,MAX('Background Calculations'!$R$81*0.8,BY14),MAX('Background Calculations'!$R$76,'Background Calculations'!$R$81*0.75))","v":48},null,{"$f":"IF(CA14>0.01,MAX('Background Calculations'!$R$82*0.8,CA14),MAX('Background Calculations'!$R$77,'Background Calculations'!$R$82*0.75))","v":72},null,null,2013,{"$f":"IF(CE14>0.01,MAX('Background Calculations'!$R$80*0.8,CE14),MAX('Background Calculations'!$R$75,'Background Calculations'!$R$80*0.75))","v":170},null,{"$f":"IF(CG14>0.01,MAX('Background Calculations'!$R$81*0.8,CG14),MAX('Background Calculations'!$R$76,'Background Calculations'!$R$81*0.75))","v":48},null,{"$f":"IF(CI14>0.01,MAX('Background Calculations'!$R$82*0.8,CI14),MAX('Background Calculations'!$R$77,'Background Calculations'!$R$82*0.75))","v":72},null,null,2013,{"$f":"IF(CM14>0.01,MAX('Background Calculations'!$R$80*0.8,CM14),MAX('Background Calculations'!$R$75,'Background Calculations'!$R$80*0.75))","v":170},null,{"$f":"IF(CO14>0.01,MAX('Background Calculations'!$R$81*0.8,CO14),MAX('Background Calculations'!$R$76,'Background Calculations'!$R$81*0.75))","v":48},null,{"$f":"IF(CQ14>0.01,MAX('Background Calculations'!$R$82*0.8,CQ14),MAX('Background Calculations'!$R$77,'Background Calculations'!$R$82*0.75))","v":72},null,null,2013,{"$f":"IF(CU14>0.01,MAX('Background Calculations'!$R$80*0.8,CU14),MAX('Background Calculations'!$R$75,'Background Calculations'!$R$80*0.75))","v":170},null,{"$f":"IF(CW14>0.01,MAX('Background Calculations'!$R$81*0.8,CW14),MAX('Background Calculations'!$R$76,'Background Calculations'!$R$81*0.75))","v":48},null,{"$f":"IF(CY14>0.01,MAX('Background Calculations'!$R$82*0.8,CY14),MAX('Background Calculations'!$R$77,'Background Calculations'!$R$82*0.75))","v":72},null,null,2013,{"$f":"IF(DC14>0.01,MAX('Background Calculations'!$R$80*0.8,DC14),MAX('Background Calculations'!$R$75,'Background Calculations'!$R$80*0.75))","v":170},null,{"$f":"IF(DE14>0.01,MAX('Background Calculations'!$R$81*0.8,DE14),MAX('Background Calculations'!$R$76,'Background Calculations'!$R$81*0.75))","v":48},null,{"$f":"IF(DG14>0.01,MAX('Background Calculations'!$R$82*0.8,DG14),MAX('Background Calculations'!$R$77,'Background Calculations'!$R$82*0.75))","v":72},null,null,2013,{"$f":"IF(DK14>0.01,MAX('Background Calculations'!$R$80*0.8,DK14),MAX('Background Calculations'!$R$75,'Background Calculations'!$R$80*0.75))","v":170},null,{"$f":"IF(DM14>0.01,MAX('Background Calculations'!$R$81*0.8,DM14),MAX('Background Calculations'!$R$76,'Background Calculations'!$R$81*0.75))","v":48},null,{"$f":"IF(DO14>0.01,MAX('Background Calculations'!$R$82*0.8,DO14),MAX('Background Calculations'!$R$77,'Background Calculations'!$R$82*0.75))","v":72},null,null,2013,{"$f":"IF(DS14>0.01,MAX('Background Calculations'!$R$80*0.8,DS14),MAX('Background Calculations'!$R$75,'Background Calculations'!$R$80*0.75))","v":170},null,{"$f":"IF(DU14>0.01,MAX('Background Calculations'!$R$81*0.8,DU14),MAX('Background Calculations'!$R$76,'Background Calculations'!$R$81*0.75))","v":48},null,{"$f":"IF(DW14>0.01,MAX('Background Calculations'!$R$82*0.8,DW14),MAX('Background Calculations'!$R$77,'Background Calculations'!$R$82*0.75))","v":72},null,null,2013,{"$f":"IF(EA14>0.01,MAX('Background Calculations'!$R$80*0.8,EA14),MAX('Background Calculations'!$R$75,'Background Calculations'!$R$80*0.75))","v":170},null,{"$f":"IF(EC14>0.01,MAX('Background Calculations'!$R$81*0.8,EC14),MAX('Background Calculations'!$R$76,'Background Calculations'!$R$81*0.75))","v":48},null,{"$f":"IF(EE14>0.01,MAX('Background Calculations'!$R$82*0.8,EE14),MAX('Background Calculations'!$R$77,'Background Calculations'!$R$82*0.75))","v":72},null,null,2013,{"$f":"IF(EI14>0.01,MAX('Background Calculations'!$R$80*0.8,EI14),MAX('Background Calculations'!$R$75,'Background Calculations'!$R$80*0.75))","v":170},null,{"$f":"IF(EK14>0.01,MAX('Background Calculations'!$R$81*0.8,EK14),MAX('Background Calculations'!$R$76,'Background Calculations'!$R$81*0.75))","v":48},null,{"$f":"IF(EM14>0.01,MAX('Background Calculations'!$R$82*0.8,EM14),MAX('Background Calculations'!$R$77,'Background Calculations'!$R$82*0.75))","v":72},null,null,2013,{"$f":"IF(EQ14>0.01,MAX('Background Calculations'!$R$80*0.8,EQ14),MAX('Background Calculations'!$R$75,'Background Calculations'!$R$80*0.75))","v":170},null,{"$f":"IF(ES14>0.01,MAX('Background Calculations'!$R$81*0.8,ES14),MAX('Background Calculations'!$R$76,'Background Calculations'!$R$81*0.75))","v":48},null,{"$f":"IF(EU14>0.01,MAX('Background Calculations'!$R$82*0.8,EU14),MAX('Background Calculations'!$R$77,'Background Calculations'!$R$82*0.75))","v":72},null,null,2013,{"$f":"IF(EY14>0.01,MAX('Background Calculations'!$R$80*0.8,EY14),MAX('Background Calculations'!$R$75,'Background Calculations'!$R$80*0.75))","v":170},null,{"$f":"IF(FA14>0.01,MAX('Background Calculations'!$R$81*0.8,FA14),MAX('Background Calculations'!$R$76,'Background Calculations'!$R$81*0.75))","v":48},null,{"$f":"IF(FC14>0.01,MAX('Background Calculations'!$R$82*0.8,FC14),MAX('Background Calculations'!$R$77,'Background Calculations'!$R$82*0.75))","v":72},null,null,2013,{"$f":"IF(FG14>0.01,MAX('Background Calculations'!$R$80*0.8,FG14),MAX('Background Calculations'!$R$75,'Background Calculations'!$R$80*0.75))","v":170},null,{"$f":"IF(FI14>0.01,MAX('Background Calculations'!$R$81*0.8,FI14),MAX('Background Calculations'!$R$76,'Background Calculations'!$R$81*0.75))","v":48},null,{"$f":"IF(FK14>0.01,MAX('Background Calculations'!$R$82*0.8,FK14),MAX('Background Calculations'!$R$77,'Background Calculations'!$R$82*0.75))","v":72},null,null,2013,{"$f":"IF(FO14>0.01,MAX('Background Calculations'!$R$80*0.8,FO14),MAX('Background Calculations'!$R$75,'Background Calculations'!$R$80*0.75))","v":170},null,{"$f":"IF(FQ14>0.01,MAX('Background Calculations'!$R$81*0.8,FQ14),MAX('Background Calculations'!$R$76,'Background Calculations'!$R$81*0.75))","v":48},null,{"$f":"IF(FS14>0.01,MAX('Background Calculations'!$R$82*0.8,FS14),MAX('Background Calculations'!$R$77,'Background Calculations'!$R$82*0.75))","v":72},null,null,2013,{"$f":"IF(FW14>0.01,MAX('Background Calculations'!$R$80*0.8,FW14),MAX('Background Calculations'!$R$75,'Background Calculations'!$R$80*0.75))","v":170},null,{"$f":"IF(FY14>0.01,MAX('Background Calculations'!$R$81*0.8,FY14),MAX('Background Calculations'!$R$76,'Background Calculations'!$R$81*0.75))","v":48},null,{"$f":"IF(GA14>0.01,MAX('Background Calculations'!$R$82*0.8,GA14),MAX('Background Calculations'!$R$77,'Background Calculations'!$R$82*0.75))","v":72},null,null,2013,{"$f":"IF(GE14>0.01,MAX('Background Calculations'!$R$80*0.8,GE14),MAX('Background Calculations'!$R$75,'Background Calculations'!$R$80*0.75))","v":170},null,{"$f":"IF(GG14>0.01,MAX('Background Calculations'!$R$81*0.8,GG14),MAX('Background Calculations'!$R$76,'Background Calculations'!$R$81*0.75))","v":48},null,{"$f":"IF(GI14>0.01,MAX('Background Calculations'!$R$82*0.8,GI14),MAX('Background Calculations'!$R$77,'Background Calculations'!$R$82*0.75))","v":72},null,null,2013,{"$f":"IF(GM14>0.01,MAX('Background Calculations'!$R$80*0.8,GM14),MAX('Background Calculations'!$R$75,'Background Calculations'!$R$80*0.75))","v":170},null,{"$f":"IF(GO14>0.01,MAX('Background Calculations'!$R$81*0.8,GO14),MAX('Background Calculations'!$R$76,'Background Calculations'!$R$81*0.75))","v":48},null,{"$f":"IF(GQ14>0.01,MAX('Background Calculations'!$R$82*0.8,GQ14),MAX('Background Calculations'!$R$77,'Background Calculations'!$R$82*0.75))","v":72},null,null,2013,{"$f":"IF(GU14>0.01,MAX('Background Calculations'!$R$80*0.8,GU14),MAX('Background Calculations'!$R$75,'Background Calculations'!$R$80*0.75))","v":170},null,{"$f":"IF(GW14>0.01,MAX('Background Calculations'!$R$81*0.8,GW14),MAX('Background Calculations'!$R$76,'Background Calculations'!$R$81*0.75))","v":48},null,{"$f":"IF(GY14>0.01,MAX('Background Calculations'!$R$82*0.8,GY14),MAX('Background Calculations'!$R$77,'Background Calculations'!$R$82*0.75))","v":72},null,null,2013,{"$f":"IF(HC14>0.01,MAX('Background Calculations'!$R$80*0.8,HC14),MAX('Background Calculations'!$R$75,'Background Calculations'!$R$80*0.75))","v":170},null,{"$f":"IF(HE14>0.01,MAX('Background Calculations'!$R$81*0.8,HE14),MAX('Background Calculations'!$R$76,'Background Calculations'!$R$81*0.75))","v":48},null,{"$f":"IF(HG14>0.01,MAX('Background Calculations'!$R$82*0.8,HG14),MAX('Background Calculations'!$R$77,'Background Calculations'!$R$82*0.75))","v":72},null,null,2013,{"$f":"IF(HK14>0.01,MAX('Background Calculations'!$R$80*0.8,HK14),MAX('Background Calculations'!$R$75,'Background Calculations'!$R$80*0.75))","v":170},null,{"$f":"IF(HM14>0.01,MAX('Background Calculations'!$R$81*0.8,HM14),MAX('Background Calculations'!$R$76,'Background Calculations'!$R$81*0.75))","v":48},null,{"$f":"IF(HO14>0.01,MAX('Background Calculations'!$R$82*0.8,HO14),MAX('Background Calculations'!$R$77,'Background Calculations'!$R$82*0.75))","v":72},null,null,2013,{"$f":"IF(HS14>0.01,MAX('Background Calculations'!$R$80*0.8,HS14),MAX('Background Calculations'!$R$75,'Background Calculations'!$R$80*0.75))","v":170},null,{"$f":"IF(HU14>0.01,MAX('Background Calculations'!$R$81*0.8,HU14),MAX('Background Calculations'!$R$76,'Background Calculations'!$R$81*0.75))","v":48},null,{"$f":"IF(HW14>0.01,MAX('Background Calculations'!$R$82*0.8,HW14),MAX('Background Calculations'!$R$77,'Background Calculations'!$R$82*0.75))","v":72},null,null,2013,{"$f":"IF(IA14>0.01,MAX('Background Calculations'!$R$80*0.8,IA14),MAX('Background Calculations'!$R$75,'Background Calculations'!$R$80*0.75))","v":170},null,{"$f":"IF(IC14>0.01,MAX('Background Calculations'!$R$81*0.8,IC14),MAX('Background Calculations'!$R$76,'Background Calculations'!$R$81*0.75))","v":48},null,{"$f":"IF(IE14>0.01,MAX('Background Calculations'!$R$82*0.8,IE14),MAX('Background Calculations'!$R$77,'Background Calculations'!$R$82*0.75))","v":72},null,null,2013,{"$f":"IF(II14>0.01,MAX('Background Calculations'!$R$80*0.8,II14),MAX('Background Calculations'!$R$75,'Background Calculations'!$R$80*0.75))","v":170},null,{"$f":"IF(IK14>0.01,MAX('Background Calculations'!$R$81*0.8,IK14),MAX('Background Calculations'!$R$76,'Background Calculations'!$R$81*0.75))","v":48},null,{"$f":"IF(IM14>0.01,MAX('Background Calculations'!$R$82*0.8,IM14),MAX('Background Calculations'!$R$77,'Background Calculations'!$R$82*0.75))","v":72},null,null,2013,{"$f":"IF(IQ14>0.01,MAX('Background Calculations'!$R$80*0.8,IQ14),MAX('Background Calculations'!$R$75,'Background Calculations'!$R$80*0.75))","v":170},null,{"$f":"IF(IS14>0.01,MAX('Background Calculations'!$R$81*0.8,IS14),MAX('Background Calculations'!$R$76,'Background Calculations'!$R$81*0.75))","v":48},null,{"$f":"IF(IU14>0.01,MAX('Background Calculations'!$R$82*0.8,IU14),MAX('Background Calculations'!$R$77,'Background Calculations'!$R$82*0.75))","v":72},null,null,2013,{"$f":"IF(IY14>0.01,MAX('Background Calculations'!$R$80*0.8,IY14),MAX('Background Calculations'!$R$75,'Background Calculations'!$R$80*0.75))","v":170},null,{"$f":"IF(JA14>0.01,MAX('Background Calculations'!$R$81*0.8,JA14),MAX('Background Calculations'!$R$76,'Background Calculations'!$R$81*0.75))","v":48},null,{"$f":"IF(JC14>0.01,MAX('Background Calculations'!$R$82*0.8,JC14),MAX('Background Calculations'!$R$77,'Background Calculations'!$R$82*0.75))","v":72},null,null,2013,{"$f":"IF(JG14>0.01,MAX('Background Calculations'!$R$80*0.8,JG14),MAX('Background Calculations'!$R$75,'Background Calculations'!$R$80*0.75))","v":170},null,{"$f":"IF(JI14>0.01,MAX('Background Calculations'!$R$81*0.8,JI14),MAX('Background Calculations'!$R$76,'Background Calculations'!$R$81*0.75))","v":48},null,{"$f":"IF(JK14>0.01,MAX('Background Calculations'!$R$82*0.8,JK14),MAX('Background Calculations'!$R$77,'Background Calculations'!$R$82*0.75))","v":72},null,null,2013,{"$f":"IF(JO14>0.01,MAX('Background Calculations'!$R$80*0.8,JO14),MAX('Background Calculations'!$R$75,'Background Calculations'!$R$80*0.75))","v":170},null,{"$f":"IF(JQ14>0.01,MAX('Background Calculations'!$R$81*0.8,JQ14),MAX('Background Calculations'!$R$76,'Background Calculations'!$R$81*0.75))","v":48},null,{"$f":"IF(JS14>0.01,MAX('Background Calculations'!$R$82*0.8,JS14),MAX('Background Calculations'!$R$77,'Background Calculations'!$R$82*0.75))","v":72},null,null,2013,{"$f":"IF(JW14>0.01,MAX('Background Calculations'!$R$80*0.8,JW14),MAX('Background Calculations'!$R$75,'Background Calculations'!$R$80*0.75))","v":170},null,{"$f":"IF(JY14>0.01,MAX('Background Calculations'!$R$81*0.8,JY14),MAX('Background Calculations'!$R$76,'Background Calculations'!$R$81*0.75))","v":48},null,{"$f":"IF(KA14>0.01,MAX('Background Calculations'!$R$82*0.8,KA14),MAX('Background Calculations'!$R$77,'Background Calculations'!$R$82*0.75))","v":72},null,null,2013,{"$f":"IF(KE14>0.01,MAX('Background Calculations'!$R$80*0.8,KE14),MAX('Background Calculations'!$R$75,'Background Calculations'!$R$80*0.75))","v":170},null,{"$f":"IF(KG14>0.01,MAX('Background Calculations'!$R$81*0.8,KG14),MAX('Background Calculations'!$R$76,'Background Calculations'!$R$81*0.75))","v":48},null,{"$f":"IF(KI14>0.01,MAX('Background Calculations'!$R$82*0.8,KI14),MAX('Background Calculations'!$R$77,'Background Calculations'!$R$82*0.75))","v":72},null,null,2013,{"$f":"IF(KM14>0.01,MAX('Background Calculations'!$R$80*0.8,KM14),MAX('Background Calculations'!$R$75,'Background Calculations'!$R$80*0.75))","v":170},null,{"$f":"IF(KO14>0.01,MAX('Background Calculations'!$R$81*0.8,KO14),MAX('Background Calculations'!$R$76,'Background Calculations'!$R$81*0.75))","v":48},null,{"$f":"IF(KQ14>0.01,MAX('Background Calculations'!$R$82*0.8,KQ14),MAX('Background Calculations'!$R$77,'Background Calculations'!$R$82*0.75))","v":72},null,null,2013,{"$f":"IF(KU14>0.01,MAX('Background Calculations'!$R$80*0.8,KU14),MAX('Background Calculations'!$R$75,'Background Calculations'!$R$80*0.75))","v":170},null,{"$f":"IF(KW14>0.01,MAX('Background Calculations'!$R$81*0.8,KW14),MAX('Background Calculations'!$R$76,'Background Calculations'!$R$81*0.75))","v":48},null,{"$f":"IF(KY14>0.01,MAX('Background Calculations'!$R$82*0.8,KY14),MAX('Background Calculations'!$R$77,'Background Calculations'!$R$82*0.75))","v":72},null,null,2013,{"$f":"IF(LC14>0.01,MAX('Background Calculations'!$R$80*0.8,LC14),MAX('Background Calculations'!$R$75,'Background Calculations'!$R$80*0.75))","v":170},null,{"$f":"IF(LE14>0.01,MAX('Background Calculations'!$R$81*0.8,LE14),MAX('Background Calculations'!$R$76,'Background Calculations'!$R$81*0.75))","v":48},null,{"$f":"IF(LG14>0.01,MAX('Background Calculations'!$R$82*0.8,LG14),MAX('Background Calculations'!$R$77,'Background Calculations'!$R$82*0.75))","v":72},null,null,2013,{"$f":"IF(LK14>0.01,MAX('Background Calculations'!$R$80*0.8,LK14),MAX('Background Calculations'!$R$75,'Background Calculations'!$R$80*0.75))","v":170},null,{"$f":"IF(LM14>0.01,MAX('Background Calculations'!$R$81*0.8,LM14),MAX('Background Calculations'!$R$76,'Background Calculations'!$R$81*0.75))","v":48},null,{"$f":"IF(LO14>0.01,MAX('Background Calculations'!$R$82*0.8,LO14),MAX('Background Calculations'!$R$77,'Background Calculations'!$R$82*0.75))","v":72},null,null,2013,{"$f":"IF(LS14>0.01,MAX('Background Calculations'!$R$80*0.8,LS14),MAX('Background Calculations'!$R$75,'Background Calculations'!$R$80*0.75))","v":170},null,{"$f":"IF(LU14>0.01,MAX('Background Calculations'!$R$81*0.8,LU14),MAX('Background Calculations'!$R$76,'Background Calculations'!$R$81*0.75))","v":48},null,{"$f":"IF(LW14>0.01,MAX('Background Calculations'!$R$82*0.8,LW14),MAX('Background Calculations'!$R$77,'Background Calculations'!$R$82*0.75))","v":72},null,null,2013,{"$f":"IF(MA14>0.01,MAX('Background Calculations'!$R$80*0.8,MA14),MAX('Background Calculations'!$R$75,'Background Calculations'!$R$80*0.75))","v":170},null,{"$f":"IF(MC14>0.01,MAX('Background Calculations'!$R$81*0.8,MC14),MAX('Background Calculations'!$R$76,'Background Calculations'!$R$81*0.75))","v":48},null,{"$f":"IF(ME14>0.01,MAX('Background Calculations'!$R$82*0.8,ME14),MAX('Background Calculations'!$R$77,'Background Calculations'!$R$82*0.75))","v":72},null,null,2013,{"$f":"IF(MI14>0.01,MAX('Background Calculations'!$R$80*0.8,MI14),MAX('Background Calculations'!$R$75,'Background Calculations'!$R$80*0.75))","v":170},null,{"$f":"IF(MK14>0.01,MAX('Background Calculations'!$R$81*0.8,MK14),MAX('Background Calculations'!$R$76,'Background Calculations'!$R$81*0.75))","v":48},null,{"$f":"IF(MM14>0.01,MAX('Background Calculations'!$R$82*0.8,MM14),MAX('Background Calculations'!$R$77,'Background Calculations'!$R$82*0.75))","v":72},null,null,2013,{"$f":"IF(MQ14>0.01,MAX('Background Calculations'!$R$80*0.8,MQ14),MAX('Background Calculations'!$R$75,'Background Calculations'!$R$80*0.75))","v":170},null,{"$f":"IF(MS14>0.01,MAX('Background Calculations'!$R$81*0.8,MS14),MAX('Background Calculations'!$R$76,'Background Calculations'!$R$81*0.75))","v":48},null,{"$f":"IF(MU14>0.01,MAX('Background Calculations'!$R$82*0.8,MU14),MAX('Background Calculations'!$R$77,'Background Calculations'!$R$82*0.75))","v":72},null,null,2013,{"$f":"IF(MY14>0.01,MAX('Background Calculations'!$R$80*0.8,MY14),MAX('Background Calculations'!$R$75,'Background Calculations'!$R$80*0.75))","v":170},null,{"$f":"IF(NA14>0.01,MAX('Background Calculations'!$R$81*0.8,NA14),MAX('Background Calculations'!$R$76,'Background Calculations'!$R$81*0.75))","v":48},null,{"$f":"IF(NC14>0.01,MAX('Background Calculations'!$R$82*0.8,NC14),MAX('Background Calculations'!$R$77,'Background Calculations'!$R$82*0.75))","v":72},null,null,2013,{"$f":"IF(NG14>0.01,MAX('Background Calculations'!$R$80*0.8,NG14),MAX('Background Calculations'!$R$75,'Background Calculations'!$R$80*0.75))","v":170},null,{"$f":"IF(NI14>0.01,MAX('Background Calculations'!$R$81*0.8,NI14),MAX('Background Calculations'!$R$76,'Background Calculations'!$R$81*0.75))","v":48},null,{"$f":"IF(NK14>0.01,MAX('Background Calculations'!$R$82*0.8,NK14),MAX('Background Calculations'!$R$77,'Background Calculations'!$R$82*0.75))","v":72},null,null,2013,{"$f":"IF(NO14>0.01,MAX('Background Calculations'!$R$80*0.8,NO14),MAX('Background Calculations'!$R$75,'Background Calculations'!$R$80*0.75))","v":170},null,{"$f":"IF(NQ14>0.01,MAX('Background Calculations'!$R$81*0.8,NQ14),MAX('Background Calculations'!$R$76,'Background Calculations'!$R$81*0.75))","v":48},null,{"$f":"IF(NS14>0.01,MAX('Background Calculations'!$R$82*0.8,NS14),MAX('Background Calculations'!$R$77,'Background Calculations'!$R$82*0.75))","v":72},null,null,2013,{"$f":"IF(NW14>0.01,MAX('Background Calculations'!$R$80*0.8,NW14),MAX('Background Calculations'!$R$75,'Background Calculations'!$R$80*0.75))","v":170},null,{"$f":"IF(NY14>0.01,MAX('Background Calculations'!$R$81*0.8,NY14),MAX('Background Calculations'!$R$76,'Background Calculations'!$R$81*0.75))","v":48},null,{"$f":"IF(OA14>0.01,MAX('Background Calculations'!$R$82*0.8,OA14),MAX('Background Calculations'!$R$77,'Background Calculations'!$R$82*0.75))","v":72},null,null,2013,{"$f":"IF(OE14>0.01,MAX('Background Calculations'!$R$80*0.8,OE14),MAX('Background Calculations'!$R$75,'Background Calculations'!$R$80*0.75))","v":170},null,{"$f":"IF(OG14>0.01,MAX('Background Calculations'!$R$81*0.8,OG14),MAX('Background Calculations'!$R$76,'Background Calculations'!$R$81*0.75))","v":48},null,{"$f":"IF(OI14>0.01,MAX('Background Calculations'!$R$82*0.8,OI14),MAX('Background Calculations'!$R$77,'Background Calculations'!$R$82*0.75))","v":72},null,null,2013,{"$f":"IF(OM14>0.01,MAX('Background Calculations'!$R$80*0.8,OM14),MAX('Background Calculations'!$R$75,'Background Calculations'!$R$80*0.75))","v":170},null,{"$f":"IF(OO14>0.01,MAX('Background Calculations'!$R$81*0.8,OO14),MAX('Background Calculations'!$R$76,'Background Calculations'!$R$81*0.75))","v":48},null,{"$f":"IF(OQ14>0.01,MAX('Background Calculations'!$R$82*0.8,OQ14),MAX('Background Calculations'!$R$77,'Background Calculations'!$R$82*0.75))","v":72}]
[null,2014,{"$f":"IF(C15>0.01,MAX('Background Calculations'!$S$80*0.8,C15),MAX('Background Calculations'!$S$75,'Background Calculations'!$S$80*0.75))","v":176},null,{"$f":"IF(E15>0.01,MAX('Background Calculations'!$S$81*0.8,E15),MAX('Background Calculations'!$S$76,'Background Calculations'!$S$81*0.75))","v":45},null,{"$f":"IF(G15>0.01,MAX('Background Calculations'!$S$82*0.8,G15),MAX('Background Calculations'!$S$77,'Background Calculations'!$S$82*0.75))","v":77},null,null,2014,{"$f":"IF(K15>0.01,MAX('Background Calculations'!$S$80*0.8,K15),MAX('Background Calculations'!$S$75,'Background Calculations'!$S$80*0.75))","v":176},null,{"$f":"IF(M15>0.01,MAX('Background Calculations'!$S$81*0.8,M15),MAX('Background Calculations'!$S$76,'Background Calculations'!$S$81*0.75))","v":45},null,{"$f":"IF(O15>0.01,MAX('Background Calculations'!$S$82*0.8,O15),MAX('Background Calculations'!$S$77,'Background Calculations'!$S$82*0.75))","v":77},null,null,2014,{"$f":"IF(S15>0.01,MAX('Background Calculations'!$S$80*0.8,S15),MAX('Background Calculations'!$S$75,'Background Calculations'!$S$80*0.75))","v":176},null,{"$f":"IF(U15>0.01,MAX('Background Calculations'!$S$81*0.8,U15),MAX('Background Calculations'!$S$76,'Background Calculations'!$S$81*0.75))","v":45},null,{"$f":"IF(W15>0.01,MAX('Background Calculations'!$S$82*0.8,W15),MAX('Background Calculations'!$S$77,'Background Calculations'!$S$82*0.75))","v":77},null,null,2014,{"$f":"IF(AA15>0.01,MAX('Background Calculations'!$S$80*0.8,AA15),MAX('Background Calculations'!$S$75,'Background Calculations'!$S$80*0.75))","v":176},null,{"$f":"IF(AC15>0.01,MAX('Background Calculations'!$S$81*0.8,AC15),MAX('Background Calculations'!$S$76,'Background Calculations'!$S$81*0.75))","v":45},null,{"$f":"IF(AE15>0.01,MAX('Background Calculations'!$S$82*0.8,AE15),MAX('Background Calculations'!$S$77,'Background Calculations'!$S$82*0.75))","v":77},null,null,2014,{"$f":"IF(AI15>0.01,MAX('Background Calculations'!$S$80*0.8,AI15),MAX('Background Calculations'!$S$75,'Background Calculations'!$S$80*0.75))","v":176},null,{"$f":"IF(AK15>0.01,MAX('Background Calculations'!$S$81*0.8,AK15),MAX('Background Calculations'!$S$76,'Background Calculations'!$S$81*0.75))","v":45},null,{"$f":"IF(AM15>0.01,MAX('Background Calculations'!$S$82*0.8,AM15),MAX('Background Calculations'!$S$77,'Background Calculations'!$S$82*0.75))","v":77},null,null,2014,{"$f":"IF(AQ15>0.01,MAX('Background Calculations'!$S$80*0.8,AQ15),MAX('Background Calculations'!$S$75,'Background Calculations'!$S$80*0.75))","v":176},null,{"$f":"IF(AS15>0.01,MAX('Background Calculations'!$S$81*0.8,AS15),MAX('Background Calculations'!$S$76,'Background Calculations'!$S$81*0.75))","v":45},null,{"$f":"IF(AU15>0.01,MAX('Background Calculations'!$S$82*0.8,AU15),MAX('Background Calculations'!$S$77,'Background Calculations'!$S$82*0.75))","v":77},null,null,2014,{"$f":"IF(AY15>0.01,MAX('Background Calculations'!$S$80*0.8,AY15),MAX('Background Calculations'!$S$75,'Background Calculations'!$S$80*0.75))","v":176},null,{"$f":"IF(BA15>0.01,MAX('Background Calculations'!$S$81*0.8,BA15),MAX('Background Calculations'!$S$76,'Background Calculations'!$S$81*0.75))","v":45},null,{"$f":"IF(BC15>0.01,MAX('Background Calculations'!$S$82*0.8,BC15),MAX('Background Calculations'!$S$77,'Background Calculations'!$S$82*0.75))","v":77},null,null,2014,{"$f":"IF(BG15>0.01,MAX('Background Calculations'!$S$80*0.8,BG15),MAX('Background Calculations'!$S$75,'Background Calculations'!$S$80*0.75))","v":176},null,{"$f":"IF(BI15>0.01,MAX('Background Calculations'!$S$81*0.8,BI15),MAX('Background Calculations'!$S$76,'Background Calculations'!$S$81*0.75))","v":45},null,{"$f":"IF(BK15>0.01,MAX('Background Calculations'!$S$82*0.8,BK15),MAX('Background Calculations'!$S$77,'Background Calculations'!$S$82*0.75))","v":77},null,null,2014,{"$f":"IF(BO15>0.01,MAX('Background Calculations'!$S$80*0.8,BO15),MAX('Background Calculations'!$S$75,'Background Calculations'!$S$80*0.75))","v":176},null,{"$f":"IF(BQ15>0.01,MAX('Background Calculations'!$S$81*0.8,BQ15),MAX('Background Calculations'!$S$76,'Background Calculations'!$S$81*0.75))","v":45},null,{"$f":"IF(BS15>0.01,MAX('Background Calculations'!$S$82*0.8,BS15),MAX('Background Calculations'!$S$77,'Background Calculations'!$S$82*0.75))","v":77},null,null,2014,{"$f":"IF(BW15>0.01,MAX('Background Calculations'!$S$80*0.8,BW15),MAX('Background Calculations'!$S$75,'Background Calculations'!$S$80*0.75))","v":176},null,{"$f":"IF(BY15>0.01,MAX('Background Calculations'!$S$81*0.8,BY15),MAX('Background Calculations'!$S$76,'Background Calculations'!$S$81*0.75))","v":45},null,{"$f":"IF(CA15>0.01,MAX('Background Calculations'!$S$82*0.8,CA15),MAX('Background Calculations'!$S$77,'Background Calculations'!$S$82*0.75))","v":77},null,null,2014,{"$f":"IF(CE15>0.01,MAX('Background Calculations'!$S$80*0.8,CE15),MAX('Background Calculations'!$S$75,'Background Calculations'!$S$80*0.75))","v":176},null,{"$f":"IF(CG15>0.01,MAX('Background Calculations'!$S$81*0.8,CG15),MAX('Background Calculations'!$S$76,'Background Calculations'!$S$81*0.75))","v":45},null,{"$f":"IF(CI15>0.01,MAX('Background Calculations'!$S$82*0.8,CI15),MAX('Background Calculations'!$S$77,'Background Calculations'!$S$82*0.75))","v":77},null,null,2014,{"$f":"IF(CM15>0.01,MAX('Background Calculations'!$S$80*0.8,CM15),MAX('Background Calculations'!$S$75,'Background Calculations'!$S$80*0.75))","v":176},null,{"$f":"IF(CO15>0.01,MAX('Background Calculations'!$S$81*0.8,CO15),MAX('Background Calculations'!$S$76,'Background Calculations'!$S$81*0.75))","v":45},null,{"$f":"IF(CQ15>0.01,MAX('Background Calculations'!$S$82*0.8,CQ15),MAX('Background Calculations'!$S$77,'Background Calculations'!$S$82*0.75))","v":77},null,null,2014,{"$f":"IF(CU15>0.01,MAX('Background Calculations'!$S$80*0.8,CU15),MAX('Background Calculations'!$S$75,'Background Calculations'!$S$80*0.75))","v":176},null,{"$f":"IF(CW15>0.01,MAX('Background Calculations'!$S$81*0.8,CW15),MAX('Background Calculations'!$S$76,'Background Calculations'!$S$81*0.75))","v":45},null,{"$f":"IF(CY15>0.01,MAX('Background Calculations'!$S$82*0.8,CY15),MAX('Background Calculations'!$S$77,'Background Calculations'!$S$82*0.75))","v":77},null,null,2014,{"$f":"IF(DC15>0.01,MAX('Background Calculations'!$S$80*0.8,DC15),MAX('Background Calculations'!$S$75,'Background Calculations'!$S$80*0.75))","v":176},null,{"$f":"IF(DE15>0.01,MAX('Background Calculations'!$S$81*0.8,DE15),MAX('Background Calculations'!$S$76,'Background Calculations'!$S$81*0.75))","v":45},null,{"$f":"IF(DG15>0.01,MAX('Background Calculations'!$S$82*0.8,DG15),MAX('Background Calculations'!$S$77,'Background Calculations'!$S$82*0.75))","v":77},null,null,2014,{"$f":"IF(DK15>0.01,MAX('Background Calculations'!$S$80*0.8,DK15),MAX('Background Calculations'!$S$75,'Background Calculations'!$S$80*0.75))","v":176},null,{"$f":"IF(DM15>0.01,MAX('Background Calculations'!$S$81*0.8,DM15),MAX('Background Calculations'!$S$76,'Background Calculations'!$S$81*0.75))","v":45},null,{"$f":"IF(DO15>0.01,MAX('Background Calculations'!$S$82*0.8,DO15),MAX('Background Calculations'!$S$77,'Background Calculations'!$S$82*0.75))","v":77},null,null,2014,{"$f":"IF(DS15>0.01,MAX('Background Calculations'!$S$80*0.8,DS15),MAX('Background Calculations'!$S$75,'Background Calculations'!$S$80*0.75))","v":176},null,{"$f":"IF(DU15>0.01,MAX('Background Calculations'!$S$81*0.8,DU15),MAX('Background Calculations'!$S$76,'Background Calculations'!$S$81*0.75))","v":45},null,{"$f":"IF(DW15>0.01,MAX('Background Calculations'!$S$82*0.8,DW15),MAX('Background Calculations'!$S$77,'Background Calculations'!$S$82*0.75))","v":77},null,null,2014,{"$f":"IF(EA15>0.01,MAX('Background Calculations'!$S$80*0.8,EA15),MAX('Background Calculations'!$S$75,'Background Calculations'!$S$80*0.75))","v":176},null,{"$f":"IF(EC15>0.01,MAX('Background Calculations'!$S$81*0.8,EC15),MAX('Background Calculations'!$S$76,'Background Calculations'!$S$81*0.75))","v":45},null,{"$f":"IF(EE15>0.01,MAX('Background Calculations'!$S$82*0.8,EE15),MAX('Background Calculations'!$S$77,'Background Calculations'!$S$82*0.75))","v":77},null,null,2014,{"$f":"IF(EI15>0.01,MAX('Background Calculations'!$S$80*0.8,EI15),MAX('Background Calculations'!$S$75,'Background Calculations'!$S$80*0.75))","v":176},null,{"$f":"IF(EK15>0.01,MAX('Background Calculations'!$S$81*0.8,EK15),MAX('Background Calculations'!$S$76,'Background Calculations'!$S$81*0.75))","v":45},null,{"$f":"IF(EM15>0.01,MAX('Background Calculations'!$S$82*0.8,EM15),MAX('Background Calculations'!$S$77,'Background Calculations'!$S$82*0.75))","v":77},null,null,2014,{"$f":"IF(EQ15>0.01,MAX('Background Calculations'!$S$80*0.8,EQ15),MAX('Background Calculations'!$S$75,'Background Calculations'!$S$80*0.75))","v":176},null,{"$f":"IF(ES15>0.01,MAX('Background Calculations'!$S$81*0.8,ES15),MAX('Background Calculations'!$S$76,'Background Calculations'!$S$81*0.75))","v":45},null,{"$f":"IF(EU15>0.01,MAX('Background Calculations'!$S$82*0.8,EU15),MAX('Background Calculations'!$S$77,'Background Calculations'!$S$82*0.75))","v":77},null,null,2014,{"$f":"IF(EY15>0.01,MAX('Background Calculations'!$S$80*0.8,EY15),MAX('Background Calculations'!$S$75,'Background Calculations'!$S$80*0.75))","v":176},null,{"$f":"IF(FA15>0.01,MAX('Background Calculations'!$S$81*0.8,FA15),MAX('Background Calculations'!$S$76,'Background Calculations'!$S$81*0.75))","v":45},null,{"$f":"IF(FC15>0.01,MAX('Background Calculations'!$S$82*0.8,FC15),MAX('Background Calculations'!$S$77,'Background Calculations'!$S$82*0.75))","v":77},null,null,2014,{"$f":"IF(FG15>0.01,MAX('Background Calculations'!$S$80*0.8,FG15),MAX('Background Calculations'!$S$75,'Background Calculations'!$S$80*0.75))","v":176},null,{"$f":"IF(FI15>0.01,MAX('Background Calculations'!$S$81*0.8,FI15),MAX('Background Calculations'!$S$76,'Background Calculations'!$S$81*0.75))","v":45},null,{"$f":"IF(FK15>0.01,MAX('Background Calculations'!$S$82*0.8,FK15),MAX('Background Calculations'!$S$77,'Background Calculations'!$S$82*0.75))","v":77},null,null,2014,{"$f":"IF(FO15>0.01,MAX('Background Calculations'!$S$80*0.8,FO15),MAX('Background Calculations'!$S$75,'Background Calculations'!$S$80*0.75))","v":176},null,{"$f":"IF(FQ15>0.01,MAX('Background Calculations'!$S$81*0.8,FQ15),MAX('Background Calculations'!$S$76,'Background Calculations'!$S$81*0.75))","v":45},null,{"$f":"IF(FS15>0.01,MAX('Background Calculations'!$S$82*0.8,FS15),MAX('Background Calculations'!$S$77,'Background Calculations'!$S$82*0.75))","v":77},null,null,2014,{"$f":"IF(FW15>0.01,MAX('Background Calculations'!$S$80*0.8,FW15),MAX('Background Calculations'!$S$75,'Background Calculations'!$S$80*0.75))","v":176},null,{"$f":"IF(FY15>0.01,MAX('Background Calculations'!$S$81*0.8,FY15),MAX('Background Calculations'!$S$76,'Background Calculations'!$S$81*0.75))","v":45},null,{"$f":"IF(GA15>0.01,MAX('Background Calculations'!$S$82*0.8,GA15),MAX('Background Calculations'!$S$77,'Background Calculations'!$S$82*0.75))","v":77},null,null,2014,{"$f":"IF(GE15>0.01,MAX('Background Calculations'!$S$80*0.8,GE15),MAX('Background Calculations'!$S$75,'Background Calculations'!$S$80*0.75))","v":176},null,{"$f":"IF(GG15>0.01,MAX('Background Calculations'!$S$81*0.8,GG15),MAX('Background Calculations'!$S$76,'Background Calculations'!$S$81*0.75))","v":45},null,{"$f":"IF(GI15>0.01,MAX('Background Calculations'!$S$82*0.8,GI15),MAX('Background Calculations'!$S$77,'Background Calculations'!$S$82*0.75))","v":77},null,null,2014,{"$f":"IF(GM15>0.01,MAX('Background Calculations'!$S$80*0.8,GM15),MAX('Background Calculations'!$S$75,'Background Calculations'!$S$80*0.75))","v":176},null,{"$f":"IF(GO15>0.01,MAX('Background Calculations'!$S$81*0.8,GO15),MAX('Background Calculations'!$S$76,'Background Calculations'!$S$81*0.75))","v":45},null,{"$f":"IF(GQ15>0.01,MAX('Background Calculations'!$S$82*0.8,GQ15),MAX('Background Calculations'!$S$77,'Background Calculations'!$S$82*0.75))","v":77},null,null,2014,{"$f":"IF(GU15>0.01,MAX('Background Calculations'!$S$80*0.8,GU15),MAX('Background Calculations'!$S$75,'Background Calculations'!$S$80*0.75))","v":176},null,{"$f":"IF(GW15>0.01,MAX('Background Calculations'!$S$81*0.8,GW15),MAX('Background Calculations'!$S$76,'Background Calculations'!$S$81*0.75))","v":45},null,{"$f":"IF(GY15>0.01,MAX('Background Calculations'!$S$82*0.8,GY15),MAX('Background Calculations'!$S$77,'Background Calculations'!$S$82*0.75))","v":77},null,null,2014,{"$f":"IF(HC15>0.01,MAX('Background Calculations'!$S$80*0.8,HC15),MAX('Background Calculations'!$S$75,'Background Calculations'!$S$80*0.75))","v":176},null,{"$f":"IF(HE15>0.01,MAX('Background Calculations'!$S$81*0.8,HE15),MAX('Background Calculations'!$S$76,'Background Calculations'!$S$81*0.75))","v":45},null,{"$f":"IF(HG15>0.01,MAX('Background Calculations'!$S$82*0.8,HG15),MAX('Background Calculations'!$S$77,'Background Calculations'!$S$82*0.75))","v":77},null,null,2014,{"$f":"IF(HK15>0.01,MAX('Background Calculations'!$S$80*0.8,HK15),MAX('Background Calculations'!$S$75,'Background Calculations'!$S$80*0.75))","v":176},null,{"$f":"IF(HM15>0.01,MAX('Background Calculations'!$S$81*0.8,HM15),MAX('Background Calculations'!$S$76,'Background Calculations'!$S$81*0.75))","v":45},null,{"$f":"IF(HO15>0.01,MAX('Background Calculations'!$S$82*0.8,HO15),MAX('Background Calculations'!$S$77,'Background Calculations'!$S$82*0.75))","v":77},null,null,2014,{"$f":"IF(HS15>0.01,MAX('Background Calculations'!$S$80*0.8,HS15),MAX('Background Calculations'!$S$75,'Background Calculations'!$S$80*0.75))","v":176},null,{"$f":"IF(HU15>0.01,MAX('Background Calculations'!$S$81*0.8,HU15),MAX('Background Calculations'!$S$76,'Background Calculations'!$S$81*0.75))","v":45},null,{"$f":"IF(HW15>0.01,MAX('Background Calculations'!$S$82*0.8,HW15),MAX('Background Calculations'!$S$77,'Background Calculations'!$S$82*0.75))","v":77},null,null,2014,{"$f":"IF(IA15>0.01,MAX('Background Calculations'!$S$80*0.8,IA15),MAX('Background Calculations'!$S$75,'Background Calculations'!$S$80*0.75))","v":176},null,{"$f":"IF(IC15>0.01,MAX('Background Calculations'!$S$81*0.8,IC15),MAX('Background Calculations'!$S$76,'Background Calculations'!$S$81*0.75))","v":45},null,{"$f":"IF(IE15>0.01,MAX('Background Calculations'!$S$82*0.8,IE15),MAX('Background Calculations'!$S$77,'Background Calculations'!$S$82*0.75))","v":77},null,null,2014,{"$f":"IF(II15>0.01,MAX('Background Calculations'!$S$80*0.8,II15),MAX('Background Calculations'!$S$75,'Background Calculations'!$S$80*0.75))","v":176},null,{"$f":"IF(IK15>0.01,MAX('Background Calculations'!$S$81*0.8,IK15),MAX('Background Calculations'!$S$76,'Background Calculations'!$S$81*0.75))","v":45},null,{"$f":"IF(IM15>0.01,MAX('Background Calculations'!$S$82*0.8,IM15),MAX('Background Calculations'!$S$77,'Background Calculations'!$S$82*0.75))","v":77},null,null,2014,{"$f":"IF(IQ15>0.01,MAX('Background Calculations'!$S$80*0.8,IQ15),MAX('Background Calculations'!$S$75,'Background Calculations'!$S$80*0.75))","v":176},null,{"$f":"IF(IS15>0.01,MAX('Background Calculations'!$S$81*0.8,IS15),MAX('Background Calculations'!$S$76,'Background Calculations'!$S$81*0.75))","v":45},null,{"$f":"IF(IU15>0.01,MAX('Background Calculations'!$S$82*0.8,IU15),MAX('Background Calculations'!$S$77,'Background Calculations'!$S$82*0.75))","v":77},null,null,2014,{"$f":"IF(IY15>0.01,MAX('Background Calculations'!$S$80*0.8,IY15),MAX('Background Calculations'!$S$75,'Background Calculations'!$S$80*0.75))","v":176},null,{"$f":"IF(JA15>0.01,MAX('Background Calculations'!$S$81*0.8,JA15),MAX('Background Calculations'!$S$76,'Background Calculations'!$S$81*0.75))","v":45},null,{"$f":"IF(JC15>0.01,MAX('Background Calculations'!$S$82*0.8,JC15),MAX('Background Calculations'!$S$77,'Background Calculations'!$S$82*0.75))","v":77},null,null,2014,{"$f":"IF(JG15>0.01,MAX('Background Calculations'!$S$80*0.8,JG15),MAX('Background Calculations'!$S$75,'Background Calculations'!$S$80*0.75))","v":176},null,{"$f":"IF(JI15>0.01,MAX('Background Calculations'!$S$81*0.8,JI15),MAX('Background Calculations'!$S$76,'Background Calculations'!$S$81*0.75))","v":45},null,{"$f":"IF(JK15>0.01,MAX('Background Calculations'!$S$82*0.8,JK15),MAX('Background Calculations'!$S$77,'Background Calculations'!$S$82*0.75))","v":77},null,null,2014,{"$f":"IF(JO15>0.01,MAX('Background Calculations'!$S$80*0.8,JO15),MAX('Background Calculations'!$S$75,'Background Calculations'!$S$80*0.75))","v":176},null,{"$f":"IF(JQ15>0.01,MAX('Background Calculations'!$S$81*0.8,JQ15),MAX('Background Calculations'!$S$76,'Background Calculations'!$S$81*0.75))","v":45},null,{"$f":"IF(JS15>0.01,MAX('Background Calculations'!$S$82*0.8,JS15),MAX('Background Calculations'!$S$77,'Background Calculations'!$S$82*0.75))","v":77},null,null,2014,{"$f":"IF(JW15>0.01,MAX('Background Calculations'!$S$80*0.8,JW15),MAX('Background Calculations'!$S$75,'Background Calculations'!$S$80*0.75))","v":176},null,{"$f":"IF(JY15>0.01,MAX('Background Calculations'!$S$81*0.8,JY15),MAX('Background Calculations'!$S$76,'Background Calculations'!$S$81*0.75))","v":45},null,{"$f":"IF(KA15>0.01,MAX('Background Calculations'!$S$82*0.8,KA15),MAX('Background Calculations'!$S$77,'Background Calculations'!$S$82*0.75))","v":77},null,null,2014,{"$f":"IF(KE15>0.01,MAX('Background Calculations'!$S$80*0.8,KE15),MAX('Background Calculations'!$S$75,'Background Calculations'!$S$80*0.75))","v":176},null,{"$f":"IF(KG15>0.01,MAX('Background Calculations'!$S$81*0.8,KG15),MAX('Background Calculations'!$S$76,'Background Calculations'!$S$81*0.75))","v":45},null,{"$f":"IF(KI15>0.01,MAX('Background Calculations'!$S$82*0.8,KI15),MAX('Background Calculations'!$S$77,'Background Calculations'!$S$82*0.75))","v":77},null,null,2014,{"$f":"IF(KM15>0.01,MAX('Background Calculations'!$S$80*0.8,KM15),MAX('Background Calculations'!$S$75,'Background Calculations'!$S$80*0.75))","v":176},null,{"$f":"IF(KO15>0.01,MAX('Background Calculations'!$S$81*0.8,KO15),MAX('Background Calculations'!$S$76,'Background Calculations'!$S$81*0.75))","v":45},null,{"$f":"IF(KQ15>0.01,MAX('Background Calculations'!$S$82*0.8,KQ15),MAX('Background Calculations'!$S$77,'Background Calculations'!$S$82*0.75))","v":77},null,null,2014,{"$f":"IF(KU15>0.01,MAX('Background Calculations'!$S$80*0.8,KU15),MAX('Background Calculations'!$S$75,'Background Calculations'!$S$80*0.75))","v":176},null,{"$f":"IF(KW15>0.01,MAX('Background Calculations'!$S$81*0.8,KW15),MAX('Background Calculations'!$S$76,'Background Calculations'!$S$81*0.75))","v":45},null,{"$f":"IF(KY15>0.01,MAX('Background Calculations'!$S$82*0.8,KY15),MAX('Background Calculations'!$S$77,'Background Calculations'!$S$82*0.75))","v":77},null,null,2014,{"$f":"IF(LC15>0.01,MAX('Background Calculations'!$S$80*0.8,LC15),MAX('Background Calculations'!$S$75,'Background Calculations'!$S$80*0.75))","v":176},null,{"$f":"IF(LE15>0.01,MAX('Background Calculations'!$S$81*0.8,LE15),MAX('Background Calculations'!$S$76,'Background Calculations'!$S$81*0.75))","v":45},null,{"$f":"IF(LG15>0.01,MAX('Background Calculations'!$S$82*0.8,LG15),MAX('Background Calculations'!$S$77,'Background Calculations'!$S$82*0.75))","v":77},null,null,2014,{"$f":"IF(LK15>0.01,MAX('Background Calculations'!$S$80*0.8,LK15),MAX('Background Calculations'!$S$75,'Background Calculations'!$S$80*0.75))","v":176},null,{"$f":"IF(LM15>0.01,MAX('Background Calculations'!$S$81*0.8,LM15),MAX('Background Calculations'!$S$76,'Background Calculations'!$S$81*0.75))","v":45},null,{"$f":"IF(LO15>0.01,MAX('Background Calculations'!$S$82*0.8,LO15),MAX('Background Calculations'!$S$77,'Background Calculations'!$S$82*0.75))","v":77},null,null,2014,{"$f":"IF(LS15>0.01,MAX('Background Calculations'!$S$80*0.8,LS15),MAX('Background Calculations'!$S$75,'Background Calculations'!$S$80*0.75))","v":176},null,{"$f":"IF(LU15>0.01,MAX('Background Calculations'!$S$81*0.8,LU15),MAX('Background Calculations'!$S$76,'Background Calculations'!$S$81*0.75))","v":45},null,{"$f":"IF(LW15>0.01,MAX('Background Calculations'!$S$82*0.8,LW15),MAX('Background Calculations'!$S$77,'Background Calculations'!$S$82*0.75))","v":77},null,null,2014,{"$f":"IF(MA15>0.01,MAX('Background Calculations'!$S$80*0.8,MA15),MAX('Background Calculations'!$S$75,'Background Calculations'!$S$80*0.75))","v":176},null,{"$f":"IF(MC15>0.01,MAX('Background Calculations'!$S$81*0.8,MC15),MAX('Background Calculations'!$S$76,'Background Calculations'!$S$81*0.75))","v":45},null,{"$f":"IF(ME15>0.01,MAX('Background Calculations'!$S$82*0.8,ME15),MAX('Background Calculations'!$S$77,'Background Calculations'!$S$82*0.75))","v":77},null,null,2014,{"$f":"IF(MI15>0.01,MAX('Background Calculations'!$S$80*0.8,MI15),MAX('Background Calculations'!$S$75,'Background Calculations'!$S$80*0.75))","v":176},null,{"$f":"IF(MK15>0.01,MAX('Background Calculations'!$S$81*0.8,MK15),MAX('Background Calculations'!$S$76,'Background Calculations'!$S$81*0.75))","v":45},null,{"$f":"IF(MM15>0.01,MAX('Background Calculations'!$S$82*0.8,MM15),MAX('Background Calculations'!$S$77,'Background Calculations'!$S$82*0.75))","v":77},null,null,2014,{"$f":"IF(MQ15>0.01,MAX('Background Calculations'!$S$80*0.8,MQ15),MAX('Background Calculations'!$S$75,'Background Calculations'!$S$80*0.75))","v":176},null,{"$f":"IF(MS15>0.01,MAX('Background Calculations'!$S$81*0.8,MS15),MAX('Background Calculations'!$S$76,'Background Calculations'!$S$81*0.75))","v":45},null,{"$f":"IF(MU15>0.01,MAX('Background Calculations'!$S$82*0.8,MU15),MAX('Background Calculations'!$S$77,'Background Calculations'!$S$82*0.75))","v":77},null,null,2014,{"$f":"IF(MY15>0.01,MAX('Background Calculations'!$S$80*0.8,MY15),MAX('Background Calculations'!$S$75,'Background Calculations'!$S$80*0.75))","v":176},null,{"$f":"IF(NA15>0.01,MAX('Background Calculations'!$S$81*0.8,NA15),MAX('Background Calculations'!$S$76,'Background Calculations'!$S$81*0.75))","v":45},null,{"$f":"IF(NC15>0.01,MAX('Background Calculations'!$S$82*0.8,NC15),MAX('Background Calculations'!$S$77,'Background Calculations'!$S$82*0.75))","v":77},null,null,2014,{"$f":"IF(NG15>0.01,MAX('Background Calculations'!$S$80*0.8,NG15),MAX('Background Calculations'!$S$75,'Background Calculations'!$S$80*0.75))","v":176},null,{"$f":"IF(NI15>0.01,MAX('Background Calculations'!$S$81*0.8,NI15),MAX('Background Calculations'!$S$76,'Background Calculations'!$S$81*0.75))","v":45},null,{"$f":"IF(NK15>0.01,MAX('Background Calculations'!$S$82*0.8,NK15),MAX('Background Calculations'!$S$77,'Background Calculations'!$S$82*0.75))","v":77},null,null,2014,{"$f":"IF(NO15>0.01,MAX('Background Calculations'!$S$80*0.8,NO15),MAX('Background Calculations'!$S$75,'Background Calculations'!$S$80*0.75))","v":176},null,{"$f":"IF(NQ15>0.01,MAX('Background Calculations'!$S$81*0.8,NQ15),MAX('Background Calculations'!$S$76,'Background Calculations'!$S$81*0.75))","v":45},null,{"$f":"IF(NS15>0.01,MAX('Background Calculations'!$S$82*0.8,NS15),MAX('Background Calculations'!$S$77,'Background Calculations'!$S$82*0.75))","v":77},null,null,2014,{"$f":"IF(NW15>0.01,MAX('Background Calculations'!$S$80*0.8,NW15),MAX('Background Calculations'!$S$75,'Background Calculations'!$S$80*0.75))","v":176},null,{"$f":"IF(NY15>0.01,MAX('Background Calculations'!$S$81*0.8,NY15),MAX('Background Calculations'!$S$76,'Background Calculations'!$S$81*0.75))","v":45},null,{"$f":"IF(OA15>0.01,MAX('Background Calculations'!$S$82*0.8,OA15),MAX('Background Calculations'!$S$77,'Background Calculations'!$S$82*0.75))","v":77},null,null,2014,{"$f":"IF(OE15>0.01,MAX('Background Calculations'!$S$80*0.8,OE15),MAX('Background Calculations'!$S$75,'Background Calculations'!$S$80*0.75))","v":176},null,{"$f":"IF(OG15>0.01,MAX('Background Calculations'!$S$81*0.8,OG15),MAX('Background Calculations'!$S$76,'Background Calculations'!$S$81*0.75))","v":45},null,{"$f":"IF(OI15>0.01,MAX('Background Calculations'!$S$82*0.8,OI15),MAX('Background Calculations'!$S$77,'Background Calculations'!$S$82*0.75))","v":77},null,null,2014,{"$f":"IF(OM15>0.01,MAX('Background Calculations'!$S$80*0.8,OM15),MAX('Background Calculations'!$S$75,'Background Calculations'!$S$80*0.75))","v":176},null,{"$f":"IF(OO15>0.01,MAX('Background Calculations'!$S$81*0.8,OO15),MAX('Background Calculations'!$S$76,'Background Calculations'!$S$81*0.75))","v":45},null,{"$f":"IF(OQ15>0.01,MAX('Background Calculations'!$S$82*0.8,OQ15),MAX('Background Calculations'!$S$77,'Background Calculations'!$S$82*0.75))","v":77}]
[null,2015,{"$f":"IF(C16>0.01,MAX('Background Calculations'!$T$80*0.8,C16),MAX('Background Calculations'!$T$75,'Background Calculations'!$T$80*0.75))","v":163},null,{"$f":"IF(E16>0.01,MAX('Background Calculations'!$T$81*0.8,E16),MAX('Background Calculations'!$T$76,'Background Calculations'!$T$81*0.75))","v":49},null,{"$f":"IF(G16>0.01,MAX('Background Calculations'!$T$82*0.8,G16),MAX('Background Calculations'!$T$77,'Background Calculations'!$T$82*0.75))","v":68},null,null,2015,{"$f":"IF(K16>0.01,MAX('Background Calculations'!$T$80*0.8,K16),MAX('Background Calculations'!$T$75,'Background Calculations'!$T$80*0.75))","v":163},null,{"$f":"IF(M16>0.01,MAX('Background Calculations'!$T$81*0.8,M16),MAX('Background Calculations'!$T$76,'Background Calculations'!$T$81*0.75))","v":49},null,{"$f":"IF(O16>0.01,MAX('Background Calculations'!$T$82*0.8,O16),MAX('Background Calculations'!$T$77,'Background Calculations'!$T$82*0.75))","v":68},null,null,2015,{"$f":"IF(S16>0.01,MAX('Background Calculations'!$T$80*0.8,S16),MAX('Background Calculations'!$T$75,'Background Calculations'!$T$80*0.75))","v":163},null,{"$f":"IF(U16>0.01,MAX('Background Calculations'!$T$81*0.8,U16),MAX('Background Calculations'!$T$76,'Background Calculations'!$T$81*0.75))","v":49},null,{"$f":"IF(W16>0.01,MAX('Background Calculations'!$T$82*0.8,W16),MAX('Background Calculations'!$T$77,'Background Calculations'!$T$82*0.75))","v":68},null,null,2015,{"$f":"IF(AA16>0.01,MAX('Background Calculations'!$T$80*0.8,AA16),MAX('Background Calculations'!$T$75,'Background Calculations'!$T$80*0.75))","v":163},null,{"$f":"IF(AC16>0.01,MAX('Background Calculations'!$T$81*0.8,AC16),MAX('Background Calculations'!$T$76,'Background Calculations'!$T$81*0.75))","v":49},null,{"$f":"IF(AE16>0.01,MAX('Background Calculations'!$T$82*0.8,AE16),MAX('Background Calculations'!$T$77,'Background Calculations'!$T$82*0.75))","v":68},null,null,2015,{"$f":"IF(AI16>0.01,MAX('Background Calculations'!$T$80*0.8,AI16),MAX('Background Calculations'!$T$75,'Background Calculations'!$T$80*0.75))","v":163},null,{"$f":"IF(AK16>0.01,MAX('Background Calculations'!$T$81*0.8,AK16),MAX('Background Calculations'!$T$76,'Background Calculations'!$T$81*0.75))","v":49},null,{"$f":"IF(AM16>0.01,MAX('Background Calculations'!$T$82*0.8,AM16),MAX('Background Calculations'!$T$77,'Background Calculations'!$T$82*0.75))","v":68},null,null,2015,{"$f":"IF(AQ16>0.01,MAX('Background Calculations'!$T$80*0.8,AQ16),MAX('Background Calculations'!$T$75,'Background Calculations'!$T$80*0.75))","v":163},null,{"$f":"IF(AS16>0.01,MAX('Background Calculations'!$T$81*0.8,AS16),MAX('Background Calculations'!$T$76,'Background Calculations'!$T$81*0.75))","v":49},null,{"$f":"IF(AU16>0.01,MAX('Background Calculations'!$T$82*0.8,AU16),MAX('Background Calculations'!$T$77,'Background Calculations'!$T$82*0.75))","v":68},null,null,2015,{"$f":"IF(AY16>0.01,MAX('Background Calculations'!$T$80*0.8,AY16),MAX('Background Calculations'!$T$75,'Background Calculations'!$T$80*0.75))","v":163},null,{"$f":"IF(BA16>0.01,MAX('Background Calculations'!$T$81*0.8,BA16),MAX('Background Calculations'!$T$76,'Background Calculations'!$T$81*0.75))","v":49},null,{"$f":"IF(BC16>0.01,MAX('Background Calculations'!$T$82*0.8,BC16),MAX('Background Calculations'!$T$77,'Background Calculations'!$T$82*0.75))","v":68},null,null,2015,{"$f":"IF(BG16>0.01,MAX('Background Calculations'!$T$80*0.8,BG16),MAX('Background Calculations'!$T$75,'Background Calculations'!$T$80*0.75))","v":163},null,{"$f":"IF(BI16>0.01,MAX('Background Calculations'!$T$81*0.8,BI16),MAX('Background Calculations'!$T$76,'Background Calculations'!$T$81*0.75))","v":49},null,{"$f":"IF(BK16>0.01,MAX('Background Calculations'!$T$82*0.8,BK16),MAX('Background Calculations'!$T$77,'Background Calculations'!$T$82*0.75))","v":68},null,null,2015,{"$f":"IF(BO16>0.01,MAX('Background Calculations'!$T$80*0.8,BO16),MAX('Background Calculations'!$T$75,'Background Calculations'!$T$80*0.75))","v":163},null,{"$f":"IF(BQ16>0.01,MAX('Background Calculations'!$T$81*0.8,BQ16),MAX('Background Calculations'!$T$76,'Background Calculations'!$T$81*0.75))","v":49},null,{"$f":"IF(BS16>0.01,MAX('Background Calculations'!$T$82*0.8,BS16),MAX('Background Calculations'!$T$77,'Background Calculations'!$T$82*0.75))","v":68},null,null,2015,{"$f":"IF(BW16>0.01,MAX('Background Calculations'!$T$80*0.8,BW16),MAX('Background Calculations'!$T$75,'Background Calculations'!$T$80*0.75))","v":163},null,{"$f":"IF(BY16>0.01,MAX('Background Calculations'!$T$81*0.8,BY16),MAX('Background Calculations'!$T$76,'Background Calculations'!$T$81*0.75))","v":49},null,{"$f":"IF(CA16>0.01,MAX('Background Calculations'!$T$82*0.8,CA16),MAX('Background Calculations'!$T$77,'Background Calculations'!$T$82*0.75))","v":68},null,null,2015,{"$f":"IF(CE16>0.01,MAX('Background Calculations'!$T$80*0.8,CE16),MAX('Background Calculations'!$T$75,'Background Calculations'!$T$80*0.75))","v":163},null,{"$f":"IF(CG16>0.01,MAX('Background Calculations'!$T$81*0.8,CG16),MAX('Background Calculations'!$T$76,'Background Calculations'!$T$81*0.75))","v":49},null,{"$f":"IF(CI16>0.01,MAX('Background Calculations'!$T$82*0.8,CI16),MAX('Background Calculations'!$T$77,'Background Calculations'!$T$82*0.75))","v":68},null,null,2015,{"$f":"IF(CM16>0.01,MAX('Background Calculations'!$T$80*0.8,CM16),MAX('Background Calculations'!$T$75,'Background Calculations'!$T$80*0.75))","v":163},null,{"$f":"IF(CO16>0.01,MAX('Background Calculations'!$T$81*0.8,CO16),MAX('Background Calculations'!$T$76,'Background Calculations'!$T$81*0.75))","v":49},null,{"$f":"IF(CQ16>0.01,MAX('Background Calculations'!$T$82*0.8,CQ16),MAX('Background Calculations'!$T$77,'Background Calculations'!$T$82*0.75))","v":68},null,null,2015,{"$f":"IF(CU16>0.01,MAX('Background Calculations'!$T$80*0.8,CU16),MAX('Background Calculations'!$T$75,'Background Calculations'!$T$80*0.75))","v":163},null,{"$f":"IF(CW16>0.01,MAX('Background Calculations'!$T$81*0.8,CW16),MAX('Background Calculations'!$T$76,'Background Calculations'!$T$81*0.75))","v":49},null,{"$f":"IF(CY16>0.01,MAX('Background Calculations'!$T$82*0.8,CY16),MAX('Background Calculations'!$T$77,'Background Calculations'!$T$82*0.75))","v":68},null,null,2015,{"$f":"IF(DC16>0.01,MAX('Background Calculations'!$T$80*0.8,DC16),MAX('Background Calculations'!$T$75,'Background Calculations'!$T$80*0.75))","v":163},null,{"$f":"IF(DE16>0.01,MAX('Background Calculations'!$T$81*0.8,DE16),MAX('Background Calculations'!$T$76,'Background Calculations'!$T$81*0.75))","v":49},null,{"$f":"IF(DG16>0.01,MAX('Background Calculations'!$T$82*0.8,DG16),MAX('Background Calculations'!$T$77,'Background Calculations'!$T$82*0.75))","v":68},null,null,2015,{"$f":"IF(DK16>0.01,MAX('Background Calculations'!$T$80*0.8,DK16),MAX('Background Calculations'!$T$75,'Background Calculations'!$T$80*0.75))","v":163},null,{"$f":"IF(DM16>0.01,MAX('Background Calculations'!$T$81*0.8,DM16),MAX('Background Calculations'!$T$76,'Background Calculations'!$T$81*0.75))","v":49},null,{"$f":"IF(DO16>0.01,MAX('Background Calculations'!$T$82*0.8,DO16),MAX('Background Calculations'!$T$77,'Background Calculations'!$T$82*0.75))","v":68},null,null,2015,{"$f":"IF(DS16>0.01,MAX('Background Calculations'!$T$80*0.8,DS16),MAX('Background Calculations'!$T$75,'Background Calculations'!$T$80*0.75))","v":163},null,{"$f":"IF(DU16>0.01,MAX('Background Calculations'!$T$81*0.8,DU16),MAX('Background Calculations'!$T$76,'Background Calculations'!$T$81*0.75))","v":49},null,{"$f":"IF(DW16>0.01,MAX('Background Calculations'!$T$82*0.8,DW16),MAX('Background Calculations'!$T$77,'Background Calculations'!$T$82*0.75))","v":68},null,null,2015,{"$f":"IF(EA16>0.01,MAX('Background Calculations'!$T$80*0.8,EA16),MAX('Background Calculations'!$T$75,'Background Calculations'!$T$80*0.75))","v":163},null,{"$f":"IF(EC16>0.01,MAX('Background Calculations'!$T$81*0.8,EC16),MAX('Background Calculations'!$T$76,'Background Calculations'!$T$81*0.75))","v":49},null,{"$f":"IF(EE16>0.01,MAX('Background Calculations'!$T$82*0.8,EE16),MAX('Background Calculations'!$T$77,'Background Calculations'!$T$82*0.75))","v":68},null,null,2015,{"$f":"IF(EI16>0.01,MAX('Background Calculations'!$T$80*0.8,EI16),MAX('Background Calculations'!$T$75,'Background Calculations'!$T$80*0.75))","v":163},null,{"$f":"IF(EK16>0.01,MAX('Background Calculations'!$T$81*0.8,EK16),MAX('Background Calculations'!$T$76,'Background Calculations'!$T$81*0.75))","v":49},null,{"$f":"IF(EM16>0.01,MAX('Background Calculations'!$T$82*0.8,EM16),MAX('Background Calculations'!$T$77,'Background Calculations'!$T$82*0.75))","v":68},null,null,2015,{"$f":"IF(EQ16>0.01,MAX('Background Calculations'!$T$80*0.8,EQ16),MAX('Background Calculations'!$T$75,'Background Calculations'!$T$80*0.75))","v":163},null,{"$f":"IF(ES16>0.01,MAX('Background Calculations'!$T$81*0.8,ES16),MAX('Background Calculations'!$T$76,'Background Calculations'!$T$81*0.75))","v":49},null,{"$f":"IF(EU16>0.01,MAX('Background Calculations'!$T$82*0.8,EU16),MAX('Background Calculations'!$T$77,'Background Calculations'!$T$82*0.75))","v":68},null,null,2015,{"$f":"IF(EY16>0.01,MAX('Background Calculations'!$T$80*0.8,EY16),MAX('Background Calculations'!$T$75,'Background Calculations'!$T$80*0.75))","v":163},null,{"$f":"IF(FA16>0.01,MAX('Background Calculations'!$T$81*0.8,FA16),MAX('Background Calculations'!$T$76,'Background Calculations'!$T$81*0.75))","v":49},null,{"$f":"IF(FC16>0.01,MAX('Background Calculations'!$T$82*0.8,FC16),MAX('Background Calculations'!$T$77,'Background Calculations'!$T$82*0.75))","v":68},null,null,2015,{"$f":"IF(FG16>0.01,MAX('Background Calculations'!$T$80*0.8,FG16),MAX('Background Calculations'!$T$75,'Background Calculations'!$T$80*0.75))","v":163},null,{"$f":"IF(FI16>0.01,MAX('Background Calculations'!$T$81*0.8,FI16),MAX('Background Calculations'!$T$76,'Background Calculations'!$T$81*0.75))","v":49},null,{"$f":"IF(FK16>0.01,MAX('Background Calculations'!$T$82*0.8,FK16),MAX('Background Calculations'!$T$77,'Background Calculations'!$T$82*0.75))","v":68},null,null,2015,{"$f":"IF(FO16>0.01,MAX('Background Calculations'!$T$80*0.8,FO16),MAX('Background Calculations'!$T$75,'Background Calculations'!$T$80*0.75))","v":163},null,{"$f":"IF(FQ16>0.01,MAX('Background Calculations'!$T$81*0.8,FQ16),MAX('Background Calculations'!$T$76,'Background Calculations'!$T$81*0.75))","v":49},null,{"$f":"IF(FS16>0.01,MAX('Background Calculations'!$T$82*0.8,FS16),MAX('Background Calculations'!$T$77,'Background Calculations'!$T$82*0.75))","v":68},null,null,2015,{"$f":"IF(FW16>0.01,MAX('Background Calculations'!$T$80*0.8,FW16),MAX('Background Calculations'!$T$75,'Background Calculations'!$T$80*0.75))","v":163},null,{"$f":"IF(FY16>0.01,MAX('Background Calculations'!$T$81*0.8,FY16),MAX('Background Calculations'!$T$76,'Background Calculations'!$T$81*0.75))","v":49},null,{"$f":"IF(GA16>0.01,MAX('Background Calculations'!$T$82*0.8,GA16),MAX('Background Calculations'!$T$77,'Background Calculations'!$T$82*0.75))","v":68},null,null,2015,{"$f":"IF(GE16>0.01,MAX('Background Calculations'!$T$80*0.8,GE16),MAX('Background Calculations'!$T$75,'Background Calculations'!$T$80*0.75))","v":163},null,{"$f":"IF(GG16>0.01,MAX('Background Calculations'!$T$81*0.8,GG16),MAX('Background Calculations'!$T$76,'Background Calculations'!$T$81*0.75))","v":49},null,{"$f":"IF(GI16>0.01,MAX('Background Calculations'!$T$82*0.8,GI16),MAX('Background Calculations'!$T$77,'Background Calculations'!$T$82*0.75))","v":68},null,null,2015,{"$f":"IF(GM16>0.01,MAX('Background Calculations'!$T$80*0.8,GM16),MAX('Background Calculations'!$T$75,'Background Calculations'!$T$80*0.75))","v":163},null,{"$f":"IF(GO16>0.01,MAX('Background Calculations'!$T$81*0.8,GO16),MAX('Background Calculations'!$T$76,'Background Calculations'!$T$81*0.75))","v":49},null,{"$f":"IF(GQ16>0.01,MAX('Background Calculations'!$T$82*0.8,GQ16),MAX('Background Calculations'!$T$77,'Background Calculations'!$T$82*0.75))","v":68},null,null,2015,{"$f":"IF(GU16>0.01,MAX('Background Calculations'!$T$80*0.8,GU16),MAX('Background Calculations'!$T$75,'Background Calculations'!$T$80*0.75))","v":163},null,{"$f":"IF(GW16>0.01,MAX('Background Calculations'!$T$81*0.8,GW16),MAX('Background Calculations'!$T$76,'Background Calculations'!$T$81*0.75))","v":49},null,{"$f":"IF(GY16>0.01,MAX('Background Calculations'!$T$82*0.8,GY16),MAX('Background Calculations'!$T$77,'Background Calculations'!$T$82*0.75))","v":68},null,null,2015,{"$f":"IF(HC16>0.01,MAX('Background Calculations'!$T$80*0.8,HC16),MAX('Background Calculations'!$T$75,'Background Calculations'!$T$80*0.75))","v":163},null,{"$f":"IF(HE16>0.01,MAX('Background Calculations'!$T$81*0.8,HE16),MAX('Background Calculations'!$T$76,'Background Calculations'!$T$81*0.75))","v":49},null,{"$f":"IF(HG16>0.01,MAX('Background Calculations'!$T$82*0.8,HG16),MAX('Background Calculations'!$T$77,'Background Calculations'!$T$82*0.75))","v":68},null,null,2015,{"$f":"IF(HK16>0.01,MAX('Background Calculations'!$T$80*0.8,HK16),MAX('Background Calculations'!$T$75,'Background Calculations'!$T$80*0.75))","v":163},null,{"$f":"IF(HM16>0.01,MAX('Background Calculations'!$T$81*0.8,HM16),MAX('Background Calculations'!$T$76,'Background Calculations'!$T$81*0.75))","v":49},null,{"$f":"IF(HO16>0.01,MAX('Background Calculations'!$T$82*0.8,HO16),MAX('Background Calculations'!$T$77,'Background Calculations'!$T$82*0.75))","v":68},null,null,2015,{"$f":"IF(HS16>0.01,MAX('Background Calculations'!$T$80*0.8,HS16),MAX('Background Calculations'!$T$75,'Background Calculations'!$T$80*0.75))","v":163},null,{"$f":"IF(HU16>0.01,MAX('Background Calculations'!$T$81*0.8,HU16),MAX('Background Calculations'!$T$76,'Background Calculations'!$T$81*0.75))","v":49},null,{"$f":"IF(HW16>0.01,MAX('Background Calculations'!$T$82*0.8,HW16),MAX('Background Calculations'!$T$77,'Background Calculations'!$T$82*0.75))","v":68},null,null,2015,{"$f":"IF(IA16>0.01,MAX('Background Calculations'!$T$80*0.8,IA16),MAX('Background Calculations'!$T$75,'Background Calculations'!$T$80*0.75))","v":163},null,{"$f":"IF(IC16>0.01,MAX('Background Calculations'!$T$81*0.8,IC16),MAX('Background Calculations'!$T$76,'Background Calculations'!$T$81*0.75))","v":49},null,{"$f":"IF(IE16>0.01,MAX('Background Calculations'!$T$82*0.8,IE16),MAX('Background Calculations'!$T$77,'Background Calculations'!$T$82*0.75))","v":68},null,null,2015,{"$f":"IF(II16>0.01,MAX('Background Calculations'!$T$80*0.8,II16),MAX('Background Calculations'!$T$75,'Background Calculations'!$T$80*0.75))","v":163},null,{"$f":"IF(IK16>0.01,MAX('Background Calculations'!$T$81*0.8,IK16),MAX('Background Calculations'!$T$76,'Background Calculations'!$T$81*0.75))","v":49},null,{"$f":"IF(IM16>0.01,MAX('Background Calculations'!$T$82*0.8,IM16),MAX('Background Calculations'!$T$77,'Background Calculations'!$T$82*0.75))","v":68},null,null,2015,{"$f":"IF(IQ16>0.01,MAX('Background Calculations'!$T$80*0.8,IQ16),MAX('Background Calculations'!$T$75,'Background Calculations'!$T$80*0.75))","v":163},null,{"$f":"IF(IS16>0.01,MAX('Background Calculations'!$T$81*0.8,IS16),MAX('Background Calculations'!$T$76,'Background Calculations'!$T$81*0.75))","v":49},null,{"$f":"IF(IU16>0.01,MAX('Background Calculations'!$T$82*0.8,IU16),MAX('Background Calculations'!$T$77,'Background Calculations'!$T$82*0.75))","v":68},null,null,2015,{"$f":"IF(IY16>0.01,MAX('Background Calculations'!$T$80*0.8,IY16),MAX('Background Calculations'!$T$75,'Background Calculations'!$T$80*0.75))","v":163},null,{"$f":"IF(JA16>0.01,MAX('Background Calculations'!$T$81*0.8,JA16),MAX('Background Calculations'!$T$76,'Background Calculations'!$T$81*0.75))","v":49},null,{"$f":"IF(JC16>0.01,MAX('Background Calculations'!$T$82*0.8,JC16),MAX('Background Calculations'!$T$77,'Background Calculations'!$T$82*0.75))","v":68},null,null,2015,{"$f":"IF(JG16>0.01,MAX('Background Calculations'!$T$80*0.8,JG16),MAX('Background Calculations'!$T$75,'Background Calculations'!$T$80*0.75))","v":163},null,{"$f":"IF(JI16>0.01,MAX('Background Calculations'!$T$81*0.8,JI16),MAX('Background Calculations'!$T$76,'Background Calculations'!$T$81*0.75))","v":49},null,{"$f":"IF(JK16>0.01,MAX('Background Calculations'!$T$82*0.8,JK16),MAX('Background Calculations'!$T$77,'Background Calculations'!$T$82*0.75))","v":68},null,null,2015,{"$f":"IF(JO16>0.01,MAX('Background Calculations'!$T$80*0.8,JO16),MAX('Background Calculations'!$T$75,'Background Calculations'!$T$80*0.75))","v":163},null,{"$f":"IF(JQ16>0.01,MAX('Background Calculations'!$T$81*0.8,JQ16),MAX('Background Calculations'!$T$76,'Background Calculations'!$T$81*0.75))","v":49},null,{"$f":"IF(JS16>0.01,MAX('Background Calculations'!$T$82*0.8,JS16),MAX('Background Calculations'!$T$77,'Background Calculations'!$T$82*0.75))","v":68},null,null,2015,{"$f":"IF(JW16>0.01,MAX('Background Calculations'!$T$80*0.8,JW16),MAX('Background Calculations'!$T$75,'Background Calculations'!$T$80*0.75))","v":163},null,{"$f":"IF(JY16>0.01,MAX('Background Calculations'!$T$81*0.8,JY16),MAX('Background Calculations'!$T$76,'Background Calculations'!$T$81*0.75))","v":49},null,{"$f":"IF(KA16>0.01,MAX('Background Calculations'!$T$82*0.8,KA16),MAX('Background Calculations'!$T$77,'Background Calculations'!$T$82*0.75))","v":68},null,null,2015,{"$f":"IF(KE16>0.01,MAX('Background Calculations'!$T$80*0.8,KE16),MAX('Background Calculations'!$T$75,'Background Calculations'!$T$80*0.75))","v":163},null,{"$f":"IF(KG16>0.01,MAX('Background Calculations'!$T$81*0.8,KG16),MAX('Background Calculations'!$T$76,'Background Calculations'!$T$81*0.75))","v":49},null,{"$f":"IF(KI16>0.01,MAX('Background Calculations'!$T$82*0.8,KI16),MAX('Background Calculations'!$T$77,'Background Calculations'!$T$82*0.75))","v":68},null,null,2015,{"$f":"IF(KM16>0.01,MAX('Background Calculations'!$T$80*0.8,KM16),MAX('Background Calculations'!$T$75,'Background Calculations'!$T$80*0.75))","v":163},null,{"$f":"IF(KO16>0.01,MAX('Background Calculations'!$T$81*0.8,KO16),MAX('Background Calculations'!$T$76,'Background Calculations'!$T$81*0.75))","v":49},null,{"$f":"IF(KQ16>0.01,MAX('Background Calculations'!$T$82*0.8,KQ16),MAX('Background Calculations'!$T$77,'Background Calculations'!$T$82*0.75))","v":68},null,null,2015,{"$f":"IF(KU16>0.01,MAX('Background Calculations'!$T$80*0.8,KU16),MAX('Background Calculations'!$T$75,'Background Calculations'!$T$80*0.75))","v":163},null,{"$f":"IF(KW16>0.01,MAX('Background Calculations'!$T$81*0.8,KW16),MAX('Background Calculations'!$T$76,'Background Calculations'!$T$81*0.75))","v":49},null,{"$f":"IF(KY16>0.01,MAX('Background Calculations'!$T$82*0.8,KY16),MAX('Background Calculations'!$T$77,'Background Calculations'!$T$82*0.75))","v":68},null,null,2015,{"$f":"IF(LC16>0.01,MAX('Background Calculations'!$T$80*0.8,LC16),MAX('Background Calculations'!$T$75,'Background Calculations'!$T$80*0.75))","v":163},null,{"$f":"IF(LE16>0.01,MAX('Background Calculations'!$T$81*0.8,LE16),MAX('Background Calculations'!$T$76,'Background Calculations'!$T$81*0.75))","v":49},null,{"$f":"IF(LG16>0.01,MAX('Background Calculations'!$T$82*0.8,LG16),MAX('Background Calculations'!$T$77,'Background Calculations'!$T$82*0.75))","v":68},null,null,2015,{"$f":"IF(LK16>0.01,MAX('Background Calculations'!$T$80*0.8,LK16),MAX('Background Calculations'!$T$75,'Background Calculations'!$T$80*0.75))","v":163},null,{"$f":"IF(LM16>0.01,MAX('Background Calculations'!$T$81*0.8,LM16),MAX('Background Calculations'!$T$76,'Background Calculations'!$T$81*0.75))","v":49},null,{"$f":"IF(LO16>0.01,MAX('Background Calculations'!$T$82*0.8,LO16),MAX('Background Calculations'!$T$77,'Background Calculations'!$T$82*0.75))","v":68},null,null,2015,{"$f":"IF(LS16>0.01,MAX('Background Calculations'!$T$80*0.8,LS16),MAX('Background Calculations'!$T$75,'Background Calculations'!$T$80*0.75))","v":163},null,{"$f":"IF(LU16>0.01,MAX('Background Calculations'!$T$81*0.8,LU16),MAX('Background Calculations'!$T$76,'Background Calculations'!$T$81*0.75))","v":49},null,{"$f":"IF(LW16>0.01,MAX('Background Calculations'!$T$82*0.8,LW16),MAX('Background Calculations'!$T$77,'Background Calculations'!$T$82*0.75))","v":68},null,null,2015,{"$f":"IF(MA16>0.01,MAX('Background Calculations'!$T$80*0.8,MA16),MAX('Background Calculations'!$T$75,'Background Calculations'!$T$80*0.75))","v":163},null,{"$f":"IF(MC16>0.01,MAX('Background Calculations'!$T$81*0.8,MC16),MAX('Background Calculations'!$T$76,'Background Calculations'!$T$81*0.75))","v":49},null,{"$f":"IF(ME16>0.01,MAX('Background Calculations'!$T$82*0.8,ME16),MAX('Background Calculations'!$T$77,'Background Calculations'!$T$82*0.75))","v":68},null,null,2015,{"$f":"IF(MI16>0.01,MAX('Background Calculations'!$T$80*0.8,MI16),MAX('Background Calculations'!$T$75,'Background Calculations'!$T$80*0.75))","v":163},null,{"$f":"IF(MK16>0.01,MAX('Background Calculations'!$T$81*0.8,MK16),MAX('Background Calculations'!$T$76,'Background Calculations'!$T$81*0.75))","v":49},null,{"$f":"IF(MM16>0.01,MAX('Background Calculations'!$T$82*0.8,MM16),MAX('Background Calculations'!$T$77,'Background Calculations'!$T$82*0.75))","v":68},null,null,2015,{"$f":"IF(MQ16>0.01,MAX('Background Calculations'!$T$80*0.8,MQ16),MAX('Background Calculations'!$T$75,'Background Calculations'!$T$80*0.75))","v":163},null,{"$f":"IF(MS16>0.01,MAX('Background Calculations'!$T$81*0.8,MS16),MAX('Background Calculations'!$T$76,'Background Calculations'!$T$81*0.75))","v":49},null,{"$f":"IF(MU16>0.01,MAX('Background Calculations'!$T$82*0.8,MU16),MAX('Background Calculations'!$T$77,'Background Calculations'!$T$82*0.75))","v":68},null,null,2015,{"$f":"IF(MY16>0.01,MAX('Background Calculations'!$T$80*0.8,MY16),MAX('Background Calculations'!$T$75,'Background Calculations'!$T$80*0.75))","v":163},null,{"$f":"IF(NA16>0.01,MAX('Background Calculations'!$T$81*0.8,NA16),MAX('Background Calculations'!$T$76,'Background Calculations'!$T$81*0.75))","v":49},null,{"$f":"IF(NC16>0.01,MAX('Background Calculations'!$T$82*0.8,NC16),MAX('Background Calculations'!$T$77,'Background Calculations'!$T$82*0.75))","v":68},null,null,2015,{"$f":"IF(NG16>0.01,MAX('Background Calculations'!$T$80*0.8,NG16),MAX('Background Calculations'!$T$75,'Background Calculations'!$T$80*0.75))","v":163},null,{"$f":"IF(NI16>0.01,MAX('Background Calculations'!$T$81*0.8,NI16),MAX('Background Calculations'!$T$76,'Background Calculations'!$T$81*0.75))","v":49},null,{"$f":"IF(NK16>0.01,MAX('Background Calculations'!$T$82*0.8,NK16),MAX('Background Calculations'!$T$77,'Background Calculations'!$T$82*0.75))","v":68},null,null,2015,{"$f":"IF(NO16>0.01,MAX('Background Calculations'!$T$80*0.8,NO16),MAX('Background Calculations'!$T$75,'Background Calculations'!$T$80*0.75))","v":163},null,{"$f":"IF(NQ16>0.01,MAX('Background Calculations'!$T$81*0.8,NQ16),MAX('Background Calculations'!$T$76,'Background Calculations'!$T$81*0.75))","v":49},null,{"$f":"IF(NS16>0.01,MAX('Background Calculations'!$T$82*0.8,NS16),MAX('Background Calculations'!$T$77,'Background Calculations'!$T$82*0.75))","v":68},null,null,2015,{"$f":"IF(NW16>0.01,MAX('Background Calculations'!$T$80*0.8,NW16),MAX('Background Calculations'!$T$75,'Background Calculations'!$T$80*0.75))","v":163},null,{"$f":"IF(NY16>0.01,MAX('Background Calculations'!$T$81*0.8,NY16),MAX('Background Calculations'!$T$76,'Background Calculations'!$T$81*0.75))","v":49},null,{"$f":"IF(OA16>0.01,MAX('Background Calculations'!$T$82*0.8,OA16),MAX('Background Calculations'!$T$77,'Background Calculations'!$T$82*0.75))","v":68},null,null,2015,{"$f":"IF(OE16>0.01,MAX('Background Calculations'!$T$80*0.8,OE16),MAX('Background Calculations'!$T$75,'Background Calculations'!$T$80*0.75))","v":163},null,{"$f":"IF(OG16>0.01,MAX('Background Calculations'!$T$81*0.8,OG16),MAX('Background Calculations'!$T$76,'Background Calculations'!$T$81*0.75))","v":49},null,{"$f":"IF(OI16>0.01,MAX('Background Calculations'!$T$82*0.8,OI16),MAX('Background Calculations'!$T$77,'Background Calculations'!$T$82*0.75))","v":68},null,null,2015,{"$f":"IF(OM16>0.01,MAX('Background Calculations'!$T$80*0.8,OM16),MAX('Background Calculations'!$T$75,'Background Calculations'!$T$80*0.75))","v":163},null,{"$f":"IF(OO16>0.01,MAX('Background Calculations'!$T$81*0.8,OO16),MAX('Background Calculations'!$T$76,'Background Calculations'!$T$81*0.75))","v":49},null,{"$f":"IF(OQ16>0.01,MAX('Background Calculations'!$T$82*0.8,OQ16),MAX('Background Calculations'!$T$77,'Background Calculations'!$T$82*0.75))","v":68}]
[null,2016,{"$f":"IF(C17>0.01,MAX('Background Calculations'!$U$80*0.8,C17),MAX('Background Calculations'!$U$75,'Background Calculations'!$U$80*0.75))","v":145},null,{"$f":"IF(E17>0.01,MAX('Background Calculations'!$U$81*0.8,E17),MAX('Background Calculations'!$U$76,'Background Calculations'!$U$81*0.75))","v":49},null,{"$f":"IF(G17>0.01,MAX('Background Calculations'!$U$82*0.8,G17),MAX('Background Calculations'!$U$77,'Background Calculations'!$U$82*0.75))","v":86},null,null,2016,{"$f":"IF(K17>0.01,MAX('Background Calculations'!$U$80*0.8,K17),MAX('Background Calculations'!$U$75,'Background Calculations'!$U$80*0.75))","v":145},null,{"$f":"IF(M17>0.01,MAX('Background Calculations'!$U$81*0.8,M17),MAX('Background Calculations'!$U$76,'Background Calculations'!$U$81*0.75))","v":49},null,{"$f":"IF(O17>0.01,MAX('Background Calculations'!$U$82*0.8,O17),MAX('Background Calculations'!$U$77,'Background Calculations'!$U$82*0.75))","v":86},null,null,2016,{"$f":"IF(S17>0.01,MAX('Background Calculations'!$U$80*0.8,S17),MAX('Background Calculations'!$U$75,'Background Calculations'!$U$80*0.75))","v":145},null,{"$f":"IF(U17>0.01,MAX('Background Calculations'!$U$81*0.8,U17),MAX('Background Calculations'!$U$76,'Background Calculations'!$U$81*0.75))","v":49},null,{"$f":"IF(W17>0.01,MAX('Background Calculations'!$U$82*0.8,W17),MAX('Background Calculations'!$U$77,'Background Calculations'!$U$82*0.75))","v":86},null,null,2016,{"$f":"IF(AA17>0.01,MAX('Background Calculations'!$U$80*0.8,AA17),MAX('Background Calculations'!$U$75,'Background Calculations'!$U$80*0.75))","v":145},null,{"$f":"IF(AC17>0.01,MAX('Background Calculations'!$U$81*0.8,AC17),MAX('Background Calculations'!$U$76,'Background Calculations'!$U$81*0.75))","v":49},null,{"$f":"IF(AE17>0.01,MAX('Background Calculations'!$U$82*0.8,AE17),MAX('Background Calculations'!$U$77,'Background Calculations'!$U$82*0.75))","v":86},null,null,2016,{"$f":"IF(AI17>0.01,MAX('Background Calculations'!$U$80*0.8,AI17),MAX('Background Calculations'!$U$75,'Background Calculations'!$U$80*0.75))","v":145},null,{"$f":"IF(AK17>0.01,MAX('Background Calculations'!$U$81*0.8,AK17),MAX('Background Calculations'!$U$76,'Background Calculations'!$U$81*0.75))","v":49},null,{"$f":"IF(AM17>0.01,MAX('Background Calculations'!$U$82*0.8,AM17),MAX('Background Calculations'!$U$77,'Background Calculations'!$U$82*0.75))","v":86},null,null,2016,{"$f":"IF(AQ17>0.01,MAX('Background Calculations'!$U$80*0.8,AQ17),MAX('Background Calculations'!$U$75,'Background Calculations'!$U$80*0.75))","v":145},null,{"$f":"IF(AS17>0.01,MAX('Background Calculations'!$U$81*0.8,AS17),MAX('Background Calculations'!$U$76,'Background Calculations'!$U$81*0.75))","v":49},null,{"$f":"IF(AU17>0.01,MAX('Background Calculations'!$U$82*0.8,AU17),MAX('Background Calculations'!$U$77,'Background Calculations'!$U$82*0.75))","v":86},null,null,2016,{"$f":"IF(AY17>0.01,MAX('Background Calculations'!$U$80*0.8,AY17),MAX('Background Calculations'!$U$75,'Background Calculations'!$U$80*0.75))","v":145},null,{"$f":"IF(BA17>0.01,MAX('Background Calculations'!$U$81*0.8,BA17),MAX('Background Calculations'!$U$76,'Background Calculations'!$U$81*0.75))","v":49},null,{"$f":"IF(BC17>0.01,MAX('Background Calculations'!$U$82*0.8,BC17),MAX('Background Calculations'!$U$77,'Background Calculations'!$U$82*0.75))","v":86},null,null,2016,{"$f":"IF(BG17>0.01,MAX('Background Calculations'!$U$80*0.8,BG17),MAX('Background Calculations'!$U$75,'Background Calculations'!$U$80*0.75))","v":145},null,{"$f":"IF(BI17>0.01,MAX('Background Calculations'!$U$81*0.8,BI17),MAX('Background Calculations'!$U$76,'Background Calculations'!$U$81*0.75))","v":49},null,{"$f":"IF(BK17>0.01,MAX('Background Calculations'!$U$82*0.8,BK17),MAX('Background Calculations'!$U$77,'Background Calculations'!$U$82*0.75))","v":86},null,null,2016,{"$f":"IF(BO17>0.01,MAX('Background Calculations'!$U$80*0.8,BO17),MAX('Background Calculations'!$U$75,'Background Calculations'!$U$80*0.75))","v":145},null,{"$f":"IF(BQ17>0.01,MAX('Background Calculations'!$U$81*0.8,BQ17),MAX('Background Calculations'!$U$76,'Background Calculations'!$U$81*0.75))","v":49},null,{"$f":"IF(BS17>0.01,MAX('Background Calculations'!$U$82*0.8,BS17),MAX('Background Calculations'!$U$77,'Background Calculations'!$U$82*0.75))","v":86},null,null,2016,{"$f":"IF(BW17>0.01,MAX('Background Calculations'!$U$80*0.8,BW17),MAX('Background Calculations'!$U$75,'Background Calculations'!$U$80*0.75))","v":145},null,{"$f":"IF(BY17>0.01,MAX('Background Calculations'!$U$81*0.8,BY17),MAX('Background Calculations'!$U$76,'Background Calculations'!$U$81*0.75))","v":49},null,{"$f":"IF(CA17>0.01,MAX('Background Calculations'!$U$82*0.8,CA17),MAX('Background Calculations'!$U$77,'Background Calculations'!$U$82*0.75))","v":86},null,null,2016,{"$f":"IF(CE17>0.01,MAX('Background Calculations'!$U$80*0.8,CE17),MAX('Background Calculations'!$U$75,'Background Calculations'!$U$80*0.75))","v":145},null,{"$f":"IF(CG17>0.01,MAX('Background Calculations'!$U$81*0.8,CG17),MAX('Background Calculations'!$U$76,'Background Calculations'!$U$81*0.75))","v":49},null,{"$f":"IF(CI17>0.01,MAX('Background Calculations'!$U$82*0.8,CI17),MAX('Background Calculations'!$U$77,'Background Calculations'!$U$82*0.75))","v":86},null,null,2016,{"$f":"IF(CM17>0.01,MAX('Background Calculations'!$U$80*0.8,CM17),MAX('Background Calculations'!$U$75,'Background Calculations'!$U$80*0.75))","v":145},null,{"$f":"IF(CO17>0.01,MAX('Background Calculations'!$U$81*0.8,CO17),MAX('Background Calculations'!$U$76,'Background Calculations'!$U$81*0.75))","v":49},null,{"$f":"IF(CQ17>0.01,MAX('Background Calculations'!$U$82*0.8,CQ17),MAX('Background Calculations'!$U$77,'Background Calculations'!$U$82*0.75))","v":86},null,null,2016,{"$f":"IF(CU17>0.01,MAX('Background Calculations'!$U$80*0.8,CU17),MAX('Background Calculations'!$U$75,'Background Calculations'!$U$80*0.75))","v":145},null,{"$f":"IF(CW17>0.01,MAX('Background Calculations'!$U$81*0.8,CW17),MAX('Background Calculations'!$U$76,'Background Calculations'!$U$81*0.75))","v":49},null,{"$f":"IF(CY17>0.01,MAX('Background Calculations'!$U$82*0.8,CY17),MAX('Background Calculations'!$U$77,'Background Calculations'!$U$82*0.75))","v":86},null,null,2016,{"$f":"IF(DC17>0.01,MAX('Background Calculations'!$U$80*0.8,DC17),MAX('Background Calculations'!$U$75,'Background Calculations'!$U$80*0.75))","v":145},null,{"$f":"IF(DE17>0.01,MAX('Background Calculations'!$U$81*0.8,DE17),MAX('Background Calculations'!$U$76,'Background Calculations'!$U$81*0.75))","v":49},null,{"$f":"IF(DG17>0.01,MAX('Background Calculations'!$U$82*0.8,DG17),MAX('Background Calculations'!$U$77,'Background Calculations'!$U$82*0.75))","v":86},null,null,2016,{"$f":"IF(DK17>0.01,MAX('Background Calculations'!$U$80*0.8,DK17),MAX('Background Calculations'!$U$75,'Background Calculations'!$U$80*0.75))","v":145},null,{"$f":"IF(DM17>0.01,MAX('Background Calculations'!$U$81*0.8,DM17),MAX('Background Calculations'!$U$76,'Background Calculations'!$U$81*0.75))","v":49},null,{"$f":"IF(DO17>0.01,MAX('Background Calculations'!$U$82*0.8,DO17),MAX('Background Calculations'!$U$77,'Background Calculations'!$U$82*0.75))","v":86},null,null,2016,{"$f":"IF(DS17>0.01,MAX('Background Calculations'!$U$80*0.8,DS17),MAX('Background Calculations'!$U$75,'Background Calculations'!$U$80*0.75))","v":145},null,{"$f":"IF(DU17>0.01,MAX('Background Calculations'!$U$81*0.8,DU17),MAX('Background Calculations'!$U$76,'Background Calculations'!$U$81*0.75))","v":49},null,{"$f":"IF(DW17>0.01,MAX('Background Calculations'!$U$82*0.8,DW17),MAX('Background Calculations'!$U$77,'Background Calculations'!$U$82*0.75))","v":86},null,null,2016,{"$f":"IF(EA17>0.01,MAX('Background Calculations'!$U$80*0.8,EA17),MAX('Background Calculations'!$U$75,'Background Calculations'!$U$80*0.75))","v":145},null,{"$f":"IF(EC17>0.01,MAX('Background Calculations'!$U$81*0.8,EC17),MAX('Background Calculations'!$U$76,'Background Calculations'!$U$81*0.75))","v":49},null,{"$f":"IF(EE17>0.01,MAX('Background Calculations'!$U$82*0.8,EE17),MAX('Background Calculations'!$U$77,'Background Calculations'!$U$82*0.75))","v":86},null,null,2016,{"$f":"IF(EI17>0.01,MAX('Background Calculations'!$U$80*0.8,EI17),MAX('Background Calculations'!$U$75,'Background Calculations'!$U$80*0.75))","v":145},null,{"$f":"IF(EK17>0.01,MAX('Background Calculations'!$U$81*0.8,EK17),MAX('Background Calculations'!$U$76,'Background Calculations'!$U$81*0.75))","v":49},null,{"$f":"IF(EM17>0.01,MAX('Background Calculations'!$U$82*0.8,EM17),MAX('Background Calculations'!$U$77,'Background Calculations'!$U$82*0.75))","v":86},null,null,2016,{"$f":"IF(EQ17>0.01,MAX('Background Calculations'!$U$80*0.8,EQ17),MAX('Background Calculations'!$U$75,'Background Calculations'!$U$80*0.75))","v":145},null,{"$f":"IF(ES17>0.01,MAX('Background Calculations'!$U$81*0.8,ES17),MAX('Background Calculations'!$U$76,'Background Calculations'!$U$81*0.75))","v":49},null,{"$f":"IF(EU17>0.01,MAX('Background Calculations'!$U$82*0.8,EU17),MAX('Background Calculations'!$U$77,'Background Calculations'!$U$82*0.75))","v":86},null,null,2016,{"$f":"IF(EY17>0.01,MAX('Background Calculations'!$U$80*0.8,EY17),MAX('Background Calculations'!$U$75,'Background Calculations'!$U$80*0.75))","v":145},null,{"$f":"IF(FA17>0.01,MAX('Background Calculations'!$U$81*0.8,FA17),MAX('Background Calculations'!$U$76,'Background Calculations'!$U$81*0.75))","v":49},null,{"$f":"IF(FC17>0.01,MAX('Background Calculations'!$U$82*0.8,FC17),MAX('Background Calculations'!$U$77,'Background Calculations'!$U$82*0.75))","v":86},null,null,2016,{"$f":"IF(FG17>0.01,MAX('Background Calculations'!$U$80*0.8,FG17),MAX('Background Calculations'!$U$75,'Background Calculations'!$U$80*0.75))","v":145},null,{"$f":"IF(FI17>0.01,MAX('Background Calculations'!$U$81*0.8,FI17),MAX('Background Calculations'!$U$76,'Background Calculations'!$U$81*0.75))","v":49},null,{"$f":"IF(FK17>0.01,MAX('Background Calculations'!$U$82*0.8,FK17),MAX('Background Calculations'!$U$77,'Background Calculations'!$U$82*0.75))","v":86},null,null,2016,{"$f":"IF(FO17>0.01,MAX('Background Calculations'!$U$80*0.8,FO17),MAX('Background Calculations'!$U$75,'Background Calculations'!$U$80*0.75))","v":145},null,{"$f":"IF(FQ17>0.01,MAX('Background Calculations'!$U$81*0.8,FQ17),MAX('Background Calculations'!$U$76,'Background Calculations'!$U$81*0.75))","v":49},null,{"$f":"IF(FS17>0.01,MAX('Background Calculations'!$U$82*0.8,FS17),MAX('Background Calculations'!$U$77,'Background Calculations'!$U$82*0.75))","v":86},null,null,2016,{"$f":"IF(FW17>0.01,MAX('Background Calculations'!$U$80*0.8,FW17),MAX('Background Calculations'!$U$75,'Background Calculations'!$U$80*0.75))","v":145},null,{"$f":"IF(FY17>0.01,MAX('Background Calculations'!$U$81*0.8,FY17),MAX('Background Calculations'!$U$76,'Background Calculations'!$U$81*0.75))","v":49},null,{"$f":"IF(GA17>0.01,MAX('Background Calculations'!$U$82*0.8,GA17),MAX('Background Calculations'!$U$77,'Background Calculations'!$U$82*0.75))","v":86},null,null,2016,{"$f":"IF(GE17>0.01,MAX('Background Calculations'!$U$80*0.8,GE17),MAX('Background Calculations'!$U$75,'Background Calculations'!$U$80*0.75))","v":145},null,{"$f":"IF(GG17>0.01,MAX('Background Calculations'!$U$81*0.8,GG17),MAX('Background Calculations'!$U$76,'Background Calculations'!$U$81*0.75))","v":49},null,{"$f":"IF(GI17>0.01,MAX('Background Calculations'!$U$82*0.8,GI17),MAX('Background Calculations'!$U$77,'Background Calculations'!$U$82*0.75))","v":86},null,null,2016,{"$f":"IF(GM17>0.01,MAX('Background Calculations'!$U$80*0.8,GM17),MAX('Background Calculations'!$U$75,'Background Calculations'!$U$80*0.75))","v":145},null,{"$f":"IF(GO17>0.01,MAX('Background Calculations'!$U$81*0.8,GO17),MAX('Background Calculations'!$U$76,'Background Calculations'!$U$81*0.75))","v":49},null,{"$f":"IF(GQ17>0.01,MAX('Background Calculations'!$U$82*0.8,GQ17),MAX('Background Calculations'!$U$77,'Background Calculations'!$U$82*0.75))","v":86},null,null,2016,{"$f":"IF(GU17>0.01,MAX('Background Calculations'!$U$80*0.8,GU17),MAX('Background Calculations'!$U$75,'Background Calculations'!$U$80*0.75))","v":145},null,{"$f":"IF(GW17>0.01,MAX('Background Calculations'!$U$81*0.8,GW17),MAX('Background Calculations'!$U$76,'Background Calculations'!$U$81*0.75))","v":49},null,{"$f":"IF(GY17>0.01,MAX('Background Calculations'!$U$82*0.8,GY17),MAX('Background Calculations'!$U$77,'Background Calculations'!$U$82*0.75))","v":86},null,null,2016,{"$f":"IF(HC17>0.01,MAX('Background Calculations'!$U$80*0.8,HC17),MAX('Background Calculations'!$U$75,'Background Calculations'!$U$80*0.75))","v":145},null,{"$f":"IF(HE17>0.01,MAX('Background Calculations'!$U$81*0.8,HE17),MAX('Background Calculations'!$U$76,'Background Calculations'!$U$81*0.75))","v":49},null,{"$f":"IF(HG17>0.01,MAX('Background Calculations'!$U$82*0.8,HG17),MAX('Background Calculations'!$U$77,'Background Calculations'!$U$82*0.75))","v":86},null,null,2016,{"$f":"IF(HK17>0.01,MAX('Background Calculations'!$U$80*0.8,HK17),MAX('Background Calculations'!$U$75,'Background Calculations'!$U$80*0.75))","v":145},null,{"$f":"IF(HM17>0.01,MAX('Background Calculations'!$U$81*0.8,HM17),MAX('Background Calculations'!$U$76,'Background Calculations'!$U$81*0.75))","v":49},null,{"$f":"IF(HO17>0.01,MAX('Background Calculations'!$U$82*0.8,HO17),MAX('Background Calculations'!$U$77,'Background Calculations'!$U$82*0.75))","v":86},null,null,2016,{"$f":"IF(HS17>0.01,MAX('Background Calculations'!$U$80*0.8,HS17),MAX('Background Calculations'!$U$75,'Background Calculations'!$U$80*0.75))","v":145},null,{"$f":"IF(HU17>0.01,MAX('Background Calculations'!$U$81*0.8,HU17),MAX('Background Calculations'!$U$76,'Background Calculations'!$U$81*0.75))","v":49},null,{"$f":"IF(HW17>0.01,MAX('Background Calculations'!$U$82*0.8,HW17),MAX('Background Calculations'!$U$77,'Background Calculations'!$U$82*0.75))","v":86},null,null,2016,{"$f":"IF(IA17>0.01,MAX('Background Calculations'!$U$80*0.8,IA17),MAX('Background Calculations'!$U$75,'Background Calculations'!$U$80*0.75))","v":145},null,{"$f":"IF(IC17>0.01,MAX('Background Calculations'!$U$81*0.8,IC17),MAX('Background Calculations'!$U$76,'Background Calculations'!$U$81*0.75))","v":49},null,{"$f":"IF(IE17>0.01,MAX('Background Calculations'!$U$82*0.8,IE17),MAX('Background Calculations'!$U$77,'Background Calculations'!$U$82*0.75))","v":86},null,null,2016,{"$f":"IF(II17>0.01,MAX('Background Calculations'!$U$80*0.8,II17),MAX('Background Calculations'!$U$75,'Background Calculations'!$U$80*0.75))","v":145},null,{"$f":"IF(IK17>0.01,MAX('Background Calculations'!$U$81*0.8,IK17),MAX('Background Calculations'!$U$76,'Background Calculations'!$U$81*0.75))","v":49},null,{"$f":"IF(IM17>0.01,MAX('Background Calculations'!$U$82*0.8,IM17),MAX('Background Calculations'!$U$77,'Background Calculations'!$U$82*0.75))","v":86},null,null,2016,{"$f":"IF(IQ17>0.01,MAX('Background Calculations'!$U$80*0.8,IQ17),MAX('Background Calculations'!$U$75,'Background Calculations'!$U$80*0.75))","v":145},null,{"$f":"IF(IS17>0.01,MAX('Background Calculations'!$U$81*0.8,IS17),MAX('Background Calculations'!$U$76,'Background Calculations'!$U$81*0.75))","v":49},null,{"$f":"IF(IU17>0.01,MAX('Background Calculations'!$U$82*0.8,IU17),MAX('Background Calculations'!$U$77,'Background Calculations'!$U$82*0.75))","v":86},null,null,2016,{"$f":"IF(IY17>0.01,MAX('Background Calculations'!$U$80*0.8,IY17),MAX('Background Calculations'!$U$75,'Background Calculations'!$U$80*0.75))","v":145},null,{"$f":"IF(JA17>0.01,MAX('Background Calculations'!$U$81*0.8,JA17),MAX('Background Calculations'!$U$76,'Background Calculations'!$U$81*0.75))","v":49},null,{"$f":"IF(JC17>0.01,MAX('Background Calculations'!$U$82*0.8,JC17),MAX('Background Calculations'!$U$77,'Background Calculations'!$U$82*0.75))","v":86},null,null,2016,{"$f":"IF(JG17>0.01,MAX('Background Calculations'!$U$80*0.8,JG17),MAX('Background Calculations'!$U$75,'Background Calculations'!$U$80*0.75))","v":145},null,{"$f":"IF(JI17>0.01,MAX('Background Calculations'!$U$81*0.8,JI17),MAX('Background Calculations'!$U$76,'Background Calculations'!$U$81*0.75))","v":49},null,{"$f":"IF(JK17>0.01,MAX('Background Calculations'!$U$82*0.8,JK17),MAX('Background Calculations'!$U$77,'Background Calculations'!$U$82*0.75))","v":86},null,null,2016,{"$f":"IF(JO17>0.01,MAX('Background Calculations'!$U$80*0.8,JO17),MAX('Background Calculations'!$U$75,'Background Calculations'!$U$80*0.75))","v":145},null,{"$f":"IF(JQ17>0.01,MAX('Background Calculations'!$U$81*0.8,JQ17),MAX('Background Calculations'!$U$76,'Background Calculations'!$U$81*0.75))","v":49},null,{"$f":"IF(JS17>0.01,MAX('Background Calculations'!$U$82*0.8,JS17),MAX('Background Calculations'!$U$77,'Background Calculations'!$U$82*0.75))","v":86},null,null,2016,{"$f":"IF(JW17>0.01,MAX('Background Calculations'!$U$80*0.8,JW17),MAX('Background Calculations'!$U$75,'Background Calculations'!$U$80*0.75))","v":145},null,{"$f":"IF(JY17>0.01,MAX('Background Calculations'!$U$81*0.8,JY17),MAX('Background Calculations'!$U$76,'Background Calculations'!$U$81*0.75))","v":49},null,{"$f":"IF(KA17>0.01,MAX('Background Calculations'!$U$82*0.8,KA17),MAX('Background Calculations'!$U$77,'Background Calculations'!$U$82*0.75))","v":86},null,null,2016,{"$f":"IF(KE17>0.01,MAX('Background Calculations'!$U$80*0.8,KE17),MAX('Background Calculations'!$U$75,'Background Calculations'!$U$80*0.75))","v":145},null,{"$f":"IF(KG17>0.01,MAX('Background Calculations'!$U$81*0.8,KG17),MAX('Background Calculations'!$U$76,'Background Calculations'!$U$81*0.75))","v":49},null,{"$f":"IF(KI17>0.01,MAX('Background Calculations'!$U$82*0.8,KI17),MAX('Background Calculations'!$U$77,'Background Calculations'!$U$82*0.75))","v":86},null,null,2016,{"$f":"IF(KM17>0.01,MAX('Background Calculations'!$U$80*0.8,KM17),MAX('Background Calculations'!$U$75,'Background Calculations'!$U$80*0.75))","v":145},null,{"$f":"IF(KO17>0.01,MAX('Background Calculations'!$U$81*0.8,KO17),MAX('Background Calculations'!$U$76,'Background Calculations'!$U$81*0.75))","v":49},null,{"$f":"IF(KQ17>0.01,MAX('Background Calculations'!$U$82*0.8,KQ17),MAX('Background Calculations'!$U$77,'Background Calculations'!$U$82*0.75))","v":86},null,null,2016,{"$f":"IF(KU17>0.01,MAX('Background Calculations'!$U$80*0.8,KU17),MAX('Background Calculations'!$U$75,'Background Calculations'!$U$80*0.75))","v":145},null,{"$f":"IF(KW17>0.01,MAX('Background Calculations'!$U$81*0.8,KW17),MAX('Background Calculations'!$U$76,'Background Calculations'!$U$81*0.75))","v":49},null,{"$f":"IF(KY17>0.01,MAX('Background Calculations'!$U$82*0.8,KY17),MAX('Background Calculations'!$U$77,'Background Calculations'!$U$82*0.75))","v":86},null,null,2016,{"$f":"IF(LC17>0.01,MAX('Background Calculations'!$U$80*0.8,LC17),MAX('Background Calculations'!$U$75,'Background Calculations'!$U$80*0.75))","v":145},null,{"$f":"IF(LE17>0.01,MAX('Background Calculations'!$U$81*0.8,LE17),MAX('Background Calculations'!$U$76,'Background Calculations'!$U$81*0.75))","v":49},null,{"$f":"IF(LG17>0.01,MAX('Background Calculations'!$U$82*0.8,LG17),MAX('Background Calculations'!$U$77,'Background Calculations'!$U$82*0.75))","v":86},null,null,2016,{"$f":"IF(LK17>0.01,MAX('Background Calculations'!$U$80*0.8,LK17),MAX('Background Calculations'!$U$75,'Background Calculations'!$U$80*0.75))","v":145},null,{"$f":"IF(LM17>0.01,MAX('Background Calculations'!$U$81*0.8,LM17),MAX('Background Calculations'!$U$76,'Background Calculations'!$U$81*0.75))","v":49},null,{"$f":"IF(LO17>0.01,MAX('Background Calculations'!$U$82*0.8,LO17),MAX('Background Calculations'!$U$77,'Background Calculations'!$U$82*0.75))","v":86},null,null,2016,{"$f":"IF(LS17>0.01,MAX('Background Calculations'!$U$80*0.8,LS17),MAX('Background Calculations'!$U$75,'Background Calculations'!$U$80*0.75))","v":145},null,{"$f":"IF(LU17>0.01,MAX('Background Calculations'!$U$81*0.8,LU17),MAX('Background Calculations'!$U$76,'Background Calculations'!$U$81*0.75))","v":49},null,{"$f":"IF(LW17>0.01,MAX('Background Calculations'!$U$82*0.8,LW17),MAX('Background Calculations'!$U$77,'Background Calculations'!$U$82*0.75))","v":86},null,null,2016,{"$f":"IF(MA17>0.01,MAX('Background Calculations'!$U$80*0.8,MA17),MAX('Background Calculations'!$U$75,'Background Calculations'!$U$80*0.75))","v":145},null,{"$f":"IF(MC17>0.01,MAX('Background Calculations'!$U$81*0.8,MC17),MAX('Background Calculations'!$U$76,'Background Calculations'!$U$81*0.75))","v":49},null,{"$f":"IF(ME17>0.01,MAX('Background Calculations'!$U$82*0.8,ME17),MAX('Background Calculations'!$U$77,'Background Calculations'!$U$82*0.75))","v":86},null,null,2016,{"$f":"IF(MI17>0.01,MAX('Background Calculations'!$U$80*0.8,MI17),MAX('Background Calculations'!$U$75,'Background Calculations'!$U$80*0.75))","v":145},null,{"$f":"IF(MK17>0.01,MAX('Background Calculations'!$U$81*0.8,MK17),MAX('Background Calculations'!$U$76,'Background Calculations'!$U$81*0.75))","v":49},null,{"$f":"IF(MM17>0.01,MAX('Background Calculations'!$U$82*0.8,MM17),MAX('Background Calculations'!$U$77,'Background Calculations'!$U$82*0.75))","v":86},null,null,2016,{"$f":"IF(MQ17>0.01,MAX('Background Calculations'!$U$80*0.8,MQ17),MAX('Background Calculations'!$U$75,'Background Calculations'!$U$80*0.75))","v":145},null,{"$f":"IF(MS17>0.01,MAX('Background Calculations'!$U$81*0.8,MS17),MAX('Background Calculations'!$U$76,'Background Calculations'!$U$81*0.75))","v":49},null,{"$f":"IF(MU17>0.01,MAX('Background Calculations'!$U$82*0.8,MU17),MAX('Background Calculations'!$U$77,'Background Calculations'!$U$82*0.75))","v":86},null,null,2016,{"$f":"IF(MY17>0.01,MAX('Background Calculations'!$U$80*0.8,MY17),MAX('Background Calculations'!$U$75,'Background Calculations'!$U$80*0.75))","v":145},null,{"$f":"IF(NA17>0.01,MAX('Background Calculations'!$U$81*0.8,NA17),MAX('Background Calculations'!$U$76,'Background Calculations'!$U$81*0.75))","v":49},null,{"$f":"IF(NC17>0.01,MAX('Background Calculations'!$U$82*0.8,NC17),MAX('Background Calculations'!$U$77,'Background Calculations'!$U$82*0.75))","v":86},null,null,2016,{"$f":"IF(NG17>0.01,MAX('Background Calculations'!$U$80*0.8,NG17),MAX('Background Calculations'!$U$75,'Background Calculations'!$U$80*0.75))","v":145},null,{"$f":"IF(NI17>0.01,MAX('Background Calculations'!$U$81*0.8,NI17),MAX('Background Calculations'!$U$76,'Background Calculations'!$U$81*0.75))","v":49},null,{"$f":"IF(NK17>0.01,MAX('Background Calculations'!$U$82*0.8,NK17),MAX('Background Calculations'!$U$77,'Background Calculations'!$U$82*0.75))","v":86},null,null,2016,{"$f":"IF(NO17>0.01,MAX('Background Calculations'!$U$80*0.8,NO17),MAX('Background Calculations'!$U$75,'Background Calculations'!$U$80*0.75))","v":145},null,{"$f":"IF(NQ17>0.01,MAX('Background Calculations'!$U$81*0.8,NQ17),MAX('Background Calculations'!$U$76,'Background Calculations'!$U$81*0.75))","v":49},null,{"$f":"IF(NS17>0.01,MAX('Background Calculations'!$U$82*0.8,NS17),MAX('Background Calculations'!$U$77,'Background Calculations'!$U$82*0.75))","v":86},null,null,2016,{"$f":"IF(NW17>0.01,MAX('Background Calculations'!$U$80*0.8,NW17),MAX('Background Calculations'!$U$75,'Background Calculations'!$U$80*0.75))","v":145},null,{"$f":"IF(NY17>0.01,MAX('Background Calculations'!$U$81*0.8,NY17),MAX('Background Calculations'!$U$76,'Background Calculations'!$U$81*0.75))","v":49},null,{"$f":"IF(OA17>0.01,MAX('Background Calculations'!$U$82*0.8,OA17),MAX('Background Calculations'!$U$77,'Background Calculations'!$U$82*0.75))","v":86},null,null,2016,{"$f":"IF(OE17>0.01,MAX('Background Calculations'!$U$80*0.8,OE17),MAX('Background Calculations'!$U$75,'Background Calculations'!$U$80*0.75))","v":145},null,{"$f":"IF(OG17>0.01,MAX('Background Calculations'!$U$81*0.8,OG17),MAX('Background Calculations'!$U$76,'Background Calculations'!$U$81*0.75))","v":49},null,{"$f":"IF(OI17>0.01,MAX('Background Calculations'!$U$82*0.8,OI17),MAX('Background Calculations'!$U$77,'Background Calculations'!$U$82*0.75))","v":86},null,null,2016,{"$f":"IF(OM17>0.01,MAX('Background Calculations'!$U$80*0.8,OM17),MAX('Background Calculations'!$U$75,'Background Calculations'!$U$80*0.75))","v":145},null,{"$f":"IF(OO17>0.01,MAX('Background Calculations'!$U$81*0.8,OO17),MAX('Background Calculations'!$U$76,'Background Calculations'!$U$81*0.75))","v":49},null,{"$f":"IF(OQ17>0.01,MAX('Background Calculations'!$U$82*0.8,OQ17),MAX('Background Calculations'!$U$77,'Background Calculations'!$U$82*0.75))","v":86}]
[null,2017,{"$f":"IF(C18>0.01,MAX('Background Calculations'!$V$80*0.8,C18),MAX('Background Calculations'!$V$75,'Background Calculations'!$V$80*0.75))","v":167},null,{"$f":"IF(E18>0.01,MAX('Background Calculations'!$V$81*0.8,E18),MAX('Background Calculations'!$V$76,'Background Calculations'!$V$81*0.75))","v":41},null,{"$f":"IF(G18>0.01,MAX('Background Calculations'!$V$82*0.8,G18),MAX('Background Calculations'!$V$77,'Background Calculations'!$V$82*0.75))","v":60},null,null,2017,{"$f":"IF(K18>0.01,MAX('Background Calculations'!$V$80*0.8,K18),MAX('Background Calculations'!$V$75,'Background Calculations'!$V$80*0.75))","v":167},null,{"$f":"IF(M18>0.01,MAX('Background Calculations'!$V$81*0.8,M18),MAX('Background Calculations'!$V$76,'Background Calculations'!$V$81*0.75))","v":41},null,{"$f":"IF(O18>0.01,MAX('Background Calculations'!$V$82*0.8,O18),MAX('Background Calculations'!$V$77,'Background Calculations'!$V$82*0.75))","v":60},null,null,2017,{"$f":"IF(S18>0.01,MAX('Background Calculations'!$V$80*0.8,S18),MAX('Background Calculations'!$V$75,'Background Calculations'!$V$80*0.75))","v":167},null,{"$f":"IF(U18>0.01,MAX('Background Calculations'!$V$81*0.8,U18),MAX('Background Calculations'!$V$76,'Background Calculations'!$V$81*0.75))","v":41},null,{"$f":"IF(W18>0.01,MAX('Background Calculations'!$V$82*0.8,W18),MAX('Background Calculations'!$V$77,'Background Calculations'!$V$82*0.75))","v":60},null,null,2017,{"$f":"IF(AA18>0.01,MAX('Background Calculations'!$V$80*0.8,AA18),MAX('Background Calculations'!$V$75,'Background Calculations'!$V$80*0.75))","v":167},null,{"$f":"IF(AC18>0.01,MAX('Background Calculations'!$V$81*0.8,AC18),MAX('Background Calculations'!$V$76,'Background Calculations'!$V$81*0.75))","v":41},null,{"$f":"IF(AE18>0.01,MAX('Background Calculations'!$V$82*0.8,AE18),MAX('Background Calculations'!$V$77,'Background Calculations'!$V$82*0.75))","v":60},null,null,2017,{"$f":"IF(AI18>0.01,MAX('Background Calculations'!$V$80*0.8,AI18),MAX('Background Calculations'!$V$75,'Background Calculations'!$V$80*0.75))","v":167},null,{"$f":"IF(AK18>0.01,MAX('Background Calculations'!$V$81*0.8,AK18),MAX('Background Calculations'!$V$76,'Background Calculations'!$V$81*0.75))","v":41},null,{"$f":"IF(AM18>0.01,MAX('Background Calculations'!$V$82*0.8,AM18),MAX('Background Calculations'!$V$77,'Background Calculations'!$V$82*0.75))","v":60},null,null,2017,{"$f":"IF(AQ18>0.01,MAX('Background Calculations'!$V$80*0.8,AQ18),MAX('Background Calculations'!$V$75,'Background Calculations'!$V$80*0.75))","v":167},null,{"$f":"IF(AS18>0.01,MAX('Background Calculations'!$V$81*0.8,AS18),MAX('Background Calculations'!$V$76,'Background Calculations'!$V$81*0.75))","v":41},null,{"$f":"IF(AU18>0.01,MAX('Background Calculations'!$V$82*0.8,AU18),MAX('Background Calculations'!$V$77,'Background Calculations'!$V$82*0.75))","v":60},null,null,2017,{"$f":"IF(AY18>0.01,MAX('Background Calculations'!$V$80*0.8,AY18),MAX('Background Calculations'!$V$75,'Background Calculations'!$V$80*0.75))","v":167},null,{"$f":"IF(BA18>0.01,MAX('Background Calculations'!$V$81*0.8,BA18),MAX('Background Calculations'!$V$76,'Background Calculations'!$V$81*0.75))","v":41},null,{"$f":"IF(BC18>0.01,MAX('Background Calculations'!$V$82*0.8,BC18),MAX('Background Calculations'!$V$77,'Background Calculations'!$V$82*0.75))","v":60},null,null,2017,{"$f":"IF(BG18>0.01,MAX('Background Calculations'!$V$80*0.8,BG18),MAX('Background Calculations'!$V$75,'Background Calculations'!$V$80*0.75))","v":167},null,{"$f":"IF(BI18>0.01,MAX('Background Calculations'!$V$81*0.8,BI18),MAX('Background Calculations'!$V$76,'Background Calculations'!$V$81*0.75))","v":41},null,{"$f":"IF(BK18>0.01,MAX('Background Calculations'!$V$82*0.8,BK18),MAX('Background Calculations'!$V$77,'Background Calculations'!$V$82*0.75))","v":60},null,null,2017,{"$f":"IF(BO18>0.01,MAX('Background Calculations'!$V$80*0.8,BO18),MAX('Background Calculations'!$V$75,'Background Calculations'!$V$80*0.75))","v":167},null,{"$f":"IF(BQ18>0.01,MAX('Background Calculations'!$V$81*0.8,BQ18),MAX('Background Calculations'!$V$76,'Background Calculations'!$V$81*0.75))","v":41},null,{"$f":"IF(BS18>0.01,MAX('Background Calculations'!$V$82*0.8,BS18),MAX('Background Calculations'!$V$77,'Background Calculations'!$V$82*0.75))","v":60},null,null,2017,{"$f":"IF(BW18>0.01,MAX('Background Calculations'!$V$80*0.8,BW18),MAX('Background Calculations'!$V$75,'Background Calculations'!$V$80*0.75))","v":167},null,{"$f":"IF(BY18>0.01,MAX('Background Calculations'!$V$81*0.8,BY18),MAX('Background Calculations'!$V$76,'Background Calculations'!$V$81*0.75))","v":41},null,{"$f":"IF(CA18>0.01,MAX('Background Calculations'!$V$82*0.8,CA18),MAX('Background Calculations'!$V$77,'Background Calculations'!$V$82*0.75))","v":60},null,null,2017,{"$f":"IF(CE18>0.01,MAX('Background Calculations'!$V$80*0.8,CE18),MAX('Background Calculations'!$V$75,'Background Calculations'!$V$80*0.75))","v":167},null,{"$f":"IF(CG18>0.01,MAX('Background Calculations'!$V$81*0.8,CG18),MAX('Background Calculations'!$V$76,'Background Calculations'!$V$81*0.75))","v":41},null,{"$f":"IF(CI18>0.01,MAX('Background Calculations'!$V$82*0.8,CI18),MAX('Background Calculations'!$V$77,'Background Calculations'!$V$82*0.75))","v":60},null,null,2017,{"$f":"IF(CM18>0.01,MAX('Background Calculations'!$V$80*0.8,CM18),MAX('Background Calculations'!$V$75,'Background Calculations'!$V$80*0.75))","v":167},null,{"$f":"IF(CO18>0.01,MAX('Background Calculations'!$V$81*0.8,CO18),MAX('Background Calculations'!$V$76,'Background Calculations'!$V$81*0.75))","v":41},null,{"$f":"IF(CQ18>0.01,MAX('Background Calculations'!$V$82*0.8,CQ18),MAX('Background Calculations'!$V$77,'Background Calculations'!$V$82*0.75))","v":60},null,null,2017,{"$f":"IF(CU18>0.01,MAX('Background Calculations'!$V$80*0.8,CU18),MAX('Background Calculations'!$V$75,'Background Calculations'!$V$80*0.75))","v":167},null,{"$f":"IF(CW18>0.01,MAX('Background Calculations'!$V$81*0.8,CW18),MAX('Background Calculations'!$V$76,'Background Calculations'!$V$81*0.75))","v":41},null,{"$f":"IF(CY18>0.01,MAX('Background Calculations'!$V$82*0.8,CY18),MAX('Background Calculations'!$V$77,'Background Calculations'!$V$82*0.75))","v":60},null,null,2017,{"$f":"IF(DC18>0.01,MAX('Background Calculations'!$V$80*0.8,DC18),MAX('Background Calculations'!$V$75,'Background Calculations'!$V$80*0.75))","v":167},null,{"$f":"IF(DE18>0.01,MAX('Background Calculations'!$V$81*0.8,DE18),MAX('Background Calculations'!$V$76,'Background Calculations'!$V$81*0.75))","v":41},null,{"$f":"IF(DG18>0.01,MAX('Background Calculations'!$V$82*0.8,DG18),MAX('Background Calculations'!$V$77,'Background Calculations'!$V$82*0.75))","v":60},null,null,2017,{"$f":"IF(DK18>0.01,MAX('Background Calculations'!$V$80*0.8,DK18),MAX('Background Calculations'!$V$75,'Background Calculations'!$V$80*0.75))","v":167},null,{"$f":"IF(DM18>0.01,MAX('Background Calculations'!$V$81*0.8,DM18),MAX('Background Calculations'!$V$76,'Background Calculations'!$V$81*0.75))","v":41},null,{"$f":"IF(DO18>0.01,MAX('Background Calculations'!$V$82*0.8,DO18),MAX('Background Calculations'!$V$77,'Background Calculations'!$V$82*0.75))","v":60},null,null,2017,{"$f":"IF(DS18>0.01,MAX('Background Calculations'!$V$80*0.8,DS18),MAX('Background Calculations'!$V$75,'Background Calculations'!$V$80*0.75))","v":167},null,{"$f":"IF(DU18>0.01,MAX('Background Calculations'!$V$81*0.8,DU18),MAX('Background Calculations'!$V$76,'Background Calculations'!$V$81*0.75))","v":41},null,{"$f":"IF(DW18>0.01,MAX('Background Calculations'!$V$82*0.8,DW18),MAX('Background Calculations'!$V$77,'Background Calculations'!$V$82*0.75))","v":60},null,null,2017,{"$f":"IF(EA18>0.01,MAX('Background Calculations'!$V$80*0.8,EA18),MAX('Background Calculations'!$V$75,'Background Calculations'!$V$80*0.75))","v":167},null,{"$f":"IF(EC18>0.01,MAX('Background Calculations'!$V$81*0.8,EC18),MAX('Background Calculations'!$V$76,'Background Calculations'!$V$81*0.75))","v":41},null,{"$f":"IF(EE18>0.01,MAX('Background Calculations'!$V$82*0.8,EE18),MAX('Background Calculations'!$V$77,'Background Calculations'!$V$82*0.75))","v":60},null,null,2017,{"$f":"IF(EI18>0.01,MAX('Background Calculations'!$V$80*0.8,EI18),MAX('Background Calculations'!$V$75,'Background Calculations'!$V$80*0.75))","v":167},null,{"$f":"IF(EK18>0.01,MAX('Background Calculations'!$V$81*0.8,EK18),MAX('Background Calculations'!$V$76,'Background Calculations'!$V$81*0.75))","v":41},null,{"$f":"IF(EM18>0.01,MAX('Background Calculations'!$V$82*0.8,EM18),MAX('Background Calculations'!$V$77,'Background Calculations'!$V$82*0.75))","v":60},null,null,2017,{"$f":"IF(EQ18>0.01,MAX('Background Calculations'!$V$80*0.8,EQ18),MAX('Background Calculations'!$V$75,'Background Calculations'!$V$80*0.75))","v":167},null,{"$f":"IF(ES18>0.01,MAX('Background Calculations'!$V$81*0.8,ES18),MAX('Background Calculations'!$V$76,'Background Calculations'!$V$81*0.75))","v":41},null,{"$f":"IF(EU18>0.01,MAX('Background Calculations'!$V$82*0.8,EU18),MAX('Background Calculations'!$V$77,'Background Calculations'!$V$82*0.75))","v":60},null,null,2017,{"$f":"IF(EY18>0.01,MAX('Background Calculations'!$V$80*0.8,EY18),MAX('Background Calculations'!$V$75,'Background Calculations'!$V$80*0.75))","v":167},null,{"$f":"IF(FA18>0.01,MAX('Background Calculations'!$V$81*0.8,FA18),MAX('Background Calculations'!$V$76,'Background Calculations'!$V$81*0.75))","v":41},null,{"$f":"IF(FC18>0.01,MAX('Background Calculations'!$V$82*0.8,FC18),MAX('Background Calculations'!$V$77,'Background Calculations'!$V$82*0.75))","v":60},null,null,2017,{"$f":"IF(FG18>0.01,MAX('Background Calculations'!$V$80*0.8,FG18),MAX('Background Calculations'!$V$75,'Background Calculations'!$V$80*0.75))","v":167},null,{"$f":"IF(FI18>0.01,MAX('Background Calculations'!$V$81*0.8,FI18),MAX('Background Calculations'!$V$76,'Background Calculations'!$V$81*0.75))","v":41},null,{"$f":"IF(FK18>0.01,MAX('Background Calculations'!$V$82*0.8,FK18),MAX('Background Calculations'!$V$77,'Background Calculations'!$V$82*0.75))","v":60},null,null,2017,{"$f":"IF(FO18>0.01,MAX('Background Calculations'!$V$80*0.8,FO18),MAX('Background Calculations'!$V$75,'Background Calculations'!$V$80*0.75))","v":167},null,{"$f":"IF(FQ18>0.01,MAX('Background Calculations'!$V$81*0.8,FQ18),MAX('Background Calculations'!$V$76,'Background Calculations'!$V$81*0.75))","v":41},null,{"$f":"IF(FS18>0.01,MAX('Background Calculations'!$V$82*0.8,FS18),MAX('Background Calculations'!$V$77,'Background Calculations'!$V$82*0.75))","v":60},null,null,2017,{"$f":"IF(FW18>0.01,MAX('Background Calculations'!$V$80*0.8,FW18),MAX('Background Calculations'!$V$75,'Background Calculations'!$V$80*0.75))","v":167},null,{"$f":"IF(FY18>0.01,MAX('Background Calculations'!$V$81*0.8,FY18),MAX('Background Calculations'!$V$76,'Background Calculations'!$V$81*0.75))","v":41},null,{"$f":"IF(GA18>0.01,MAX('Background Calculations'!$V$82*0.8,GA18),MAX('Background Calculations'!$V$77,'Background Calculations'!$V$82*0.75))","v":60},null,null,2017,{"$f":"IF(GE18>0.01,MAX('Background Calculations'!$V$80*0.8,GE18),MAX('Background Calculations'!$V$75,'Background Calculations'!$V$80*0.75))","v":167},null,{"$f":"IF(GG18>0.01,MAX('Background Calculations'!$V$81*0.8,GG18),MAX('Background Calculations'!$V$76,'Background Calculations'!$V$81*0.75))","v":41},null,{"$f":"IF(GI18>0.01,MAX('Background Calculations'!$V$82*0.8,GI18),MAX('Background Calculations'!$V$77,'Background Calculations'!$V$82*0.75))","v":60},null,null,2017,{"$f":"IF(GM18>0.01,MAX('Background Calculations'!$V$80*0.8,GM18),MAX('Background Calculations'!$V$75,'Background Calculations'!$V$80*0.75))","v":167},null,{"$f":"IF(GO18>0.01,MAX('Background Calculations'!$V$81*0.8,GO18),MAX('Background Calculations'!$V$76,'Background Calculations'!$V$81*0.75))","v":41},null,{"$f":"IF(GQ18>0.01,MAX('Background Calculations'!$V$82*0.8,GQ18),MAX('Background Calculations'!$V$77,'Background Calculations'!$V$82*0.75))","v":60},null,null,2017,{"$f":"IF(GU18>0.01,MAX('Background Calculations'!$V$80*0.8,GU18),MAX('Background Calculations'!$V$75,'Background Calculations'!$V$80*0.75))","v":167},null,{"$f":"IF(GW18>0.01,MAX('Background Calculations'!$V$81*0.8,GW18),MAX('Background Calculations'!$V$76,'Background Calculations'!$V$81*0.75))","v":41},null,{"$f":"IF(GY18>0.01,MAX('Background Calculations'!$V$82*0.8,GY18),MAX('Background Calculations'!$V$77,'Background Calculations'!$V$82*0.75))","v":60},null,null,2017,{"$f":"IF(HC18>0.01,MAX('Background Calculations'!$V$80*0.8,HC18),MAX('Background Calculations'!$V$75,'Background Calculations'!$V$80*0.75))","v":167},null,{"$f":"IF(HE18>0.01,MAX('Background Calculations'!$V$81*0.8,HE18),MAX('Background Calculations'!$V$76,'Background Calculations'!$V$81*0.75))","v":41},null,{"$f":"IF(HG18>0.01,MAX('Background Calculations'!$V$82*0.8,HG18),MAX('Background Calculations'!$V$77,'Background Calculations'!$V$82*0.75))","v":60},null,null,2017,{"$f":"IF(HK18>0.01,MAX('Background Calculations'!$V$80*0.8,HK18),MAX('Background Calculations'!$V$75,'Background Calculations'!$V$80*0.75))","v":167},null,{"$f":"IF(HM18>0.01,MAX('Background Calculations'!$V$81*0.8,HM18),MAX('Background Calculations'!$V$76,'Background Calculations'!$V$81*0.75))","v":41},null,{"$f":"IF(HO18>0.01,MAX('Background Calculations'!$V$82*0.8,HO18),MAX('Background Calculations'!$V$77,'Background Calculations'!$V$82*0.75))","v":60},null,null,2017,{"$f":"IF(HS18>0.01,MAX('Background Calculations'!$V$80*0.8,HS18),MAX('Background Calculations'!$V$75,'Background Calculations'!$V$80*0.75))","v":167},null,{"$f":"IF(HU18>0.01,MAX('Background Calculations'!$V$81*0.8,HU18),MAX('Background Calculations'!$V$76,'Background Calculations'!$V$81*0.75))","v":41},null,{"$f":"IF(HW18>0.01,MAX('Background Calculations'!$V$82*0.8,HW18),MAX('Background Calculations'!$V$77,'Background Calculations'!$V$82*0.75))","v":60},null,null,2017,{"$f":"IF(IA18>0.01,MAX('Background Calculations'!$V$80*0.8,IA18),MAX('Background Calculations'!$V$75,'Background Calculations'!$V$80*0.75))","v":167},null,{"$f":"IF(IC18>0.01,MAX('Background Calculations'!$V$81*0.8,IC18),MAX('Background Calculations'!$V$76,'Background Calculations'!$V$81*0.75))","v":41},null,{"$f":"IF(IE18>0.01,MAX('Background Calculations'!$V$82*0.8,IE18),MAX('Background Calculations'!$V$77,'Background Calculations'!$V$82*0.75))","v":60},null,null,2017,{"$f":"IF(II18>0.01,MAX('Background Calculations'!$V$80*0.8,II18),MAX('Background Calculations'!$V$75,'Background Calculations'!$V$80*0.75))","v":167},null,{"$f":"IF(IK18>0.01,MAX('Background Calculations'!$V$81*0.8,IK18),MAX('Background Calculations'!$V$76,'Background Calculations'!$V$81*0.75))","v":41},null,{"$f":"IF(IM18>0.01,MAX('Background Calculations'!$V$82*0.8,IM18),MAX('Background Calculations'!$V$77,'Background Calculations'!$V$82*0.75))","v":60},null,null,2017,{"$f":"IF(IQ18>0.01,MAX('Background Calculations'!$V$80*0.8,IQ18),MAX('Background Calculations'!$V$75,'Background Calculations'!$V$80*0.75))","v":167},null,{"$f":"IF(IS18>0.01,MAX('Background Calculations'!$V$81*0.8,IS18),MAX('Background Calculations'!$V$76,'Background Calculations'!$V$81*0.75))","v":41},null,{"$f":"IF(IU18>0.01,MAX('Background Calculations'!$V$82*0.8,IU18),MAX('Background Calculations'!$V$77,'Background Calculations'!$V$82*0.75))","v":60},null,null,2017,{"$f":"IF(IY18>0.01,MAX('Background Calculations'!$V$80*0.8,IY18),MAX('Background Calculations'!$V$75,'Background Calculations'!$V$80*0.75))","v":167},null,{"$f":"IF(JA18>0.01,MAX('Background Calculations'!$V$81*0.8,JA18),MAX('Background Calculations'!$V$76,'Background Calculations'!$V$81*0.75))","v":41},null,{"$f":"IF(JC18>0.01,MAX('Background Calculations'!$V$82*0.8,JC18),MAX('Background Calculations'!$V$77,'Background Calculations'!$V$82*0.75))","v":60},null,null,2017,{"$f":"IF(JG18>0.01,MAX('Background Calculations'!$V$80*0.8,JG18),MAX('Background Calculations'!$V$75,'Background Calculations'!$V$80*0.75))","v":167},null,{"$f":"IF(JI18>0.01,MAX('Background Calculations'!$V$81*0.8,JI18),MAX('Background Calculations'!$V$76,'Background Calculations'!$V$81*0.75))","v":41},null,{"$f":"IF(JK18>0.01,MAX('Background Calculations'!$V$82*0.8,JK18),MAX('Background Calculations'!$V$77,'Background Calculations'!$V$82*0.75))","v":60},null,null,2017,{"$f":"IF(JO18>0.01,MAX('Background Calculations'!$V$80*0.8,JO18),MAX('Background Calculations'!$V$75,'Background Calculations'!$V$80*0.75))","v":167},null,{"$f":"IF(JQ18>0.01,MAX('Background Calculations'!$V$81*0.8,JQ18),MAX('Background Calculations'!$V$76,'Background Calculations'!$V$81*0.75))","v":41},null,{"$f":"IF(JS18>0.01,MAX('Background Calculations'!$V$82*0.8,JS18),MAX('Background Calculations'!$V$77,'Background Calculations'!$V$82*0.75))","v":60},null,null,2017,{"$f":"IF(JW18>0.01,MAX('Background Calculations'!$V$80*0.8,JW18),MAX('Background Calculations'!$V$75,'Background Calculations'!$V$80*0.75))","v":167},null,{"$f":"IF(JY18>0.01,MAX('Background Calculations'!$V$81*0.8,JY18),MAX('Background Calculations'!$V$76,'Background Calculations'!$V$81*0.75))","v":41},null,{"$f":"IF(KA18>0.01,MAX('Background Calculations'!$V$82*0.8,KA18),MAX('Background Calculations'!$V$77,'Background Calculations'!$V$82*0.75))","v":60},null,null,2017,{"$f":"IF(KE18>0.01,MAX('Background Calculations'!$V$80*0.8,KE18),MAX('Background Calculations'!$V$75,'Background Calculations'!$V$80*0.75))","v":167},null,{"$f":"IF(KG18>0.01,MAX('Background Calculations'!$V$81*0.8,KG18),MAX('Background Calculations'!$V$76,'Background Calculations'!$V$81*0.75))","v":41},null,{"$f":"IF(KI18>0.01,MAX('Background Calculations'!$V$82*0.8,KI18),MAX('Background Calculations'!$V$77,'Background Calculations'!$V$82*0.75))","v":60},null,null,2017,{"$f":"IF(KM18>0.01,MAX('Background Calculations'!$V$80*0.8,KM18),MAX('Background Calculations'!$V$75,'Background Calculations'!$V$80*0.75))","v":167},null,{"$f":"IF(KO18>0.01,MAX('Background Calculations'!$V$81*0.8,KO18),MAX('Background Calculations'!$V$76,'Background Calculations'!$V$81*0.75))","v":41},null,{"$f":"IF(KQ18>0.01,MAX('Background Calculations'!$V$82*0.8,KQ18),MAX('Background Calculations'!$V$77,'Background Calculations'!$V$82*0.75))","v":60},null,null,2017,{"$f":"IF(KU18>0.01,MAX('Background Calculations'!$V$80*0.8,KU18),MAX('Background Calculations'!$V$75,'Background Calculations'!$V$80*0.75))","v":167},null,{"$f":"IF(KW18>0.01,MAX('Background Calculations'!$V$81*0.8,KW18),MAX('Background Calculations'!$V$76,'Background Calculations'!$V$81*0.75))","v":41},null,{"$f":"IF(KY18>0.01,MAX('Background Calculations'!$V$82*0.8,KY18),MAX('Background Calculations'!$V$77,'Background Calculations'!$V$82*0.75))","v":60},null,null,2017,{"$f":"IF(LC18>0.01,MAX('Background Calculations'!$V$80*0.8,LC18),MAX('Background Calculations'!$V$75,'Background Calculations'!$V$80*0.75))","v":167},null,{"$f":"IF(LE18>0.01,MAX('Background Calculations'!$V$81*0.8,LE18),MAX('Background Calculations'!$V$76,'Background Calculations'!$V$81*0.75))","v":41},null,{"$f":"IF(LG18>0.01,MAX('Background Calculations'!$V$82*0.8,LG18),MAX('Background Calculations'!$V$77,'Background Calculations'!$V$82*0.75))","v":60},null,null,2017,{"$f":"IF(LK18>0.01,MAX('Background Calculations'!$V$80*0.8,LK18),MAX('Background Calculations'!$V$75,'Background Calculations'!$V$80*0.75))","v":167},null,{"$f":"IF(LM18>0.01,MAX('Background Calculations'!$V$81*0.8,LM18),MAX('Background Calculations'!$V$76,'Background Calculations'!$V$81*0.75))","v":41},null,{"$f":"IF(LO18>0.01,MAX('Background Calculations'!$V$82*0.8,LO18),MAX('Background Calculations'!$V$77,'Background Calculations'!$V$82*0.75))","v":60},null,null,2017,{"$f":"IF(LS18>0.01,MAX('Background Calculations'!$V$80*0.8,LS18),MAX('Background Calculations'!$V$75,'Background Calculations'!$V$80*0.75))","v":167},null,{"$f":"IF(LU18>0.01,MAX('Background Calculations'!$V$81*0.8,LU18),MAX('Background Calculations'!$V$76,'Background Calculations'!$V$81*0.75))","v":41},null,{"$f":"IF(LW18>0.01,MAX('Background Calculations'!$V$82*0.8,LW18),MAX('Background Calculations'!$V$77,'Background Calculations'!$V$82*0.75))","v":60},null,null,2017,{"$f":"IF(MA18>0.01,MAX('Background Calculations'!$V$80*0.8,MA18),MAX('Background Calculations'!$V$75,'Background Calculations'!$V$80*0.75))","v":167},null,{"$f":"IF(MC18>0.01,MAX('Background Calculations'!$V$81*0.8,MC18),MAX('Background Calculations'!$V$76,'Background Calculations'!$V$81*0.75))","v":41},null,{"$f":"IF(ME18>0.01,MAX('Background Calculations'!$V$82*0.8,ME18),MAX('Background Calculations'!$V$77,'Background Calculations'!$V$82*0.75))","v":60},null,null,2017,{"$f":"IF(MI18>0.01,MAX('Background Calculations'!$V$80*0.8,MI18),MAX('Background Calculations'!$V$75,'Background Calculations'!$V$80*0.75))","v":167},null,{"$f":"IF(MK18>0.01,MAX('Background Calculations'!$V$81*0.8,MK18),MAX('Background Calculations'!$V$76,'Background Calculations'!$V$81*0.75))","v":41},null,{"$f":"IF(MM18>0.01,MAX('Background Calculations'!$V$82*0.8,MM18),MAX('Background Calculations'!$V$77,'Background Calculations'!$V$82*0.75))","v":60},null,null,2017,{"$f":"IF(MQ18>0.01,MAX('Background Calculations'!$V$80*0.8,MQ18),MAX('Background Calculations'!$V$75,'Background Calculations'!$V$80*0.75))","v":167},null,{"$f":"IF(MS18>0.01,MAX('Background Calculations'!$V$81*0.8,MS18),MAX('Background Calculations'!$V$76,'Background Calculations'!$V$81*0.75))","v":41},null,{"$f":"IF(MU18>0.01,MAX('Background Calculations'!$V$82*0.8,MU18),MAX('Background Calculations'!$V$77,'Background Calculations'!$V$82*0.75))","v":60},null,null,2017,{"$f":"IF(MY18>0.01,MAX('Background Calculations'!$V$80*0.8,MY18),MAX('Background Calculations'!$V$75,'Background Calculations'!$V$80*0.75))","v":167},null,{"$f":"IF(NA18>0.01,MAX('Background Calculations'!$V$81*0.8,NA18),MAX('Background Calculations'!$V$76,'Background Calculations'!$V$81*0.75))","v":41},null,{"$f":"IF(NC18>0.01,MAX('Background Calculations'!$V$82*0.8,NC18),MAX('Background Calculations'!$V$77,'Background Calculations'!$V$82*0.75))","v":60},null,null,2017,{"$f":"IF(NG18>0.01,MAX('Background Calculations'!$V$80*0.8,NG18),MAX('Background Calculations'!$V$75,'Background Calculations'!$V$80*0.75))","v":167},null,{"$f":"IF(NI18>0.01,MAX('Background Calculations'!$V$81*0.8,NI18),MAX('Background Calculations'!$V$76,'Background Calculations'!$V$81*0.75))","v":41},null,{"$f":"IF(NK18>0.01,MAX('Background Calculations'!$V$82*0.8,NK18),MAX('Background Calculations'!$V$77,'Background Calculations'!$V$82*0.75))","v":60},null,null,2017,{"$f":"IF(NO18>0.01,MAX('Background Calculations'!$V$80*0.8,NO18),MAX('Background Calculations'!$V$75,'Background Calculations'!$V$80*0.75))","v":167},null,{"$f":"IF(NQ18>0.01,MAX('Background Calculations'!$V$81*0.8,NQ18),MAX('Background Calculations'!$V$76,'Background Calculations'!$V$81*0.75))","v":41},null,{"$f":"IF(NS18>0.01,MAX('Background Calculations'!$V$82*0.8,NS18),MAX('Background Calculations'!$V$77,'Background Calculations'!$V$82*0.75))","v":60},null,null,2017,{"$f":"IF(NW18>0.01,MAX('Background Calculations'!$V$80*0.8,NW18),MAX('Background Calculations'!$V$75,'Background Calculations'!$V$80*0.75))","v":167},null,{"$f":"IF(NY18>0.01,MAX('Background Calculations'!$V$81*0.8,NY18),MAX('Background Calculations'!$V$76,'Background Calculations'!$V$81*0.75))","v":41},null,{"$f":"IF(OA18>0.01,MAX('Background Calculations'!$V$82*0.8,OA18),MAX('Background Calculations'!$V$77,'Background Calculations'!$V$82*0.75))","v":60},null,null,2017,{"$f":"IF(OE18>0.01,MAX('Background Calculations'!$V$80*0.8,OE18),MAX('Background Calculations'!$V$75,'Background Calculations'!$V$80*0.75))","v":167},null,{"$f":"IF(OG18>0.01,MAX('Background Calculations'!$V$81*0.8,OG18),MAX('Background Calculations'!$V$76,'Background Calculations'!$V$81*0.75))","v":41},null,{"$f":"IF(OI18>0.01,MAX('Background Calculations'!$V$82*0.8,OI18),MAX('Background Calculations'!$V$77,'Background Calculations'!$V$82*0.75))","v":60},null,null,2017,{"$f":"IF(OM18>0.01,MAX('Background Calculations'!$V$80*0.8,OM18),MAX('Background Calculations'!$V$75,'Background Calculations'!$V$80*0.75))","v":167},null,{"$f":"IF(OO18>0.01,MAX('Background Calculations'!$V$81*0.8,OO18),MAX('Background Calculations'!$V$76,'Background Calculations'!$V$81*0.75))","v":41},null,{"$f":"IF(OQ18>0.01,MAX('Background Calculations'!$V$82*0.8,OQ18),MAX('Background Calculations'!$V$77,'Background Calculations'!$V$82*0.75))","v":60}]
[null,null,"By Farm",{"$f":"H5*$C$46*0.65","v":{"$error":"#DIV/0!"}},null,null,null,null,null,null,"By Farm",{"$f":"P5*$C$46*0.65","v":{"$error":"#DIV/0!"}},null,null,null,null,null,null,"By Farm",{"$f":"X5*$C$46*0.65","v":{"$error":"#DIV/0!"}},null,null,null,null,null,null,"By Farm",{"$f":"AF5*$C$46*0.65","v":{"$error":"#DIV/0!"}},null,null,null,null,null,null,"By Farm",{"$f":"AN5*$C$46*0.65","v":{"$error":"#DIV/0!"}},null,null,null,null,null,null,"By Farm",{"$f":"AV5*$C$46*0.65","v":{"$error":"#DIV/0!"}},null,null,null,null,null,null,"By Farm",{"$f":"BD5*$C$46*0.65","v":{"$error":"#DIV/0!"}},null,null,null,null,null,null,"By Farm",{"$f":"BL5*$C$46*0.65","v":{"$error":"#DIV/0!"}},null,null,null,null,null,null,"By Farm",{"$f":"BT5*$C$46*0.65","v":{"$error":"#DIV/0!"}},null,null,null,null,null,null,"By Farm",{"$f":"CB5*$C$46*0.65","v":{"$error":"#DIV/0!"}},null,null,null,null,null,null,"By Farm",{"$f":"CJ5*$C$46*0.65","v":{"$error":"#DIV/0!"}},null,null,null,null,null,null,"By Farm",{"$f":"CR5*$C$46*0.65","v":{"$error":"#DIV/0!"}},null,null,null,null,null,null,"By Farm",{"$f":"CZ5*$C$46*0.65","v":{"$error":"#DIV/0!"}},null,null,null,null,null,null,"By Farm",{"$f":"DH5*$C$46*0.65","v":{"$error":"#DIV/0!"}},null,null,null,null,null,null,"By Farm",{"$f":"DP5*$C$46*0.65","v":{"$error":"#DIV/0!"}},null,null,null,null,null,null,"By Farm",{"$f":"DX5*$C$46*0.65","v":{"$error":"#DIV/0!"}},null,null,null,null,null,null,"By Farm",{"$f":"EF5*$C$46*0.65","v":{"$error":"#DIV/0!"}},null,null,null,null,null,null,"By Farm",{"$f":"EN5*$C$46*0.65","v":{"$error":"#DIV/0!"}},null,null,null,null,null,null,"By Farm",{"$f":"EV5*$C$46*0.65","v":{"$error":"#DIV/0!"}},null,null,null,null,null,null,"By Farm",{"$f":"FD5*$C$46*0.65","v":{"$error":"#DIV/0!"}},null,null,null,null,null,null,"By Farm",{"$f":"FL5*$C$46*0.65","v":{"$error":"#DIV/0!"}},null,null,null,null,null,null,"By Farm",{"$f":"FT5*$C$46*0.65","v":{"$error":"#DIV/0!"}},null,null,null,null,null,null,"By Farm",{"$f":"GB5*$C$46*0.65","v":{"$error":"#DIV/0!"}},null,null,null,null,null,null,"By Farm",{"$f":"GJ5*$C$46*0.65","v":{"$error":"#DIV/0!"}},null,null,null,null,null,null,"By Farm",{"$f":"GR5*$C$46*0.65","v":{"$error":"#DIV/0!"}},null,null,null,null,null,null,"By Farm",{"$f":"GZ5*$C$46*0.65","v":{"$error":"#DIV/0!"}},null,null,null,null,null,null,"By Farm",{"$f":"HH5*$C$46*0.65","v":{"$error":"#DIV/0!"}},null,null,null,null,null,null,"By Farm",{"$f":"HP5*$C$46*0.65","v":{"$error":"#DIV/0!"}},null,null,null,null,null,null,"By Farm",{"$f":"HX5*$C$46*0.65","v":{"$error":"#DIV/0!"}},null,null,null,null,null,null,"By Farm",{"$f":"IF5*$C$46*0.65","v":{"$error":"#DIV/0!"}},null,null,null,null,null,null,"By Farm",{"$f":"IN5*$C$46*0.65","v":{"$error":"#DIV/0!"}},null,null,null,null,null,null,"By Farm",{"$f":"IV5*$C$46*0.65","v":{"$error":"#DIV/0!"}},null,null,null,null,null,null,"By Farm",{"$f":"JD5*$C$46*0.65","v":{"$error":"#DIV/0!"}},null,null,null,null,null,null,"By Farm",{"$f":"JL5*$C$46*0.65","v":{"$error":"#DIV/0!"}},null,null,null,null,null,null,"By Farm",{"$f":"JT5*$C$46*0.65","v":{"$error":"#DIV/0!"}},null,null,null,null,null,null,"By Farm",{"$f":"KB5*$C$46*0.65","v":{"$error":"#DIV/0!"}},null,null,null,null,null,null,"By Farm",{"$f":"KJ5*$C$46*0.65","v":{"$error":"#DIV/0!"}},null,null,null,null,null,null,"By Farm",{"$f":"KR5*$C$46*0.65","v":{"$error":"#DIV/0!"}},null,null,null,null,null,null,"By Farm",{"$f":"KZ5*$C$46*0.65","v":{"$error":"#DIV/0!"}},null,null,null,null,null,null,"By Farm",{"$f":"LH5*$C$46*0.65","v":{"$error":"#DIV/0!"}},null,null,null,null,null,null,"By Farm",{"$f":"LP5*$C$46*0.65","v":{"$error":"#DIV/0!"}},null,null,null,null,null,null,"By Farm",{"$f":"LX5*$C$46*0.65","v":{"$error":"#DIV/0!"}},null,null,null,null,null,null,"By Farm",{"$f":"MF5*$C$46*0.65","v":{"$error":"#DIV/0!"}},null,null,null,null,null,null,"By Farm",{"$f":"MN5*$C$46*0.65","v":{"$error":"#DIV/0!"}},null,null,null,null,null,null,"By Farm",{"$f":"MV5*$C$46*0.65","v":{"$error":"#DIV/0!"}},null,null,null,null,null,null,"By Farm",{"$f":"ND5*$C$46*0.65","v":{"$error":"#DIV/0!"}},null,null,null,null,null,null,"By Farm",{"$f":"NL5*$C$46*0.65","v":{"$error":"#DIV/0!"}},null,null,null,null,null,null,"By Farm",{"$f":"NT5*$C$46*0.65","v":{"$error":"#DIV/0!"}},null,null,null,null,null,null,"By Farm",{"$f":"OB5*$C$46*0.65","v":{"$error":"#DIV/0!"}},null,null,null,null,null,null,"By Farm",{"$f":"OJ5*$C$46*0.65","v":{"$error":"#DIV/0!"}},null,null,null,null,null,null,"By Farm",{"$f":"OR5*$C$46*0.65","v":{"$error":"#DIV/0!"}}]
["Combined Total Benchmark Revenue",null,{"$f":"SUM(C32:OR32)","v":{"$error":"#DIV/0!"}}]
["86% Guaratee/ac",null,{"$f":"C41*0.86","v":{"$error":"#DIV/0!"}}]
["Combined Actaul Revenue/ac",null,{"$f":"SUM(C33:OR33)/C48","v":{"$error":"#DIV/0!"}}]
["Shortfall/ac",null,{"$f":"C42-C43","v":{"$error":"#DIV/0!"}}]
["10% Max Payment/ac",null,{"$f":"0.1*C41","v":{"$error":"#DIV/0!"}}]
[null,"Payment Rate",{"$f":"IF(C44>0,MIN(C45,C44),0)","v":{"$error":"#DIV/0!"}}]
["Combined All Farms Total Payment",null,null,null,{"$f":"SUM(C40:OR40)","v":{"$error":"#DIV/0!"}}]
[null,"Total Planted and Considered Planted",{"$f":"A108+A118+A128","v":0}]
[]
[]
[null,null,"FSA PLC WEIGHTED YIELDS"]
[null,null,"Commodity","Corn",null,"Soybeans",null,"Wheat",null,"Total Base Acres",null,"Yield",null,"Yield",null,"Yield"]
[null,null,"Combined Base Acres",{"$f":"A58","v":0},null,{"$f":"A59","v":0},null,{"$f":"A60","v":0},null,{"$f":"SUM(D53:H53)","v":0},null,{"$f":"IF(C5*C6>0.1,C5*C6,0)+IF(K5*K6>0.1,K5*K6,0)+IF(S5*S6>0.1,S5*S6,0)+IF(AA5*AA6>0.1,AA5*AA6,0)+IF(AI5*AI6>0.1,AI5*AI6,0)","v":0},null,{"$f":"IF(E5*E6>0.1,E5*E6,0)+IF(M5*M6>0.1,M5*M6,0)+IF(U5*U6>0.1,U5*U6,0)+IF(AC5*AC6>0.1,AC5*AC6,0)+IF(AK5*AK6>0.1,AK5*AK6,0)","v":0},null,{"$f":"IF(G5*G6>0.1,G5*G6,0)+IF(O5*O6>0.1,O5*O6,0)+IF(W5*W6>0.1,W5*W6,0)+IF(AE5*AE6>0.1,AE5*AE6,0)+IF(AM5*AM6>0.1,AM5*AM6,0)","v":0}]
[null,null,"Weighted 2018 PLC Yield",{"$f":"A61","v":0},null,{"$f":"A62","v":0},null,{"$f":"A63","v":0},null,null,null,{"$f":"IFERROR((L53/(C5+K5+S5+AA5+AI5)),0)","v":0},null,{"$f":"IFERROR((N53/(E5+M5+U5+AC5+AK5)),0)","v":0},null,{"$f":"IFERROR((P53/(G5+O5+W5+AE5+AM5)),0)","v":0}]
[null,null,"13-17 Historical Irrigated Percentage",{"$f":"A67","v":0},null,{"$f":"A68","v":0},null,{"$f":"A69","v":0},null,null,null,{"$f":"IFERROR((C7*C5+K7*K5+S7*S5+AA7*AA5+AI7*AI5)/(C5+K5+S5+AA5+AI5),0)","v":0},null,{"$f":"IFERROR((E7*E5+M7*M5+U7*U5+AC7*AC5+AK7*AK5)/(E5+M5+U5+AC5+AK5),0)","v":0},null,{"$f":"IFERROR((G7*G5+O7*O5+W7*W5+AE7*AE5+AM7*AM5)/(G5+O5+W5+AE5+AM5),0)","v":0}]
[]
["FSA Base and PLC Yields"]
[{"$f":"IFERROR(SUM(C58:OR58),0)","v":0},"CornAcres",{"$f":"C5","v":0},null,null,null,null,null,null,null,{"$f":"K5","v":0},null,null,null,null,null,null,null,{"$f":"S5","v":0},null,null,null,null,null,null,null,{"$f":"AA5","v":0},null,null,null,null,null,null,null,{"$f":"AI5","v":0},null,null,null,null,null,null,null,{"$f":"AQ5","v":0},null,null,null,null,null,null,null,{"$f":"AY5","v":0},null,null,null,null,null,null,null,{"$f":"BG5","v":0},null,null,null,null,null,null,null,{"$f":"BO5","v":0},null,null,null,null,null,null,null,{"$f":"BW5","v":0},null,null,null,null,null,null,null,{"$f":"CE5","v":0},null,null,null,null,null,null,null,{"$f":"CM5","v":0},null,null,null,null,null,null,null,{"$f":"CU5","v":0},null,null,null,null,null,null,null,{"$f":"DC5","v":0},null,null,null,null,null,null,null,{"$f":"DK5","v":0},null,null,null,null,null,null,null,{"$f":"DS5","v":0},null,null,null,null,null,null,null,{"$f":"EA5","v":0},null,null,null,null,null,null,null,{"$f":"EI5","v":0},null,null,null,null,null,null,null,{"$f":"EQ5","v":0},null,null,null,null,null,null,null,{"$f":"EY5","v":0},null,null,null,null,null,null,null,{"$f":"FG5","v":0},null,null,null,null,null,null,null,{"$f":"FO5","v":0},null,null,null,null,null,null,null,{"$f":"FW5","v":0},null,null,null,null,null,null,null,{"$f":"GE5","v":0},null,null,null,null,null,null,null,{"$f":"GM5","v":0},null,null,null,null,null,null,null,{"$f":"GU5","v":0},null,null,null,null,null,null,null,{"$f":"HC5","v":0},null,null,null,null,null,null,null,{"$f":"HK5","v":0},null,null,null,null,null,null,null,{"$f":"HS5","v":0},null,null,null,null,null,null,null,{"$f":"IA5","v":0},null,null,null,null,null,null,null,{"$f":"II5","v":0},null,null,null,null,null,null,null,{"$f":"IQ5","v":0},null,null,null,null,null,null,null,{"$f":"IY5","v":0},null,null,null,null,null,null,null,{"$f":"JG5","v":0},null,null,null,null,null,null,null,{"$f":"JO5","v":0},null,null,null,null,null,null,null,{"$f":"JW5","v":0},null,null,null,null,null,null,null,{"$f":"KE5","v":0},null,null,null,null,null,null,null,{"$f":"KM5","v":0},null,null,null,null,null,null,null,{"$f":"KU5","v":0},null,null,null,null,null,null,null,{"$f":"LC5","v":0},null,null,null,null,null,null,null,{"$f":"LK5","v":0},null,null,null,null,null,null,null,{"$f":"LS5","v":0},null,null,null,null,null,null,null,{"$f":"MA5","v":0},null,null,null,null,null,null,null,{"$f":"MI5","v":0},null,null,null,null,null,null,null,{"$f":"MQ5","v":0},null,null,null,null,null,null,null,{"$f":"MY5","v":0},null,null,null,null,null,null,null,{"$f":"NG5","v":0},null,null,null,null,null,null,null,{"$f":"NO5","v":0},null,null,null,null,null,null,null,{"$f":"NW5","v":0},null,null,null,null,null,null,null,{"$f":"OE5","v":0},null,null,null,null,null,null,null,{"$f":"OM5","v":0}]
[{"$f":"IFERROR(SUM(C59:OR59),0)","v":0},"SoysAcres",{"$f":"E5","v":0},null,null,null,null,null,null,null,{"$f":"M5","v":0},null,null,null,null,null,null,null,{"$f":"U5","v":0},null,null,null,null,null,null,null,{"$f":"AC5","v":0},null,null,null,null,null,null,null,{"$f":"AK5","v":0},null,null,null,null,null,null,null,{"$f":"AS5","v":0},null,null,null,null,null,null,null,{"$f":"BA5","v":0},null,null,null,null,null,null,null,{"$f":"BI5","v":0},null,null,null,null,null,null,null,{"$f":"BQ5","v":0},null,null,null,null,null,null,null,{"$f":"BY5","v":0},null,null,null,null,null,null,null,{"$f":"CG5","v":0},null,null,null,null,null,null,null,{"$f":"CO5","v":0},null,null,null,null,null,null,null,{"$f":"CW5","v":0},null,null,null,null,null,null,null,{"$f":"DE5","v":0},null,null,null,null,null,null,null,{"$f":"DM5","v":0},null,null,null,null,null,null,null,{"$f":"DU5","v":0},null,null,null,null,null,null,null,{"$f":"EC5","v":0},null,null,null,null,null,null,null,{"$f":"EK5","v":0},null,null,null,null,null,null,null,{"$f":"ES5","v":0},null,null,null,null,null,null,null,{"$f":"FA5","v":0},null,null,null,null,null,null,null,{"$f":"FI5","v":0},null,null,null,null,null,null,null,{"$f":"FQ5","v":0},null,null,null,null,null,null,null,{"$f":"FY5","v":0},null,null,null,null,null,null,null,{"$f":"GG5","v":0},null,null,null,null,null,null,null,{"$f":"GO5","v":0},null,null,null,null,null,null,null,{"$f":"GW5","v":0},null,null,null,null,null,null,null,{"$f":"HE5","v":0},null,null,null,null,null,null,null,{"$f":"HM5","v":0},null,null,null,null,null,null,null,{"$f":"HU5","v":0},null,null,null,null,null,null,null,{"$f":"IC5","v":0},null,null,null,null,null,null,null,{"$f":"IK5","v":0},null,null,null,null,null,null,null,{"$f":"IS5","v":0},null,null,null,null,null,null,null,{"$f":"JA5","v":0},null,null,null,null,null,null,null,{"$f":"JI5","v":0},null,null,null,null,null,null,null,{"$f":"JQ5","v":0},null,null,null,null,null,null,null,{"$f":"JY5","v":0},null,null,null,null,null,null,null,{"$f":"KG5","v":0},null,null,null,null,null,null,null,{"$f":"KO5","v":0},null,null,null,null,null,null,null,{"$f":"KW5","v":0},null,null,null,null,null,null,null,{"$f":"LE5","v":0},null,null,null,null,null,null,null,{"$f":"LM5","v":0},null,null,null,null,null,null,null,{"$f":"LU5","v":0},null,null,null,null,null,null,null,{"$f":"MC5","v":0},null,null,null,null,null,null,null,{"$f":"MK5","v":0},null,null,null,null,null,null,null,{"$f":"MS5","v":0},null,null,null,null,null,null,null,{"$f":"NA5","v":0},null,null,null,null,null,null,null,{"$f":"NI5","v":0},null,null,null,null,null,null,null,{"$f":"NQ5","v":0},null,null,null,null,null,null,null,{"$f":"NY5","v":0},null,null,null,null,null,null,null,{"$f":"OG5","v":0},null,null,null,null,null,null,null,{"$f":"OO5","v":0}]
[0,"Wheat Acres",{"$f":"G5","v":0},null,null,null,null,null,null,null,{"$f":"O5","v":0},null,null,null,null,null,null,null,{"$f":"W5","v":0},null,null,null,null,null,null,null,{"$f":"AE5","v":0},null,null,null,null,null,null,null,{"$f":"AM5","v":0},null,null,null,null,null,null,null,{"$f":"AU5","v":0},null,null,null,null,null,null,null,{"$f":"BC5","v":0},null,null,null,null,null,null,null,{"$f":"BK5","v":0},null,null,null,null,null,null,null,{"$f":"BS5","v":0},null,null,null,null,null,null,null,{"$f":"CA5","v":0},null,null,null,null,null,null,null,{"$f":"CI5","v":0},null,null,null,null,null,null,null,{"$f":"CQ5","v":0},null,null,null,null,null,null,null,{"$f":"CY5","v":0},null,null,null,null,null,null,null,{"$f":"DG5","v":0},null,null,null,null,null,null,null,{"$f":"DO5","v":0},null,null,null,null,null,null,null,{"$f":"DW5","v":0},null,null,null,null,null,null,null,{"$f":"EE5","v":0},null,null,null,null,null,null,null,{"$f":"EM5","v":0},null,null,null,null,null,null,null,{"$f":"EU5","v":0},null,null,null,null,null,null,null,{"$f":"FC5","v":0},null,null,null,null,null,null,null,{"$f":"FK5","v":0},null,null,null,null,null,null,null,{"$f":"FS5","v":0},null,null,null,null,null,null,null,{"$f":"GA5","v":0},null,null,null,null,null,null,null,{"$f":"GI5","v":0},null,null,null,null,null,null,null,{"$f":"GQ5","v":0},null,null,null,null,null,null,null,{"$f":"GY5","v":0},null,null,null,null,null,null,null,{"$f":"HG5","v":0},null,null,null,null,null,null,null,{"$f":"HO5","v":0},null,null,null,null,null,null,null,{"$f":"HW5","v":0},null,null,null,null,null,null,null,{"$f":"IE5","v":0},null,null,null,null,null,null,null,{"$f":"IM5","v":0},null,null,null,null,null,null,null,{"$f":"IU5","v":0},null,null,null,null,null,null,null,{"$f":"JC5","v":0},null,null,null,null,null,null,null,{"$f":"JK5","v":0},null,null,null,null,null,null,null,{"$f":"JS5","v":0},null,null,null,null,null,null,null,{"$f":"KA5","v":0},null,null,null,null,null,null,null,{"$f":"KI5","v":0},null,null,null,null,null,null,null,{"$f":"KQ5","v":0},null,null,null,null,null,null,null,{"$f":"KY5","v":0},null,null,null,null,null,null,null,{"$f":"LG5","v":0},null,null,null,null,null,null,null,{"$f":"LO5","v":0},null,null,null,null,null,null,null,{"$f":"LW5","v":0},null,null,null,null,null,null,null,{"$f":"ME5","v":0},null,null,null,null,null,null,null,{"$f":"MM5","v":0},null,null,null,null,null,null,null,{"$f":"MU5","v":0},null,null,null,null,null,null,null,{"$f":"NC5","v":0},null,null,null,null,null,null,null,{"$f":"NK5","v":0},null,null,null,null,null,null,null,{"$f":"NS5","v":0},null,null,null,null,null,null,null,{"$f":"OA5","v":0},null,null,null,null,null,null,null,{"$f":"OI5","v":0},null,null,null,null,null,null,null,{"$f":"OQ5","v":0}]
[{"$f":"IFERROR(SUM(C61:OR61)/A58,0)","v":0},"PLC YIELD Corn",{"$f":"C6*C58","v":0},null,null,null,null,null,null,null,{"$f":"K6*K58","v":0},null,null,null,null,null,null,null,{"$f":"S6*S58","v":0},null,null,null,null,null,null,null,{"$f":"AA6*AA58","v":0},null,null,null,null,null,null,null,{"$f":"AI6*AI58","v":0},null,null,null,null,null,null,null,{"$f":"AQ6*AQ58","v":0},null,null,null,null,null,null,null,{"$f":"AY6*AY58","v":0},null,null,null,null,null,null,null,{"$f":"BG6*BG58","v":0},null,null,null,null,null,null,null,{"$f":"BO6*BO58","v":0},null,null,null,null,null,null,null,{"$f":"BW6*BW58","v":0},null,null,null,null,null,null,null,{"$f":"CE6*CE58","v":0},null,null,null,null,null,null,null,{"$f":"CM6*CM58","v":0},null,null,null,null,null,null,null,{"$f":"CU6*CU58","v":0},null,null,null,null,null,null,null,{"$f":"DC6*DC58","v":0},null,null,null,null,null,null,null,{"$f":"DK6*DK58","v":0},null,null,null,null,null,null,null,{"$f":"DS6*DS58","v":0},null,null,null,null,null,null,null,{"$f":"EA6*EA58","v":0},null,null,null,null,null,null,null,{"$f":"EI6*EI58","v":0},null,null,null,null,null,null,null,{"$f":"EQ6*EQ58","v":0},null,null,null,null,null,null,null,{"$f":"EY6*EY58","v":0},null,null,null,null,null,null,null,{"$f":"FG6*FG58","v":0},null,null,null,null,null,null,null,{"$f":"FO6*FO58","v":0},null,null,null,null,null,null,null,{"$f":"FW6*FW58","v":0},null,null,null,null,null,null,null,{"$f":"GE6*GE58","v":0},null,null,null,null,null,null,null,{"$f":"GM6*GM58","v":0},null,null,null,null,null,null,null,{"$f":"GU6*GU58","v":0},null,null,null,null,null,null,null,{"$f":"HC6*HC58","v":0},null,null,null,null,null,null,null,{"$f":"HK6*HK58","v":0},null,null,null,null,null,null,null,{"$f":"HS6*HS58","v":0},null,null,null,null,null,null,null,{"$f":"IA6*IA58","v":0},null,null,null,null,null,null,null,{"$f":"II6*II58","v":0},null,null,null,null,null,null,null,{"$f":"IQ6*IQ58","v":0},null,null,null,null,null,null,null,{"$f":"IY6*IY58","v":0},null,null,null,null,null,null,null,{"$f":"JG6*JG58","v":0},null,null,null,null,null,null,null,{"$f":"JO6*JO58","v":0},null,null,null,null,null,null,null,{"$f":"JW6*JW58","v":0},null,null,null,null,null,null,null,{"$f":"KE6*KE58","v":0},null,null,null,null,null,null,null,{"$f":"KM6*KM58","v":0},null,null,null,null,null,null,null,{"$f":"KU6*KU58","v":0},null,null,null,null,null,null,null,{"$f":"LC6*LC58","v":0},null,null,null,null,null,null,null,{"$f":"LK6*LK58","v":0},null,null,null,null,null,null,null,{"$f":"LS6*LS58","v":0},null,null,null,null,null,null,null,{"$f":"MA6*MA58","v":0},null,null,null,null,null,null,null,{"$f":"MI6*MI58","v":0},null,null,null,null,null,null,null,{"$f":"MQ6*MQ58","v":0},null,null,null,null,null,null,null,{"$f":"MY6*MY58","v":0},null,null,null,null,null,null,null,{"$f":"NG6*NG58","v":0},null,null,null,null,null,null,null,{"$f":"NO6*NO58","v":0},null,null,null,null,null,null,null,{"$f":"NW6*NW58","v":0},null,null,null,null,null,null,null,{"$f":"OE6*OE58","v":0},null,null,null,null,null,null,null,{"$f":"OM6*OM58","v":0}]
[{"$f":"IFERROR(SUM(C62:OR62)/A59,0)","v":0},"PLC YIELD SOYS",{"$f":"E6*C59","v":0},null,null,null,null,null,null,null,{"$f":"M6*K59","v":0},null,null,null,null,null,null,null,{"$f":"U6*S59","v":0},null,null,null,null,null,null,null,{"$f":"AC6*AA59","v":0},null,null,null,null,null,null,null,{"$f":"AK6*AI59","v":0},null,null,null,null,null,null,null,{"$f":"AS6*AQ59","v":0},null,null,null,null,null,null,null,{"$f":"BA6*AY59","v":0},null,null,null,null,null,null,null,{"$f":"BI6*BG59","v":0},null,null,null,null,null,null,null,{"$f":"BQ6*BO59","v":0},null,null,null,null,null,null,null,{"$f":"BY6*BW59","v":0},null,null,null,null,null,null,null,{"$f":"CG6*CE59","v":0},null,null,null,null,null,null,null,{"$f":"CO6*CM59","v":0},null,null,null,null,null,null,null,{"$f":"CW6*CU59","v":0},null,null,null,null,null,null,null,{"$f":"DE6*DC59","v":0},null,null,null,null,null,null,null,{"$f":"DM6*DK59","v":0},null,null,null,null,null,null,null,{"$f":"DU6*DS59","v":0},null,null,null,null,null,null,null,{"$f":"EC6*EA59","v":0},null,null,null,null,null,null,null,{"$f":"EK6*EI59","v":0},null,null,null,null,null,null,null,{"$f":"ES6*EQ59","v":0},null,null,null,null,null,null,null,{"$f":"FA6*EY59","v":0},null,null,null,null,null,null,null,{"$f":"FI6*FG59","v":0},null,null,null,null,null,null,null,{"$f":"FQ6*FO59","v":0},null,null,null,null,null,null,null,{"$f":"FY6*FW59","v":0},null,null,null,null,null,null,null,{"$f":"GG6*GE59","v":0},null,null,null,null,null,null,null,{"$f":"GO6*GM59","v":0},null,null,null,null,null,null,null,{"$f":"GW6*GU59","v":0},null,null,null,null,null,null,null,{"$f":"HE6*HC59","v":0},null,null,null,null,null,null,null,{"$f":"HM6*HK59","v":0},null,null,null,null,null,null,null,{"$f":"HU6*HS59","v":0},null,null,null,null,null,null,null,{"$f":"IC6*IA59","v":0},null,null,null,null,null,null,null,{"$f":"IK6*II59","v":0},null,null,null,null,null,null,null,{"$f":"IS6*IQ59","v":0},null,null,null,null,null,null,null,{"$f":"JA6*IY59","v":0},null,null,null,null,null,null,null,{"$f":"JI6*JG59","v":0},null,null,null,null,null,null,null,{"$f":"JQ6*JO59","v":0},null,null,null,null,null,null,null,{"$f":"JY6*JW59","v":0},null,null,null,null,null,null,null,{"$f":"KG6*KE59","v":0},null,null,null,null,null,null,null,{"$f":"KO6*KM59","v":0},null,null,null,null,null,null,null,{"$f":"KW6*KU59","v":0},null,null,null,null,null,null,null,{"$f":"LE6*LC59","v":0},null,null,null,null,null,null,null,{"$f":"LM6*LK59","v":0},null,null,null,null,null,null,null,{"$f":"LU6*LS59","v":0},null,null,null,null,null,null,null,{"$f":"MC6*MA59","v":0},null,null,null,null,null,null,null,{"$f":"MK6*MI59","v":0},null,null,null,null,null,null,null,{"$f":"MS6*MQ59","v":0},null,null,null,null,null,null,null,{"$f":"NA6*MY59","v":0},null,null,null,null,null,null,null,{"$f":"NI6*NG59","v":0},null,null,null,null,null,null,null,{"$f":"NQ6*NO59","v":0},null,null,null,null,null,null,null,{"$f":"NY6*NW59","v":0},null,null,null,null,null,null,null,{"$f":"OG6*OE59","v":0},null,null,null,null,null,null,null,{"$f":"OO6*OM59","v":0}]
[0,"PLC YIELD WHEAT",{"$f":"G6*C60","v":0},null,null,null,null,null,null,null,{"$f":"O6*K60","v":0},null,null,null,null,null,null,null,{"$f":"W6*S60","v":0},null,null,null,null,null,null,null,{"$f":"AE6*AA60","v":0},null,null,null,null,null,null,null,{"$f":"AM6*AI60","v":0},null,null,null,null,null,null,null,{"$f":"AU6*AQ60","v":0},null,null,null,null,null,null,null,{"$f":"BC6*AY60","v":0},null,null,null,null,null,null,null,{"$f":"BK6*BG60","v":0},null,null,null,null,null,null,null,{"$f":"BS6*BO60","v":0},null,null,null,null,null,null,null,{"$f":"CA6*BW60","v":0},null,null,null,null,null,null,null,{"$f":"CI6*CE60","v":0},null,null,null,null,null,null,null,{"$f":"CQ6*CM60","v":0},null,null,null,null,null,null,null,{"$f":"CY6*CU60","v":0},null,null,null,null,null,null,null,{"$f":"DG6*DC60","v":0},null,null,null,null,null,null,null,{"$f":"DO6*DK60","v":0},null,null,null,null,null,null,null,{"$f":"DW6*DS60","v":0},null,null,null,null,null,null,null,{"$f":"EE6*EA60","v":0},null,null,null,null,null,null,null,{"$f":"EM6*EI60","v":0},null,null,null,null,null,null,null,{"$f":"EU6*EQ60","v":0},null,null,null,null,null,null,null,{"$f":"FC6*EY60","v":0},null,null,null,null,null,null,null,{"$f":"FK6*FG60","v":0},null,null,null,null,null,null,null,{"$f":"FS6*FO60","v":0},null,null,null,null,null,null,null,{"$f":"GA6*FW60","v":0},null,null,null,null,null,null,null,{"$f":"GI6*GE60","v":0},null,null,null,null,null,null,null,{"$f":"GQ6*GM60","v":0},null,null,null,null,null,null,null,{"$f":"GY6*GU60","v":0},null,null,null,null,null,null,null,{"$f":"HG6*HC60","v":0},null,null,null,null,null,null,null,{"$f":"HO6*HK60","v":0},null,null,null,null,null,null,null,{"$f":"HW6*HS60","v":0},null,null,null,null,null,null,null,{"$f":"IE6*IA60","v":0},null,null,null,null,null,null,null,{"$f":"IM6*II60","v":0},null,null,null,null,null,null,null,{"$f":"IU6*IQ60","v":0},null,null,null,null,null,null,null,{"$f":"JC6*IY60","v":0},null,null,null,null,null,null,null,{"$f":"JK6*JG60","v":0},null,null,null,null,null,null,null,{"$f":"JS6*JO60","v":0},null,null,null,null,null,null,null,{"$f":"KA6*JW60","v":0},null,null,null,null,null,null,null,{"$f":"KI6*KE60","v":0},null,null,null,null,null,null,null,{"$f":"KQ6*KM60","v":0},null,null,null,null,null,null,null,{"$f":"KY6*KU60","v":0},null,null,null,null,null,null,null,{"$f":"LG6*LC60","v":0},null,null,null,null,null,null,null,{"$f":"LO6*LK60","v":0},null,null,null,null,null,null,null,{"$f":"LW6*LS60","v":0},null,null,null,null,null,null,null,{"$f":"ME6*MA60","v":0},null,null,null,null,null,null,null,{"$f":"MM6*MI60","v":0},null,null,null,null,null,null,null,{"$f":"MU6*MQ60","v":0},null,null,null,null,null,null,null,{"$f":"NC6*MY60","v":0},null,null,null,null,null,null,null,{"$f":"NK6*NG60","v":0},null,null,null,null,null,null,null,{"$f":"NS6*NO60","v":0},null,null,null,null,null,null,null,{"$f":"OA6*NW60","v":0},null,null,null,null,null,null,null,{"$f":"OI6*OE60","v":0},null,null,null,null,null,null,null,{"$f":"OQ6*OM60","v":0}]
[{"$f":"IFERROR(SUM(C64:OR64),0)","v":0},"HIP Corn Arces",{"$f":"C7*C58","v":0},null,null,null,null,null,null,null,{"$f":"K7*K58","v":0},null,null,null,null,null,null,null,{"$f":"S7*S58","v":0},null,null,null,null,null,null,null,{"$f":"AA7*AA58","v":0},null,null,null,null,null,null,null,{"$f":"AI7*AI58","v":0},null,null,null,null,null,null,null,{"$f":"AQ7*AQ58","v":0},null,null,null,null,null,null,null,{"$f":"AY7*AY58","v":0},null,null,null,null,null,null,null,{"$f":"BG7*BG58","v":0},null,null,null,null,null,null,null,{"$f":"BO7*BO58","v":0},null,null,null,null,null,null,null,{"$f":"BW7*BW58","v":0},null,null,null,null,null,null,null,{"$f":"CE7*CE58","v":0},null,null,null,null,null,null,null,{"$f":"CM7*CM58","v":0},null,null,null,null,null,null,null,{"$f":"CU7*CU58","v":0},null,null,null,null,null,null,null,{"$f":"DC7*DC58","v":0},null,null,null,null,null,null,null,{"$f":"DK7*DK58","v":0},null,null,null,null,null,null,null,{"$f":"DS7*DS58","v":0},null,null,null,null,null,null,null,{"$f":"EA7*EA58","v":0},null,null,null,null,null,null,null,{"$f":"EI7*EI58","v":0},null,null,null,null,null,null,null,{"$f":"EQ7*EQ58","v":0},null,null,null,null,null,null,null,{"$f":"EY7*EY58","v":0},null,null,null,null,null,null,null,{"$f":"FG7*FG58","v":0},null,null,null,null,null,null,null,{"$f":"FO7*FO58","v":0},null,null,null,null,null,null,null,{"$f":"FW7*FW58","v":0},null,null,null,null,null,null,null,{"$f":"GE7*GE58","v":0},null,null,null,null,null,null,null,{"$f":"GM7*GM58","v":0},null,null,null,null,null,null,null,{"$f":"GU7*GU58","v":0},null,null,null,null,null,null,null,{"$f":"HC7*HC58","v":0},null,null,null,null,null,null,null,{"$f":"HK7*HK58","v":0},null,null,null,null,null,null,null,{"$f":"HS7*HS58","v":0},null,null,null,null,null,null,null,{"$f":"IA7*IA58","v":0},null,null,null,null,null,null,null,{"$f":"II7*II58","v":0},null,null,null,null,null,null,null,{"$f":"IQ7*IQ58","v":0},null,null,null,null,null,null,null,{"$f":"IY7*IY58","v":0},null,null,null,null,null,null,null,{"$f":"JG7*JG58","v":0},null,null,null,null,null,null,null,{"$f":"JO7*JO58","v":0},null,null,null,null,null,null,null,{"$f":"JW7*JW58","v":0},null,null,null,null,null,null,null,{"$f":"KE7*KE58","v":0},null,null,null,null,null,null,null,{"$f":"KM7*KM58","v":0},null,null,null,null,null,null,null,{"$f":"KU7*KU58","v":0},null,null,null,null,null,null,null,{"$f":"LC7*LC58","v":0},null,null,null,null,null,null,null,{"$f":"LK7*LK58","v":0},null,null,null,null,null,null,null,{"$f":"LS7*LS58","v":0},null,null,null,null,null,null,null,{"$f":"MA7*MA58","v":0},null,null,null,null,null,null,null,{"$f":"MI7*MI58","v":0},null,null,null,null,null,null,null,{"$f":"MQ7*MQ58","v":0},null,null,null,null,null,null,null,{"$f":"MY7*MY58","v":0},null,null,null,null,null,null,null,{"$f":"NG7*NG58","v":0},null,null,null,null,null,null,null,{"$f":"NO7*NO58","v":0},null,null,null,null,null,null,null,{"$f":"NW7*NW58","v":0},null,null,null,null,null,null,null,{"$f":"OE7*OE58","v":0},null,null,null,null,null,null,null,{"$f":"OM7*OM58","v":0}]
[{"$f":"IFERROR(SUM(C65:OR65),0)","v":0},"HIP SOYS Acres",{"$f":"E7*C59","v":0},null,null,null,null,null,null,null,{"$f":"M7*K59","v":0},null,null,null,null,null,null,null,{"$f":"U7*S59","v":0},null,null,null,null,null,null,null,{"$f":"AC7*AA59","v":0},null,null,null,null,null,null,null,{"$f":"AK7*AI59","v":0},null,null,null,null,null,null,null,{"$f":"AS7*AQ59","v":0},null,null,null,null,null,null,null,{"$f":"BA7*AY59","v":0},null,null,null,null,null,null,null,{"$f":"BI7*BG59","v":0},null,null,null,null,null,null,null,{"$f":"BQ7*BO59","v":0},null,null,null,null,null,null,null,{"$f":"BY7*BW59","v":0},null,null,null,null,null,null,null,{"$f":"CG7*CE59","v":0},null,null,null,null,null,null,null,{"$f":"CO7*CM59","v":0},null,null,null,null,null,null,null,{"$f":"CW7*CU59","v":0},null,null,null,null,null,null,null,{"$f":"DE7*DC59","v":0},null,null,null,null,null,null,null,{"$f":"DM7*DK59","v":0},null,null,null,null,null,null,null,{"$f":"DU7*DS59","v":0},null,null,null,null,null,null,null,{"$f":"EC7*EA59","v":0},null,null,null,null,null,null,null,{"$f":"EK7*EI59","v":0},null,null,null,null,null,null,null,{"$f":"ES7*EQ59","v":0},null,null,null,null,null,null,null,{"$f":"FA7*EY59","v":0},null,null,null,null,null,null,null,{"$f":"FI7*FG59","v":0},null,null,null,null,null,null,null,{"$f":"FQ7*FO59","v":0},null,null,null,null,null,null,null,{"$f":"FY7*FW59","v":0},null,null,null,null,null,null,null,{"$f":"GG7*GE59","v":0},null,null,null,null,null,null,null,{"$f":"GO7*GM59","v":0},null,null,null,null,null,null,null,{"$f":"GW7*GU59","v":0},null,null,null,null,null,null,null,{"$f":"HE7*HC59","v":0},null,null,null,null,null,null,null,{"$f":"HM7*HK59","v":0},null,null,null,null,null,null,null,{"$f":"HU7*HS59","v":0},null,null,null,null,null,null,null,{"$f":"IC7*IA59","v":0},null,null,null,null,null,null,null,{"$f":"IK7*II59","v":0},null,null,null,null,null,null,null,{"$f":"IS7*IQ59","v":0},null,null,null,null,null,null,null,{"$f":"JA7*IY59","v":0},null,null,null,null,null,null,null,{"$f":"JI7*JG59","v":0},null,null,null,null,null,null,null,{"$f":"JQ7*JO59","v":0},null,null,null,null,null,null,null,{"$f":"JY7*JW59","v":0},null,null,null,null,null,null,null,{"$f":"KG7*KE59","v":0},null,null,null,null,null,null,null,{"$f":"KO7*KM59","v":0},null,null,null,null,null,null,null,{"$f":"KW7*KU59","v":0},null,null,null,null,null,null,null,{"$f":"LE7*LC59","v":0},null,null,null,null,null,null,null,{"$f":"LM7*LK59","v":0},null,null,null,null,null,null,null,{"$f":"LU7*LS59","v":0},null,null,null,null,null,null,null,{"$f":"MC7*MA59","v":0},null,null,null,null,null,null,null,{"$f":"MK7*MI59","v":0},null,null,null,null,null,null,null,{"$f":"MS7*MQ59","v":0},null,null,null,null,null,null,null,{"$f":"NA7*MY59","v":0},null,null,null,null,null,null,null,{"$f":"NI7*NG59","v":0},null,null,null,null,null,null,null,{"$f":"NQ7*NO59","v":0},null,null,null,null,null,null,null,{"$f":"NY7*NW59","v":0},null,null,null,null,null,null,null,{"$f":"OG7*OE59","v":0},null,null,null,null,null,null,null,{"$f":"OO7*OM59","v":0}]
[0,"HIP Wheat Acres",{"$f":"G7*C60","v":0},null,null,null,null,null,null,null,{"$f":"O7*K60","v":0},null,null,null,null,null,null,null,{"$f":"W7*S60","v":0},null,null,null,null,null,null,null,{"$f":"AE7*AA60","v":0},null,null,null,null,null,null,null,{"$f":"AM7*AI60","v":0},null,null,null,null,null,null,null,{"$f":"AU7*AQ60","v":0},null,null,null,null,null,null,null,{"$f":"BC7*AY60","v":0},null,null,null,null,null,null,null,{"$f":"BK7*BG60","v":0},null,null,null,null,null,null,null,{"$f":"BS7*BO60","v":0},null,null,null,null,null,null,null,{"$f":"CA7*BW60","v":0},null,null,null,null,null,null,null,{"$f":"CI7*CE60","v":0},null,null,null,null,null,null,null,{"$f":"CQ7*CM60","v":0},null,null,null,null,null,null,null,{"$f":"CY7*CU60","v":0},null,null,null,null,null,null,null,{"$f":"DG7*DC60","v":0},null,null,null,null,null,null,null,{"$f":"DO7*DK60","v":0},null,null,null,null,null,null,null,{"$f":"DW7*DS60","v":0},null,null,null,null,null,null,null,{"$f":"EE7*EA60","v":0},null,null,null,null,null,null,null,{"$f":"EM7*EI60","v":0},null,null,null,null,null,null,null,{"$f":"EU7*EQ60","v":0},null,null,null,null,null,null,null,{"$f":"FC7*EY60","v":0},null,null,null,null,null,null,null,{"$f":"FK7*FG60","v":0},null,null,null,null,null,null,null,{"$f":"FS7*FO60","v":0},null,null,null,null,null,null,null,{"$f":"GA7*FW60","v":0},null,null,null,null,null,null,null,{"$f":"GI7*GE60","v":0},null,null,null,null,null,null,null,{"$f":"GQ7*GM60","v":0},null,null,null,null,null,null,null,{"$f":"GY7*GU60","v":0},null,null,null,null,null,null,null,{"$f":"HG7*HC60","v":0},null,null,null,null,null,null,null,{"$f":"HO7*HK60","v":0},null,null,null,null,null,null,null,{"$f":"HW7*HS60","v":0},null,null,null,null,null,null,null,{"$f":"IE7*IA60","v":0},null,null,null,null,null,null,null,{"$f":"IM7*II60","v":0},null,null,null,null,null,null,null,{"$f":"IU7*IQ60","v":0},null,null,null,null,null,null,null,{"$f":"JC7*IY60","v":0},null,null,null,null,null,null,null,{"$f":"JK7*JG60","v":0},null,null,null,null,null,null,null,{"$f":"JS7*JO60","v":0},null,null,null,null,null,null,null,{"$f":"KA7*JW60","v":0},null,null,null,null,null,null,null,{"$f":"KI7*KE60","v":0},null,null,null,null,null,null,null,{"$f":"KQ7*KM60","v":0},null,null,null,null,null,null,null,{"$f":"KY7*KU60","v":0},null,null,null,null,null,null,null,{"$f":"LG7*LC60","v":0},null,null,null,null,null,null,null,{"$f":"LO7*LK60","v":0},null,null,null,null,null,null,null,{"$f":"LW7*LS60","v":0},null,null,null,null,null,null,null,{"$f":"ME7*MA60","v":0},null,null,null,null,null,null,null,{"$f":"MM7*MI60","v":0},null,null,null,null,null,null,null,{"$f":"MU7*MQ60","v":0},null,null,null,null,null,null,null,{"$f":"NC7*MY60","v":0},null,null,null,null,null,null,null,{"$f":"NK7*NG60","v":0},null,null,null,null,null,null,null,{"$f":"NS7*NO60","v":0},null,null,null,null,null,null,null,{"$f":"OA7*NW60","v":0},null,null,null,null,null,null,null,{"$f":"OI7*OE60","v":0},null,null,null,null,null,null,null,{"$f":"OQ7*OM60","v":0}]
[{"$f":"IFERROR(A64/A58,0)","v":0},"% HIP Corn"]
[{"$f":"IFERROR(A65/A59,0)","v":0},"% HIP SOYS"]
[0,"% HIP WHEAT"]
[]
["Production","Corn","Production",null,null,null,null,null,null,null,"Production",null,null,null,null,null,null,null,"Production",null,null,null,null,null,null,null,"Production",null,null,null,null,null,null,null,"Production",null,null,null,null,null,null,null,"Production",null,null,null,null,null,null,null,"Production",null,null,null,null,null,null,null,"Production",null,null,null,null,null,null,null,"Production",null,null,null,null,null,null,null,"Production",null,null,null,null,null,null,null,"Production",null,null,null,null,null,null,null,"Production",null,null,null,null,null,null,null,"Production",null,null,null,null,null,null,null,"Production",null,null,null,null,null,null,null,"Production",null,null,null,null,null,null,null,"Production",null,null,null,null,null,null,null,"Production",null,null,null,null,null,null,null,"Production",null,null,null,null,null,null,null,"Production",null,null,null,null,null,null,null,"Production",null,null,null,null,null,null,null,"Production",null,null,null,null,null,null,null,"Production",null,null,null,null,null,null,null,"Production",null,null,null,null,null,null,null,"Production",null,null,null,null,null,null,null,"Production",null,null,null,null,null,null,null,"Production",null,null,null,null,null,null,null,"Production",null,null,null,null,null,null,null,"Production",null,null,null,null,null,null,null,"Production",null,null,null,null,null,null,null,"Production",null,null,null,null,null,null,null,"Production",null,null,null,null,null,null,null,"Production",null,null,null,null,null,null,null,"Production",null,null,null,null,null,null,null,"Production",null,null,null,null,null,null,null,"Production",null,null,null,null,null,null,null,"Production",null,null,null,null,null,null,null,"Production",null,null,null,null,null,null,null,"Production",null,null,null,null,null,null,null,"Production",null,null,null,null,null,null,null,"Production",null,null,null,null,null,null,null,"Production",null,null,null,null,null,null,null,"Production",null,null,null,null,null,null,null,"Production",null,null,null,null,null,null,null,"Production",null,null,null,null,null,null,null,"Production",null,null,null,null,null,null,null,"Production",null,null,null,null,null,null,null,"Production",null,null,null,null,null,null,null,"Production",null,null,null,null,null,null,null,"Production",null,null,null,null,null,null,null,"Production",null,null,null,null,null,null,null,"Production"]
[{"$f":"SUM(C72:OR72)","v":0},2013,{"$f":"C14*D14","v":0},null,null,null,null,null,null,null,{"$f":"K14*L14","v":0},null,null,null,null,null,null,null,{"$f":"S14*T14","v":0},null,null,null,null,null,null,null,{"$f":"AA14*AB14","v":0},null,null,null,null,null,null,null,{"$f":"AI14*AJ14","v":0},null,null,null,null,null,null,null,{"$f":"AQ14*AR14","v":0},null,null,null,null,null,null,null,{"$f":"AY14*AZ14","v":0},null,null,null,null,null,null,null,{"$f":"BG14*BH14","v":0},null,null,null,null,null,null,null,{"$f":"BO14*BP14","v":0},null,null,null,null,null,null,null,{"$f":"BW14*BX14","v":0},null,null,null,null,null,null,null,{"$f":"CE14*CF14","v":0},null,null,null,null,null,null,null,{"$f":"CM14*CN14","v":0},null,null,null,null,null,null,null,{"$f":"CU14*CV14","v":0},null,null,null,null,null,null,null,{"$f":"DC14*DD14","v":0},null,null,null,null,null,null,null,{"$f":"DK14*DL14","v":0},null,null,null,null,null,null,null,{"$f":"DS14*DT14","v":0},null,null,null,null,null,null,null,{"$f":"EA14*EB14","v":0},null,null,null,null,null,null,null,{"$f":"EI14*EJ14","v":0},null,null,null,null,null,null,null,{"$f":"EQ14*ER14","v":0},null,null,null,null,null,null,null,{"$f":"EY14*EZ14","v":0},null,null,null,null,null,null,null,{"$f":"FG14*FH14","v":0},null,null,null,null,null,null,null,{"$f":"FO14*FP14","v":0},null,null,null,null,null,null,null,{"$f":"FW14*FX14","v":0},null,null,null,null,null,null,null,{"$f":"GE14*GF14","v":0},null,null,null,null,null,null,null,{"$f":"GM14*GN14","v":0},null,null,null,null,null,null,null,{"$f":"GU14*GV14","v":0},null,null,null,null,null,null,null,{"$f":"HC14*HD14","v":0},null,null,null,null,null,null,null,{"$f":"HK14*HL14","v":0},null,null,null,null,null,null,null,{"$f":"HS14*HT14","v":0},null,null,null,null,null,null,null,{"$f":"IA14*IB14","v":0},null,null,null,null,null,null,null,{"$f":"II14*IJ14","v":0},null,null,null,null,null,null,null,{"$f":"IQ14*IR14","v":0},null,null,null,null,null,null,null,{"$f":"IY14*IZ14","v":0},null,null,null,null,null,null,null,{"$f":"JG14*JH14","v":0},null,null,null,null,null,null,null,{"$f":"JO14*JP14","v":0},null,null,null,null,null,null,null,{"$f":"JW14*JX14","v":0},null,null,null,null,null,null,null,{"$f":"KE14*KF14","v":0},null,null,null,null,null,null,null,{"$f":"KM14*KN14","v":0},null,null,null,null,null,null,null,{"$f":"KU14*KV14","v":0},null,null,null,null,null,null,null,{"$f":"LC14*LD14","v":0},null,null,null,null,null,null,null,{"$f":"LK14*LL14","v":0},null,null,null,null,null,null,null,{"$f":"LS14*LT14","v":0},null,null,null,null,null,null,null,{"$f":"MA14*MB14","v":0},null,null,null,null,null,null,null,{"$f":"MI14*MJ14","v":0},null,null,null,null,null,null,null,{"$f":"MQ14*MR14","v":0},null,null,null,null,null,null,null,{"$f":"MY14*MZ14","v":0},null,null,null,null,null,null,null,{"$f":"NG14*NH14","v":0},null,null,null,null,null,null,null,{"$f":"NO14*NP14","v":0},null,null,null,null,null,null,null,{"$f":"NW14*NX14","v":0},null,null,null,null,null,null,null,{"$f":"OE14*OF14","v":0},null,null,null,null,null,null,null,{"$f":"OM14*ON14","v":0}]
[0,2014,{"$f":"C15*D15","v":0},null,null,null,null,null,null,null,{"$f":"K15*L15","v":0},null,null,null,null,null,null,null,{"$f":"S15*T15","v":0},null,null,null,null,null,null,null,{"$f":"AA15*AB15","v":0},null,null,null,null,null,null,null,{"$f":"AI15*AJ15","v":0},null,null,null,null,null,null,null,{"$f":"AQ15*AR15","v":0},null,null,null,null,null,null,null,{"$f":"AY15*AZ15","v":0},null,null,null,null,null,null,null,{"$f":"BG15*BH15","v":0},null,null,null,null,null,null,null,{"$f":"BO15*BP15","v":0},null,null,null,null,null,null,null,{"$f":"BW15*BX15","v":0},null,null,null,null,null,null,null,{"$f":"CE15*CF15","v":0},null,null,null,null,null,null,null,{"$f":"CM15*CN15","v":0},null,null,null,null,null,null,null,{"$f":"CU15*CV15","v":0},null,null,null,null,null,null,null,{"$f":"DC15*DD15","v":0},null,null,null,null,null,null,null,{"$f":"DK15*DL15","v":0},null,null,null,null,null,null,null,{"$f":"DS15*DT15","v":0},null,null,null,null,null,null,null,{"$f":"EA15*EB15","v":0},null,null,null,null,null,null,null,{"$f":"EI15*EJ15","v":0},null,null,null,null,null,null,null,{"$f":"EQ15*ER15","v":0},null,null,null,null,null,null,null,{"$f":"EY15*EZ15","v":0},null,null,null,null,null,null,null,{"$f":"FG15*FH15","v":0},null,null,null,null,null,null,null,{"$f":"FO15*FP15","v":0},null,null,null,null,null,null,null,{"$f":"FW15*FX15","v":0},null,null,null,null,null,null,null,{"$f":"GE15*GF15","v":0},null,null,null,null,null,null,null,{"$f":"GM15*GN15","v":0},null,null,null,null,null,null,null,{"$f":"GU15*GV15","v":0},null,null,null,null,null,null,null,{"$f":"HC15*HD15","v":0},null,null,null,null,null,null,null,{"$f":"HK15*HL15","v":0},null,null,null,null,null,null,null,{"$f":"HS15*HT15","v":0},null,null,null,null,null,null,null,{"$f":"IA15*IB15","v":0},null,null,null,null,null,null,null,{"$f":"II15*IJ15","v":0},null,null,null,null,null,null,null,{"$f":"IQ15*IR15","v":0},null,null,null,null,null,null,null,{"$f":"IY15*IZ15","v":0},null,null,null,null,null,null,null,{"$f":"JG15*JH15","v":0},null,null,null,null,null,null,null,{"$f":"JO15*JP15","v":0},null,null,null,null,null,null,null,{"$f":"JW15*JX15","v":0},null,null,null,null,null,null,null,{"$f":"KE15*KF15","v":0},null,null,null,null,null,null,null,{"$f":"KM15*KN15","v":0},null,null,null,null,null,null,null,{"$f":"KU15*KV15","v":0},null,null,null,null,null,null,null,{"$f":"LC15*LD15","v":0},null,null,null,null,null,null,null,{"$f":"LK15*LL15","v":0},null,null,null,null,null,null,null,{"$f":"LS15*LT15","v":0},null,null,null,null,null,null,null,{"$f":"MA15*MB15","v":0},null,null,null,null,null,null,null,{"$f":"MI15*MJ15","v":0},null,null,null,null,null,null,null,{"$f":"MQ15*MR15","v":0},null,null,null,null,null,null,null,{"$f":"MY15*MZ15","v":0},null,null,null,null,null,null,null,{"$f":"NG15*NH15","v":0},null,null,null,null,null,null,null,{"$f":"NO15*NP15","v":0},null,null,null,null,null,null,null,{"$f":"NW15*NX15","v":0},null,null,null,null,null,null,null,{"$f":"OE15*OF15","v":0},null,null,null,null,null,null,null,{"$f":"OM15*ON15","v":0}]
[0,2015,0,null,null,null,null,null,null,null,0,null,null,null,null,null,null,null,0,null,null,null,null,null,null,null,0,null,null,null,null,null,null,null,0,null,null,null,null,null,null,null,0,null,null,null,null,null,null,null,0,null,null,null,null,null,null,null,0,null,null,null,null,null,null,null,0,null,null,null,null,null,null,null,0,null,null,null,null,null,null,null,0,null,null,null,null,null,null,null,0,null,null,null,null,null,null,null,0,null,null,null,null,null,null,null,0,null,null,null,null,null,null,null,0,null,null,null,null,null,null,null,0,null,null,null,null,null,null,null,0,null,null,null,null,null,null,null,0,null,null,null,null,null,null,null,0,null,null,null,null,null,null,null,0,null,null,null,null,null,null,null,0,null,null,null,null,null,null,null,0,null,null,null,null,null,null,null,0,null,null,null,null,null,null,null,0,null,null,null,null,null,null,null,0,null,null,null,null,null,null,null,0,null,null,null,null,null,null,null,0,null,null,null,null,null,null,null,0,null,null,null,null,null,null,null,0,null,null,null,null,null,null,null,0,null,null,null,null,null,null,null,0,null,null,null,null,null,null,null,0,null,null,null,null,null,null,null,0,null,null,null,null,null,null,null,0,null,null,null,null,null,null,null,0,null,null,null,null,null,null,null,0,null,null,null,null,null,null,null,0,null,null,null,null,null,null,null,0,null,null,null,null,null,null,null,0,null,null,null,null,null,null,null,0,null,null,null,null,null,null,null,0,null,null,null,null,null,null,null,0,null,null,null,null,null,null,null,0,null,null,null,null,null,null,null,0,null,null,null,null,null,null,null,0,null,null,null,null,null,null,null,0,null,null,null,null,null,null,null,0,null,null,null,null,null,null,null,0,null,null,null,null,null,null,null,0,null,null,null,null,null,null,null,0,null,null,null,null,null,null,null,0]
[0,2016,0,null,null,null,null,null,null,null,0,null,null,null,null,null,null,null,0,null,null,null,null,null,null,null,0,null,null,null,null,null,null,null,0,null,null,null,null,null,null,null,0,null,null,null,null,null,null,null,0,null,null,null,null,null,null,null,0,null,null,null,null,null,null,null,0,null,null,null,null,null,null,null,0,null,null,null,null,null,null,null,0,null,null,null,null,null,null,null,0,null,null,null,null,null,null,null,0,null,null,null,null,null,null,null,0,null,null,null,null,null,null,null,0,null,null,null,null,null,null,null,0,null,null,null,null,null,null,null,0,null,null,null,null,null,null,null,0,null,null,null,null,null,null,null,0,null,null,null,null,null,null,null,0,null,null,null,null,null,null,null,0,null,null,null,null,null,null,null,0,null,null,null,null,null,null,null,0,null,null,null,null,null,null,null,0,null,null,null,null,null,null,null,0,null,null,null,null,null,null,null,0,null,null,null,null,null,null,null,0,null,null,null,null,null,null,null,0,null,null,null,null,null,null,null,0,null,null,null,null,null,null,null,0,null,null,null,null,null,null,null,0,null,null,null,null,null,null,null,0,null,null,null,null,null,null,null,0,null,null,null,null,null,null,null,0,null,null,null,null,null,null,null,0,null,null,null,null,null,null,null,0,null,null,null,null,null,null,null,0,null,null,null,null,null,null,null,0,null,null,null,null,null,null,null,0,null,null,null,null,null,null,null,0,null,null,null,null,null,null,null,0,null,null,null,null,null,null,null,0,null,null,null,null,null,null,null,0,null,null,null,null,null,null,null,0,null,null,null,null,null,null,null,0,null,null,null,null,null,null,null,0,null,null,null,null,null,null,null,0,null,null,null,null,null,null,null,0,null,null,null,null,null,null,null,0,null,null,null,null,null,null,null,0,null,null,null,null,null,null,null,0]
[0,2017,0,null,null,null,null,null,null,null,0,null,null,null,null,null,null,null,0,null,null,null,null,null,null,null,0,null,null,null,null,null,null,null,0,null,null,null,null,null,null,null,0,null,null,null,null,null,null,null,0,null,null,null,null,null,null,null,0,null,null,null,null,null,null,null,0,null,null,null,null,null,null,null,0,null,null,null,null,null,null,null,0,null,null,null,null,null,null,null,0,null,null,null,null,null,null,null,0,null,null,null,null,null,null,null,0,null,null,null,null,null,null,null,0,null,null,null,null,null,null,null,0,null,null,null,null,null,null,null,0,null,null,null,null,null,null,null,0,null,null,null,null,null,null,null,0,null,null,null,null,null,null,null,0,null,null,null,null,null,null,null,0,null,null,null,null,null,null,null,0,null,null,null,null,null,null,null,0,null,null,null,null,null,null,null,0,null,null,null,null,null,null,null,0,null,null,null,null,null,null,null,0,null,null,null,null,null,null,null,0,null,null,null,null,null,null,null,0,null,null,null,null,null,null,null,0,null,null,null,null,null,null,null,0,null,null,null,null,null,null,null,0,null,null,null,null,null,null,null,0,null,null,null,null,null,null,null,0,null,null,null,null,null,null,null,0,null,null,null,null,null,null,null,0,null,null,null,null,null,null,null,0,null,null,null,null,null,null,null,0,null,null,null,null,null,null,null,0,null,null,null,null,null,null,null,0,null,null,null,null,null,null,null,0,null,null,null,null,null,null,null,0,null,null,null,null,null,null,null,0,null,null,null,null,null,null,null,0,null,null,null,null,null,null,null,0,null,null,null,null,null,null,null,0,null,null,null,null,null,null,null,0,null,null,null,null,null,null,null,0,null,null,null,null,null,null,null,0,null,null,null,null,null,null,null,0,null,null,null,null,null,null,null,0,null,null,null,null,null,null,null,0]
[0,2018,{"$f":"C19*D19","v":0},null,null,null,null,null,null,null,0,null,null,null,null,null,null,null,0,null,null,null,null,null,null,null,0,null,null,null,null,null,null,null,0,null,null,null,null,null,null,null,0,null,null,null,null,null,null,null,0,null,null,null,null,null,null,null,0,null,null,null,null,null,null,null,0,null,null,null,null,null,null,null,0,null,null,null,null,null,null,null,0,null,null,null,null,null,null,null,0,null,null,null,null,null,null,null,0,null,null,null,null,null,null,null,0,null,null,null,null,null,null,null,0,null,null,null,null,null,null,null,0,null,null,null,null,null,null,null,0,null,null,null,null,null,null,null,0,null,null,null,null,null,null,null,0,null,null,null,null,null,null,null,0,null,null,null,null,null,null,null,0,null,null,null,null,null,null,null,0,null,null,null,null,null,null,null,0,null,null,null,null,null,null,null,0,null,null,null,null,null,null,null,0,null,null,null,null,null,null,null,0,null,null,null,null,null,null,null,0,null,null,null,null,null,null,null,0,null,null,null,null,null,null,null,0,null,null,null,null,null,null,null,0,null,null,null,null,null,null,null,0,null,null,null,null,null,null,null,0,null,null,null,null,null,null,null,0,null,null,null,null,null,null,null,0,null,null,null,null,null,null,null,0,null,null,null,null,null,null,null,0,null,null,null,null,null,null,null,0,null,null,null,null,null,null,null,0,null,null,null,null,null,null,null,0,null,null,null,null,null,null,null,0,null,null,null,null,null,null,null,0,null,null,null,null,null,null,null,0,null,null,null,null,null,null,null,0,null,null,null,null,null,null,null,0,null,null,null,null,null,null,null,0,null,null,null,null,null,null,null,0,null,null,null,null,null,null,null,0,null,null,null,null,null,null,null,0,null,null,null,null,null,null,null,0,null,null,null,null,null,null,null,0,null,null,null,null,null,null,null,0]
[0,"2019 or Considered",0,null,null,null,null,null,null,null,0,null,null,null,null,null,null,null,0,null,null,null,null,null,null,null,0,null,null,null,null,null,null,null,0,null,null,null,null,null,null,null,0,null,null,null,null,null,null,null,0,null,null,null,null,null,null,null,0,null,null,null,null,null,null,null,0,null,null,null,null,null,null,null,0,null,null,null,null,null,null,null,0,null,null,null,null,null,null,null,0,null,null,null,null,null,null,null,0,null,null,null,null,null,null,null,0,null,null,null,null,null,null,null,0,null,null,null,null,null,null,null,0,null,null,null,null,null,null,null,0,null,null,null,null,null,null,null,0,null,null,null,null,null,null,null,0,null,null,null,null,null,null,null,0,null,null,null,null,null,null,null,0,null,null,null,null,null,null,null,0,null,null,null,null,null,null,null,0,null,null,null,null,null,null,null,0,null,null,null,null,null,null,null,0,null,null,null,null,null,null,null,0,null,null,null,null,null,null,null,0,null,null,null,null,null,null,null,0,null,null,null,null,null,null,null,0,null,null,null,null,null,null,null,0,null,null,null,null,null,null,null,0,null,null,null,null,null,null,null,0,null,null,null,null,null,null,null,0,null,null,null,null,null,null,null,0,null,null,null,null,null,null,null,0,null,null,null,null,null,null,null,0,null,null,null,null,null,null,null,0,null,null,null,null,null,null,null,0,null,null,null,null,null,null,null,0,null,null,null,null,null,null,null,0,null,null,null,null,null,null,null,0,null,null,null,null,null,null,null,0,null,null,null,null,null,null,null,0,null,null,null,null,null,null,null,0,null,null,null,null,null,null,null,0,null,null,null,null,null,null,null,0,null,null,null,null,null,null,null,0,null,null,null,null,null,null,null,0,null,null,null,null,null,null,null,0,null,null,null,null,null,null,null,0,null,null,null,null,null,null,null,0]
[0,2020,0,null,null,null,null,null,null,null,0,null,null,null,null,null,null,null,0,null,null,null,null,null,null,null,0,null,null,null,null,null,null,null,0,null,null,null,null,null,null,null,0,null,null,null,null,null,null,null,0,null,null,null,null,null,null,null,0,null,null,null,null,null,null,null,0,null,null,null,null,null,null,null,0,null,null,null,null,null,null,null,0,null,null,null,null,null,null,null,0,null,null,null,null,null,null,null,0,null,null,null,null,null,null,null,0,null,null,null,null,null,null,null,0,null,null,null,null,null,null,null,0,null,null,null,null,null,null,null,0,null,null,null,null,null,null,null,0,null,null,null,null,null,null,null,0,null,null,null,null,null,null,null,0,null,null,null,null,null,null,null,0,null,null,null,null,null,null,null,0,null,null,null,null,null,null,null,0,null,null,null,null,null,null,null,0,null,null,null,null,null,null,null,0,null,null,null,null,null,null,null,0,null,null,null,null,null,null,null,0,null,null,null,null,null,null,null,0,null,null,null,null,null,null,null,0,null,null,null,null,null,null,null,0,null,null,null,null,null,null,null,0,null,null,null,null,null,null,null,0,null,null,null,null,null,null,null,0,null,null,null,null,null,null,null,0,null,null,null,null,null,null,null,0,null,null,null,null,null,null,null,0,null,null,null,null,null,null,null,0,null,null,null,null,null,null,null,0,null,null,null,null,null,null,null,0,null,null,null,null,null,null,null,0,null,null,null,null,null,null,null,0,null,null,null,null,null,null,null,0,null,null,null,null,null,null,null,0,null,null,null,null,null,null,null,0,null,null,null,null,null,null,null,0,null,null,null,null,null,null,null,0,null,null,null,null,null,null,null,0,null,null,null,null,null,null,null,0,null,null,null,null,null,null,null,0,null,null,null,null,null,null,null,0,null,null,null,null,null,null,null,0]
[{"$f":"SUM(C80:OR80)","v":0}]
[0,"Soys"]
[0,2013,null,null,{"$f":"E14*F14","v":0},null,null,null,null,null,null,null,{"$f":"M14*N14","v":0},null,null,null,null,null,null,null,{"$f":"U14*V14","v":0},null,null,null,null,null,null,null,{"$f":"AC14*AD14","v":0},null,null,null,null,null,null,null,{"$f":"AK14*AL14","v":0},null,null,null,null,null,null,null,{"$f":"AS14*AT14","v":0},null,null,null,null,null,null,null,{"$f":"BA14*BB14","v":0},null,null,null,null,null,null,null,{"$f":"BI14*BJ14","v":0},null,null,null,null,null,null,null,{"$f":"BQ14*BR14","v":0},null,null,null,null,null,null,null,{"$f":"BY14*BZ14","v":0},null,null,null,null,null,null,null,{"$f":"CG14*CH14","v":0},null,null,null,null,null,null,null,{"$f":"CO14*CP14","v":0},null,null,null,null,null,null,null,{"$f":"CW14*CX14","v":0},null,null,null,null,null,null,null,{"$f":"DE14*DF14","v":0},null,null,null,null,null,null,null,{"$f":"DM14*DN14","v":0},null,null,null,null,null,null,null,{"$f":"DU14*DV14","v":0},null,null,null,null,null,null,null,{"$f":"EC14*ED14","v":0},null,null,null,null,null,null,null,{"$f":"EK14*EL14","v":0},null,null,null,null,null,null,null,{"$f":"ES14*ET14","v":0},null,null,null,null,null,null,null,{"$f":"FA14*FB14","v":0},null,null,null,null,null,null,null,{"$f":"FI14*FJ14","v":0},null,null,null,null,null,null,null,{"$f":"FQ14*FR14","v":0},null,null,null,null,null,null,null,{"$f":"FY14*FZ14","v":0},null,null,null,null,null,null,null,{"$f":"GG14*GH14","v":0},null,null,null,null,null,null,null,{"$f":"GO14*GP14","v":0},null,null,null,null,null,null,null,{"$f":"GW14*GX14","v":0},null,null,null,null,null,null,null,{"$f":"HE14*HF14","v":0},null,null,null,null,null,null,null,{"$f":"HM14*HN14","v":0},null,null,null,null,null,null,null,{"$f":"HU14*HV14","v":0},null,null,null,null,null,null,null,{"$f":"IC14*ID14","v":0},null,null,null,null,null,null,null,{"$f":"IK14*IL14","v":0},null,null,null,null,null,null,null,{"$f":"IS14*IT14","v":0},null,null,null,null,null,null,null,{"$f":"JA14*JB14","v":0},null,null,null,null,null,null,null,{"$f":"JI14*JJ14","v":0},null,null,null,null,null,null,null,{"$f":"JQ14*JR14","v":0},null,null,null,null,null,null,null,{"$f":"JY14*JZ14","v":0},null,null,null,null,null,null,null,{"$f":"KG14*KH14","v":0},null,null,null,null,null,null,null,{"$f":"KO14*KP14","v":0},null,null,null,null,null,null,null,{"$f":"KW14*KX14","v":0},null,null,null,null,null,null,null,{"$f":"LE14*LF14","v":0},null,null,null,null,null,null,null,{"$f":"LM14*LN14","v":0},null,null,null,null,null,null,null,{"$f":"LU14*LV14","v":0},null,null,null,null,null,null,null,{"$f":"MC14*MD14","v":0},null,null,null,null,null,null,null,{"$f":"MK14*ML14","v":0},null,null,null,null,null,null,null,{"$f":"MS14*MT14","v":0},null,null,null,null,null,null,null,{"$f":"NA14*NB14","v":0},null,null,null,null,null,null,null,{"$f":"NI14*NJ14","v":0},null,null,null,null,null,null,null,{"$f":"NQ14*NR14","v":0},null,null,null,null,null,null,null,{"$f":"NY14*NZ14","v":0},null,null,null,null,null,null,null,{"$f":"OG14*OH14","v":0},null,null,null,null,null,null,null,{"$f":"OO14*OP14","v":0}]
[0,2014,null,null,{"$f":"E15*F15","v":0},null,null,null,null,null,null,null,{"$f":"M15*N15","v":0},null,null,null,null,null,null,null,{"$f":"U15*V15","v":0},null,null,null,null,null,null,null,{"$f":"AC15*AD15","v":0},null,null,null,null,null,null,null,{"$f":"AK15*AL15","v":0},null,null,null,null,null,null,null,{"$f":"AS15*AT15","v":0},null,null,null,null,null,null,null,{"$f":"BA15*BB15","v":0},null,null,null,null,null,null,null,{"$f":"BI15*BJ15","v":0},null,null,null,null,null,null,null,{"$f":"BQ15*BR15","v":0},null,null,null,null,null,null,null,{"$f":"BY15*BZ15","v":0},null,null,null,null,null,null,null,{"$f":"CG15*CH15","v":0},null,null,null,null,null,null,null,{"$f":"CO15*CP15","v":0},null,null,null,null,null,null,null,{"$f":"CW15*CX15","v":0},null,null,null,null,null,null,null,{"$f":"DE15*DF15","v":0},null,null,null,null,null,null,null,{"$f":"DM15*DN15","v":0},null,null,null,null,null,null,null,{"$f":"DU15*DV15","v":0},null,null,null,null,null,null,null,{"$f":"EC15*ED15","v":0},null,null,null,null,null,null,null,{"$f":"EK15*EL15","v":0},null,null,null,null,null,null,null,{"$f":"ES15*ET15","v":0},null,null,null,null,null,null,null,{"$f":"FA15*FB15","v":0},null,null,null,null,null,null,null,{"$f":"FI15*FJ15","v":0},null,null,null,null,null,null,null,{"$f":"FQ15*FR15","v":0},null,null,null,null,null,null,null,{"$f":"FY15*FZ15","v":0},null,null,null,null,null,null,null,{"$f":"GG15*GH15","v":0},null,null,null,null,null,null,null,{"$f":"GO15*GP15","v":0},null,null,null,null,null,null,null,{"$f":"GW15*GX15","v":0},null,null,null,null,null,null,null,{"$f":"HE15*HF15","v":0},null,null,null,null,null,null,null,{"$f":"HM15*HN15","v":0},null,null,null,null,null,null,null,{"$f":"HU15*HV15","v":0},null,null,null,null,null,null,null,{"$f":"IC15*ID15","v":0},null,null,null,null,null,null,null,{"$f":"IK15*IL15","v":0},null,null,null,null,null,null,null,{"$f":"IS15*IT15","v":0},null,null,null,null,null,null,null,{"$f":"JA15*JB15","v":0},null,null,null,null,null,null,null,{"$f":"JI15*JJ15","v":0},null,null,null,null,null,null,null,{"$f":"JQ15*JR15","v":0},null,null,null,null,null,null,null,{"$f":"JY15*JZ15","v":0},null,null,null,null,null,null,null,{"$f":"KG15*KH15","v":0},null,null,null,null,null,null,null,{"$f":"KO15*KP15","v":0},null,null,null,null,null,null,null,{"$f":"KW15*KX15","v":0},null,null,null,null,null,null,null,{"$f":"LE15*LF15","v":0},null,null,null,null,null,null,null,{"$f":"LM15*LN15","v":0},null,null,null,null,null,null,null,{"$f":"LU15*LV15","v":0},null,null,null,null,null,null,null,{"$f":"MC15*MD15","v":0},null,null,null,null,null,null,null,{"$f":"MK15*ML15","v":0},null,null,null,null,null,null,null,{"$f":"MS15*MT15","v":0},null,null,null,null,null,null,null,{"$f":"NA15*NB15","v":0},null,null,null,null,null,null,null,{"$f":"NI15*NJ15","v":0},null,null,null,null,null,null,null,{"$f":"NQ15*NR15","v":0},null,null,null,null,null,null,null,{"$f":"NY15*NZ15","v":0},null,null,null,null,null,null,null,{"$f":"OG15*OH15","v":0},null,null,null,null,null,null,null,{"$f":"OO15*OP15","v":0}]
[0,2015,null,null,0,null,null,null,null,null,null,null,0,null,null,null,null,null,null,null,0,null,null,null,null,null,null,null,0,null,null,null,null,null,null,null,0,null,null,null,null,null,null,null,0,null,null,null,null,null,null,null,0,null,null,null,null,null,null,null,0,null,null,null,null,null,null,null,0,null,null,null,null,null,null,null,0,null,null,null,null,null,null,null,0,null,null,null,null,null,null,null,0,null,null,null,null,null,null,null,0,null,null,null,null,null,null,null,0,null,null,null,null,null,null,null,0,null,null,null,null,null,null,null,0,null,null,null,null,null,null,null,0,null,null,null,null,null,null,null,0,null,null,null,null,null,null,null,0,null,null,null,null,null,null,null,0,null,null,null,null,null,null,null,0,null,null,null,null,null,null,null,0,null,null,null,null,null,null,null,0,null,null,null,null,null,null,null,0,null,null,null,null,null,null,null,0,null,null,null,null,null,null,null,0,null,null,null,null,null,null,null,0,null,null,null,null,null,null,null,0,null,null,null,null,null,null,null,0,null,null,null,null,null,null,null,0,null,null,null,null,null,null,null,0,null,null,null,null,null,null,null,0,null,null,null,null,null,null,null,0,null,null,null,null,null,null,null,0,null,null,null,null,null,null,null,0,null,null,null,null,null,null,null,0,null,null,null,null,null,null,null,0,null,null,null,null,null,null,null,0,null,null,null,null,null,null,null,0,null,null,null,null,null,null,null,0,null,null,null,null,null,null,null,0,null,null,null,null,null,null,null,0,null,null,null,null,null,null,null,0,null,null,null,null,null,null,null,0,null,null,null,null,null,null,null,0,null,null,null,null,null,null,null,0,null,null,null,null,null,null,null,0,null,null,null,null,null,null,null,0,null,null,null,null,null,null,null,0,null,null,null,null,null,null,null,0,null,null,null,null,null,null,null,0]
[0,2016,null,null,0,null,null,null,null,null,null,null,0,null,null,null,null,null,null,null,0,null,null,null,null,null,null,null,0,null,null,null,null,null,null,null,0,null,null,null,null,null,null,null,0,null,null,null,null,null,null,null,0,null,null,null,null,null,null,null,0,null,null,null,null,null,null,null,0,null,null,null,null,null,null,null,0,null,null,null,null,null,null,null,0,null,null,null,null,null,null,null,0,null,null,null,null,null,null,null,0,null,null,null,null,null,null,null,0,null,null,null,null,null,null,null,0,null,null,null,null,null,null,null,0,null,null,null,null,null,null,null,0,null,null,null,null,null,null,null,0,null,null,null,null,null,null,null,0,null,null,null,null,null,null,null,0,null,null,null,null,null,null,null,0,null,null,null,null,null,null,null,0,null,null,null,null,null,null,null,0,null,null,null,null,null,null,null,0,null,null,null,null,null,null,null,0,null,null,null,null,null,null,null,0,null,null,null,null,null,null,null,0,null,null,null,null,null,null,null,0,null,null,null,null,null,null,null,0,null,null,null,null,null,null,null,0,null,null,null,null,null,null,null,0,null,null,null,null,null,null,null,0,null,null,null,null,null,null,null,0,null,null,null,null,null,null,null,0,null,null,null,null,null,null,null,0,null,null,null,null,null,null,null,0,null,null,null,null,null,null,null,0,null,null,null,null,null,null,null,0,null,null,null,null,null,null,null,0,null,null,null,null,null,null,null,0,null,null,null,null,null,null,null,0,null,null,null,null,null,null,null,0,null,null,null,null,null,null,null,0,null,null,null,null,null,null,null,0,null,null,null,null,null,null,null,0,null,null,null,null,null,null,null,0,null,null,null,null,null,null,null,0,null,null,null,null,null,null,null,0,null,null,null,null,null,null,null,0,null,null,null,null,null,null,null,0,null,null,null,null,null,null,null,0]
[0,2017,null,null,0,null,null,null,null,null,null,null,0,null,null,null,null,null,null,null,0,null,null,null,null,null,null,null,0,null,null,null,null,null,null,null,0,null,null,null,null,null,null,null,0,null,null,null,null,null,null,null,0,null,null,null,null,null,null,null,0,null,null,null,null,null,null,null,0,null,null,null,null,null,null,null,0,null,null,null,null,null,null,null,0,null,null,null,null,null,null,null,0,null,null,null,null,null,null,null,0,null,null,null,null,null,null,null,0,null,null,null,null,null,null,null,0,null,null,null,null,null,null,null,0,null,null,null,null,null,null,null,0,null,null,null,null,null,null,null,0,null,null,null,null,null,null,null,0,null,null,null,null,null,null,null,0,null,null,null,null,null,null,null,0,null,null,null,null,null,null,null,0,null,null,null,null,null,null,null,0,null,null,null,null,null,null,null,0,null,null,null,null,null,null,null,0,null,null,null,null,null,null,null,0,null,null,null,null,null,null,null,0,null,null,null,null,null,null,null,0,null,null,null,null,null,null,null,0,null,null,null,null,null,null,null,0,null,null,null,null,null,null,null,0,null,null,null,null,null,null,null,0,null,null,null,null,null,null,null,0,null,null,null,null,null,null,null,0,null,null,null,null,null,null,null,0,null,null,null,null,null,null,null,0,null,null,null,null,null,null,null,0,null,null,null,null,null,null,null,0,null,null,null,null,null,null,null,0,null,null,null,null,null,null,null,0,null,null,null,null,null,null,null,0,null,null,null,null,null,null,null,0,null,null,null,null,null,null,null,0,null,null,null,null,null,null,null,0,null,null,null,null,null,null,null,0,null,null,null,null,null,null,null,0,null,null,null,null,null,null,null,0,null,null,null,null,null,null,null,0,null,null,null,null,null,null,null,0,null,null,null,null,null,null,null,0,null,null,null,null,null,null,null,0]
[0,2018,null,null,0,null,null,null,null,null,null,null,0,null,null,null,null,null,null,null,0,null,null,null,null,null,null,null,0,null,null,null,null,null,null,null,0,null,null,null,null,null,null,null,0,null,null,null,null,null,null,null,0,null,null,null,null,null,null,null,0,null,null,null,null,null,null,null,0,null,null,null,null,null,null,null,0,null,null,null,null,null,null,null,0,null,null,null,null,null,null,null,0,null,null,null,null,null,null,null,0,null,null,null,null,null,null,null,0,null,null,null,null,null,null,null,0,null,null,null,null,null,null,null,0,null,null,null,null,null,null,null,0,null,null,null,null,null,null,null,0,null,null,null,null,null,null,null,0,null,null,null,null,null,null,null,0,null,null,null,null,null,null,null,0,null,null,null,null,null,null,null,0,null,null,null,null,null,null,null,0,null,null,null,null,null,null,null,0,null,null,null,null,null,null,null,0,null,null,null,null,null,null,null,0,null,null,null,null,null,null,null,0,null,null,null,null,null,null,null,0,null,null,null,null,null,null,null,0,null,null,null,null,null,null,null,0,null,null,null,null,null,null,null,0,null,null,null,null,null,null,null,0,null,null,null,null,null,null,null,0,null,null,null,null,null,null,null,0,null,null,null,null,null,null,null,0,null,null,null,null,null,null,null,0,null,null,null,null,null,null,null,0,null,null,null,null,null,null,null,0,null,null,null,null,null,null,null,0,null,null,null,null,null,null,null,0,null,null,null,null,null,null,null,0,null,null,null,null,null,null,null,0,null,null,null,null,null,null,null,0,null,null,null,null,null,null,null,0,null,null,null,null,null,null,null,0,null,null,null,null,null,null,null,0,null,null,null,null,null,null,null,0,null,null,null,null,null,null,null,0,null,null,null,null,null,null,null,0,null,null,null,null,null,null,null,0,null,null,null,null,null,null,null,0]
[0,"2019 or Considered",null,null,0,null,null,null,null,null,null,null,0,null,null,null,null,null,null,null,0,null,null,null,null,null,null,null,0,null,null,null,null,null,null,null,0,null,null,null,null,null,null,null,0,null,null,null,null,null,null,null,0,null,null,null,null,null,null,null,0,null,null,null,null,null,null,null,0,null,null,null,null,null,null,null,0,null,null,null,null,null,null,null,0,null,null,null,null,null,null,null,0,null,null,null,null,null,null,null,0,null,null,null,null,null,null,null,0,null,null,null,null,null,null,null,0,null,null,null,null,null,null,null,0,null,null,null,null,null,null,null,0,null,null,null,null,null,null,null,0,null,null,null,null,null,null,null,0,null,null,null,null,null,null,null,0,null,null,null,null,null,null,null,0,null,null,null,null,null,null,null,0,null,null,null,null,null,null,null,0,null,null,null,null,null,null,null,0,null,null,null,null,null,null,null,0,null,null,null,null,null,null,null,0,null,null,null,null,null,null,null,0,null,null,null,null,null,null,null,0,null,null,null,null,null,null,null,0,null,null,null,null,null,null,null,0,null,null,null,null,null,null,null,0,null,null,null,null,null,null,null,0,null,null,null,null,null,null,null,0,null,null,null,null,null,null,null,0,null,null,null,null,null,null,null,0,null,null,null,null,null,null,null,0,null,null,null,null,null,null,null,0,null,null,null,null,null,null,null,0,null,null,null,null,null,null,null,0,null,null,null,null,null,null,null,0,null,null,null,null,null,null,null,0,null,null,null,null,null,null,null,0,null,null,null,null,null,null,null,0,null,null,null,null,null,null,null,0,null,null,null,null,null,null,null,0,null,null,null,null,null,null,null,0,null,null,null,null,null,null,null,0,null,null,null,null,null,null,null,0,null,null,null,null,null,null,null,0,null,null,null,null,null,null,null,0,null,null,null,null,null,null,null,0]
[0,2020,null,null,0,null,null,null,null,null,null,null,0,null,null,null,null,null,null,null,0,null,null,null,null,null,null,null,0,null,null,null,null,null,null,null,0,null,null,null,null,null,null,null,0,null,null,null,null,null,null,null,0,null,null,null,null,null,null,null,0,null,null,null,null,null,null,null,0,null,null,null,null,null,null,null,0,null,null,null,null,null,null,null,0,null,null,null,null,null,null,null,0,null,null,null,null,null,null,null,0,null,null,null,null,null,null,null,0,null,null,null,null,null,null,null,0,null,null,null,null,null,null,null,0,null,null,null,null,null,null,null,0,null,null,null,null,null,null,null,0,null,null,null,null,null,null,null,0,null,null,null,null,null,null,null,0,null,null,null,null,null,null,null,0,null,null,null,null,null,null,null,0,null,null,null,null,null,null,null,0,null,null,null,null,null,null,null,0,null,null,null,null,null,null,null,0,null,null,null,null,null,null,null,0,null,null,null,null,null,null,null,0,null,null,null,null,null,null,null,0,null,null,null,null,null,null,null,0,null,null,null,null,null,null,null,0,null,null,null,null,null,null,null,0,null,null,null,null,null,null,null,0,null,null,null,null,null,null,null,0,null,null,null,null,null,null,null,0,null,null,null,null,null,null,null,0,null,null,null,null,null,null,null,0,null,null,null,null,null,null,null,0,null,null,null,null,null,null,null,0,null,null,null,null,null,null,null,0,null,null,null,null,null,null,null,0,null,null,null,null,null,null,null,0,null,null,null,null,null,null,null,0,null,null,null,null,null,null,null,0,null,null,null,null,null,null,null,0,null,null,null,null,null,null,null,0,null,null,null,null,null,null,null,0,null,null,null,null,null,null,null,0,null,null,null,null,null,null,null,0,null,null,null,null,null,null,null,0,null,null,null,null,null,null,null,0,null,null,null,null,null,null,null,0]
[0]
[0,"Wheat"]
[0,2013,null,null,null,null,{"$f":"G14*H14","v":0},null,null,null,null,null,null,null,{"$f":"O14*P14","v":0},null,null,null,null,null,null,null,{"$f":"W14*X14","v":0},null,null,null,null,null,null,null,{"$f":"AE14*AF14","v":0},null,null,null,null,null,null,null,{"$f":"AM14*AN14","v":0},null,null,null,null,null,null,null,{"$f":"AU14*AV14","v":0},null,null,null,null,null,null,null,{"$f":"BC14*BD14","v":0},null,null,null,null,null,null,null,{"$f":"BK14*BL14","v":0},null,null,null,null,null,null,null,{"$f":"BS14*BT14","v":0},null,null,null,null,null,null,null,{"$f":"CA14*CB14","v":0},null,null,null,null,null,null,null,{"$f":"CI14*CJ14","v":0},null,null,null,null,null,null,null,{"$f":"CQ14*CR14","v":0},null,null,null,null,null,null,null,{"$f":"CY14*CZ14","v":0},null,null,null,null,null,null,null,{"$f":"DG14*DH14","v":0},null,null,null,null,null,null,null,{"$f":"DO14*DP14","v":0},null,null,null,null,null,null,null,{"$f":"DW14*DX14","v":0},null,null,null,null,null,null,null,{"$f":"EE14*EF14","v":0},null,null,null,null,null,null,null,{"$f":"EM14*EN14","v":0},null,null,null,null,null,null,null,{"$f":"EU14*EV14","v":0},null,null,null,null,null,null,null,{"$f":"FC14*FD14","v":0},null,null,null,null,null,null,null,{"$f":"FK14*FL14","v":0},null,null,null,null,null,null,null,{"$f":"FS14*FT14","v":0},null,null,null,null,null,null,null,{"$f":"GA14*GB14","v":0},null,null,null,null,null,null,null,{"$f":"GI14*GJ14","v":0},null,null,null,null,null,null,null,{"$f":"GQ14*GR14","v":0},null,null,null,null,null,null,null,{"$f":"GY14*GZ14","v":0},null,null,null,null,null,null,null,{"$f":"HG14*HH14","v":0},null,null,null,null,null,null,null,{"$f":"HO14*HP14","v":0},null,null,null,null,null,null,null,{"$f":"HW14*HX14","v":0},null,null,null,null,null,null,null,{"$f":"IE14*IF14","v":0},null,null,null,null,null,null,null,{"$f":"IM14*IN14","v":0},null,null,null,null,null,null,null,{"$f":"IU14*IV14","v":0},null,null,null,null,null,null,null,{"$f":"JC14*JD14","v":0},null,null,null,null,null,null,null,{"$f":"JK14*JL14","v":0},null,null,null,null,null,null,null,{"$f":"JS14*JT14","v":0},null,null,null,null,null,null,null,{"$f":"KA14*KB14","v":0},null,null,null,null,null,null,null,{"$f":"KI14*KJ14","v":0},null,null,null,null,null,null,null,{"$f":"KQ14*KR14","v":0},null,null,null,null,null,null,null,{"$f":"KY14*KZ14","v":0},null,null,null,null,null,null,null,{"$f":"LG14*LH14","v":0},null,null,null,null,null,null,null,{"$f":"LO14*LP14","v":0},null,null,null,null,null,null,null,{"$f":"LW14*LX14","v":0},null,null,null,null,null,null,null,{"$f":"ME14*MF14","v":0},null,null,null,null,null,null,null,{"$f":"MM14*MN14","v":0},null,null,null,null,null,null,null,{"$f":"MU14*MV14","v":0},null,null,null,null,null,null,null,{"$f":"NC14*ND14","v":0},null,null,null,null,null,null,null,{"$f":"NK14*NL14","v":0},null,null,null,null,null,null,null,{"$f":"NS14*NT14","v":0},null,null,null,null,null,null,null,{"$f":"OA14*OB14","v":0},null,null,null,null,null,null,null,{"$f":"OI14*OJ14","v":0},null,null,null,null,null,null,null,{"$f":"OQ14*OR14","v":0}]
[0,2014,null,null,null,null,{"$f":"G15*H15","v":0},null,null,null,null,null,null,null,{"$f":"O15*P15","v":0},null,null,null,null,null,null,null,{"$f":"W15*X15","v":0},null,null,null,null,null,null,null,{"$f":"AE15*AF15","v":0},null,null,null,null,null,null,null,{"$f":"AM15*AN15","v":0},null,null,null,null,null,null,null,{"$f":"AU15*AV15","v":0},null,null,null,null,null,null,null,{"$f":"BC15*BD15","v":0},null,null,null,null,null,null,null,{"$f":"BK15*BL15","v":0},null,null,null,null,null,null,null,{"$f":"BS15*BT15","v":0},null,null,null,null,null,null,null,{"$f":"CA15*CB15","v":0},null,null,null,null,null,null,null,{"$f":"CI15*CJ15","v":0},null,null,null,null,null,null,null,{"$f":"CQ15*CR15","v":0},null,null,null,null,null,null,null,{"$f":"CY15*CZ15","v":0},null,null,null,null,null,null,null,{"$f":"DG15*DH15","v":0},null,null,null,null,null,null,null,{"$f":"DO15*DP15","v":0},null,null,null,null,null,null,null,{"$f":"DW15*DX15","v":0},null,null,null,null,null,null,null,{"$f":"EE15*EF15","v":0},null,null,null,null,null,null,null,{"$f":"EM15*EN15","v":0},null,null,null,null,null,null,null,{"$f":"EU15*EV15","v":0},null,null,null,null,null,null,null,{"$f":"FC15*FD15","v":0},null,null,null,null,null,null,null,{"$f":"FK15*FL15","v":0},null,null,null,null,null,null,null,{"$f":"FS15*FT15","v":0},null,null,null,null,null,null,null,{"$f":"GA15*GB15","v":0},null,null,null,null,null,null,null,{"$f":"GI15*GJ15","v":0},null,null,null,null,null,null,null,{"$f":"GQ15*GR15","v":0},null,null,null,null,null,null,null,{"$f":"GY15*GZ15","v":0},null,null,null,null,null,null,null,{"$f":"HG15*HH15","v":0},null,null,null,null,null,null,null,{"$f":"HO15*HP15","v":0},null,null,null,null,null,null,null,{"$f":"HW15*HX15","v":0},null,null,null,null,null,null,null,{"$f":"IE15*IF15","v":0},null,null,null,null,null,null,null,{"$f":"IM15*IN15","v":0},null,null,null,null,null,null,null,{"$f":"IU15*IV15","v":0},null,null,null,null,null,null,null,{"$f":"JC15*JD15","v":0},null,null,null,null,null,null,null,{"$f":"JK15*JL15","v":0},null,null,null,null,null,null,null,{"$f":"JS15*JT15","v":0},null,null,null,null,null,null,null,{"$f":"KA15*KB15","v":0},null,null,null,null,null,null,null,{"$f":"KI15*KJ15","v":0},null,null,null,null,null,null,null,{"$f":"KQ15*KR15","v":0},null,null,null,null,null,null,null,{"$f":"KY15*KZ15","v":0},null,null,null,null,null,null,null,{"$f":"LG15*LH15","v":0},null,null,null,null,null,null,null,{"$f":"LO15*LP15","v":0},null,null,null,null,null,null,null,{"$f":"LW15*LX15","v":0},null,null,null,null,null,null,null,{"$f":"ME15*MF15","v":0},null,null,null,null,null,null,null,{"$f":"MM15*MN15","v":0},null,null,null,null,null,null,null,{"$f":"MU15*MV15","v":0},null,null,null,null,null,null,null,{"$f":"NC15*ND15","v":0},null,null,null,null,null,null,null,{"$f":"NK15*NL15","v":0},null,null,null,null,null,null,null,{"$f":"NS15*NT15","v":0},null,null,null,null,null,null,null,{"$f":"OA15*OB15","v":0},null,null,null,null,null,null,null,{"$f":"OI15*OJ15","v":0},null,null,null,null,null,null,null,{"$f":"OQ15*OR15","v":0}]
[0,2015,null,null,null,null,0,null,null,null,null,null,null,null,0,null,null,null,null,null,null,null,0,null,null,null,null,null,null,null,0,null,null,null,null,null,null,null,0,null,null,null,null,null,null,null,0,null,null,null,null,null,null,null,0,null,null,null,null,null,null,null,0,null,null,null,null,null,null,null,0,null,null,null,null,null,null,null,0,null,null,null,null,null,null,null,0,null,null,null,null,null,null,null,0,null,null,null,null,null,null,null,0,null,null,null,null,null,null,null,0,null,null,null,null,null,null,null,0,null,null,null,null,null,null,null,0,null,null,null,null,null,null,null,0,null,null,null,null,null,null,null,0,null,null,null,null,null,null,null,0,null,null,null,null,null,null,null,0,null,null,null,null,null,null,null,0,null,null,null,null,null,null,null,0,null,null,null,null,null,null,null,0,null,null,null,null,null,null,null,0,null,null,null,null,null,null,null,0,null,null,null,null,null,null,null,0,null,null,null,null,null,null,null,0,null,null,null,null,null,null,null,0,null,null,null,null,null,null,null,0,null,null,null,null,null,null,null,0,null,null,null,null,null,null,null,0,null,null,null,null,null,null,null,0,null,null,null,null,null,null,null,0,null,null,null,null,null,null,null,0,null,null,null,null,null,null,null,0,null,null,null,null,null,null,null,0,null,null,null,null,null,null,null,0,null,null,null,null,null,null,null,0,null,null,null,null,null,null,null,0,null,null,null,null,null,null,null,0,null,null,null,null,null,null,null,0,null,null,null,null,null,null,null,0,null,null,null,null,null,null,null,0,null,null,null,null,null,null,null,0,null,null,null,null,null,null,null,0,null,null,null,null,null,null,null,0,null,null,null,null,null,null,null,0,null,null,null,null,null,null,null,0,null,null,null,null,null,null,null,0,null,null,null,null,null,null,null,0,null,null,null,null,null,null,null,0]
[0,2016,null,null,null,null,0,null,null,null,null,null,null,null,0,null,null,null,null,null,null,null,0,null,null,null,null,null,null,null,0,null,null,null,null,null,null,null,0,null,null,null,null,null,null,null,0,null,null,null,null,null,null,null,0,null,null,null,null,null,null,null,0,null,null,null,null,null,null,null,0,null,null,null,null,null,null,null,0,null,null,null,null,null,null,null,0,null,null,null,null,null,null,null,0,null,null,null,null,null,null,null,0,null,null,null,null,null,null,null,0,null,null,null,null,null,null,null,0,null,null,null,null,null,null,null,0,null,null,null,null,null,null,null,0,null,null,null,null,null,null,null,0,null,null,null,null,null,null,null,0,null,null,null,null,null,null,null,0,null,null,null,null,null,null,null,0,null,null,null,null,null,null,null,0,null,null,null,null,null,null,null,0,null,null,null,null,null,null,null,0,null,null,null,null,null,null,null,0,null,null,null,null,null,null,null,0,null,null,null,null,null,null,null,0,null,null,null,null,null,null,null,0,null,null,null,null,null,null,null,0,null,null,null,null,null,null,null,0,null,null,null,null,null,null,null,0,null,null,null,null,null,null,null,0,null,null,null,null,null,null,null,0,null,null,null,null,null,null,null,0,null,null,null,null,null,null,null,0,null,null,null,null,null,null,null,0,null,null,null,null,null,null,null,0,null,null,null,null,null,null,null,0,null,null,null,null,null,null,null,0,null,null,null,null,null,null,null,0,null,null,null,null,null,null,null,0,null,null,null,null,null,null,null,0,null,null,null,null,null,null,null,0,null,null,null,null,null,null,null,0,null,null,null,null,null,null,null,0,null,null,null,null,null,null,null,0,null,null,null,null,null,null,null,0,null,null,null,null,null,null,null,0,null,null,null,null,null,null,null,0,null,null,null,null,null,null,null,0,null,null,null,null,null,null,null,0]
[0,2017,null,null,null,null,0,null,null,null,null,null,null,null,0,null,null,null,null,null,null,null,0,null,null,null,null,null,null,null,0,null,null,null,null,null,null,null,0,null,null,null,null,null,null,null,0,null,null,null,null,null,null,null,0,null,null,null,null,null,null,null,0,null,null,null,null,null,null,null,0,null,null,null,null,null,null,null,0,null,null,null,null,null,null,null,0,null,null,null,null,null,null,null,0,null,null,null,null,null,null,null,0,null,null,null,null,null,null,null,0,null,null,null,null,null,null,null,0,null,null,null,null,null,null,null,0,null,null,null,null,null,null,null,0,null,null,null,null,null,null,null,0,null,null,null,null,null,null,null,0,null,null,null,null,null,null,null,0,null,null,null,null,null,null,null,0,null,null,null,null,null,null,null,0,null,null,null,null,null,null,null,0,null,null,null,null,null,null,null,0,null,null,null,null,null,null,null,0,null,null,null,null,null,null,null,0,null,null,null,null,null,null,null,0,null,null,null,null,null,null,null,0,null,null,null,null,null,null,null,0,null,null,null,null,null,null,null,0,null,null,null,null,null,null,null,0,null,null,null,null,null,null,null,0,null,null,null,null,null,null,null,0,null,null,null,null,null,null,null,0,null,null,null,null,null,null,null,0,null,null,null,null,null,null,null,0,null,null,null,null,null,null,null,0,null,null,null,null,null,null,null,0,null,null,null,null,null,null,null,0,null,null,null,null,null,null,null,0,null,null,null,null,null,null,null,0,null,null,null,null,null,null,null,0,null,null,null,null,null,null,null,0,null,null,null,null,null,null,null,0,null,null,null,null,null,null,null,0,null,null,null,null,null,null,null,0,null,null,null,null,null,null,null,0,null,null,null,null,null,null,null,0,null,null,null,null,null,null,null,0,null,null,null,null,null,null,null,0,null,null,null,null,null,null,null,0]
[0,2018,null,null,null,null,0,null,null,null,null,null,null,null,0,null,null,null,null,null,null,null,0,null,null,null,null,null,null,null,0,null,null,null,null,null,null,null,0,null,null,null,null,null,null,null,0,null,null,null,null,null,null,null,0,null,null,null,null,null,null,null,0,null,null,null,null,null,null,null,0,null,null,null,null,null,null,null,0,null,null,null,null,null,null,null,0,null,null,null,null,null,null,null,0,null,null,null,null,null,null,null,0,null,null,null,null,null,null,null,0,null,null,null,null,null,null,null,0,null,null,null,null,null,null,null,0,null,null,null,null,null,null,null,0,null,null,null,null,null,null,null,0,null,null,null,null,null,null,null,0,null,null,null,null,null,null,null,0,null,null,null,null,null,null,null,0,null,null,null,null,null,null,null,0,null,null,null,null,null,null,null,0,null,null,null,null,null,null,null,0,null,null,null,null,null,null,null,0,null,null,null,null,null,null,null,0,null,null,null,null,null,null,null,0,null,null,null,null,null,null,null,0,null,null,null,null,null,null,null,0,null,null,null,null,null,null,null,0,null,null,null,null,null,null,null,0,null,null,null,null,null,null,null,0,null,null,null,null,null,null,null,0,null,null,null,null,null,null,null,0,null,null,null,null,null,null,null,0,null,null,null,null,null,null,null,0,null,null,null,null,null,null,null,0,null,null,null,null,null,null,null,0,null,null,null,null,null,null,null,0,null,null,null,null,null,null,null,0,null,null,null,null,null,null,null,0,null,null,null,null,null,null,null,0,null,null,null,null,null,null,null,0,null,null,null,null,null,null,null,0,null,null,null,null,null,null,null,0,null,null,null,null,null,null,null,0,null,null,null,null,null,null,null,0,null,null,null,null,null,null,null,0,null,null,null,null,null,null,null,0,null,null,null,null,null,null,null,0,null,null,null,null,null,null,null,0]
[0,"2019 or Considered",null,null,null,null,0,null,null,null,null,null,null,null,0,null,null,null,null,null,null,null,0,null,null,null,null,null,null,null,0,null,null,null,null,null,null,null,0,null,null,null,null,null,null,null,0,null,null,null,null,null,null,null,0,null,null,null,null,null,null,null,0,null,null,null,null,null,null,null,0,null,null,null,null,null,null,null,0,null,null,null,null,null,null,null,0,null,null,null,null,null,null,null,0,null,null,null,null,null,null,null,0,null,null,null,null,null,null,null,0,null,null,null,null,null,null,null,0,null,null,null,null,null,null,null,0,null,null,null,null,null,null,null,0,null,null,null,null,null,null,null,0,null,null,null,null,null,null,null,0,null,null,null,null,null,null,null,0,null,null,null,null,null,null,null,0,null,null,null,null,null,null,null,0,null,null,null,null,null,null,null,0,null,null,null,null,null,null,null,0,null,null,null,null,null,null,null,0,null,null,null,null,null,null,null,0,null,null,null,null,null,null,null,0,null,null,null,null,null,null,null,0,null,null,null,null,null,null,null,0,null,null,null,null,null,null,null,0,null,null,null,null,null,null,null,0,null,null,null,null,null,null,null,0,null,null,null,null,null,null,null,0,null,null,null,null,null,null,null,0,null,null,null,null,null,null,null,0,null,null,null,null,null,null,null,0,null,null,null,null,null,null,null,0,null,null,null,null,null,null,null,0,null,null,null,null,null,null,null,0,null,null,null,null,null,null,null,0,null,null,null,null,null,null,null,0,null,null,null,null,null,null,null,0,null,null,null,null,null,null,null,0,null,null,null,null,null,null,null,0,null,null,null,null,null,null,null,0,null,null,null,null,null,null,null,0,null,null,null,null,null,null,null,0,null,null,null,null,null,null,null,0,null,null,null,null,null,null,null,0,null,null,null,null,null,null,null,0,null,null,null,null,null,null,null,0]
[0,2020,null,null,null,null,0,null,null,null,null,null,null,null,0,null,null,null,null,null,null,null,0,null,null,null,null,null,null,null,0,null,null,null,null,null,null,null,0,null,null,null,null,null,null,null,0,null,null,null,null,null,null,null,0,null,null,null,null,null,null,null,0,null,null,null,null,null,null,null,0,null,null,null,null,null,null,null,0,null,null,null,null,null,null,null,0,null,null,null,null,null,null,null,0,null,null,null,null,null,null,null,0,null,null,null,null,null,null,null,0,null,null,null,null,null,null,null,0,null,null,null,null,null,null,null,0,null,null,null,null,null,null,null,0,null,null,null,null,null,null,null,0,null,null,null,null,null,null,null,0,null,null,null,null,null,null,null,0,null,null,null,null,null,null,null,0,null,null,null,null,null,null,null,0,null,null,null,null,null,null,null,0,null,null,null,null,null,null,null,0,null,null,null,null,null,null,null,0,null,null,null,null,null,null,null,0,null,null,null,null,null,null,null,0,null,null,null,null,null,null,null,0,null,null,null,null,null,null,null,0,null,null,null,null,null,null,null,0,null,null,null,null,null,null,null,0,null,null,null,null,null,null,null,0,null,null,null,null,null,null,null,0,null,null,null,null,null,null,null,0,null,null,null,null,null,null,null,0,null,null,null,null,null,null,null,0,null,null,null,null,null,null,null,0,null,null,null,null,null,null,null,0,null,null,null,null,null,null,null,0,null,null,null,null,null,null,null,0,null,null,null,null,null,null,null,0,null,null,null,null,null,null,null,0,null,null,null,null,null,null,null,0,null,null,null,null,null,null,null,0,null,null,null,null,null,null,null,0,null,null,null,null,null,null,null,0,null,null,null,null,null,null,null,0,null,null,null,null,null,null,null,0,null,null,null,null,null,null,null,0,null,null,null,null,null,null,null,0,null,null,null,null,null,null,null,0]
[]
["Acres","Corn"]
[{"$f":"SUM(C102:OR102)","v":0},2013,null,{"$f":"D14","v":0},null,null,null,null,null,null,null,{"$f":"L14","v":0},null,null,null,null,null,null,null,{"$f":"T14","v":0},null,null,null,null,null,null,null,{"$f":"AB14","v":0},null,null,null,null,null,null,null,{"$f":"AJ14","v":0},null,null,null,null,null,null,null,{"$f":"AR14","v":0},null,null,null,null,null,null,null,{"$f":"AZ14","v":0},null,null,null,null,null,null,null,{"$f":"BH14","v":0},null,null,null,null,null,null,null,{"$f":"BP14","v":0},null,null,null,null,null,null,null,{"$f":"BX14","v":0},null,null,null,null,null,null,null,{"$f":"CF14","v":0},null,null,null,null,null,null,null,{"$f":"CN14","v":0},null,null,null,null,null,null,null,{"$f":"CV14","v":0},null,null,null,null,null,null,null,{"$f":"DD14","v":0},null,null,null,null,null,null,null,{"$f":"DL14","v":0},null,null,null,null,null,null,null,{"$f":"DT14","v":0},null,null,null,null,null,null,null,{"$f":"EB14","v":0},null,null,null,null,null,null,null,{"$f":"EJ14","v":0},null,null,null,null,null,null,null,{"$f":"ER14","v":0},null,null,null,null,null,null,null,{"$f":"EZ14","v":0},null,null,null,null,null,null,null,{"$f":"FH14","v":0},null,null,null,null,null,null,null,{"$f":"FP14","v":0},null,null,null,null,null,null,null,{"$f":"FX14","v":0},null,null,null,null,null,null,null,{"$f":"GF14","v":0},null,null,null,null,null,null,null,{"$f":"GN14","v":0},null,null,null,null,null,null,null,{"$f":"GV14","v":0},null,null,null,null,null,null,null,{"$f":"HD14","v":0},null,null,null,null,null,null,null,{"$f":"HL14","v":0},null,null,null,null,null,null,null,{"$f":"HT14","v":0},null,null,null,null,null,null,null,{"$f":"IB14","v":0},null,null,null,null,null,null,null,{"$f":"IJ14","v":0},null,null,null,null,null,null,null,{"$f":"IR14","v":0},null,null,null,null,null,null,null,{"$f":"IZ14","v":0},null,null,null,null,null,null,null,{"$f":"JH14","v":0},null,null,null,null,null,null,null,{"$f":"JP14","v":0},null,null,null,null,null,null,null,{"$f":"JX14","v":0},null,null,null,null,null,null,null,{"$f":"KF14","v":0},null,null,null,null,null,null,null,{"$f":"KN14","v":0},null,null,null,null,null,null,null,{"$f":"KV14","v":0},null,null,null,null,null,null,null,{"$f":"LD14","v":0},null,null,null,null,null,null,null,{"$f":"LL14","v":0},null,null,null,null,null,null,null,{"$f":"LT14","v":0},null,null,null,null,null,null,null,{"$f":"MB14","v":0},null,null,null,null,null,null,null,{"$f":"MJ14","v":0},null,null,null,null,null,null,null,{"$f":"MR14","v":0},null,null,null,null,null,null,null,{"$f":"MZ14","v":0},null,null,null,null,null,null,null,{"$f":"NH14","v":0},null,null,null,null,null,null,null,{"$f":"NP14","v":0},null,null,null,null,null,null,null,{"$f":"NX14","v":0},null,null,null,null,null,null,null,{"$f":"OF14","v":0},null,null,null,null,null,null,null,{"$f":"ON14","v":0}]
[{"$f":"SUM(C103:OR103)","v":0},2014,null,{"$f":"D15","v":0},null,null,null,null,null,null,null,{"$f":"L15","v":0},null,null,null,null,null,null,null,{"$f":"T15","v":0},null,null,null,null,null,null,null,{"$f":"AB15","v":0},null,null,null,null,null,null,null,{"$f":"AJ15","v":0},null,null,null,null,null,null,null,{"$f":"AR15","v":0},null,null,null,null,null,null,null,{"$f":"AZ15","v":0},null,null,null,null,null,null,null,{"$f":"BH15","v":0},null,null,null,null,null,null,null,{"$f":"BP15","v":0},null,null,null,null,null,null,null,{"$f":"BX15","v":0},null,null,null,null,null,null,null,{"$f":"CF15","v":0},null,null,null,null,null,null,null,{"$f":"CN15","v":0},null,null,null,null,null,null,null,{"$f":"CV15","v":0},null,null,null,null,null,null,null,{"$f":"DD15","v":0},null,null,null,null,null,null,null,{"$f":"DL15","v":0},null,null,null,null,null,null,null,{"$f":"DT15","v":0},null,null,null,null,null,null,null,{"$f":"EB15","v":0},null,null,null,null,null,null,null,{"$f":"EJ15","v":0},null,null,null,null,null,null,null,{"$f":"ER15","v":0},null,null,null,null,null,null,null,{"$f":"EZ15","v":0},null,null,null,null,null,null,null,{"$f":"FH15","v":0},null,null,null,null,null,null,null,{"$f":"FP15","v":0},null,null,null,null,null,null,null,{"$f":"FX15","v":0},null,null,null,null,null,null,null,{"$f":"GF15","v":0},null,null,null,null,null,null,null,{"$f":"GN15","v":0},null,null,null,null,null,null,null,{"$f":"GV15","v":0},null,null,null,null,null,null,null,{"$f":"HD15","v":0},null,null,null,null,null,null,null,{"$f":"HL15","v":0},null,null,null,null,null,null,null,{"$f":"HT15","v":0},null,null,null,null,null,null,null,{"$f":"IB15","v":0},null,null,null,null,null,null,null,{"$f":"IJ15","v":0},null,null,null,null,null,null,null,{"$f":"IR15","v":0},null,null,null,null,null,null,null,{"$f":"IZ15","v":0},null,null,null,null,null,null,null,{"$f":"JH15","v":0},null,null,null,null,null,null,null,{"$f":"JP15","v":0},null,null,null,null,null,null,null,{"$f":"JX15","v":0},null,null,null,null,null,null,null,{"$f":"KF15","v":0},null,null,null,null,null,null,null,{"$f":"KN15","v":0},null,null,null,null,null,null,null,{"$f":"KV15","v":0},null,null,null,null,null,null,null,{"$f":"LD15","v":0},null,null,null,null,null,null,null,{"$f":"LL15","v":0},null,null,null,null,null,null,null,{"$f":"LT15","v":0},null,null,null,null,null,null,null,{"$f":"MB15","v":0},null,null,null,null,null,null,null,{"$f":"MJ15","v":0},null,null,null,null,null,null,null,{"$f":"MR15","v":0},null,null,null,null,null,null,null,{"$f":"MZ15","v":0},null,null,null,null,null,null,null,{"$f":"NH15","v":0},null,null,null,null,null,null,null,{"$f":"NP15","v":0},null,null,null,null,null,null,null,{"$f":"NX15","v":0},null,null,null,null,null,null,null,{"$f":"OF15","v":0},null,null,null,null,null,null,null,{"$f":"ON15","v":0}]
[0,2015,null,0,null,null,null,null,null,null,null,0,null,null,null,null,null,null,null,0,null,null,null,null,null,null,null,0,null,null,null,null,null,null,null,0,null,null,null,null,null,null,null,0,null,null,null,null,null,null,null,0,null,null,null,null,null,null,null,0,null,null,null,null,null,null,null,0,null,null,null,null,null,null,null,0,null,null,null,null,null,null,null,0,null,null,null,null,null,null,null,0,null,null,null,null,null,null,null,0,null,null,null,null,null,null,null,0,null,null,null,null,null,null,null,0,null,null,null,null,null,null,null,0,null,null,null,null,null,null,null,0,null,null,null,null,null,null,null,0,null,null,null,null,null,null,null,0,null,null,null,null,null,null,null,0,null,null,null,null,null,null,null,0,null,null,null,null,null,null,null,0,null,null,null,null,null,null,null,0,null,null,null,null,null,null,null,0,null,null,null,null,null,null,null,0,null,null,null,null,null,null,null,0,null,null,null,null,null,null,null,0,null,null,null,null,null,null,null,0,null,null,null,null,null,null,null,0,null,null,null,null,null,null,null,0,null,null,null,null,null,null,null,0,null,null,null,null,null,null,null,0,null,null,null,null,null,null,null,0,null,null,null,null,null,null,null,0,null,null,null,null,null,null,null,0,null,null,null,null,null,null,null,0,null,null,null,null,null,null,null,0,null,null,null,null,null,null,null,0,null,null,null,null,null,null,null,0,null,null,null,null,null,null,null,0,null,null,null,null,null,null,null,0,null,null,null,null,null,null,null,0,null,null,null,null,null,null,null,0,null,null,null,null,null,null,null,0,null,null,null,null,null,null,null,0,null,null,null,null,null,null,null,0,null,null,null,null,null,null,null,0,null,null,null,null,null,null,null,0,null,null,null,null,null,null,null,0,null,null,null,null,null,null,null,0,null,null,null,null,null,null,null,0]
[0,2016,null,0,null,null,null,null,null,null,null,0,null,null,null,null,null,null,null,0,null,null,null,null,null,null,null,0,null,null,null,null,null,null,null,0,null,null,null,null,null,null,null,0,null,null,null,null,null,null,null,0,null,null,null,null,null,null,null,0,null,null,null,null,null,null,null,0,null,null,null,null,null,null,null,0,null,null,null,null,null,null,null,0,null,null,null,null,null,null,null,0,null,null,null,null,null,null,null,0,null,null,null,null,null,null,null,0,null,null,null,null,null,null,null,0,null,null,null,null,null,null,null,0,null,null,null,null,null,null,null,0,null,null,null,null,null,null,null,0,null,null,null,null,null,null,null,0,null,null,null,null,null,null,null,0,null,null,null,null,null,null,null,0,null,null,null,null,null,null,null,0,null,null,null,null,null,null,null,0,null,null,null,null,null,null,null,0,null,null,null,null,null,null,null,0,null,null,null,null,null,null,null,0,null,null,null,null,null,null,null,0,null,null,null,null,null,null,null,0,null,null,null,null,null,null,null,0,null,null,null,null,null,null,null,0,null,null,null,null,null,null,null,0,null,null,null,null,null,null,null,0,null,null,null,null,null,null,null,0,null,null,null,null,null,null,null,0,null,null,null,null,null,null,null,0,null,null,null,null,null,null,null,0,null,null,null,null,null,null,null,0,null,null,null,null,null,null,null,0,null,null,null,null,null,null,null,0,null,null,null,null,null,null,null,0,null,null,null,null,null,null,null,0,null,null,null,null,null,null,null,0,null,null,null,null,null,null,null,0,null,null,null,null,null,null,null,0,null,null,null,null,null,null,null,0,null,null,null,null,null,null,null,0,null,null,null,null,null,null,null,0,null,null,null,null,null,null,null,0,null,null,null,null,null,null,null,0,null,null,null,null,null,null,null,0,null,null,null,null,null,null,null,0]
[0,2017,null,0,null,null,null,null,null,null,null,0,null,null,null,null,null,null,null,0,null,null,null,null,null,null,null,0,null,null,null,null,null,null,null,0,null,null,null,null,null,null,null,0,null,null,null,null,null,null,null,0,null,null,null,null,null,null,null,0,null,null,null,null,null,null,null,0,null,null,null,null,null,null,null,0,null,null,null,null,null,null,null,0,null,null,null,null,null,null,null,0,null,null,null,null,null,null,null,0,null,null,null,null,null,null,null,0,null,null,null,null,null,null,null,0,null,null,null,null,null,null,null,0,null,null,null,null,null,null,null,0,null,null,null,null,null,null,null,0,null,null,null,null,null,null,null,0,null,null,null,null,null,null,null,0,null,null,null,null,null,null,null,0,null,null,null,null,null,null,null,0,null,null,null,null,null,null,null,0,null,null,null,null,null,null,null,0,null,null,null,null,null,null,null,0,null,null,null,null,null,null,null,0,null,null,null,null,null,null,null,0,null,null,null,null,null,null,null,0,null,null,null,null,null,null,null,0,null,null,null,null,null,null,null,0,null,null,null,null,null,null,null,0,null,null,null,null,null,null,null,0,null,null,null,null,null,null,null,0,null,null,null,null,null,null,null,0,null,null,null,null,null,null,null,0,null,null,null,null,null,null,null,0,null,null,null,null,null,null,null,0,null,null,null,null,null,null,null,0,null,null,null,null,null,null,null,0,null,null,null,null,null,null,null,0,null,null,null,null,null,null,null,0,null,null,null,null,null,null,null,0,null,null,null,null,null,null,null,0,null,null,null,null,null,null,null,0,null,null,null,null,null,null,null,0,null,null,null,null,null,null,null,0,null,null,null,null,null,null,null,0,null,null,null,null,null,null,null,0,null,null,null,null,null,null,null,0,null,null,null,null,null,null,null,0,null,null,null,null,null,null,null,0]
[0,2018,null,0,null,null,null,null,null,null,null,0,null,null,null,null,null,null,null,0,null,null,null,null,null,null,null,0,null,null,null,null,null,null,null,0,null,null,null,null,null,null,null,0,null,null,null,null,null,null,null,0,null,null,null,null,null,null,null,0,null,null,null,null,null,null,null,0,null,null,null,null,null,null,null,0,null,null,null,null,null,null,null,0,null,null,null,null,null,null,null,0,null,null,null,null,null,null,null,0,null,null,null,null,null,null,null,0,null,null,null,null,null,null,null,0,null,null,null,null,null,null,null,0,null,null,null,null,null,null,null,0,null,null,null,null,null,null,null,0,null,null,null,null,null,null,null,0,null,null,null,null,null,null,null,0,null,null,null,null,null,null,null,0,null,null,null,null,null,null,null,0,null,null,null,null,null,null,null,0,null,null,null,null,null,null,null,0,null,null,null,null,null,null,null,0,null,null,null,null,null,null,null,0,null,null,null,null,null,null,null,0,null,null,null,null,null,null,null,0,null,null,null,null,null,null,null,0,null,null,null,null,null,null,null,0,null,null,null,null,null,null,null,0,null,null,null,null,null,null,null,0,null,null,null,null,null,null,null,0,null,null,null,null,null,null,null,0,null,null,null,null,null,null,null,0,null,null,null,null,null,null,null,0,null,null,null,null,null,null,null,0,null,null,null,null,null,null,null,0,null,null,null,null,null,null,null,0,null,null,null,null,null,null,null,0,null,null,null,null,null,null,null,0,null,null,null,null,null,null,null,0,null,null,null,null,null,null,null,0,null,null,null,null,null,null,null,0,null,null,null,null,null,null,null,0,null,null,null,null,null,null,null,0,null,null,null,null,null,null,null,0,null,null,null,null,null,null,null,0,null,null,null,null,null,null,null,0,null,null,null,null,null,null,null,0,null,null,null,null,null,null,null,0]
[0,"2019 or Considered",null,0,null,null,null,null,null,null,null,0,null,null,null,null,null,null,null,0,null,null,null,null,null,null,null,0,null,null,null,null,null,null,null,0,null,null,null,null,null,null,null,0,null,null,null,null,null,null,null,0,null,null,null,null,null,null,null,0,null,null,null,null,null,null,null,0,null,null,null,null,null,null,null,0,null,null,null,null,null,null,null,0,null,null,null,null,null,null,null,0,null,null,null,null,null,null,null,0,null,null,null,null,null,null,null,0,null,null,null,null,null,null,null,0,null,null,null,null,null,null,null,0,null,null,null,null,null,null,null,0,null,null,null,null,null,null,null,0,null,null,null,null,null,null,null,0,null,null,null,null,null,null,null,0,null,null,null,null,null,null,null,0,null,null,null,null,null,null,null,0,null,null,null,null,null,null,null,0,null,null,null,null,null,null,null,0,null,null,null,null,null,null,null,0,null,null,null,null,null,null,null,0,null,null,null,null,null,null,null,0,null,null,null,null,null,null,null,0,null,null,null,null,null,null,null,0,null,null,null,null,null,null,null,0,null,null,null,null,null,null,null,0,null,null,null,null,null,null,null,0,null,null,null,null,null,null,null,0,null,null,null,null,null,null,null,0,null,null,null,null,null,null,null,0,null,null,null,null,null,null,null,0,null,null,null,null,null,null,null,0,null,null,null,null,null,null,null,0,null,null,null,null,null,null,null,0,null,null,null,null,null,null,null,0,null,null,null,null,null,null,null,0,null,null,null,null,null,null,null,0,null,null,null,null,null,null,null,0,null,null,null,null,null,null,null,0,null,null,null,null,null,null,null,0,null,null,null,null,null,null,null,0,null,null,null,null,null,null,null,0,null,null,null,null,null,null,null,0,null,null,null,null,null,null,null,0,null,null,null,null,null,null,null,0,null,null,null,null,null,null,null,0]
[0,2020,null,0,null,null,null,null,null,null,null,0,null,null,null,null,null,null,null,0,null,null,null,null,null,null,null,0,null,null,null,null,null,null,null,0,null,null,null,null,null,null,null,0,null,null,null,null,null,null,null,0,null,null,null,null,null,null,null,0,null,null,null,null,null,null,null,0,null,null,null,null,null,null,null,0,null,null,null,null,null,null,null,0,null,null,null,null,null,null,null,0,null,null,null,null,null,null,null,0,null,null,null,null,null,null,null,0,null,null,null,null,null,null,null,0,null,null,null,null,null,null,null,0,null,null,null,null,null,null,null,0,null,null,null,null,null,null,null,0,null,null,null,null,null,null,null,0,null,null,null,null,null,null,null,0,null,null,null,null,null,null,null,0,null,null,null,null,null,null,null,0,null,null,null,null,null,null,null,0,null,null,null,null,null,null,null,0,null,null,null,null,null,null,null,0,null,null,null,null,null,null,null,0,null,null,null,null,null,null,null,0,null,null,null,null,null,null,null,0,null,null,null,null,null,null,null,0,null,null,null,null,null,null,null,0,null,null,null,null,null,null,null,0,null,null,null,null,null,null,null,0,null,null,null,null,null,null,null,0,null,null,null,null,null,null,null,0,null,null,null,null,null,null,null,0,null,null,null,null,null,null,null,0,null,null,null,null,null,null,null,0,null,null,null,null,null,null,null,0,null,null,null,null,null,null,null,0,null,null,null,null,null,null,null,0,null,null,null,null,null,null,null,0,null,null,null,null,null,null,null,0,null,null,null,null,null,null,null,0,null,null,null,null,null,null,null,0,null,null,null,null,null,null,null,0,null,null,null,null,null,null,null,0,null,null,null,null,null,null,null,0,null,null,null,null,null,null,null,0,null,null,null,null,null,null,null,0,null,null,null,null,null,null,null,0,null,null,null,null,null,null,null,0]
[]
[null,"Soys"]
[0,2013,null,null,null,{"$f":"F14","v":0},null,null,null,null,null,null,null,{"$f":"N14","v":0},null,null,null,null,null,null,null,{"$f":"V14","v":0},null,null,null,null,null,null,null,{"$f":"AD14","v":0},null,null,null,null,null,null,null,{"$f":"AL14","v":0},null,null,null,null,null,null,null,{"$f":"AT14","v":0},null,null,null,null,null,null,null,{"$f":"BB14","v":0},null,null,null,null,null,null,null,{"$f":"BJ14","v":0},null,null,null,null,null,null,null,{"$f":"BR14","v":0},null,null,null,null,null,null,null,{"$f":"BZ14","v":0},null,null,null,null,null,null,null,{"$f":"CH14","v":0},null,null,null,null,null,null,null,{"$f":"CP14","v":0},null,null,null,null,null,null,null,{"$f":"CX14","v":0},null,null,null,null,null,null,null,{"$f":"DF14","v":0},null,null,null,null,null,null,null,{"$f":"DN14","v":0},null,null,null,null,null,null,null,{"$f":"DV14","v":0},null,null,null,null,null,null,null,{"$f":"ED14","v":0},null,null,null,null,null,null,null,{"$f":"EL14","v":0},null,null,null,null,null,null,null,{"$f":"ET14","v":0},null,null,null,null,null,null,null,{"$f":"FB14","v":0},null,null,null,null,null,null,null,{"$f":"FJ14","v":0},null,null,null,null,null,null,null,{"$f":"FR14","v":0},null,null,null,null,null,null,null,{"$f":"FZ14","v":0},null,null,null,null,null,null,null,{"$f":"GH14","v":0},null,null,null,null,null,null,null,{"$f":"GP14","v":0},null,null,null,null,null,null,null,{"$f":"GX14","v":0},null,null,null,null,null,null,null,{"$f":"HF14","v":0},null,null,null,null,null,null,null,{"$f":"HN14","v":0},null,null,null,null,null,null,null,{"$f":"HV14","v":0},null,null,null,null,null,null,null,{"$f":"ID14","v":0},null,null,null,null,null,null,null,{"$f":"IL14","v":0},null,null,null,null,null,null,null,{"$f":"IT14","v":0},null,null,null,null,null,null,null,{"$f":"JB14","v":0},null,null,null,null,null,null,null,{"$f":"JJ14","v":0},null,null,null,null,null,null,null,{"$f":"JR14","v":0},null,null,null,null,null,null,null,{"$f":"JZ14","v":0},null,null,null,null,null,null,null,{"$f":"KH14","v":0},null,null,null,null,null,null,null,{"$f":"KP14","v":0},null,null,null,null,null,null,null,{"$f":"KX14","v":0},null,null,null,null,null,null,null,{"$f":"LF14","v":0},null,null,null,null,null,null,null,{"$f":"LN14","v":0},null,null,null,null,null,null,null,{"$f":"LV14","v":0},null,null,null,null,null,null,null,{"$f":"MD14","v":0},null,null,null,null,null,null,null,{"$f":"ML14","v":0},null,null,null,null,null,null,null,{"$f":"MT14","v":0},null,null,null,null,null,null,null,{"$f":"NB14","v":0},null,null,null,null,null,null,null,{"$f":"NJ14","v":0},null,null,null,null,null,null,null,{"$f":"NR14","v":0},null,null,null,null,null,null,null,{"$f":"NZ14","v":0},null,null,null,null,null,null,null,{"$f":"OH14","v":0},null,null,null,null,null,null,null,{"$f":"OP14","v":0}]
[0,2014,null,null,null,{"$f":"F15","v":0},null,null,null,null,null,null,null,{"$f":"N15","v":0},null,null,null,null,null,null,null,{"$f":"V15","v":0},null,null,null,null,null,null,null,{"$f":"AD15","v":0},null,null,null,null,null,null,null,{"$f":"AL15","v":0},null,null,null,null,null,null,null,{"$f":"AT15","v":0},null,null,null,null,null,null,null,{"$f":"BB15","v":0},null,null,null,null,null,null,null,{"$f":"BJ15","v":0},null,null,null,null,null,null,null,{"$f":"BR15","v":0},null,null,null,null,null,null,null,{"$f":"BZ15","v":0},null,null,null,null,null,null,null,{"$f":"CH15","v":0},null,null,null,null,null,null,null,{"$f":"CP15","v":0},null,null,null,null,null,null,null,{"$f":"CX15","v":0},null,null,null,null,null,null,null,{"$f":"DF15","v":0},null,null,null,null,null,null,null,{"$f":"DN15","v":0},null,null,null,null,null,null,null,{"$f":"DV15","v":0},null,null,null,null,null,null,null,{"$f":"ED15","v":0},null,null,null,null,null,null,null,{"$f":"EL15","v":0},null,null,null,null,null,null,null,{"$f":"ET15","v":0},null,null,null,null,null,null,null,{"$f":"FB15","v":0},null,null,null,null,null,null,null,{"$f":"FJ15","v":0},null,null,null,null,null,null,null,{"$f":"FR15","v":0},null,null,null,null,null,null,null,{"$f":"FZ15","v":0},null,null,null,null,null,null,null,{"$f":"GH15","v":0},null,null,null,null,null,null,null,{"$f":"GP15","v":0},null,null,null,null,null,null,null,{"$f":"GX15","v":0},null,null,null,null,null,null,null,{"$f":"HF15","v":0},null,null,null,null,null,null,null,{"$f":"HN15","v":0},null,null,null,null,null,null,null,{"$f":"HV15","v":0},null,null,null,null,null,null,null,{"$f":"ID15","v":0},null,null,null,null,null,null,null,{"$f":"IL15","v":0},null,null,null,null,null,null,null,{"$f":"IT15","v":0},null,null,null,null,null,null,null,{"$f":"JB15","v":0},null,null,null,null,null,null,null,{"$f":"JJ15","v":0},null,null,null,null,null,null,null,{"$f":"JR15","v":0},null,null,null,null,null,null,null,{"$f":"JZ15","v":0},null,null,null,null,null,null,null,{"$f":"KH15","v":0},null,null,null,null,null,null,null,{"$f":"KP15","v":0},null,null,null,null,null,null,null,{"$f":"KX15","v":0},null,null,null,null,null,null,null,{"$f":"LF15","v":0},null,null,null,null,null,null,null,{"$f":"LN15","v":0},null,null,null,null,null,null,null,{"$f":"LV15","v":0},null,null,null,null,null,null,null,{"$f":"MD15","v":0},null,null,null,null,null,null,null,{"$f":"ML15","v":0},null,null,null,null,null,null,null,{"$f":"MT15","v":0},null,null,null,null,null,null,null,{"$f":"NB15","v":0},null,null,null,null,null,null,null,{"$f":"NJ15","v":0},null,null,null,null,null,null,null,{"$f":"NR15","v":0},null,null,null,null,null,null,null,{"$f":"NZ15","v":0},null,null,null,null,null,null,null,{"$f":"OH15","v":0},null,null,null,null,null,null,null,{"$f":"OP15","v":0}]
[0,2015,null,null,null,0,null,null,null,null,null,null,null,0,null,null,null,null,null,null,null,0,null,null,null,null,null,null,null,0,null,null,null,null,null,null,null,0,null,null,null,null,null,null,null,0,null,null,null,null,null,null,null,0,null,null,null,null,null,null,null,0,null,null,null,null,null,null,null,0,null,null,null,null,null,null,null,0,null,null,null,null,null,null,null,0,null,null,null,null,null,null,null,0,null,null,null,null,null,null,null,0,null,null,null,null,null,null,null,0,null,null,null,null,null,null,null,0,null,null,null,null,null,null,null,0,null,null,null,null,null,null,null,0,null,null,null,null,null,null,null,0,null,null,null,null,null,null,null,0,null,null,null,null,null,null,null,0,null,null,null,null,null,null,null,0,null,null,null,null,null,null,null,0,null,null,null,null,null,null,null,0,null,null,null,null,null,null,null,0,null,null,null,null,null,null,null,0,null,null,null,null,null,null,null,0,null,null,null,null,null,null,null,0,null,null,null,null,null,null,null,0,null,null,null,null,null,null,null,0,null,null,null,null,null,null,null,0,null,null,null,null,null,null,null,0,null,null,null,null,null,null,null,0,null,null,null,null,null,null,null,0,null,null,null,null,null,null,null,0,null,null,null,null,null,null,null,0,null,null,null,null,null,null,null,0,null,null,null,null,null,null,null,0,null,null,null,null,null,null,null,0,null,null,null,null,null,null,null,0,null,null,null,null,null,null,null,0,null,null,null,null,null,null,null,0,null,null,null,null,null,null,null,0,null,null,null,null,null,null,null,0,null,null,null,null,null,null,null,0,null,null,null,null,null,null,null,0,null,null,null,null,null,null,null,0,null,null,null,null,null,null,null,0,null,null,null,null,null,null,null,0,null,null,null,null,null,null,null,0,null,null,null,null,null,null,null,0,null,null,null,null,null,null,null,0]
[0,2016,null,null,null,0,null,null,null,null,null,null,null,0,null,null,null,null,null,null,null,0,null,null,null,null,null,null,null,0,null,null,null,null,null,null,null,0,null,null,null,null,null,null,null,0,null,null,null,null,null,null,null,0,null,null,null,null,null,null,null,0,null,null,null,null,null,null,null,0,null,null,null,null,null,null,null,0,null,null,null,null,null,null,null,0,null,null,null,null,null,null,null,0,null,null,null,null,null,null,null,0,null,null,null,null,null,null,null,0,null,null,null,null,null,null,null,0,null,null,null,null,null,null,null,0,null,null,null,null,null,null,null,0,null,null,null,null,null,null,null,0,null,null,null,null,null,null,null,0,null,null,null,null,null,null,null,0,null,null,null,null,null,null,null,0,null,null,null,null,null,null,null,0,null,null,null,null,null,null,null,0,null,null,null,null,null,null,null,0,null,null,null,null,null,null,null,0,null,null,null,null,null,null,null,0,null,null,null,null,null,null,null,0,null,null,null,null,null,null,null,0,null,null,null,null,null,null,null,0,null,null,null,null,null,null,null,0,null,null,null,null,null,null,null,0,null,null,null,null,null,null,null,0,null,null,null,null,null,null,null,0,null,null,null,null,null,null,null,0,null,null,null,null,null,null,null,0,null,null,null,null,null,null,null,0,null,null,null,null,null,null,null,0,null,null,null,null,null,null,null,0,null,null,null,null,null,null,null,0,null,null,null,null,null,null,null,0,null,null,null,null,null,null,null,0,null,null,null,null,null,null,null,0,null,null,null,null,null,null,null,0,null,null,null,null,null,null,null,0,null,null,null,null,null,null,null,0,null,null,null,null,null,null,null,0,null,null,null,null,null,null,null,0,null,null,null,null,null,null,null,0,null,null,null,null,null,null,null,0,null,null,null,null,null,null,null,0,null,null,null,null,null,null,null,0]
[0,2017,null,null,null,0,null,null,null,null,null,null,null,0,null,null,null,null,null,null,null,0,null,null,null,null,null,null,null,0,null,null,null,null,null,null,null,0,null,null,null,null,null,null,null,0,null,null,null,null,null,null,null,0,null,null,null,null,null,null,null,0,null,null,null,null,null,null,null,0,null,null,null,null,null,null,null,0,null,null,null,null,null,null,null,0,null,null,null,null,null,null,null,0,null,null,null,null,null,null,null,0,null,null,null,null,null,null,null,0,null,null,null,null,null,null,null,0,null,null,null,null,null,null,null,0,null,null,null,null,null,null,null,0,null,null,null,null,null,null,null,0,null,null,null,null,null,null,null,0,null,null,null,null,null,null,null,0,null,null,null,null,null,null,null,0,null,null,null,null,null,null,null,0,null,null,null,null,null,null,null,0,null,null,null,null,null,null,null,0,null,null,null,null,null,null,null,0,null,null,null,null,null,null,null,0,null,null,null,null,null,null,null,0,null,null,null,null,null,null,null,0,null,null,null,null,null,null,null,0,null,null,null,null,null,null,null,0,null,null,null,null,null,null,null,0,null,null,null,null,null,null,null,0,null,null,null,null,null,null,null,0,null,null,null,null,null,null,null,0,null,null,null,null,null,null,null,0,null,null,null,null,null,null,null,0,null,null,null,null,null,null,null,0,null,null,null,null,null,null,null,0,null,null,null,null,null,null,null,0,null,null,null,null,null,null,null,0,null,null,null,null,null,null,null,0,null,null,null,null,null,null,null,0,null,null,null,null,null,null,null,0,null,null,null,null,null,null,null,0,null,null,null,null,null,null,null,0,null,null,null,null,null,null,null,0,null,null,null,null,null,null,null,0,null,null,null,null,null,null,null,0,null,null,null,null,null,null,null,0,null,null,null,null,null,null,null,0,null,null,null,null,null,null,null,0]
[0,2018,null,null,null,0,null,null,null,null,null,null,null,0,null,null,null,null,null,null,null,0,null,null,null,null,null,null,null,0,null,null,null,null,null,null,null,0,null,null,null,null,null,null,null,0,null,null,null,null,null,null,null,0,null,null,null,null,null,null,null,0,null,null,null,null,null,null,null,0,null,null,null,null,null,null,null,0,null,null,null,null,null,null,null,0,null,null,null,null,null,null,null,0,null,null,null,null,null,null,null,0,null,null,null,null,null,null,null,0,null,null,null,null,null,null,null,0,null,null,null,null,null,null,null,0,null,null,null,null,null,null,null,0,null,null,null,null,null,null,null,0,null,null,null,null,null,null,null,0,null,null,null,null,null,null,null,0,null,null,null,null,null,null,null,0,null,null,null,null,null,null,null,0,null,null,null,null,null,null,null,0,null,null,null,null,null,null,null,0,null,null,null,null,null,null,null,0,null,null,null,null,null,null,null,0,null,null,null,null,null,null,null,0,null,null,null,null,null,null,null,0,null,null,null,null,null,null,null,0,null,null,null,null,null,null,null,0,null,null,null,null,null,null,null,0,null,null,null,null,null,null,null,0,null,null,null,null,null,null,null,0,null,null,null,null,null,null,null,0,null,null,null,null,null,null,null,0,null,null,null,null,null,null,null,0,null,null,null,null,null,null,null,0,null,null,null,null,null,null,null,0,null,null,null,null,null,null,null,0,null,null,null,null,null,null,null,0,null,null,null,null,null,null,null,0,null,null,null,null,null,null,null,0,null,null,null,null,null,null,null,0,null,null,null,null,null,null,null,0,null,null,null,null,null,null,null,0,null,null,null,null,null,null,null,0,null,null,null,null,null,null,null,0,null,null,null,null,null,null,null,0,null,null,null,null,null,null,null,0,null,null,null,null,null,null,null,0,null,null,null,null,null,null,null,0]
[0,"2019 or Considered",null,null,null,0,null,null,null,null,null,null,null,0,null,null,null,null,null,null,null,0,null,null,null,null,null,null,null,0,null,null,null,null,null,null,null,0,null,null,null,null,null,null,null,0,null,null,null,null,null,null,null,0,null,null,null,null,null,null,null,0,null,null,null,null,null,null,null,0,null,null,null,null,null,null,null,0,null,null,null,null,null,null,null,0,null,null,null,null,null,null,null,0,null,null,null,null,null,null,null,0,null,null,null,null,null,null,null,0,null,null,null,null,null,null,null,0,null,null,null,null,null,null,null,0,null,null,null,null,null,null,null,0,null,null,null,null,null,null,null,0,null,null,null,null,null,null,null,0,null,null,null,null,null,null,null,0,null,null,null,null,null,null,null,0,null,null,null,null,null,null,null,0,null,null,null,null,null,null,null,0,null,null,null,null,null,null,null,0,null,null,null,null,null,null,null,0,null,null,null,null,null,null,null,0,null,null,null,null,null,null,null,0,null,null,null,null,null,null,null,0,null,null,null,null,null,null,null,0,null,null,null,null,null,null,null,0,null,null,null,null,null,null,null,0,null,null,null,null,null,null,null,0,null,null,null,null,null,null,null,0,null,null,null,null,null,null,null,0,null,null,null,null,null,null,null,0,null,null,null,null,null,null,null,0,null,null,null,null,null,null,null,0,null,null,null,null,null,null,null,0,null,null,null,null,null,null,null,0,null,null,null,null,null,null,null,0,null,null,null,null,null,null,null,0,null,null,null,null,null,null,null,0,null,null,null,null,null,null,null,0,null,null,null,null,null,null,null,0,null,null,null,null,null,null,null,0,null,null,null,null,null,null,null,0,null,null,null,null,null,null,null,0,null,null,null,null,null,null,null,0,null,null,null,null,null,null,null,0,null,null,null,null,null,null,null,0,null,null,null,null,null,null,null,0]
[0,2020,null,null,null,0,null,null,null,null,null,null,null,0,null,null,null,null,null,null,null,0,null,null,null,null,null,null,null,0,null,null,null,null,null,null,null,0,null,null,null,null,null,null,null,0,null,null,null,null,null,null,null,0,null,null,null,null,null,null,null,0,null,null,null,null,null,null,null,0,null,null,null,null,null,null,null,0,null,null,null,null,null,null,null,0,null,null,null,null,null,null,null,0,null,null,null,null,null,null,null,0,null,null,null,null,null,null,null,0,null,null,null,null,null,null,null,0,null,null,null,null,null,null,null,0,null,null,null,null,null,null,null,0,null,null,null,null,null,null,null,0,null,null,null,null,null,null,null,0,null,null,null,null,null,null,null,0,null,null,null,null,null,null,null,0,null,null,null,null,null,null,null,0,null,null,null,null,null,null,null,0,null,null,null,null,null,null,null,0,null,null,null,null,null,null,null,0,null,null,null,null,null,null,null,0,null,null,null,null,null,null,null,0,null,null,null,null,null,null,null,0,null,null,null,null,null,null,null,0,null,null,null,null,null,null,null,0,null,null,null,null,null,null,null,0,null,null,null,null,null,null,null,0,null,null,null,null,null,null,null,0,null,null,null,null,null,null,null,0,null,null,null,null,null,null,null,0,null,null,null,null,null,null,null,0,null,null,null,null,null,null,null,0,null,null,null,null,null,null,null,0,null,null,null,null,null,null,null,0,null,null,null,null,null,null,null,0,null,null,null,null,null,null,null,0,null,null,null,null,null,null,null,0,null,null,null,null,null,null,null,0,null,null,null,null,null,null,null,0,null,null,null,null,null,null,null,0,null,null,null,null,null,null,null,0,null,null,null,null,null,null,null,0,null,null,null,null,null,null,null,0,null,null,null,null,null,null,null,0,null,null,null,null,null,null,null,0,null,null,null,null,null,null,null,0]
[]
[null,"Wheat"]
[0,2013,null,null,null,null,null,{"$f":"H14","v":0},null,null,null,null,null,null,null,{"$f":"P14","v":0},null,null,null,null,null,null,null,{"$f":"X14","v":0},null,null,null,null,null,null,null,{"$f":"AF14","v":0},null,null,null,null,null,null,null,{"$f":"AN14","v":0},null,null,null,null,null,null,null,{"$f":"AV14","v":0},null,null,null,null,null,null,null,{"$f":"BD14","v":0},null,null,null,null,null,null,null,{"$f":"BL14","v":0},null,null,null,null,null,null,null,{"$f":"BT14","v":0},null,null,null,null,null,null,null,{"$f":"CB14","v":0},null,null,null,null,null,null,null,{"$f":"CJ14","v":0},null,null,null,null,null,null,null,{"$f":"CR14","v":0},null,null,null,null,null,null,null,{"$f":"CZ14","v":0},null,null,null,null,null,null,null,{"$f":"DH14","v":0},null,null,null,null,null,null,null,{"$f":"DP14","v":0},null,null,null,null,null,null,null,{"$f":"DX14","v":0},null,null,null,null,null,null,null,{"$f":"EF14","v":0},null,null,null,null,null,null,null,{"$f":"EN14","v":0},null,null,null,null,null,null,null,{"$f":"EV14","v":0},null,null,null,null,null,null,null,{"$f":"FD14","v":0},null,null,null,null,null,null,null,{"$f":"FL14","v":0},null,null,null,null,null,null,null,{"$f":"FT14","v":0},null,null,null,null,null,null,null,{"$f":"GB14","v":0},null,null,null,null,null,null,null,{"$f":"GJ14","v":0},null,null,null,null,null,null,null,{"$f":"GR14","v":0},null,null,null,null,null,null,null,{"$f":"GZ14","v":0},null,null,null,null,null,null,null,{"$f":"HH14","v":0},null,null,null,null,null,null,null,{"$f":"HP14","v":0},null,null,null,null,null,null,null,{"$f":"HX14","v":0},null,null,null,null,null,null,null,{"$f":"IF14","v":0},null,null,null,null,null,null,null,{"$f":"IN14","v":0},null,null,null,null,null,null,null,{"$f":"IV14","v":0},null,null,null,null,null,null,null,{"$f":"JD14","v":0},null,null,null,null,null,null,null,{"$f":"JL14","v":0},null,null,null,null,null,null,null,{"$f":"JT14","v":0},null,null,null,null,null,null,null,{"$f":"KB14","v":0},null,null,null,null,null,null,null,{"$f":"KJ14","v":0},null,null,null,null,null,null,null,{"$f":"KR14","v":0},null,null,null,null,null,null,null,{"$f":"KZ14","v":0},null,null,null,null,null,null,null,{"$f":"LH14","v":0},null,null,null,null,null,null,null,{"$f":"LP14","v":0},null,null,null,null,null,null,null,{"$f":"LX14","v":0},null,null,null,null,null,null,null,{"$f":"MF14","v":0},null,null,null,null,null,null,null,{"$f":"MN14","v":0},null,null,null,null,null,null,null,{"$f":"MV14","v":0},null,null,null,null,null,null,null,{"$f":"ND14","v":0},null,null,null,null,null,null,null,{"$f":"NL14","v":0},null,null,null,null,null,null,null,{"$f":"NT14","v":0},null,null,null,null,null,null,null,{"$f":"OB14","v":0},null,null,null,null,null,null,null,{"$f":"OJ14","v":0},null,null,null,null,null,null,null,{"$f":"OR14","v":0}]
[0,2014,null,null,null,null,null,{"$f":"H15","v":0},null,null,null,null,null,null,null,{"$f":"P15","v":0},null,null,null,null,null,null,null,{"$f":"X15","v":0},null,null,null,null,null,null,null,{"$f":"AF15","v":0},null,null,null,null,null,null,null,{"$f":"AN15","v":0},null,null,null,null,null,null,null,{"$f":"AV15","v":0},null,null,null,null,null,null,null,{"$f":"BD15","v":0},null,null,null,null,null,null,null,{"$f":"BL15","v":0},null,null,null,null,null,null,null,{"$f":"BT15","v":0},null,null,null,null,null,null,null,{"$f":"CB15","v":0},null,null,null,null,null,null,null,{"$f":"CJ15","v":0},null,null,null,null,null,null,null,{"$f":"CR15","v":0},null,null,null,null,null,null,null,{"$f":"CZ15","v":0},null,null,null,null,null,null,null,{"$f":"DH15","v":0},null,null,null,null,null,null,null,{"$f":"DP15","v":0},null,null,null,null,null,null,null,{"$f":"DX15","v":0},null,null,null,null,null,null,null,{"$f":"EF15","v":0},null,null,null,null,null,null,null,{"$f":"EN15","v":0},null,null,null,null,null,null,null,{"$f":"EV15","v":0},null,null,null,null,null,null,null,{"$f":"FD15","v":0},null,null,null,null,null,null,null,{"$f":"FL15","v":0},null,null,null,null,null,null,null,{"$f":"FT15","v":0},null,null,null,null,null,null,null,{"$f":"GB15","v":0},null,null,null,null,null,null,null,{"$f":"GJ15","v":0},null,null,null,null,null,null,null,{"$f":"GR15","v":0},null,null,null,null,null,null,null,{"$f":"GZ15","v":0},null,null,null,null,null,null,null,{"$f":"HH15","v":0},null,null,null,null,null,null,null,{"$f":"HP15","v":0},null,null,null,null,null,null,null,{"$f":"HX15","v":0},null,null,null,null,null,null,null,{"$f":"IF15","v":0},null,null,null,null,null,null,null,{"$f":"IN15","v":0},null,null,null,null,null,null,null,{"$f":"IV15","v":0},null,null,null,null,null,null,null,{"$f":"JD15","v":0},null,null,null,null,null,null,null,{"$f":"JL15","v":0},null,null,null,null,null,null,null,{"$f":"JT15","v":0},null,null,null,null,null,null,null,{"$f":"KB15","v":0},null,null,null,null,null,null,null,{"$f":"KJ15","v":0},null,null,null,null,null,null,null,{"$f":"KR15","v":0},null,null,null,null,null,null,null,{"$f":"KZ15","v":0},null,null,null,null,null,null,null,{"$f":"LH15","v":0},null,null,null,null,null,null,null,{"$f":"LP15","v":0},null,null,null,null,null,null,null,{"$f":"LX15","v":0},null,null,null,null,null,null,null,{"$f":"MF15","v":0},null,null,null,null,null,null,null,{"$f":"MN15","v":0},null,null,null,null,null,null,null,{"$f":"MV15","v":0},null,null,null,null,null,null,null,{"$f":"ND15","v":0},null,null,null,null,null,null,null,{"$f":"NL15","v":0},null,null,null,null,null,null,null,{"$f":"NT15","v":0},null,null,null,null,null,null,null,{"$f":"OB15","v":0},null,null,null,null,null,null,null,{"$f":"OJ15","v":0},null,null,null,null,null,null,null,{"$f":"OR15","v":0}]
[0,2015,null,null,null,null,null,0,null,null,null,null,null,null,null,0,null,null,null,null,null,null,null,0,null,null,null,null,null,null,null,0,null,null,null,null,null,null,null,0,null,null,null,null,null,null,null,0,null,null,null,null,null,null,null,0,null,null,null,null,null,null,null,0,null,null,null,null,null,null,null,0,null,null,null,null,null,null,null,0,null,null,null,null,null,null,null,0,null,null,null,null,null,null,null,0,null,null,null,null,null,null,null,0,null,null,null,null,null,null,null,0,null,null,null,null,null,null,null,0,null,null,null,null,null,null,null,0,null,null,null,null,null,null,null,0,null,null,null,null,null,null,null,0,null,null,null,null,null,null,null,0,null,null,null,null,null,null,null,0,null,null,null,null,null,null,null,0,null,null,null,null,null,null,null,0,null,null,null,null,null,null,null,0,null,null,null,null,null,null,null,0,null,null,null,null,null,null,null,0,null,null,null,null,null,null,null,0,null,null,null,null,null,null,null,0,null,null,null,null,null,null,null,0,null,null,null,null,null,null,null,0,null,null,null,null,null,null,null,0,null,null,null,null,null,null,null,0,null,null,null,null,null,null,null,0,null,null,null,null,null,null,null,0,null,null,null,null,null,null,null,0,null,null,null,null,null,null,null,0,null,null,null,null,null,null,null,0,null,null,null,null,null,null,null,0,null,null,null,null,null,null,null,0,null,null,null,null,null,null,null,0,null,null,null,null,null,null,null,0,null,null,null,null,null,null,null,0,null,null,null,null,null,null,null,0,null,null,null,null,null,null,null,0,null,null,null,null,null,null,null,0,null,null,null,null,null,null,null,0,null,null,null,null,null,null,null,0,null,null,null,null,null,null,null,0,null,null,null,null,null,null,null,0,null,null,null,null,null,null,null,0,null,null,null,null,null,null,null,0,null,null,null,null,null,null,null,0]
[0,2016,null,null,null,null,null,0,null,null,null,null,null,null,null,0,null,null,null,null,null,null,null,0,null,null,null,null,null,null,null,0,null,null,null,null,null,null,null,0,null,null,null,null,null,null,null,0,null,null,null,null,null,null,null,0,null,null,null,null,null,null,null,0,null,null,null,null,null,null,null,0,null,null,null,null,null,null,null,0,null,null,null,null,null,null,null,0,null,null,null,null,null,null,null,0,null,null,null,null,null,null,null,0,null,null,null,null,null,null,null,0,null,null,null,null,null,null,null,0,null,null,null,null,null,null,null,0,null,null,null,null,null,null,null,0,null,null,null,null,null,null,null,0,null,null,null,null,null,null,null,0,null,null,null,null,null,null,null,0,null,null,null,null,null,null,null,0,null,null,null,null,null,null,null,0,null,null,null,null,null,null,null,0,null,null,null,null,null,null,null,0,null,null,null,null,null,null,null,0,null,null,null,null,null,null,null,0,null,null,null,null,null,null,null,0,null,null,null,null,null,null,null,0,null,null,null,null,null,null,null,0,null,null,null,null,null,null,null,0,null,null,null,null,null,null,null,0,null,null,null,null,null,null,null,0,null,null,null,null,null,null,null,0,null,null,null,null,null,null,null,0,null,null,null,null,null,null,null,0,null,null,null,null,null,null,null,0,null,null,null,null,null,null,null,0,null,null,null,null,null,null,null,0,null,null,null,null,null,null,null,0,null,null,null,null,null,null,null,0,null,null,null,null,null,null,null,0,null,null,null,null,null,null,null,0,null,null,null,null,null,null,null,0,null,null,null,null,null,null,null,0,null,null,null,null,null,null,null,0,null,null,null,null,null,null,null,0,null,null,null,null,null,null,null,0,null,null,null,null,null,null,null,0,null,null,null,null,null,null,null,0,null,null,null,null,null,null,null,0,null,null,null,null,null,null,null,0]
[0,2017,null,null,null,null,null,0,null,null,null,null,null,null,null,0,null,null,null,null,null,null,null,0,null,null,null,null,null,null,null,0,null,null,null,null,null,null,null,0,null,null,null,null,null,null,null,0,null,null,null,null,null,null,null,0,null,null,null,null,null,null,null,0,null,null,null,null,null,null,null,0,null,null,null,null,null,null,null,0,null,null,null,null,null,null,null,0,null,null,null,null,null,null,null,0,null,null,null,null,null,null,null,0,null,null,null,null,null,null,null,0,null,null,null,null,null,null,null,0,null,null,null,null,null,null,null,0,null,null,null,null,null,null,null,0,null,null,null,null,null,null,null,0,null,null,null,null,null,null,null,0,null,null,null,null,null,null,null,0,null,null,null,null,null,null,null,0,null,null,null,null,null,null,null,0,null,null,null,null,null,null,null,0,null,null,null,null,null,null,null,0,null,null,null,null,null,null,null,0,null,null,null,null,null,null,null,0,null,null,null,null,null,null,null,0,null,null,null,null,null,null,null,0,null,null,null,null,null,null,null,0,null,null,null,null,null,null,null,0,null,null,null,null,null,null,null,0,null,null,null,null,null,null,null,0,null,null,null,null,null,null,null,0,null,null,null,null,null,null,null,0,null,null,null,null,null,null,null,0,null,null,null,null,null,null,null,0,null,null,null,null,null,null,null,0,null,null,null,null,null,null,null,0,null,null,null,null,null,null,null,0,null,null,null,null,null,null,null,0,null,null,null,null,null,null,null,0,null,null,null,null,null,null,null,0,null,null,null,null,null,null,null,0,null,null,null,null,null,null,null,0,null,null,null,null,null,null,null,0,null,null,null,null,null,null,null,0,null,null,null,null,null,null,null,0,null,null,null,null,null,null,null,0,null,null,null,null,null,null,null,0,null,null,null,null,null,null,null,0,null,null,null,null,null,null,null,0]
[0,2018,null,null,null,null,null,0,null,null,null,null,null,null,null,0,null,null,null,null,null,null,null,0,null,null,null,null,null,null,null,0,null,null,null,null,null,null,null,0,null,null,null,null,null,null,null,0,null,null,null,null,null,null,null,0,null,null,null,null,null,null,null,0,null,null,null,null,null,null,null,0,null,null,null,null,null,null,null,0,null,null,null,null,null,null,null,0,null,null,null,null,null,null,null,0,null,null,null,null,null,null,null,0,null,null,null,null,null,null,null,0,null,null,null,null,null,null,null,0,null,null,null,null,null,null,null,0,null,null,null,null,null,null,null,0,null,null,null,null,null,null,null,0,null,null,null,null,null,null,null,0,null,null,null,null,null,null,null,0,null,null,null,null,null,null,null,0,null,null,null,null,null,null,null,0,null,null,null,null,null,null,null,0,null,null,null,null,null,null,null,0,null,null,null,null,null,null,null,0,null,null,null,null,null,null,null,0,null,null,null,null,null,null,null,0,null,null,null,null,null,null,null,0,null,null,null,null,null,null,null,0,null,null,null,null,null,null,null,0,null,null,null,null,null,null,null,0,null,null,null,null,null,null,null,0,null,null,null,null,null,null,null,0,null,null,null,null,null,null,null,0,null,null,null,null,null,null,null,0,null,null,null,null,null,null,null,0,null,null,null,null,null,null,null,0,null,null,null,null,null,null,null,0,null,null,null,null,null,null,null,0,null,null,null,null,null,null,null,0,null,null,null,null,null,null,null,0,null,null,null,null,null,null,null,0,null,null,null,null,null,null,null,0,null,null,null,null,null,null,null,0,null,null,null,null,null,null,null,0,null,null,null,null,null,null,null,0,null,null,null,null,null,null,null,0,null,null,null,null,null,null,null,0,null,null,null,null,null,null,null,0,null,null,null,null,null,null,null,0,null,null,null,null,null,null,null,0]
[0,"2019 or Considered",null,null,null,null,null,0,null,null,null,null,null,null,null,0,null,null,null,null,null,null,null,0,null,null,null,null,null,null,null,0,null,null,null,null,null,null,null,0,null,null,null,null,null,null,null,0,null,null,null,null,null,null,null,0,null,null,null,null,null,null,null,0,null,null,null,null,null,null,null,0,null,null,null,null,null,null,null,0,null,null,null,null,null,null,null,0,null,null,null,null,null,null,null,0,null,null,null,null,null,null,null,0,null,null,null,null,null,null,null,0,null,null,null,null,null,null,null,0,null,null,null,null,null,null,null,0,null,null,null,null,null,null,null,0,null,null,null,null,null,null,null,0,null,null,null,null,null,null,null,0,null,null,null,null,null,null,null,0,null,null,null,null,null,null,null,0,null,null,null,null,null,null,null,0,null,null,null,null,null,null,null,0,null,null,null,null,null,null,null,0,null,null,null,null,null,null,null,0,null,null,null,null,null,null,null,0,null,null,null,null,null,null,null,0,null,null,null,null,null,null,null,0,null,null,null,null,null,null,null,0,null,null,null,null,null,null,null,0,null,null,null,null,null,null,null,0,null,null,null,null,null,null,null,0,null,null,null,null,null,null,null,0,null,null,null,null,null,null,null,0,null,null,null,null,null,null,null,0,null,null,null,null,null,null,null,0,null,null,null,null,null,null,null,0,null,null,null,null,null,null,null,0,null,null,null,null,null,null,null,0,null,null,null,null,null,null,null,0,null,null,null,null,null,null,null,0,null,null,null,null,null,null,null,0,null,null,null,null,null,null,null,0,null,null,null,null,null,null,null,0,null,null,null,null,null,null,null,0,null,null,null,null,null,null,null,0,null,null,null,null,null,null,null,0,null,null,null,null,null,null,null,0,null,null,null,null,null,null,null,0,null,null,null,null,null,null,null,0,null,null,null,null,null,null,null,0]
[0,2020,null,null,null,null,null,0,null,null,null,null,null,null,null,0,null,null,null,null,null,null,null,0,null,null,null,null,null,null,null,0,null,null,null,null,null,null,null,0,null,null,null,null,null,null,null,0,null,null,null,null,null,null,null,0,null,null,null,null,null,null,null,0,null,null,null,null,null,null,null,0,null,null,null,null,null,null,null,0,null,null,null,null,null,null,null,0,null,null,null,null,null,null,null,0,null,null,null,null,null,null,null,0,null,null,null,null,null,null,null,0,null,null,null,null,null,null,null,0,null,null,null,null,null,null,null,0,null,null,null,null,null,null,null,0,null,null,null,null,null,null,null,0,null,null,null,null,null,null,null,0,null,null,null,null,null,null,null,0,null,null,null,null,null,null,null,0,null,null,null,null,null,null,null,0,null,null,null,null,null,null,null,0,null,null,null,null,null,null,null,0,null,null,null,null,null,null,null,0,null,null,null,null,null,null,null,0,null,null,null,null,null,null,null,0,null,null,null,null,null,null,null,0,null,null,null,null,null,null,null,0,null,null,null,null,null,null,null,0,null,null,null,null,null,null,null,0,null,null,null,null,null,null,null,0,null,null,null,null,null,null,null,0,null,null,null,null,null,null,null,0,null,null,null,null,null,null,null,0,null,null,null,null,null,null,null,0,null,null,null,null,null,null,null,0,null,null,null,null,null,null,null,0,null,null,null,null,null,null,null,0,null,null,null,null,null,null,null,0,null,null,null,null,null,null,null,0,null,null,null,null,null,null,null,0,null,null,null,null,null,null,null,0,null,null,null,null,null,null,null,0,null,null,null,null,null,null,null,0,null,null,null,null,null,null,null,0,null,null,null,null,null,null,null,0,null,null,null,null,null,null,null,0,null,null,null,null,null,null,null,0,null,null,null,null,null,null,null,0,null,null,null,null,null,null,null,0]
[]
["Weighted Yield","Corn"]
[{"$f":"IFERROR(A72/A102,\"\")","v":""},2013]
[{"$f":"IFERROR(A73/A103,\"\")","v":""},2014]
["",2015]
["",2016]
["",2017]
["",2018]
["","2019 or Considered"]
["",2020]
[]
[null,"Soys"]
[{"$f":"IFERROR(A82/A112,\"\")","v":""},2013]
[{"$f":"IFERROR(A83/A113,\"\")","v":""},2014]
["",2015]
["",2016]
["",2017]
["",2018]
["","2019 or Considered"]
["",2020]
[]
[null,"Wheat"]
[{"$f":"IFERROR(A92/A122,\"\")","v":""},2013]
[{"$f":"IFERROR(A93/A123,\"\")","v":""},2014]
["",2015]
["",2016]
["",2017]
["",2018]
["","2019 or Considered"]
["",2020]

{"sheet":"Trend Adj Yield","index":5,"n_rows":4889,"n_cols":7,"rows_kept":4889,"cut":false,"hidden":true,"merged":[]}
["TREND-ADJUSTED YIELD FACTOR FOR PROGRAM YEAR 2019"]
["ST_Cty","State Name","County Name","Crop Name","Unit","ARC-CO Yield Designation","Program Year 2019"]
["26001","Michigan","Alcona","Corn","Bushel","All",1.66]
["26001","Michigan","Alcona","Wheat","Bushel","All",0.69]
["26005","Michigan","Allegan","Corn","Bushel","Nonirrigated",2.06]
["26005","Michigan","Allegan","Corn","Bushel","Irrigated",2.0699999999999998]
["26005","Michigan","Allegan","Soybeans","Bushel","Irrigated",0.53]
["26005","Michigan","Allegan","Soybeans","Bushel","Nonirrigated",0.53]
["26005","Michigan","Allegan","Wheat","Bushel","All",0.69]
["26007","Michigan","Alpena","Corn","Bushel","All",1.57]
["26007","Michigan","Alpena","Soybeans","Bushel","All",0.24]
["26007","Michigan","Alpena","Wheat","Bushel","All",0.6]
["26009","Michigan","Antrim","Corn","Bushel","All",1.1399999999999999]
["26011","Michigan","Arenac","Corn","Bushel","All",1.83]
["26011","Michigan","Arenac","Soybeans","Bushel","All",0.47]
["26011","Michigan","Arenac","Wheat","Bushel","All",0.69]
["26015","Michigan","Barry","Corn","Bushel","Irrigated",1.84]
["26015","Michigan","Barry","Corn","Bushel","Nonirrigated",1.84]
["26015","Michigan","Barry","Soybeans","Bushel","Irrigated",0.49]
["26015","Michigan","Barry","Soybeans","Bushel","Nonirrigated",0.49]
["26015","Michigan","Barry","Wheat","Bushel","All",0.69]
["26017","Michigan","Bay","Corn","Bushel","Irrigated",1.89]
["26017","Michigan","Bay","Corn","Bushel","Nonirrigated",1.89]
["26017","Michigan","Bay","Soybeans","Bushel","Irrigated",0.53]
["26017","Michigan","Bay","Soybeans","Bushel","Nonirrigated",0.53]
["26017","Michigan","Bay","Wheat","Bushel","All",0.69]
["26019","Michigan","Benzie","Corn","Bushel","All",1.07]
["26021","Michigan","Berrien","Corn","Bushel","Irrigated",1.87]
["26021","Michigan","Berrien","Corn","Bushel","Nonirrigated",1.87]
["26021","Michigan","Berrien","Soybeans","Bushel","Irrigated",0.51]
["26021","Michigan","Berrien","Soybeans","Bushel","Nonirrigated",0.51]
["26021","Michigan","Berrien","Wheat","Bushel","All",0.69]
["26023","Michigan","Branch","Corn","Bushel","Nonirrigated",1.62]
["26023","Michigan","Branch","Corn","Bushel","Irrigated",1.68]
["26023","Michigan","Branch","Soybeans","Bushel","Irrigated",0.46]
["26023","Michigan","Branch","Soybeans","Bushel","Nonirrigated",0.46]
["26023","Michigan","Branch","Wheat","Bushel","All",0.69]
["26025","Michigan","Calhoun","Corn","Bushel","Nonirrigated",1.68]
["26025","Michigan","Calhoun","Corn","Bushel","Irrigated",1.74]
["26025","Michigan","Calhoun","Soybeans","Bushel","Irrigated",0.47]
["26025","Michigan","Calhoun","Soybeans","Bushel","Nonirrigated",0.47]
["26025","Michigan","Calhoun","Wheat","Bushel","All",0.69]
["26027","Michigan","Cass","Corn","Bushel","Nonirrigated",1.64]
["26027","Michigan","Cass","Corn","Bushel","Irrigated",1.97]
["26027","Michigan","Cass","Soybeans","Bushel","Irrigated",0.49]
["26027","Michigan","Cass","Soybeans","Bushel","Nonirrigated",0.49]
["26027","Michigan","Cass","Wheat","Bushel","All",0.61]
["26029","Michigan","Charlevoix","Corn","Bushel","All",1.1499999999999999]
["26035","Michigan","Clare","Corn","Bushel","All",1.82]
["26037","Michigan","Clinton","Corn","Bushel","Irrigated",1.78]
["26037","Michigan","Clinton","Corn","Bushel","Nonirrigated",1.78]
["26037","Michigan","Clinton","Soybeans","Bushel","Irrigated",0.46]
["26037","Michigan","Clinton","Soybeans","Bushel","Nonirrigated",0.46]
["26037","Michigan","Clinton","Wheat","Bushel","All",0.69]
["26041","Michigan","Delta","Corn","Bushel","All",1.19]
["26045","Michigan","Eaton","Corn","Bushel","All",1.75]
["26045","Michigan","Eaton","Soybeans","Bushel","Irrigated",0.46]
["26045","Michigan","Eaton","Soybeans","Bushel","Nonirrigated",0.46]
["26045","Michigan","Eaton","Wheat","Bushel","All",0.69]
["26047","Michigan","Emmet","Corn","Bushel","All",1.26]
["26049","Michigan","Genesee","Corn","Bushel","All",1.9]
["26049","Michigan","Genesee","Soybeans","Bushel","All",0.43]
["26049","Michigan","Genesee","Wheat","Bushel","All",0.69]
["26051","Michigan","Gladwin","Corn","Bushel","All",1.81]
["26051","Michigan","Gladwin","Soybeans","Bushel","All",0.43]
["26051","Michigan","Gladwin","Wheat","Bushel","All",0.69]
["26055","Michigan","Grand Traverse","Corn","Bushel","All",1.1100000000000001]
["26055","Michigan","Grand Traverse","Wheat","Bushel","All",0.4]
["26057","Michigan","Gratiot","Corn","Bushel","Irrigated",1.91]
["26057","Michigan","Gratiot","Corn","Bushel","Nonirrigated",1.91]
["26057","Michigan","Gratiot","Soybeans","Bushel","Irrigated",0.47]
["26057","Michigan","Gratiot","Soybeans","Bushel","Nonirrigated",0.47]
["26057","Michigan","Gratiot","Wheat","Bushel","All",0.69]
["26059","Michigan","Hillsdale","Corn","Bushel","Nonirrigated",1.6]
["26059","Michigan","Hillsdale","Corn","Bushel","Irrigated",1.61]
["26059","Michigan","Hillsdale","Soybeans","Bushel","Irrigated",0.44]
["26059","Michigan","Hillsdale","Soybeans","Bushel","Nonirrigated",0.44]
["26059","Michigan","Hillsdale","Wheat","Bushel","All",0.69]
["26063","Michigan","Huron","Corn","Bushel","Irrigated",1.74]
["26063","Michigan","Huron","Corn","Bushel","Nonirrigated",1.74]
["26063","Michigan","Huron","Soybeans","Bushel","Irrigated",0.47]
["26063","Michigan","Huron","Soybeans","Bushel","Nonirrigated",0.47]
["26063","Michigan","Huron","Wheat","Bushel","All",0.69]
["26065","Michigan","Ingham","Corn","Bushel","All",1.76]
["26065","Michigan","Ingham","Soybeans","Bushel","Irrigated",0.46]
["26065","Michigan","Ingham","Soybeans","Bushel","Nonirrigated",0.46]
["26065","Michigan","Ingham","Wheat","Bushel","All",0.69]
["26067","Michigan","Ionia","Corn","Bushel","Irrigated",1.82]
["26067","Michigan","Ionia","Corn","Bushel","Nonirrigated",1.82]
["26067","Michigan","Ionia","Soybeans","Bushel","Irrigated",0.48]
["26067","Michigan","Ionia","Soybeans","Bushel","Nonirrigated",0.48]
["26067","Michigan","Ionia","Wheat","Bushel","All",0.69]
["26069","Michigan","Iosco","Corn","Bushel","All",1.72]
["26069","Michigan","Iosco","Soybeans","Bushel","All",0.3]
["26069","Michigan","Iosco","Wheat","Bushel","All",0.69]
["26073","Michigan","Isabella","Corn","Bushel","Irrigated",1.91]
["26073","Michigan","Isabella","Corn","Bushel","Nonirrigated",1.91]
["26073","Michigan","Isabella","Soybeans","Bushel","Irrigated",0.45]
["26073","Michigan","Isabella","Soybeans","Bushel","Nonirrigated",0.45]
["26073","Michigan","Isabella","Wheat","Bushel","All",0.69]
["26075","Michigan","Jackson","Corn","Bushel","Nonirrigated",1.72]
["26075","Michigan","Jackson","Corn","Bushel","Irrigated",1.73]
["26075","Michigan","Jackson","Soybeans","Bushel","Irrigated",0.45]
["26075","Michigan","Jackson","Soybeans","Bushel","Nonirrigated",0.45]
["26075","Michigan","Jackson","Wheat","Bushel","All",0.69]
["26077","Michigan","Kalamazoo","Corn","Bushel","Nonirrigated",1.69]
["26077","Michigan","Kalamazoo","Corn","Bushel","Irrigated",1.99]
["26077","Michigan","Kalamazoo","Soybeans","Bushel","Irrigated",0.53]
["26077","Michigan","Kalamazoo","Soybeans","Bushel","Nonirrigated",0.53]
["26077","Michigan","Kalamazoo","Wheat","Bushel","All",0.69]
["26081","Michigan","Kent","Corn","Bushel","Nonirrigated",1.98]
["26081","Michigan","Kent","Corn","Bushel","Irrigated",2.0099999999999998]
["26081","Michigan","Kent","Soybeans","Bushel","Irrigated",0.53]
["26081","Michigan","Kent","Soybeans","Bushel","Nonirrigated",0.53]
["26081","Michigan","Kent","Wheat","Bushel","All",0.69]
["26087","Michigan","Lapeer","Corn","Bushel","All",1.85]
["26087","Michigan","Lapeer","Soybeans","Bushel","All",0.45]
["26087","Michigan","Lapeer","Wheat","Bushel","All",0.69]
["26089","Michigan","Leelanau","Corn","Bushel","All",1.07]
["26091","Michigan","Lenawee","Corn","Bushel","Irrigated",1.72]
["26091","Michigan","Lenawee","Corn","Bushel","Nonirrigated",1.72]
["26091","Michigan","Lenawee","Soybeans","Bushel","Irrigated",0.43]
["26091","Michigan","Lenawee","Soybeans","Bushel","Nonirrigated",0.43]
["26091","Michigan","Lenawee","Wheat","Bushel","All",0.69]
["26093","Michigan","Livingston","Corn","Bushel","All",1.86]
["26093","Michigan","Livingston","Soybeans","Bushel","All",0.44]
["26093","Michigan","Livingston","Wheat","Bushel","All",0.69]
["26099","Michigan","Macomb","Corn","Bushel","All",1.79]
["26099","Michigan","Macomb","Soybeans","Bushel","All",0.43]
["26099","Michigan","Macomb","Wheat","Bushel","All",0.69]
["26101","Michigan","Manistee","Corn","Bushel","All",1.19]
["26105","Michigan","Mason","Corn","Bushel","Irrigated",1.38]
["26105","Michigan","Mason","Corn","Bushel","Nonirrigated",1.38]
["26105","Michigan","Mason","Soybeans","Bushel","All",0.46]
["26105","Michigan","Mason","Wheat","Bushel","All",0.53]
["26107","Michigan","Mecosta","Corn","Bushel","Irrigated",1.91]
["26107","Michigan","Mecosta","Corn","Bushel","Nonirrigated",1.91]
["26107","Michigan","Mecosta","Wheat","Bushel","All",0.56000000000000005]
["26109","Michigan","Menominee","Corn","Bushel","All",0.69]
["26111","Michigan","Midland","Corn","Bushel","Irrigated",1.92]
["26111","Michigan","Midland","Corn","Bushel","Nonirrigated",1.92]
["26111","Michigan","Midland","Soybeans","Bushel","All",0.47]
["26111","Michigan","Midland","Wheat","Bushel","All",0.69]
["26113","Michigan","Missaukee","Corn","Bushel","Irrigated",1.36]
["26113","Michigan","Missaukee","Corn","Bushel","Nonirrigated",1.36]
["26113","Michigan","Missaukee","Wheat","Bushel","All",0.54]
["26115","Michigan","Monroe","Corn","Bushel","Nonirrigated",1.75]
["26115","Michigan","Monroe","Corn","Bushel","Irrigated",1.76]
["26115","Michigan","Monroe","Soybeans","Bushel","All",0.43]
["26115","Michigan","Monroe","Wheat","Bushel","All",0.69]
["26117","Michigan","Montcalm","Corn","Bushel","Nonirrigated",1.75]
["26117","Michigan","Montcalm","Corn","Bushel","Irrigated",1.94]
["26117","Michigan","Montcalm","Soybeans","Bushel","Irrigated",0.46]
["26117","Michigan","Montcalm","Soybeans","Bushel","Nonirrigated",0.46]
["26117","Michigan","Montcalm","Wheat","Bushel","Irrigated",0.69]
["26117","Michigan","Montcalm","Wheat","Bushel","Nonirrigated",0.69]
["26119","Michigan","Montmorency","Corn","Bushel","All",1.57]
["26119","Michigan","Montmorency","Wheat","Bushel","All",0.68]
["26121","Michigan","Muskegon","Corn","Bushel","Irrigated",1.71]
["26121","Michigan","Muskegon","Corn","Bushel","Nonirrigated",1.71]
["26121","Michigan","Muskegon","Soybeans","Bushel","All",0.48]
["26121","Michigan","Muskegon","Wheat","Bushel","All",0.44]
["26123","Michigan","Newaygo","Corn","Bushel","Irrigated",1.71]
["26123","Michigan","Newaygo","Corn","Bushel","Nonirrigated",1.71]
["26123","Michigan","Newaygo","Soybeans","Bushel","All",0.49]
["26125","Michigan","Oakland","Corn","Bushel","All",1.88]
["26125","Michigan","Oakland","Soybeans","Bushel","All",0.43]
["26127","Michigan","Oceana","Corn","Bushel","Irrigated",1.48]
["26127","Michigan","Oceana","Corn","Bushel","Nonirrigated",1.48]
["26127","Michigan","Oceana","Soybeans","Bushel","Irrigated",0.41]
["26127","Michigan","Oceana","Soybeans","Bushel","Nonirrigated",0.41]
["26127","Michigan","Oceana","Wheat","Bushel","All",0.53]
["26129","Michigan","Ogemaw","Corn","Bushel","All",1.65]
["26129","Michigan","Ogemaw","Wheat","Bushel","All",0.69]
["26133","Michigan","Osceola","Corn","Bushel","All",1.75]
["26137","Michigan","Otsego","Corn","Bushel","All",1.43]
["26139","Michigan","Ottawa","Corn","Bushel","Irrigated",2.0099999999999998]
["26139","Michigan","Ottawa","Corn","Bushel","Nonirrigated",2.0099999999999998]
["26139","Michigan","Ottawa","Soybeans","Bushel","Irrigated",0.53]
["26139","Michigan","Ottawa","Soybeans","Bushel","Nonirrigated",0.53]
["26139","Michigan","Ottawa","Wheat","Bushel","All",0.69]
["26141","Michigan","Presque Isle","Corn","Bushel","All",1.32]
["26141","Michigan","Presque Isle","Wheat","Bushel","All",0.52]
["26145","Michigan","Saginaw","Corn","Bushel","All",1.91]
["26145","Michigan","Saginaw","Soybeans","Bushel","Irrigated",0.53]
["26145","Michigan","Saginaw","Soybeans","Bushel","Nonirrigated",0.53]
["26145","Michigan","Saginaw","Wheat","Bushel","All",0.69]
["26147","Michigan","St. Clair","Corn","Bushel","All",1.68]
["26147","Michigan","St. Clair","Soybeans","Bushel","All",0.42]
["26147","Michigan","St. Clair","Wheat","Bushel","All",0.69]
["26149","Michigan","St. Joseph","Corn","Bushel","Nonirrigated",1.49]
["26149","Michigan","St. Joseph","Corn","Bushel","Irrigated",1.75]
["26149","Michigan","St. Joseph","Soybeans","Bushel","Nonirrigated",0.47]
["26149","Michigan","St. Joseph","Soybeans","Bushel","Irrigated",0.48]
["26149","Michigan","St. Joseph","Wheat","Bushel","All",0.67]
["26151","Michigan","Sanilac","Corn","Bushel","All",1.71]
["26151","Michigan","Sanilac","Soybeans","Bushel","All",0.49]
["26151","Michigan","Sanilac","Wheat","Bushel","All",0.69]
["26155","Michigan","Shiawassee","Corn","Bushel","All",1.81]
["26155","Michigan","Shiawassee","Soybeans","Bushel","Irrigated",0.47]
["26155","Michigan","Shiawassee","Soybeans","Bushel","Nonirrigated",0.47]
["26155","Michigan","Shiawassee","Wheat","Bushel","All",0.69]
["26157","Michigan","Tuscola","Corn","Bushel","Irrigated",1.87]
["26157","Michigan","Tuscola","Corn","Bushel","Nonirrigated",1.87]
["26157","Michigan","Tuscola","Soybeans","Bushel","Irrigated",0.53]
["26157","Michigan","Tuscola","Soybeans","Bushel","Nonirrigated",0.53]
["26157","Michigan","Tuscola","Wheat","Bushel","All",0.69]
["26159","Michigan","Van Buren","Corn","Bushel","Irrigated",2.0699999999999998]
["26159","Michigan","Van Buren","Corn","Bushel","Nonirrigated",2.0699999999999998]
["26159","Michigan","Van Buren","Soybeans","Bushel","Irrigated",0.48]
["26159","Michigan","Van Buren","Soybeans","Bushel","Nonirrigated",0.48]
["26159","Michigan","Van Buren","Wheat","Bushel","All",0.54]
["26161","Michigan","Washtenaw","Corn","Bushel","Irrigated",1.84]
["26161","Michigan","Washtenaw","Corn","Bushel","Nonirrigated",1.84]
["26161","Michigan","Washtenaw","Soybeans","Bushel","Irrigated",0.42]
["26161","Michigan","Washtenaw","Soybeans","Bushel","Nonirrigated",0.42]
["26161","Michigan","Washtenaw","Wheat","Bushel","All",0.69]
["26163","Michigan","Wayne","Corn","Bushel","All",1.8]
["26163","Michigan","Wayne","Soybeans","Bushel","All",0.31]
["26165","Michigan","Wexford","Corn","Bushel","Irrigated",1.26]
["26165","Michigan","Wexford","Corn","Bushel","Nonirrigated",1.26]
["27001","Minnesota","Aitkin","Soybeans","Bushel","All",0.28000000000000003]
["27003","Minnesota","Anoka","Corn","Bushel","Nonirrigated",1.91]
["27003","Minnesota","Anoka","Corn","Bushel","Irrigated",1.92]
["27003","Minnesota","Anoka","Soybeans","Bushel","All",0.31]
["27005","Minnesota","Becker","Corn","Bushel","Nonirrigated",2.4900000000000002]
["27005","Minnesota","Becker","Corn","Bushel","Irrigated",2.5099999999999998]
["27005","Minnesota","Becker","Soybeans","Bushel","Irrigated",0.4]
["27005","Minnesota","Becker","Soybeans","Bushel","Nonirrigated",0.4]
["27005","Minnesota","Becker","Wheat","Bushel","Irrigated",0.47]
["27005","Minnesota","Becker","Wheat","Bushel","Nonirrigated",0.47]
["27007","Minnesota","Beltrami","Barley","Bushel","All",0.12]
["27007","Minnesota","Beltrami","Corn","Bushel","All",1.73]
["27007","Minnesota","Beltrami","Soybeans","Bushel","All",0.24]
["27007","Minnesota","Beltrami","Wheat","Bushel","All",0.46]
["27009","Minnesota","Benton","Corn","Bushel","Nonirrigated",1.86]
["27009","Minnesota","Benton","Corn","Bushel","Irrigated",2.02]
["27009","Minnesota","Benton","Soybeans","Bushel","Nonirrigated",0.34]
["27009","Minnesota","Benton","Soybeans","Bushel","Irrigated",0.35]
["27011","Minnesota","Big Stone","Corn","Bushel","Nonirrigated",2.82]
["27011","Minnesota","Big Stone","Corn","Bushel","Irrigated",2.83]
["27011","Minnesota","Big Stone","Soybeans","Bushel","Irrigated",0.49]
["27011","Minnesota","Big Stone","Soybeans","Bushel","Nonirrigated",0.49]
["27011","Minnesota","Big Stone","Wheat","Bushel","All",0.63]
["27013","Minnesota","Blue Earth","Corn","Bushel","Irrigated",2.27]
["27013","Minnesota","Blue Earth","Corn","Bushel","Nonirrigated",2.27]
["27013","Minnesota","Blue Earth","Soybeans","Bushel","Irrigated",0.48]
["27013","Minnesota","Blue Earth","Soybeans","Bushel","Nonirrigated",0.48]
["27015","Minnesota","Brown","Corn","Bushel","Irrigated",2.34]
["27015","Minnesota","Brown","Corn","Bushel","Nonirrigated",2.34]
["27015","Minnesota","Brown","Soybeans","Bushel","Irrigated",0.48]
["27015","Minnesota","Brown","Soybeans","Bushel","Nonirrigated",0.48]
["27015","Minnesota","Brown","Wheat","Bushel","All",0.39]
["27019","Minnesota","Carver","Corn","Bushel","All",2.0699999999999998]
["27019","Minnesota","Carver","Soybeans","Bushel","All",0.45]
["27019","Minnesota","Carver","Wheat","Bushel","All",0.32]
["27021","Minnesota","Cass","Corn","Bushel","Nonirrigated",1.37]
["27021","Minnesota","Cass","Corn","Bushel","Irrigated",1.87]
["27023","Minnesota","Chippewa","Corn","Bushel","All",2.7]
["27023","Minnesota","Chippewa","Soybeans","Bushel","All",0.48]
["27023","Minnesota","Chippewa","Wheat","Bushel","All",0.55000000000000004]
["27025","Minnesota","Chisago","Corn","Bushel","All",1.81]
["27025","Minnesota","Chisago","Soybeans","Bushel","All",0.38]
["27027","Minnesota","Clay","Barley","Bushel","All",0.28000000000000003]
["27027","Minnesota","Clay","Corn","Bushel","Irrigated",2.72]
["27027","Minnesota","Clay","Corn","Bushel","Nonirrigated",2.72]
["27027","Minnesota","Clay","Soybeans","Bushel","Irrigated",0.41]
["27027","Minnesota","Clay","Soybeans","Bushel","Nonirrigated",0.41]
["27027","Minnesota","Clay","Sunflower Seed","Pound","All",11.67]
["27027","Minnesota","Clay","Wheat","Bushel","All",0.55000000000000004]
["27029","Minnesota","Clearwater","Corn","Bushel","All",2.27]
["27029","Minnesota","Clearwater","Soybeans","Bushel","All",0.31]
["27029","Minnesota","Clearwater","Wheat","Bushel","All",0.34]
["27033","Minnesota","Cottonwood","Corn","Bushel","Irrigated",2.5299999999999998]
["27033","Minnesota","Cottonwood","Corn","Bushel","Nonirrigated",2.5299999999999998]
["27033","Minnesota","Cottonwood","Soybeans","Bushel","Irrigated",0.51]
["27033","Minnesota","Cottonwood","Soybeans","Bushel","Nonirrigated",0.51]
["27033","Minnesota","Cottonwood","Wheat","Bushel","All",0.49]
["27035","Minnesota","Crow Wing","Corn","Bushel","Nonirrigated",1.74]
["27035","Minnesota","Crow Wing","Corn","Bushel","Irrigated",1.96]
["27037","Minnesota","Dakota","Corn","Bushel","Nonirrigated",1.94]
["27037","Minnesota","Dakota","Corn","Bushel","Irrigated",2.13]
["27037","Minnesota","Dakota","Soybeans","Bushel","Nonirrigated",0.5]
["27037","Minnesota","Dakota","Soybeans","Bushel","Irrigated",0.52]
["27039","Minnesota","Dodge","Corn","Bushel","All",2.31]
["27039","Minnesota","Dodge","Soybeans","Bushel","All",0.53]
["27041","Minnesota","Douglas","Barley","Bushel","All",0.36]
["27041","Minnesota","Douglas","Corn","Bushel","Nonirrigated",2.66]
["27041","Minnesota","Douglas","Corn","Bushel","Irrigated",2.69]
["27041","Minnesota","Douglas","Soybeans","Bushel","Irrigated",0.43]
["27041","Minnesota","Douglas","Soybeans","Bushel","Nonirrigated",0.43]
["27041","Minnesota","Douglas","Wheat","Bushel","All",0.48]
["27043","Minnesota","Faribault","Corn","Bushel","All",2.23]
["27043","Minnesota","Faribault","Soybeans","Bushel","All",0.49]
["27045","Minnesota","Fillmore","Corn","Bushel","All",2.23]
["27045","Minnesota","Fillmore","Soybeans","Bushel","All",0.53]
["27047","Minnesota","Freeborn","Corn","Bushel","Irrigated",2.2200000000000002]
["27047","Minnesota","Freeborn","Corn","Bushel","Nonirrigated",2.2200000000000002]
["27047","Minnesota","Freeborn","Soybeans","Bushel","Irrigated",0.5]
["27047","Minnesota","Freeborn","Soybeans","Bushel","Nonirrigated",0.5]
["27049","Minnesota","Goodhue","Corn","Bushel","Irrigated",2.2200000000000002]
["27049","Minnesota","Goodhue","Corn","Bushel","Nonirrigated",2.2200000000000002]
["27049","Minnesota","Goodhue","Soybeans","Bushel","Irrigated",0.53]
["27049","Minnesota","Goodhue","Soybeans","Bushel","Nonirrigated",0.53]
["27051","Minnesota","Grant","Corn","Bushel","Irrigated",2.83]
["27051","Minnesota","Grant","Corn","Bushel","Nonirrigated",2.83]
["27051","Minnesota","Grant","Soybeans","Bushel","Irrigated",0.47]
["27051","Minnesota","Grant","Soybeans","Bushel","Nonirrigated",0.47]
["27051","Minnesota","Grant","Wheat","Bushel","All",0.59]
["27053","Minnesota","Hennepin","Corn","Bushel","All",2]
["27053","Minnesota","Hennepin","Soybeans","Bushel","All",0.43]
["27055","Minnesota","Houston","Corn","Bushel","All",2.04]
["27055","Minnesota","Houston","Soybeans","Bushel","All",0.53]
["27057","Minnesota","Hubbard","Corn","Bushel","Nonirrigated",0.84]
["27057","Minnesota","Hubbard","Corn","Bushel","Irrigated",2.0299999999999998]
["27059","Minnesota","Isanti","Corn","Bushel","Nonirrigated",1.9]
["27059","Minnesota","Isanti","Corn","Bushel","Irrigated",1.92]
["27059","Minnesota","Isanti","Soybeans","Bushel","All",0.28000000000000003]
["27063","Minnesota","Jackson","Corn","Bushel","All",2.44]
["27063","Minnesota","Jackson","Soybeans","Bushel","All",0.52]
["27065","Minnesota","Kanabec","Corn","Bushel","All",1.9]
["27065","Minnesota","Kanabec","Soybeans","Bushel","All",0.31]
["27067","Minnesota","Kandiyohi","Corn","Bushel","Nonirrigated",2.2799999999999998]
["27067","Minnesota","Kandiyohi","Corn","Bushel","Irrigated",2.29]
["27067","Minnesota","Kandiyohi","Soybeans","Bushel","Irrigated",0.46]
["27067","Minnesota","Kandiyohi","Soybeans","Bushel","Nonirrigated",0.46]
["27067","Minnesota","Kandiyohi","Wheat","Bushel","All",0.4]
["27069","Minnesota","Kittson","Barley","Bushel","All",0.42]
["27069","Minnesota","Kittson","Canola","Pound","All",18.29]
["27069","Minnesota","Kittson","Corn","Bushel","All",2.4700000000000002]
["27069","Minnesota","Kittson","Soybeans","Bushel","All",0.4]
["27069","Minnesota","Kittson","Sunflower Seed","Pound","All",10.97]
["27069","Minnesota","Kittson","Wheat","Bushel","All",0.48]
["27073","Minnesota","Lac Qui Parle","Corn","Bushel","Irrigated",2.83]
["27073","Minnesota","Lac Qui Parle","Corn","Bushel","Nonirrigated",2.83]
["27073","Minnesota","Lac Qui Parle","Soybeans","Bushel","Irrigated",0.5]
["27073","Minnesota","Lac Qui Parle","Soybeans","Bushel","Nonirrigated",0.5]
["27073","Minnesota","Lac Qui Parle","Wheat","Bushel","All",0.6]
["27077","Minnesota","Lake Of The Woods","Canola","Pound","All",24.06]
["27077","Minnesota","Lake Of The Woods","Soybeans","Bushel","All",0.24]
["27077","Minnesota","Lake Of The Woods","Wheat","Bushel","All",0.24]
["27079","Minnesota","Le Sueur","Corn","Bushel","All",2.21]
["27079","Minnesota","Le Sueur","Soybeans","Bushel","All",0.48]
["27079","Minnesota","Le Sueur","Wheat","Bushel","All",0.4]
["27081","Minnesota","Lincoln","Corn","Bushel","All",2.75]
["27081","Minnesota","Lincoln","Soybeans","Bushel","All",0.53]
["27081","Minnesota","Lincoln","Wheat","Bushel","All",0.63]
["27083","Minnesota","Lyon","Corn","Bushel","All",2.69]
["27083","Minnesota","Lyon","Soybeans","Bushel","All",0.52]
["27083","Minnesota","Lyon","Wheat","Bushel","All",0.6]
["27085","Minnesota","Mcleod","Corn","Bushel","All",2.09]
["27085","Minnesota","Mcleod","Soybeans","Bushel","All",0.45]
["27085","Minnesota","Mcleod","Wheat","Bushel","All",0.37]
["27087","Minnesota","Mahnomen","Corn","Bushel","All",2.62]
["27087","Minnesota","Mahnomen","Soybeans","Bushel","All",0.38]
["27087","Minnesota","Mahnomen","Wheat","Bushel","All",0.34]
["27089","Minnesota","Marshall","Barley","Bushel","All",0.25]
["27089","Minnesota","Marshall","Canola","Pound","All",19.45]
["27089","Minnesota","Marshall","Corn","Bushel","All",2.5299999999999998]
["27089","Minnesota","Marshall","Soybeans","Bushel","All",0.38]
["27089","Minnesota","Marshall","Sunflower Seed","Pound","All",6.75]
["27089","Minnesota","Marshall","Wheat","Bushel","All",0.46]
["27091","Minnesota","Martin","Corn","Bushel","All",2.2799999999999998]
["27091","Minnesota","Martin","Soybeans","Bushel","All",0.49]
["27093","Minnesota","Meeker","Corn","Bushel","Nonirrigated",2.11]
["27093","Minnesota","Meeker","Corn","Bushel","Irrigated",2.12]
["27093","Minnesota","Meeker","Soybeans","Bushel","Irrigated",0.45]
["27093","Minnesota","Meeker","Soybeans","Bushel","Nonirrigated",0.45]
["27093","Minnesota","Meeker","Wheat","Bushel","All",0.31]
["27095","Minnesota","Mille Lacs","Corn","Bushel","All",1.97]
["27095","Minnesota","Mille Lacs","Soybeans","Bushel","All",0.36]
["27097","Minnesota","Morrison","Barley","Bushel","All",0.36]
["27097","Minnesota","Morrison","Corn","Bushel","Nonirrigated",1.79]
["27097","Minnesota","Morrison","Corn","Bushel","Irrigated",2.0699999999999998]
["27097","Minnesota","Morrison","Soybeans","Bushel","Nonirrigated",0.3]
["27097","Minnesota","Morrison","Soybeans","Bushel","Irrigated",0.33]
["27099","Minnesota","Mower","Corn","Bushel","Irrigated",2.27]
["27099","Minnesota","Mower","Corn","Bushel","Nonirrigated",2.27]
["27099","Minnesota","Mower","Soybeans","Bushel","Irrigated",0.52]
["27099","Minnesota","Mower","Soybeans","Bushel","Nonirrigated",0.52]
["27101","Minnesota","Murray","Corn","Bushel","All",2.63]
["27101","Minnesota","Murray","Soybeans","Bushel","All",0.53]
["27103","Minnesota","Nicollet","Corn","Bushel","All",2.27]
["27103","Minnesota","Nicollet","Soybeans","Bushel","All",0.48]
["27103","Minnesota","Nicollet","Wheat","Bushel","All",0.4]
["27105","Minnesota","Nobles","Corn","Bushel","All",2.54]
["27105","Minnesota","Nobles","Soybeans","Bushel","All",0.53]
["27107","Minnesota","Norman","Barley","Bushel","All",0.3]
["27107","Minnesota","Norman","Corn","Bushel","All",2.71]
["27107","Minnesota","Norman","Soybeans","Bushel","All",0.39]
["27107","Minnesota","Norman","Sunflower Seed","Pound","All",8.85]
["27107","Minnesota","Norman","Wheat","Bushel","All",0.54]
["27109","Minnesota","Olmsted","Corn","Bushel","All",2.27]
["27109","Minnesota","Olmsted","Soybeans","Bushel","All",0.53]
["27111","Minnesota","East Otter Tail","Barley","Bushel","All",0.27]
["27111","Minnesota","East Otter Tail","Corn","Bushel","Nonirrigated",2.5299999999999998]
["27111","Minnesota","East Otter Tail","Corn","Bushel","Irrigated",2.73]
["27111","Minnesota","East Otter Tail","Soybeans","Bushel","Nonirrigated",0.43]
["27111","Minnesota","East Otter Tail","Soybeans","Bushel","Irrigated",0.44]
["27111","Minnesota","East Otter Tail","Sunflower Seed","Pound","All",9.43]
["27111","Minnesota","East Otter Tail","Wheat","Bushel","Irrigated",0.5]
["27111","Minnesota","East Otter Tail","Wheat","Bushel","Nonirrigated",0.5]
["27113","Minnesota","Pennington","Barley","Bushel","All",0.12]
["27113","Minnesota","Pennington","Canola","Pound","All",18.27]
["27113","Minnesota","Pennington","Corn","Bushel","All",2.4300000000000002]
["27113","Minnesota","Pennington","Soybeans","Bushel","All",0.33]
["27113","Minnesota","Pennington","Sunflower Seed","Pound","All",6.38]
["27113","Minnesota","Pennington","Wheat","Bushel","All",0.43]
["27115","Minnesota","Pine","Corn","Bushel","All",1.79]
["27115","Minnesota","Pine","Soybeans","Bushel","All",0.38]
["27117","Minnesota","Pipestone","Corn","Bushel","Nonirrigated",2.67]
["27117","Minnesota","Pipestone","Corn","Bushel","Irrigated",2.68]
["27117","Minnesota","Pipestone","Soybeans","Bushel","All",0.53]
["27117","Minnesota","Pipestone","Wheat","Bushel","All",0.63]
["27119","Minnesota","East Polk","Barley","Bushel","All",0.35]
["27119","Minnesota","East Polk","Corn","Bushel","Irrigated",2.66]
["27119","Minnesota","East Polk","Corn","Bushel","Nonirrigated",2.66]
["27119","Minnesota","East Polk","Soybeans","Bushel","Irrigated",0.39]
["27119","Minnesota","East Polk","Soybeans","Bushel","Nonirrigated",0.39]
["27119","Minnesota","East Polk","Sunflower Seed","Pound","All",7.85]
["27119","Minnesota","East Polk","Wheat","Bushel","Irrigated",0.55000000000000004]
["27119","Minnesota","East Polk","Wheat","Bushel","Nonirrigated",0.55000000000000004]
["27121","Minnesota","Pope","Corn","Bushel","Nonirrigated",2.5]
["27121","Minnesota","Pope","Corn","Bushel","Irrigated",2.65]
["27121","Minnesota","Pope","Soybeans","Bushel","Nonirrigated",0.45]
["27121","Minnesota","Pope","Soybeans","Bushel","Irrigated",0.46]
["27121","Minnesota","Pope","Wheat","Bushel","All",0.47]
["27125","Minnesota","Red Lake","Corn","Bushel","All",2.6]
["27125","Minnesota","Red Lake","Soybeans","Bushel","All",0.38]
["27125","Minnesota","Red Lake","Sunflower Seed","Pound","All",6.46]
["27125","Minnesota","Red Lake","Wheat","Bushel","All",0.47]
["27127","Minnesota","Redwood","Corn","Bushel","All",2.59]
["27127","Minnesota","Redwood","Soybeans","Bushel","All",0.51]
["27127","Minnesota","Redwood","Wheat","Bushel","All",0.5]
["27129","Minnesota","Renville","Corn","Bushel","All",2.25]
["27129","Minnesota","Renville","Soybeans","Bushel","All",0.47]
["27129","Minnesota","Renville","Wheat","Bushel","All",0.44]
["27131","Minnesota","Rice","Corn","Bushel","Irrigated",2.23]
["27131","Minnesota","Rice","Corn","Bushel","Nonirrigated",2.23]
["27131","Minnesota","Rice","Soybeans","Bushel","All",0.51]
["27133","Minnesota","Rock","Corn","Bushel","Irrigated",2.61]
["27133","Minnesota","Rock","Corn","Bushel","Nonirrigated",2.61]
["27133","Minnesota","Rock","Soybeans","Bushel","All",0.53]
["27135","Minnesota","Roseau","Barley","Bushel","All",0.21]
["27135","Minnesota","Roseau","Canola","Pound","All",18.32]
["27135","Minnesota","Roseau","Corn","Bushel","All",2.06]
["27135","Minnesota","Roseau","Soybeans","Bushel","All",0.26]
["27135","Minnesota","Roseau","Sunflower Seed","Pound","All",7.05]
["27135","Minnesota","Roseau","Wheat","Bushel","All",0.36]
["27139","Minnesota","Scott","Corn","Bushel","All",2.09]
["27139","Minnesota","Scott","Soybeans","Bushel","All",0.47]
["27141","Minnesota","Sherburne","Corn","Bushel","Nonirrigated",1.33]
["27141","Minnesota","Sherburne","Corn","Bushel","Irrigated",1.97]
["27141","Minnesota","Sherburne","Soybeans","Bushel","Nonirrigated",0.27]
["27141","Minnesota","Sherburne","Soybeans","Bushel","Irrigated",0.41]
["27143","Minnesota","Sibley","Corn","Bushel","All",2.15]
["27143","Minnesota","Sibley","Soybeans","Bushel","All",0.46]
["27143","Minnesota","Sibley","Wheat","Bushel","All",0.4]
["27145","Minnesota","Stearns","Barley","Bushel","All",0.6]
["27145","Minnesota","Stearns","Corn","Bushel","Nonirrigated",2.0499999999999998]
["27145","Minnesota","Stearns","Corn","Bushel","Irrigated",2.16]
["27145","Minnesota","Stearns","Soybeans","Bushel","Nonirrigated",0.43]
["27145","Minnesota","Stearns","Soybeans","Bushel","Irrigated",0.44]
["27145","Minnesota","Stearns","Wheat","Bushel","All",0.31]
["27147","Minnesota","Steele","Corn","Bushel","All",2.27]
["27147","Minnesota","Steele","Soybeans","Bushel","All",0.51]
["27149","Minnesota","Stevens","Corn","Bushel","Nonirrigated",2.8]
["27149","Minnesota","Stevens","Corn","Bushel","Irrigated",2.83]
["27149","Minnesota","Stevens","Soybeans","Bushel","Irrigated",0.48]
["27149","Minnesota","Stevens","Soybeans","Bushel","Nonirrigated",0.48]
["27149","Minnesota","Stevens","Wheat","Bushel","All",0.61]
["27151","Minnesota","Swift","Corn","Bushel","Nonirrigated",2.8]
["27151","Minnesota","Swift","Corn","Bushel","Irrigated",2.83]
["27151","Minnesota","Swift","Soybeans","Bushel","Irrigated",0.48]
["27151","Minnesota","Swift","Soybeans","Bushel","Nonirrigated",0.48]
["27151","Minnesota","Swift","Wheat","Bushel","All",0.56000000000000005]
["27153","Minnesota","Todd","Barley","Bushel","All",0.4]
["27153","Minnesota","Todd","Corn","Bushel","Nonirrigated",2.11]
["27153","Minnesota","Todd","Corn","Bushel","Irrigated",2.27]
["27153","Minnesota","Todd","Soybeans","Bushel","Nonirrigated",0.3]
["27153","Minnesota","Todd","Soybeans","Bushel","Irrigated",0.31]
["27153","Minnesota","Todd","Wheat","Bushel","All",0.3]
["27155","Minnesota","Traverse","Corn","Bushel","All",2.83]
["27155","Minnesota","Traverse","Soybeans","Bushel","All",0.48]
["27155","Minnesota","Traverse","Sunflower Seed","Pound","All",11.76]
["27155","Minnesota","Traverse","Wheat","Bushel","All",0.6]
["27157","Minnesota","Wabasha","Barley","Bushel","All",0.44]
["27157","Minnesota","Wabasha","Corn","Bushel","Irrigated",2.08]
["27157","Minnesota","Wabasha","Corn","Bushel","Nonirrigated",2.08]
["27157","Minnesota","Wabasha","Soybeans","Bushel","All",0.53]
["27159","Minnesota","Wadena","Barley","Bushel","All",0.38]
["27159","Minnesota","Wadena","Corn","Bushel","Nonirrigated",1.36]
["27159","Minnesota","Wadena","Corn","Bushel","Irrigated",2.2000000000000002]
["27159","Minnesota","Wadena","Soybeans","Bushel","Nonirrigated",0.25]
["27159","Minnesota","Wadena","Soybeans","Bushel","Irrigated",0.42]
["27161","Minnesota","Waseca","Corn","Bushel","All",2.25]
["27161","Minnesota","Waseca","Soybeans","Bushel","All",0.49]
["27163","Minnesota","Washington","Corn","Bushel","Irrigated",1.84]
["27163","Minnesota","Washington","Corn","Bushel","Nonirrigated",1.84]
["27163","Minnesota","Washington","Soybeans","Bushel","Irrigated",0.43]
["27163","Minnesota","Washington","Soybeans","Bushel","Nonirrigated",0.43]
["27165","Minnesota","Watonwan","Corn","Bushel","Irrigated",2.34]
["27165","Minnesota","Watonwan","Corn","Bushel","Nonirrigated",2.34]
["27165","Minnesota","Watonwan","Soybeans","Bushel","Irrigated",0.49]
["27165","Minnesota","Watonwan","Soybeans","Bushel","Nonirrigated",0.49]
["27167","Minnesota","Wilkin","Corn","Bushel","Irrigated",2.83]
["27167","Minnesota","Wilkin","Corn","Bushel","Nonirrigated",2.83]
["27167","Minnesota","Wilkin","Soybeans","Bushel","Irrigated",0.46]
["27167","Minnesota","Wilkin","Soybeans","Bushel","Nonirrigated",0.46]
["27167","Minnesota","Wilkin","Sunflower Seed","Pound","All",9.5299999999999994]
["27167","Minnesota","Wilkin","Wheat","Bushel","All",0.56999999999999995]
["27169","Minnesota","Winona","Corn","Bushel","All",2.11]
["27169","Minnesota","Winona","Soybeans","Bushel","All",0.53]
["27171","Minnesota","Wright","Corn","Bushel","Irrigated",2.04]
["27171","Minnesota","Wright","Corn","Bushel","Nonirrigated",2.04]
["27171","Minnesota","Wright","Soybeans","Bushel","Irrigated",0.44]
["27171","Minnesota","Wright","Soybeans","Bushel","Nonirrigated",0.44]
["27171","Minnesota","Wright","Wheat","Bushel","All",0.28999999999999998]
["27173","Minnesota","Yellow Medicine","Corn","Bushel","Irrigated",2.79]
["27173","Minnesota","Yellow Medicine","Corn","Bushel","Nonirrigated",2.79]
["27173","Minnesota","Yellow Medicine","Soybeans","Bushel","All",0.5]
["27173","Minnesota","Yellow Medicine","Wheat","Bushel","All",0.62]
["28003","Mississippi","Alcorn","Corn","Bushel","All",1.96]
["28003","Mississippi","Alcorn","Soybeans","Bushel","All",0.41]
["28007","Mississippi","Attala","Corn","Bushel","All",2.83]
["28007","Mississippi","Attala","Cotton_lint","Pound of lint","All",5.74]
["28009","Mississippi","Benton","Corn","Bushel","All",2.33]
["28009","Mississippi","Benton","Soybeans","Bushel","All",0.4]
["28011","Mississippi","Bolivar","Corn","Bushel","Nonirrigated",1.59]
["28011","Mississippi","Bolivar","Corn","Bushel","Irrigated",2.36]
["28011","Mississippi","Bolivar","Cotton_lint","Pound of lint","Nonirrigated",6.49]
["28011","Mississippi","Bolivar","Cotton_lint","Pound of lint","Irrigated",7.8]
["28011","Mississippi","Bolivar","Soybeans","Bushel","Nonirrigated",0.45]
["28011","Mississippi","Bolivar","Soybeans","Bushel","Irrigated",0.52]
["28011","Mississippi","Bolivar","Wheat","Bushel","All",0.67]
["28013","Mississippi","Calhoun","Corn","Bushel","All",2.83]
["28013","Mississippi","Calhoun","Cotton_lint","Pound of lint","All",11.01]
["28013","Mississippi","Calhoun","Soybeans","Bushel","All",0.4]
["28015","Mississippi","Carroll","Corn","Bushel","Nonirrigated",2.2799999999999998]
["28015","Mississippi","Carroll","Corn","Bushel","Irrigated",2.83]
["28015","Mississippi","Carroll","Cotton_lint","Pound of lint","Nonirrigated",6.8]
["28015","Mississippi","Carroll","Cotton_lint","Pound of lint","Irrigated",6.99]
["28015","Mississippi","Carroll","Soybeans","Bushel","Nonirrigated",0.49]
["28015","Mississippi","Carroll","Soybeans","Bushel","Irrigated",0.53]
["28017","Mississippi","Chickasaw","Corn","Bushel","All",2.83]
["28017","Mississippi","Chickasaw","Soybeans","Bushel","All",0.35]
["28021","Mississippi","Claiborne","Corn","Bushel","All",2.83]
["28025","Mississippi","Clay","Corn","Bushel","All",2.83]
["28025","Mississippi","Clay","Soybeans","Bushel","All",0.37]
["28027","Mississippi","Coahoma","Corn","Bushel","Nonirrigated",1.59]
["28027","Mississippi","Coahoma","Corn","Bushel","Irrigated",2.36]
["28027","Mississippi","Coahoma","Cotton_lint","Pound of lint","Nonirrigated",2.91]
["28027","Mississippi","Coahoma","Cotton_lint","Pound of lint","Irrigated",3.59]
["28027","Mississippi","Coahoma","Soybeans","Bushel","Nonirrigated",0.45]
["28027","Mississippi","Coahoma","Soybeans","Bushel","Irrigated",0.52]
["28027","Mississippi","Coahoma","Wheat","Bushel","All",0.64]
["28031","Mississippi","Covington","Corn","Bushel","All",2.06]
["28033","Mississippi","Desoto","Corn","Bushel","Nonirrigated",2.2999999999999998]
["28033","Mississippi","Desoto","Corn","Bushel","Irrigated",2.79]
["28033","Mississippi","DeSoto","Cotton_lint","Pound of lint","All",11.79]
["28033","Mississippi","Desoto","Soybeans","Bushel","Irrigated",0.35]
["28033","Mississippi","Desoto","Soybeans","Bushel","Nonirrigated",0.35]
["28033","Mississippi","Desoto","Wheat","Bushel","All",0.5]
["28039","Mississippi","George","Corn","Bushel","All",1.1599999999999999]
["28043","Mississippi","Grenada","Corn","Bushel","All",2.83]
["28043","Mississippi","Grenada","Cotton_lint","Pound of lint","All",9.6199999999999992]
["28043","Mississippi","Grenada","Soybeans","Bushel","Irrigated",0.44]
["28043","Mississippi","Grenada","Soybeans","Bushel","Nonirrigated",0.44]
["28049","Mississippi","Hinds","Corn","Bushel","All",2.83]
["28049","Mississippi","Hinds","Cotton_lint","Pound of lint","All",4.95]
["28049","Mississippi","Hinds","Soybeans","Bushel","All",0.53]
["28051","Mississippi","Holmes","Corn","Bushel","Nonirrigated",2.0499999999999998]
["28051","Mississippi","Holmes","Corn","Bushel","Irrigated",2.83]
["28051","Mississippi","Holmes","Cotton_lint","Pound of lint","Nonirrigated",5.21]
["28051","Mississippi","Holmes","Cotton_lint","Pound of lint","Irrigated",6.52]
["28051","Mississippi","Holmes","Soybeans","Bushel","Nonirrigated",0.47]
["28051","Mississippi","Holmes","Soybeans","Bushel","Irrigated",0.53]
["28053","Mississippi","Humphreys","Corn","Bushel","Nonirrigated",1.97]
["28053","Mississippi","Humphreys","Corn","Bushel","Irrigated",2.83]
["28053","Mississippi","Humphreys","Cotton_lint","Pound of lint","Nonirrigated",5.24]
["28053","Mississippi","Humphreys","Cotton_lint","Pound of lint","Irrigated",5.78]
["28053","Mississippi","Humphreys","Soybeans","Bushel","Nonirrigated",0.46]
["28053","Mississippi","Humphreys","Soybeans","Bushel","Irrigated",0.53]
["28053","Mississippi","Humphreys","Wheat","Bushel","All",0.68]
["28055","Mississippi","Issaquena","Corn","Bushel","Nonirrigated",1.92]
["28055","Mississippi","Issaquena","Corn","Bushel","Irrigated",2.36]
["28055","Mississippi","Issaquena","Cotton_lint","Pound of lint","Nonirrigated",1.38]
["28055","Mississippi","Issaquena","Cotton_lint","Pound of lint","Irrigated",1.7]
["28055","Mississippi","Issaquena","Soybeans","Bushel","Nonirrigated",0.5]
["28055","Mississippi","Issaquena","Soybeans","Bushel","Irrigated",0.53]
["28057","Mississippi","Itawamba","Corn","Bushel","All",2.2799999999999998]
["28057","Mississippi","Itawamba","Soybeans","Bushel","All",0.37]
["28063","Mississippi","Jefferson","Soybeans","Bushel","All",0.53]
["28071","Mississippi","Lafayette","Corn","Bushel","All",2.65]
["28071","Mississippi","Lafayette","Cotton_lint","Pound of lint","All",12.92]
["28071","Mississippi","Lafayette","Soybeans","Bushel","All",0.37]
["28077","Mississippi","Lawrence","Corn","Bushel","All",2.4500000000000002]
["28081","Mississippi","Lee","Corn","Bushel","All",2.2799999999999998]
["28081","Mississippi","Lee","Soybeans","Bushel","All",0.37]
["28083","Mississippi","Leflore","Corn","Bushel","Nonirrigated",1.53]
["28083","Mississippi","Leflore","Corn","Bushel","Irrigated",2.36]
["28083","Mississippi","Leflore","Cotton_lint","Pound of lint","Nonirrigated",5.18]
["28083","Mississippi","Leflore","Cotton_lint","Pound of lint","Irrigated",6.57]
["28083","Mississippi","Leflore","Soybeans","Bushel","Nonirrigated",0.43]
["28083","Mississippi","Leflore","Soybeans","Bushel","Irrigated",0.53]
["28083","Mississippi","Leflore","Wheat","Bushel","All",0.64]
["28087","Mississippi","Lowndes","Corn","Bushel","Irrigated",2.83]
["28087","Mississippi","Lowndes","Corn","Bushel","Nonirrigated",2.83]
["28087","Mississippi","Lowndes","Cotton_lint","Pound of lint","Irrigated",9.6]
["28087","Mississippi","Lowndes","Cotton_lint","Pound of lint","Nonirrigated",9.6]
["28087","Mississippi","Lowndes","Soybeans","Bushel","All",0.36]
["28089","Mississippi","Madison","Corn","Bushel","All",2.83]
["28089","Mississippi","Madison","Cotton_lint","Pound of lint","All",5.15]
["28089","Mississippi","Madison","Soybeans","Bushel","All",0.53]
["28093","Mississippi","Marshall","Corn","Bushel","All",2.54]
["28093","Mississippi","Marshall","Soybeans","Bushel","All",0.36]
["28093","Mississippi","Marshall","Wheat","Bushel","All",0.54]
["28095","Mississippi","Monroe","Corn","Bushel","Nonirrigated",2.82]
["28095","Mississippi","Monroe","Corn","Bushel","Irrigated",2.83]
["28095","Mississippi","Monroe","Cotton_lint","Pound of lint","All",8.2200000000000006]
["28095","Mississippi","Monroe","Soybeans","Bushel","Irrigated",0.37]
["28095","Mississippi","Monroe","Soybeans","Bushel","Nonirrigated",0.37]
["28095","Mississippi","Monroe","Wheat","Bushel","All",0.43]
["28097","Mississippi","Montgomery","Corn","Bushel","All",2.83]
["28097","Mississippi","Montgomery","Cotton_lint","Pound of lint","All",7.52]
["28097","Mississippi","Montgomery","Soybeans","Bushel","All",0.51]
["28103","Mississippi","Noxubee","Corn","Bushel","Nonirrigated",2.2999999999999998]
["28103","Mississippi","Noxubee","Corn","Bushel","Irrigated",2.83]
["28103","Mississippi","Noxubee","Cotton_lint","Pound of lint","Nonirrigated",12.54]
["28103","Mississippi","Noxubee","Cotton_lint","Pound of lint","Irrigated",13.46]
["28103","Mississippi","Noxubee","Soybeans","Bushel","Irrigated",0.43]
["28103","Mississippi","Noxubee","Soybeans","Bushel","Nonirrigated",0.43]
["28107","Mississippi","Panola","Corn","Bushel","Nonirrigated",2.2799999999999998]
["28107","Mississippi","Panola","Corn","Bushel","Irrigated",2.83]
["28107","Mississippi","Panola","Cotton_lint","Pound of lint","Nonirrigated",10.74]
["28107","Mississippi","Panola","Cotton_lint","Pound of lint","Irrigated",11.75]
["28107","Mississippi","Panola","Soybeans","Bushel","Irrigated",0.4]
["28107","Mississippi","Panola","Soybeans","Bushel","Nonirrigated",0.4]
["28107","Mississippi","Panola","Wheat","Bushel","All",0.64]
["28115","Mississippi","Pontotoc","Corn","Bushel","All",2.38]
["28115","Mississippi","Pontotoc","Soybeans","Bushel","All",0.35]
["28117","Mississippi","Prentiss","Corn","Bushel","All",2.02]
["28117","Mississippi","Prentiss","Soybeans","Bushel","All",0.33]
["28119","Mississippi","Quitman","Corn","Bushel","Nonirrigated",1.64]
["28119","Mississippi","Quitman","Corn","Bushel","Irrigated",2.36]
["28119","Mississippi","Quitman","Cotton_lint","Pound of lint","Nonirrigated",7.02]
["28119","Mississippi","Quitman","Cotton_lint","Pound of lint","Irrigated",9.43]
["28119","Mississippi","Quitman","Soybeans","Bushel","Nonirrigated",0.33]
["28119","Mississippi","Quitman","Soybeans","Bushel","Irrigated",0.39]
["28119","Mississippi","Quitman","Wheat","Bushel","Irrigated",0.52]
["28119","Mississippi","Quitman","Wheat","Bushel","Nonirrigated",0.52]
["28121","Mississippi","Rankin","Corn","Bushel","All",2.83]
["28121","Mississippi","Rankin","Cotton_lint","Pound of lint","All",6.54]
["28121","Mississippi","Rankin","Soybeans","Bushel","All",0.53]
["28123","Mississippi","Scott","Corn","Bushel","All",2.81]
["28125","Mississippi","Sharkey","Corn","Bushel","Nonirrigated",1.67]
["28125","Mississippi","Sharkey","Corn","Bushel","Irrigated",2.36]
["28125","Mississippi","Sharkey","Cotton_lint","Pound of lint","Irrigated",6]
["28125","Mississippi","Sharkey","Cotton_lint","Pound of lint","Nonirrigated",6]
["28125","Mississippi","Sharkey","Soybeans","Bushel","Nonirrigated",0.47]
["28125","Mississippi","Sharkey","Soybeans","Bushel","Irrigated",0.53]
["28127","Mississippi","Simpson","Corn","Bushel","All",2.5099999999999998]
["28133","Mississippi","Sunflower","Corn","Bushel","Nonirrigated",0.82]
["28133","Mississippi","Sunflower","Corn","Bushel","Irrigated",1.32]
["28133","Mississippi","Sunflower","Cotton_lint","Pound of lint","Nonirrigated",4.6399999999999997]
["28133","Mississippi","Sunflower","Cotton_lint","Pound of lint","Irrigated",5.85]
["28133","Mississippi","Sunflower","Grain Sorghum","Bushel","All",0.92]
["28133","Mississippi","Sunflower","Soybeans","Bushel","Nonirrigated",0.43]
["28133","Mississippi","Sunflower","Soybeans","Bushel","Irrigated",0.53]
["28133","Mississippi","Sunflower","Wheat","Bushel","All",0.6]
["28135","Mississippi","Tallahatchie","Corn","Bushel","Nonirrigated",1.97]
["28135","Mississippi","Tallahatchie","Corn","Bushel","Irrigated",2.83]
["28135","Mississippi","Tallahatchie","Cotton_lint","Pound of lint","Nonirrigated",3.53]
["28135","Mississippi","Tallahatchie","Cotton_lint","Pound of lint","Irrigated",4.5999999999999996]
["28135","Mississippi","Tallahatchie","Soybeans","Bushel","Nonirrigated",0.44]
["28135","Mississippi","Tallahatchie","Soybeans","Bushel","Irrigated",0.52]
["28135","Mississippi","Tallahatchie","Wheat","Bushel","All",0.68]
["28137","Mississippi","Tate","Corn","Bushel","All",2.83]
["28137","Mississippi","Tate","Cotton_lint","Pound of lint","All",12.99]
["28137","Mississippi","Tate","Soybeans","Bushel","All",0.41]
["28137","Mississippi","Tate","Wheat","Bushel","All",0.54]
["28139","Mississippi","Tippah","Corn","Bushel","All",1.99]
["28139","Mississippi","Tippah","Soybeans","Bushel","All",0.39]
["28141","Mississippi","Tishomingo","Corn","Bushel","All",2.1]
["28141","Mississippi","Tishomingo","Soybeans","Bushel","All",0.39]
["28143","Mississippi","Tunica","Corn","Bushel","Nonirrigated",1.24]
["28143","Mississippi","Tunica","Corn","Bushel","Irrigated",1.82]
["28143","Mississippi","Tunica","Cotton_lint","Pound of lint","Nonirrigated",6.08]
["28143","Mississippi","Tunica","Cotton_lint","Pound of lint","Irrigated",7.61]
["28143","Mississippi","Tunica","Soybeans","Bushel","Nonirrigated",0.35]
["28143","Mississippi","Tunica","Soybeans","Bushel","Irrigated",0.36]
["28143","Mississippi","Tunica","Wheat","Bushel","All",0.56999999999999995]
["28145","Mississippi","Union","Corn","Bushel","All",2.13]
["28145","Mississippi","Union","Soybeans","Bushel","All",0.37]
["28149","Mississippi","Warren","Corn","Bushel","All",2.83]
["28149","Mississippi","Warren","Cotton_lint","Pound of lint","All",4.51]
["28149","Mississippi","Warren","Soybeans","Bushel","All",0.53]
["28151","Mississippi","Washington","Corn","Bushel","Nonirrigated",0.76]
["28151","Mississippi","Washington","Corn","Bushel","Irrigated",1.1299999999999999]
["28151","Mississippi","Washington","Cotton_lint","Pound of lint","Nonirrigated",2.0499999999999998]
["28151","Mississippi","Washington","Cotton_lint","Pound of lint","Irrigated",2.46]
["28151","Mississippi","Washington","Grain Sorghum","Bushel","All",0.92]
["28151","Mississippi","Washington","Soybeans","Bushel","Nonirrigated",0.46]
["28151","Mississippi","Washington","Soybeans","Bushel","Irrigated",0.53]
["28151","Mississippi","Washington","Wheat","Bushel","All",0.61]
["28155","Mississippi","Webster","Corn","Bushel","All",2.83]
["28155","Mississippi","Webster","Cotton_lint","Pound of lint","All",9.16]
["28161","Mississippi","Yalobusha","Corn","Bushel","All",2.83]
["28161","Mississippi","Yalobusha","Cotton_lint","Pound of lint","All",11.36]
["28161","Mississippi","Yalobusha","Soybeans","Bushel","All",0.42]
["28163","Mississippi","Yazoo","Corn","Bushel","Nonirrigated",2.37]
["28163","Mississippi","Yazoo","Corn","Bushel","Irrigated",2.83]
["28163","Mississippi","Yazoo","Cotton_lint","Pound of lint","Nonirrigated",4.92]
["28163","Mississippi","Yazoo","Cotton_lint","Pound of lint","Irrigated",5.18]
["28163","Mississippi","Yazoo","Grain Sorghum","Bushel","All",0.92]
["28163","Mississippi","Yazoo","Soybeans","Bushel","Nonirrigated",0.49]
["28163","Mississippi","Yazoo","Soybeans","Bushel","Irrigated",0.53]
["28163","Mississippi","Yazoo","Wheat","Bushel","All",0.67]
["29001","Missouri","Adair","Corn","Bushel","All",1.5]
["29001","Missouri","Adair","Soybeans","Bushel","All",0.3]
["29001","Missouri","Adair","Wheat","Bushel","All",0.45]
["29003","Missouri","Andrew","Corn","Bushel","All",1.75]
["29003","Missouri","Andrew","Soybeans","Bushel","All",0.36]
["29003","Missouri","Andrew","Wheat","Bushel","All",0.35]
["29005","Missouri","Atchison","Corn","Bushel","Irrigated",1.88]
["29005","Missouri","Atchison","Corn","Bushel","Nonirrigated",1.88]
["29005","Missouri","Atchison","Soybeans","Bushel","Irrigated",0.43]
["29005","Missouri","Atchison","Soybeans","Bushel","Nonirrigated",0.43]
["29007","Missouri","Audrain","Corn","Bushel","Nonirrigated",1.53]
["29007","Missouri","Audrain","Corn","Bushel","Irrigated",1.57]
["29007","Missouri","Audrain","Grain Sorghum","Bushel","All",0.54]
["29007","Missouri","Audrain","Soybeans","Bushel","Nonirrigated",0.38]
["29007","Missouri","Audrain","Soybeans","Bushel","Irrigated",0.39]
["29007","Missouri","Audrain","Wheat","Bushel","All",0.39]
["29009","Missouri","Barry","Corn","Bushel","All",2.1]
["29009","Missouri","Barry","Soybeans","Bushel","All",0.2]
["29009","Missouri","Barry","Wheat","Bushel","All",0.44]
["29011","Missouri","Barton","Corn","Bushel","Nonirrigated",1.75]
["29011","Missouri","Barton","Corn","Bushel","Irrigated",1.89]
["29011","Missouri","Barton","Grain Sorghum","Bushel","All",0.6]
["29011","Missouri","Barton","Soybeans","Bushel","Irrigated",0.3]
["29011","Missouri","Barton","Soybeans","Bushel","Nonirrigated",0.3]
["29011","Missouri","Barton","Wheat","Bushel","All",0.47]
["29013","Missouri","Bates","Corn","Bushel","Nonirrigated",1.67]
["29013","Missouri","Bates","Corn","Bushel","Irrigated",1.69]
["29013","Missouri","Bates","Grain Sorghum","Bushel","All",0.53]
["29013","Missouri","Bates","Soybeans","Bushel","Irrigated",0.31]
["29013","Missouri","Bates","Soybeans","Bushel","Nonirrigated",0.31]
["29013","Missouri","Bates","Wheat","Bushel","All",0.34]
["29015","Missouri","Benton","Corn","Bushel","All",1.67]
["29015","Missouri","Benton","Grain Sorghum","Bushel","All",0.48]
["29015","Missouri","Benton","Soybeans","Bushel","All",0.31]
["29015","Missouri","Benton","Wheat","Bushel","All",0.33]
["29017","Missouri","Bollinger","Corn","Bushel","Nonirrigated",0.99]
["29017","Missouri","Bollinger","Corn","Bushel","Irrigated",1.24]
["29017","Missouri","Bollinger","Grain Sorghum","Bushel","All",0.48]
["29017","Missouri","Bollinger","Soybeans","Bushel","Nonirrigated",0.31]
["29017","Missouri","Bollinger","Soybeans","Bushel","Irrigated",0.34]
["29017","Missouri","Bollinger","Wheat","Bushel","Nonirrigated",0.36]
["29017","Missouri","Bollinger","Wheat","Bushel","Irrigated",0.37]
["29019","Missouri","Boone","Corn","Bushel","Irrigated",1.57]
["29019","Missouri","Boone","Corn","Bushel","Nonirrigated",1.57]
["29019","Missouri","Boone","Grain Sorghum","Bushel","All",0.55000000000000004]
["29019","Missouri","Boone","Soybeans","Bushel","All",0.37]
["29019","Missouri","Boone","Wheat","Bushel","All",0.44]
["29021","Missouri","Buchanan","Corn","Bushel","Irrigated",1.75]
["29021","Missouri","Buchanan","Corn","Bushel","Nonirrigated",1.75]
["29021","Missouri","Buchanan","Soybeans","Bushel","All",0.37]
["29021","Missouri","Buchanan","Wheat","Bushel","All",0.27]
["29023","Missouri","Butler","Corn","Bushel","Nonirrigated",1.53]
["29023","Missouri","Butler","Corn","Bushel","Irrigated",1.73]
["29023","Missouri","Butler","Grain Sorghum","Bushel","All",0.51]
["29023","Missouri","Butler","Soybeans","Bushel","Nonirrigated",0.36]
["29023","Missouri","Butler","Soybeans","Bushel","Irrigated",0.45]
["29023","Missouri","Butler","Wheat","Bushel","All",0.42]
["29025","Missouri","Caldwell","Corn","Bushel","All",1.63]
["29025","Missouri","Caldwell","Grain Sorghum","Bushel","All",0.55000000000000004]
["29025","Missouri","Caldwell","Soybeans","Bushel","All",0.26]
["29025","Missouri","Caldwell","Wheat","Bushel","All",0.35]
["29027","Missouri","Callaway","Corn","Bushel","Nonirrigated",1.54]
["29027","Missouri","Callaway","Corn","Bushel","Irrigated",1.55]
["29027","Missouri","Callaway","Grain Sorghum","Bushel","All",0.57999999999999996]
["29027","Missouri","Callaway","Soybeans","Bushel","Irrigated",0.41]
["29027","Missouri","Callaway","Soybeans","Bushel","Nonirrigated",0.41]
["29027","Missouri","Callaway","Wheat","Bushel","All",0.35]
["29031","Missouri","Cape Girardeau","Corn","Bushel","Nonirrigated",1.38]
["29031","Missouri","Cape Girardeau","Corn","Bushel","Irrigated",1.49]
["29031","Missouri","Cape Girardeau","Grain Sorghum","Bushel","All",0.7]
["29031","Missouri","Cape Girardeau","Soybeans","Bushel","Irrigated",0.42]
["29031","Missouri","Cape Girardeau","Soybeans","Bushel","Nonirrigated",0.42]
["29031","Missouri","Cape Girardeau","Wheat","Bushel","All",0.45]
["29033","Missouri","Carroll","Corn","Bushel","Irrigated",1.55]
["29033","Missouri","Carroll","Corn","Bushel","Nonirrigated",1.55]
["29033","Missouri","Carroll","Grain Sorghum","Bushel","All",0.66]
["29033","Missouri","Carroll","Soybeans","Bushel","Irrigated",0.36]
["29033","Missouri","Carroll","Soybeans","Bushel","Nonirrigated",0.36]
["29033","Missouri","Carroll","Wheat","Bushel","All",0.2]
["29037","Missouri","Cass","Corn","Bushel","Nonirrigated",1.65]
["29037","Missouri","Cass","Corn","Bushel","Irrigated",1.71]
["29037","Missouri","Cass","Grain Sorghum","Bushel","All",0.46]
["29037","Missouri","Cass","Soybeans","Bushel","Irrigated",0.35]
["29037","Missouri","Cass","Soybeans","Bushel","Nonirrigated",0.35]
["29037","Missouri","Cass","Wheat","Bushel","All",0.3]
["29039","Missouri","Cedar","Corn","Bushel","All",1.84]
["29039","Missouri","Cedar","Soybeans","Bushel","All",0.26]
["29039","Missouri","Cedar","Wheat","Bushel","All",0.28000000000000003]
["29041","Missouri","Chariton","Corn","Bushel","Irrigated",1.51]
["29041","Missouri","Chariton","Corn","Bushel","Nonirrigated",1.51]
["29041","Missouri","Chariton","Soybeans","Bushel","Irrigated",0.33]
["29041","Missouri","Chariton","Soybeans","Bushel","Nonirrigated",0.33]
["29041","Missouri","Chariton","Wheat","Bushel","All",0.25]
["29043","Missouri","Christian","Corn","Bushel","All",2.14]
["29045","Missouri","Clark","Corn","Bushel","Nonirrigated",1.66]
["29045","Missouri","Clark","Corn","Bushel","Irrigated",1.68]
["29045","Missouri","Clark","Soybeans","Bushel","Irrigated",0.32]
["29045","Missouri","Clark","Soybeans","Bushel","Nonirrigated",0.32]
["29045","Missouri","Clark","Wheat","Bushel","All",0.42]
["29047","Missouri","Clay","Corn","Bushel","Irrigated",1.72]
["29047","Missouri","Clay","Corn","Bushel","Nonirrigated",1.72]
["29047","Missouri","Clay","Soybeans","Bushel","All",0.35]
["29047","Missouri","Clay","Wheat","Bushel","All",0.28000000000000003]
["29049","Missouri","Clinton","Corn","Bushel","All",1.69]
["29049","Missouri","Clinton","Soybeans","Bushel","All",0.37]
["29049","Missouri","Clinton","Wheat","Bushel","All",0.3]
["29051","Missouri","Cole","Corn","Bushel","All",1.57]
["29051","Missouri","Cole","Soybeans","Bushel","All",0.41]
["29051","Missouri","Cole","Wheat","Bushel","All",0.26]
["29053","Missouri","Cooper","Corn","Bushel","All",1.6]
["29053","Missouri","Cooper","Grain Sorghum","Bushel","All",0.45]
["29053","Missouri","Cooper","Soybeans","Bushel","All",0.39]
["29053","Missouri","Cooper","Wheat","Bushel","All",0.43]
["29057","Missouri","Dade","Corn","Bushel","Nonirrigated",1.78]
["29057","Missouri","Dade","Corn","Bushel","Irrigated",1.95]
["29057","Missouri","Dade","Grain Sorghum","Bushel","All",0.81]
["29057","Missouri","Dade","Soybeans","Bushel","Irrigated",0.28000000000000003]
["29057","Missouri","Dade","Soybeans","Bushel","Nonirrigated",0.28000000000000003]
["29057","Missouri","Dade","Wheat","Bushel","Irrigated",0.48]
["29057","Missouri","Dade","Wheat","Bushel","Nonirrigated",0.48]
["29061","Missouri","Daviess","Corn","Bushel","All",1.63]
["29061","Missouri","Daviess","Grain Sorghum","Bushel","All",0.64]
["29061","Missouri","Daviess","Soybeans","Bushel","All",0.28000000000000003]
["29061","Missouri","Daviess","Wheat","Bushel","All",0.18]
["29063","Missouri","Dekalb","Corn","Bushel","All",1.69]
["29063","Missouri","Dekalb","Grain Sorghum","Bushel","All",0.44]
["29063","Missouri","Dekalb","Soybeans","Bushel","All",0.33]
["29063","Missouri","Dekalb","Wheat","Bushel","All",0.33]
["29069","Missouri","Dunklin","Corn","Bushel","Nonirrigated",1.58]
["29069","Missouri","Dunklin","Corn","Bushel","Irrigated",1.96]
["29069","Missouri","Dunklin","Cotton_lint","Pound of lint","Nonirrigated",7.61]
["29069","Missouri","Dunklin","Cotton_lint","Pound of lint","Irrigated",8.8699999999999992]
["29069","Missouri","Dunklin","Grain Sorghum","Bushel","Irrigated",0.48]
["29069","Missouri","Dunklin","Grain Sorghum","Bushel","Nonirrigated",0.48]
["29069","Missouri","Dunklin","Soybeans","Bushel","Nonirrigated",0.36]
["29069","Missouri","Dunklin","Soybeans","Bushel","Irrigated",0.43]
["29069","Missouri","Dunklin","Wheat","Bushel","Irrigated",0.46]
["29069","Missouri","Dunklin","Wheat","Bushel","Nonirrigated",0.46]
["29071","Missouri","Franklin","Corn","Bushel","All",1.46]
["29071","Missouri","Franklin","Grain Sorghum","Bushel","All",0.79]
["29071","Missouri","Franklin","Soybeans","Bushel","All",0.42]
["29071","Missouri","Franklin","Wheat","Bushel","All",0.34]
["29073","Missouri","Gasconade","Corn","Bushel","All",1.47]
["29073","Missouri","Gasconade","Grain Sorghum","Bushel","All",0.75]
["29073","Missouri","Gasconade","Soybeans","Bushel","All",0.41]
["29073","Missouri","Gasconade","Wheat","Bushel","All",0.43]
["29075","Missouri","Gentry","Corn","Bushel","All",1.7]
["29075","Missouri","Gentry","Soybeans","Bushel","All",0.31]
["29075","Missouri","Gentry","Wheat","Bushel","All",0.39]
["29077","Missouri","Greene","Corn","Bushel","All",1.94]
["29077","Missouri","Greene","Wheat","Bushel","All",0.28000000000000003]
["29079","Missouri","Grundy","Corn","Bushel","All",1.52]
["29079","Missouri","Grundy","Grain Sorghum","Bushel","All",0.65]
["29079","Missouri","Grundy","Soybeans","Bushel","All",0.28999999999999998]
["29079","Missouri","Grundy","Wheat","Bushel","All",0.25]
["29081","Missouri","Harrison","Corn","Bushel","All",1.66]
["29081","Missouri","Harrison","Soybeans","Bushel","All",0.32]
["29081","Missouri","Harrison","Wheat","Bushel","All",0.3]
["29083","Missouri","Henry","Corn","Bushel","All",1.68]
["29083","Missouri","Henry","Grain Sorghum","Bushel","All",0.51]
["29083","Missouri","Henry","Soybeans","Bushel","All",0.24]
["29083","Missouri","Henry","Wheat","Bushel","All",0.28000000000000003]
["29085","Missouri","Hickory","Corn","Bushel","All",1.66]
["29085","Missouri","Hickory","Soybeans","Bushel","All",0.22]
["29085","Missouri","Hickory","Wheat","Bushel","All",0.26]
["29087","Missouri","Holt","Corn","Bushel","Nonirrigated",1.82]
["29087","Missouri","Holt","Corn","Bushel","Irrigated",1.83]
["29087","Missouri","Holt","Soybeans","Bushel","Irrigated",0.4]
["29087","Missouri","Holt","Soybeans","Bushel","Nonirrigated",0.4]
["29087","Missouri","Holt","Wheat","Bushel","All",0.28000000000000003]
["29089","Missouri","Howard","Corn","Bushel","Nonirrigated",1.54]
["29089","Missouri","Howard","Corn","Bushel","Irrigated",1.57]
["29089","Missouri","Howard","Soybeans","Bushel","Irrigated",0.41]
["29089","Missouri","Howard","Soybeans","Bushel","Nonirrigated",0.41]
["29089","Missouri","Howard","Wheat","Bushel","All",0.26]
["29095","Missouri","Jackson","Corn","Bushel","Nonirrigated",1.71]
["29095","Missouri","Jackson","Corn","Bushel","Irrigated",1.75]
["29095","Missouri","Jackson","Soybeans","Bushel","All",0.36]
["29095","Missouri","Jackson","Wheat","Bushel","All",0.43]
["29097","Missouri","Jasper","Corn","Bushel","Nonirrigated",1.8]
["29097","Missouri","Jasper","Corn","Bushel","Irrigated",1.89]
["29097","Missouri","Jasper","Grain Sorghum","Bushel","All",0.68]
["29097","Missouri","Jasper","Soybeans","Bushel","Irrigated",0.3]
["29097","Missouri","Jasper","Soybeans","Bushel","Nonirrigated",0.3]
["29097","Missouri","Jasper","Wheat","Bushel","All",0.49]
["29099","Missouri","Jefferson","Corn","Bushel","All",1.47]
["29099","Missouri","Jefferson","Soybeans","Bushel","All",0.39]
["29099","Missouri","Jefferson","Wheat","Bushel","All",0.28999999999999998]
["29101","Missouri","Johnson","Corn","Bushel","Irrigated",1.76]
["29101","Missouri","Johnson","Corn","Bushel","Nonirrigated",1.76]
["29101","Missouri","Johnson","Grain Sorghum","Bushel","All",0.41]
["29101","Missouri","Johnson","Soybeans","Bushel","Irrigated",0.36]
["29101","Missouri","Johnson","Soybeans","Bushel","Nonirrigated",0.36]
["29101","Missouri","Johnson","Wheat","Bushel","All",0.32]
["29103","Missouri","Knox","Corn","Bushel","All",1.59]
["29103","Missouri","Knox","Soybeans","Bushel","All",0.34]
["29103","Missouri","Knox","Wheat","Bushel","All",0.4]
["29105","Missouri","Laclede","Corn","Bushel","All",1.6]
["29107","Missouri","Lafayette","Corn","Bushel","Irrigated",1.72]
["29107","Missouri","Lafayette","Corn","Bushel","Nonirrigated",1.72]
["29107","Missouri","Lafayette","Soybeans","Bushel","Irrigated",0.43]
["29107","Missouri","Lafayette","Soybeans","Bushel","Nonirrigated",0.43]
["29107","Missouri","Lafayette","Wheat","Bushel","All",0.28999999999999998]
["29109","Missouri","Lawrence","Corn","Bushel","All",2.02]
["29109","Missouri","Lawrence","Soybeans","Bushel","All",0.25]
["29109","Missouri","Lawrence","Wheat","Bushel","All",0.38]
["29111","Missouri","Lewis","Corn","Bushel","Nonirrigated",1.69]
["29111","Missouri","Lewis","Corn","Bushel","Irrigated",1.7]
["29111","Missouri","Lewis","Soybeans","Bushel","All",0.36]
["29111","Missouri","Lewis","Wheat","Bushel","All",0.36]
["29113","Missouri","Lincoln","Corn","Bushel","Irrigated",1.53]
["29113","Missouri","Lincoln","Corn","Bushel","Nonirrigated",1.53]
["29113","Missouri","Lincoln","Grain Sorghum","Bushel","All",0.66]
["29113","Missouri","Lincoln","Soybeans","Bushel","Irrigated",0.4]
["29113","Missouri","Lincoln","Soybeans","Bushel","Nonirrigated",0.4]
["29113","Missouri","Lincoln","Wheat","Bushel","All",0.38]
["29115","Missouri","Linn","Corn","Bushel","All",1.49]
["29115","Missouri","Linn","Grain Sorghum","Bushel","All",0.51]
["29115","Missouri","Linn","Soybeans","Bushel","All",0.28999999999999998]
["29115","Missouri","Linn","Wheat","Bushel","All",0.25]
["29117","Missouri","Livingston","Corn","Bushel","All",1.53]
["29117","Missouri","Livingston","Grain Sorghum","Bushel","All",0.82]
["29117","Missouri","Livingston","Soybeans","Bushel","All",0.28999999999999998]
["29117","Missouri","Livingston","Wheat","Bushel","All",0.28000000000000003]
["29121","Missouri","Macon","Corn","Bushel","All",1.5]
["29121","Missouri","Macon","Grain Sorghum","Bushel","All",0.86]
["29121","Missouri","Macon","Soybeans","Bushel","All",0.3]
["29121","Missouri","Macon","Wheat","Bushel","All",0.34]
["29125","Missouri","Maries","Corn","Bushel","All",1.55]
["29125","Missouri","Maries","Wheat","Bushel","All",0.31]
["29127","Missouri","Marion","Corn","Bushel","Nonirrigated",1.65]
["29127","Missouri","Marion","Corn","Bushel","Irrigated",1.66]
["29127","Missouri","Marion","Grain Sorghum","Bushel","All",0.57999999999999996]
["29127","Missouri","Marion","Soybeans","Bushel","Irrigated",0.38]
["29127","Missouri","Marion","Soybeans","Bushel","Nonirrigated",0.38]
["29127","Missouri","Marion","Wheat","Bushel","All",0.39]
["29129","Missouri","Mercer","Corn","Bushel","All",1.55]
["29129","Missouri","Mercer","Soybeans","Bushel","All",0.3]
["29131","Missouri","Miller","Corn","Bushel","All",1.59]
["29131","Missouri","Miller","Soybeans","Bushel","All",0.41]
["29131","Missouri","Miller","Wheat","Bushel","All",0.28000000000000003]
["29133","Missouri","Mississippi","Corn","Bushel","Nonirrigated",1.54]
["29133","Missouri","Mississippi","Corn","Bushel","Irrigated",1.63]
["29133","Missouri","Mississippi","Grain Sorghum","Bushel","All",0.68]
["29133","Missouri","Mississippi","Soybeans","Bushel","Nonirrigated",0.47]
["29133","Missouri","Mississippi","Soybeans","Bushel","Irrigated",0.48]
["29133","Missouri","Mississippi","Wheat","Bushel","Nonirrigated",0.56999999999999995]
["29133","Missouri","Mississippi","Wheat","Bushel","Irrigated",0.62]
["29135","Missouri","Moniteau","Corn","Bushel","All",1.59]
["29135","Missouri","Moniteau","Soybeans","Bushel","All",0.35]
["29135","Missouri","Moniteau","Wheat","Bushel","All",0.42]
["29137","Missouri","Monroe","Corn","Bushel","Irrigated",1.59]
["29137","Missouri","Monroe","Corn","Bushel","Nonirrigated",1.59]
["29137","Missouri","Monroe","Grain Sorghum","Bushel","All",0.61]
["29137","Missouri","Monroe","Soybeans","Bushel","Irrigated",0.37]
["29137","Missouri","Monroe","Soybeans","Bushel","Nonirrigated",0.37]
["29137","Missouri","Monroe","Wheat","Bushel","All",0.3]
["29139","Missouri","Montgomery","Corn","Bushel","Nonirrigated",1.49]
["29139","Missouri","Montgomery","Corn","Bushel","Irrigated",1.51]
["29139","Missouri","Montgomery","Grain Sorghum","Bushel","All",0.69]
["29139","Missouri","Montgomery","Soybeans","Bushel","Irrigated",0.42]
["29139","Missouri","Montgomery","Soybeans","Bushel","Nonirrigated",0.42]
["29139","Missouri","Montgomery","Wheat","Bushel","All",0.41]
["29141","Missouri","Morgan","Corn","Bushel","All",1.62]
["29141","Missouri","Morgan","Soybeans","Bushel","All",0.38]
["29141","Missouri","Morgan","Wheat","Bushel","All",0.55000000000000004]
["29143","Missouri","New Madrid","Corn","Bushel","Nonirrigated",1.43]
["29143","Missouri","New Madrid","Corn","Bushel","Irrigated",1.62]
["29143","Missouri","New Madrid","Cotton_lint","Pound of lint","Nonirrigated",9.9700000000000006]
["29143","Missouri","New Madrid","Cotton_lint","Pound of lint","Irrigated",11.32]
["29143","Missouri","New Madrid","Grain Sorghum","Bushel","Irrigated",0.4]
["29143","Missouri","New Madrid","Grain Sorghum","Bushel","Nonirrigated",0.4]
["29143","Missouri","New Madrid","Soybeans","Bushel","Nonirrigated",0.41]
["29143","Missouri","New Madrid","Soybeans","Bushel","Irrigated",0.5]
["29143","Missouri","New Madrid","Wheat","Bushel","Nonirrigated",0.48]
["29143","Missouri","New Madrid","Wheat","Bushel","Irrigated",0.5]
["29145","Missouri","Newton","Corn","Bushel","All",1.83]
["29145","Missouri","Newton","Grain Sorghum","Bushel","All",0.5]
["29145","Missouri","Newton","Soybeans","Bushel","All",0.23]
["29145","Missouri","Newton","Wheat","Bushel","All",0.5]
["29147","Missouri","Nodaway","Corn","Bushel","All",1.78]
["29147","Missouri","Nodaway","Soybeans","Bushel","All",0.38]
["29147","Missouri","Nodaway","Wheat","Bushel","All",0.32]
["29151","Missouri","Osage","Corn","Bushel","Nonirrigated",1.51]
["29151","Missouri","Osage","Corn","Bushel","Irrigated",1.55]
["29151","Missouri","Osage","Grain Sorghum","Bushel","All",0.6]
["29151","Missouri","Osage","Soybeans","Bushel","Irrigated",0.41]
["29151","Missouri","Osage","Soybeans","Bushel","Nonirrigated",0.41]
["29151","Missouri","Osage","Wheat","Bushel","All",0.28000000000000003]
["29155","Missouri","Pemiscot","Corn","Bushel","Nonirrigated",1.59]
["29155","Missouri","Pemiscot","Corn","Bushel","Irrigated",1.79]
["29155","Missouri","Pemiscot","Cotton_lint","Pound of lint","Nonirrigated",13.07]
["29155","Missouri","Pemiscot","Cotton_lint","Pound of lint","Irrigated",13.6]
["29155","Missouri","Pemiscot","Grain Sorghum","Bushel","Irrigated",0.44]
["29155","Missouri","Pemiscot","Grain Sorghum","Bushel","Nonirrigated",0.44]
["29155","Missouri","Pemiscot","Soybeans","Bushel","Nonirrigated",0.45]
["29155","Missouri","Pemiscot","Soybeans","Bushel","Irrigated",0.51]
["29155","Missouri","Pemiscot","Wheat","Bushel","Irrigated",0.51]
["29155","Missouri","Pemiscot","Wheat","Bushel","Nonirrigated",0.51]
["29157","Missouri","Perry","Corn","Bushel","All",1.44]
["29157","Missouri","Perry","Grain Sorghum","Bushel","All",0.55000000000000004]
["29157","Missouri","Perry","Soybeans","Bushel","Irrigated",0.43]
["29157","Missouri","Perry","Soybeans","Bushel","Nonirrigated",0.43]
["29157","Missouri","Perry","Wheat","Bushel","All",0.46]
["29159","Missouri","Pettis","Corn","Bushel","Irrigated",1.66]
["29159","Missouri","Pettis","Corn","Bushel","Nonirrigated",1.66]
["29159","Missouri","Pettis","Grain Sorghum","Bushel","All",0.47]
["29159","Missouri","Pettis","Soybeans","Bushel","All",0.36]
["29159","Missouri","Pettis","Wheat","Bushel","All",0.32]
["29163","Missouri","Pike","Corn","Bushel","Irrigated",1.68]
["29163","Missouri","Pike","Corn","Bushel","Nonirrigated",1.68]
["29163","Missouri","Pike","Grain Sorghum","Bushel","All",0.54]
["29163","Missouri","Pike","Soybeans","Bushel","Irrigated",0.39]
["29163","Missouri","Pike","Soybeans","Bushel","Nonirrigated",0.39]
["29163","Missouri","Pike","Wheat","Bushel","All",0.33]
["29165","Missouri","Platte","Corn","Bushel","Nonirrigated",1.73]
["29165","Missouri","Platte","Corn","Bushel","Irrigated",1.75]
["29165","Missouri","Platte","Soybeans","Bushel","Irrigated",0.39]
["29165","Missouri","Platte","Soybeans","Bushel","Nonirrigated",0.39]
["29165","Missouri","Platte","Wheat","Bushel","All",0.27]
["29167","Missouri","Polk","Corn","Bushel","All",1.72]
["29167","Missouri","Polk","Soybeans","Bushel","All",0.28000000000000003]
["29167","Missouri","Polk","Wheat","Bushel","All",0.28000000000000003]
["29171","Missouri","Putnam","Corn","Bushel","All",1.53]
["29171","Missouri","Putnam","Soybeans","Bushel","All",0.32]
["29173","Missouri","Ralls","Corn","Bushel","Irrigated",1.64]
["29173","Missouri","Ralls","Corn","Bushel","Nonirrigated",1.64]
["29173","Missouri","Ralls","Grain Sorghum","Bushel","All",0.72]
["29173","Missouri","Ralls","Soybeans","Bushel","Irrigated",0.4]
["29173","Missouri","Ralls","Soybeans","Bushel","Nonirrigated",0.4]
["29173","Missouri","Ralls","Wheat","Bushel","All",0.32]
["29175","Missouri","Randolph","Corn","Bushel","All",1.52]
["29175","Missouri","Randolph","Grain Sorghum","Bushel","All",0.64]
["29175","Missouri","Randolph","Soybeans","Bushel","All",0.33]
["29175","Missouri","Randolph","Wheat","Bushel","All",0.27]
["29177","Missouri","Ray","Corn","Bushel","Nonirrigated",1.66]
["29177","Missouri","Ray","Corn","Bushel","Irrigated",1.67]
["29177","Missouri","Ray","Soybeans","Bushel","Irrigated",0.33]
["29177","Missouri","Ray","Soybeans","Bushel","Nonirrigated",0.33]
["29177","Missouri","Ray","Wheat","Bushel","All",0.25]
["29181","Missouri","Ripley","Corn","Bushel","All",1.77]
["29181","Missouri","Ripley","Soybeans","Bushel","Nonirrigated",0.27]
["29181","Missouri","Ripley","Soybeans","Bushel","Irrigated",0.34]
["29181","Missouri","Ripley","Wheat","Bushel","All",0.34]
["29183","Missouri","St. Charles","Corn","Bushel","All",1.52]
["29183","Missouri","St. Charles","Soybeans","Bushel","All",0.44]
["29183","Missouri","St. Charles","Wheat","Bushel","All",0.4]
["29185","Missouri","St. Clair","Corn","Bushel","All",1.77]
["29185","Missouri","St. Clair","Grain Sorghum","Bushel","All",0.52]
["29185","Missouri","St. Clair","Soybeans","Bushel","All",0.25]
["29185","Missouri","St. Clair","Wheat","Bushel","All",0.28999999999999998]
["29187","Missouri","St. Francois","Corn","Bushel","All",1.42]
["29187","Missouri","St. Francois","Soybeans","Bushel","All",0.38]
["29189","Missouri","St. Louis","Corn","Bushel","All",1.56]
["29189","Missouri","St. Louis","Soybeans","Bushel","All",0.44]
["29189","Missouri","St. Louis","Wheat","Bushel","All",0.43]
["29195","Missouri","Saline","Corn","Bushel","Irrigated",1.6]
["29195","Missouri","Saline","Corn","Bushel","Nonirrigated",1.6]
["29195","Missouri","Saline","Soybeans","Bushel","Irrigated",0.43]
["29195","Missouri","Saline","Soybeans","Bushel","Nonirrigated",0.43]
["29195","Missouri","Saline","Wheat","Bushel","All",0.25]
["29197","Missouri","Schuyler","Corn","Bushel","All",1.54]
["29197","Missouri","Schuyler","Soybeans","Bushel","All",0.28000000000000003]
["29197","Missouri","Schuyler","Wheat","Bushel","All",0.32]
["29199","Missouri","Scotland","Corn","Bushel","All",1.61]
["29199","Missouri","Scotland","Soybeans","Bushel","All",0.36]
["29199","Missouri","Scotland","Wheat","Bushel","All",0.46]
["29201","Missouri","Scott","Corn","Bushel","Nonirrigated",1.4]
["29201","Missouri","Scott","Corn","Bushel","Irrigated",1.5]
["29201","Missouri","Scott","Cotton_lint","Pound of lint","Nonirrigated",11.82]
["29201","Missouri","Scott","Cotton_lint","Pound of lint","Irrigated",13.6]
["29201","Missouri","Scott","Grain Sorghum","Bushel","All",0.44]
["29201","Missouri","Scott","Soybeans","Bushel","Nonirrigated",0.44]
["29201","Missouri","Scott","Soybeans","Bushel","Irrigated",0.46]
["29201","Missouri","Scott","Wheat","Bushel","Irrigated",0.5]
["29201","Missouri","Scott","Wheat","Bushel","Nonirrigated",0.5]
["29205","Missouri","Shelby","Corn","Bushel","Irrigated",1.59]
["29205","Missouri","Shelby","Corn","Bushel","Nonirrigated",1.59]
["29205","Missouri","Shelby","Grain Sorghum","Bushel","All",0.9]
["29205","Missouri","Shelby","Soybeans","Bushel","Irrigated",0.35]
["29205","Missouri","Shelby","Soybeans","Bushel","Nonirrigated",0.35]
["29205","Missouri","Shelby","Wheat","Bushel","All",0.33]
["29207","Missouri","Stoddard","Corn","Bushel","Nonirrigated",1.1200000000000001]
["29207","Missouri","Stoddard","Corn","Bushel","Irrigated",1.53]
["29207","Missouri","Stoddard","Cotton_lint","Pound of lint","Nonirrigated",7.87]
["29207","Missouri","Stoddard","Cotton_lint","Pound of lint","Irrigated",8.58]
["29207","Missouri","Stoddard","Grain Sorghum","Bushel","All",0.48]
["29207","Missouri","Stoddard","Soybeans","Bushel","Nonirrigated",0.39]
["29207","Missouri","Stoddard","Soybeans","Bushel","Irrigated",0.45]
["29207","Missouri","Stoddard","Wheat","Bushel","Nonirrigated",0.53]
["29207","Missouri","Stoddard","Wheat","Bushel","Irrigated",0.54]
["29211","Missouri","Sullivan","Corn","Bushel","All",1.49]
["29211","Missouri","Sullivan","Soybeans","Bushel","All",0.26]
["29211","Missouri","Sullivan","Wheat","Bushel","All",0.28999999999999998]
["29217","Missouri","Vernon","Corn","Bushel","Nonirrigated",1.72]
["29217","Missouri","Vernon","Corn","Bushel","Irrigated",1.74]
["29217","Missouri","Vernon","Grain Sorghum","Bushel","All",0.48]
["29217","Missouri","Vernon","Soybeans","Bushel","Irrigated",0.28000000000000003]
["29217","Missouri","Vernon","Soybeans","Bushel","Nonirrigated",0.28000000000000003]
["29217","Missouri","Vernon","Wheat","Bushel","Irrigated",0.32]
["29217","Missouri","Vernon","Wheat","Bushel","Nonirrigated",0.32]
["29219","Missouri","Warren","Corn","Bushel","Nonirrigated",1.45]
["29219","Missouri","Warren","Corn","Bushel","Irrigated",1.46]
["29219","Missouri","Warren","Grain Sorghum","Bushel","All",0.54]
["29219","Missouri","Warren","Soybeans","Bushel","Irrigated",0.43]
["29219","Missouri","Warren","Soybeans","Bushel","Nonirrigated",0.43]
["29219","Missouri","Warren","Wheat","Bushel","All",0.39]
["29223","Missouri","Wayne","Corn","Bushel","All",1.31]
["29223","Missouri","Wayne","Soybeans","Bushel","All",0.3]
["29225","Missouri","Webster","Corn","Bushel","All",1.5]
["29227","Missouri","Worth","Corn","Bushel","All",1.73]
["29227","Missouri","Worth","Soybeans","Bushel","All",0.25]
["30001","Montana","Beaverhead","Barley","Bushel","All",0.92]
["30001","Montana","Beaverhead","Wheat","Bushel","All",0.71]
["30003","Montana","Big Horn","Barley","Bushel","Nonirrigated",0.39]
["30003","Montana","Big Horn","Barley","Bushel","Irrigated",0.95]
["30003","Montana","Big Horn","Corn","Bushel","Irrigated",1.84]
["30003","Montana","Big Horn","Wheat","Bushel","Irrigated",0.17]
["30003","Montana","Big Horn","Wheat","Bushel","Nonirrigated",0.17]
["30005","Montana","Blaine","Barley","Bushel","Irrigated",0.41]
["30005","Montana","Blaine","Barley","Bushel","Nonirrigated",0.41]
["30005","Montana","Blaine","Wheat","Bushel","Irrigated",0.19]
["30005","Montana","Blaine","Wheat","Bushel","Nonirrigated",0.19]
["30007","Montana","Broadwater","Barley","Bushel","Nonirrigated",0.36]
["30007","Montana","Broadwater","Barley","Bushel","Irrigated",0.72]
["30007","Montana","Broadwater","Wheat","Bushel","Nonirrigated",0.23]
["30007","Montana","Broadwater","Wheat","Bushel","Irrigated",0.28000000000000003]
["30009","Montana","Carbon","Barley","Bushel","All",0.95]
["30009","Montana","Carbon","Corn","Bushel","All",2.0299999999999998]
["30009","Montana","Carbon","Wheat","Bushel","Irrigated",0.06]
["30009","Montana","Carbon","Wheat","Bushel","Nonirrigated",0.06]
["30011","Montana","Carter","Wheat","Bushel","All",0.14000000000000001]
["30013","Montana","Cascade","Barley","Bushel","Nonirrigated",0.39]
["30013","Montana","Cascade","Barley","Bushel","Irrigated",0.46]
["30013","Montana","Cascade","Wheat","Bushel","Irrigated",0.21]
["30013","Montana","Cascade","Wheat","Bushel","Nonirrigated",0.21]
["30015","Montana","Chouteau","Barley","Bushel","Irrigated",0.27]
["30015","Montana","Chouteau","Barley","Bushel","Nonirrigated",0.27]
["30015","Montana","Chouteau","Wheat","Bushel","Irrigated",0.23]
["30015","Montana","Chouteau","Wheat","Bushel","Nonirrigated",0.23]
["30017","Montana","Custer","Barley","Bushel","All",0.83]
["30017","Montana","Custer","Corn","Bushel","All",1.1499999999999999]
["30017","Montana","Custer","Wheat","Bushel","Irrigated",0.1]
["30017","Montana","Custer","Wheat","Bushel","Nonirrigated",0.1]
["30019","Montana","Daniels","Canola","Pound","All",24.68]
["30019","Montana","Daniels","Wheat","Bushel","All",0.21]
["30021","Montana","Dawson","Barley","Bushel","Nonirrigated",0.53]
["30021","Montana","Dawson","Barley","Bushel","Irrigated",0.7]
["30021","Montana","Dawson","Chickpeas_Large","Pound","All",12.94]
["30021","Montana","Dawson","Corn","Bushel","All",1.82]
["30021","Montana","Dawson","Wheat","Bushel","Irrigated",0.18]
["30021","Montana","Dawson","Wheat","Bushel","Nonirrigated",0.18]
["30025","Montana","Fallon","Barley","Bushel","All",0.53]
["30025","Montana","Fallon","Wheat","Bushel","All",0.1]
["30027","Montana","Fergus","Barley","Bushel","All",0.39]
["30027","Montana","Fergus","Wheat","Bushel","Irrigated",0.18]
["30027","Montana","Fergus","Wheat","Bushel","Nonirrigated",0.18]
["30029","Montana","Flathead","Barley","Bushel","All",0.52]
["30029","Montana","Flathead","Wheat","Bushel","Nonirrigated",0.36]
["30029","Montana","Flathead","Wheat","Bushel","Irrigated",0.39]
["30031","Montana","Gallatin","Barley","Bushel","Nonirrigated",0.55000000000000004]
["30031","Montana","Gallatin","Barley","Bushel","Irrigated",0.61]
["30031","Montana","Gallatin","Wheat","Bushel","Nonirrigated",0.34]
["30031","Montana","Gallatin","Wheat","Bushel","Irrigated",0.63]
["30033","Montana","Garfield","Barley","Bushel","All",0.55000000000000004]
["30033","Montana","Garfield","Wheat","Bushel","All",0.11]
["30035","Montana","Glacier","Barley","Bushel","Irrigated",0.22]
["30035","Montana","Glacier","Barley","Bushel","Nonirrigated",0.22]
["30035","Montana","Glacier","Wheat","Bushel","Irrigated",0.23]
["30035","Montana","Glacier","Wheat","Bushel","Nonirrigated",0.23]
["30037","Montana","Golden Valley","Barley","Bushel","All",0.34]
["30037","Montana","Golden Valley","Wheat","Bushel","All",0.22]
["30041","Montana","Hill","Barley","Bushel","All",0.28999999999999998]
["30041","Montana","Hill","Wheat","Bushel","All",0.19]
["30045","Montana","Judith Basin","Barley","Bushel","All",0.32]
["30045","Montana","Judith Basin","Wheat","Bushel","Irrigated",0.16]
["30045","Montana","Judith Basin","Wheat","Bushel","Nonirrigated",0.16]
["30047","Montana","Lake","Barley","Bushel","All",0.53]
["30047","Montana","Lake","Wheat","Bushel","Nonirrigated",0.2]
["30047","Montana","Lake","Wheat","Bushel","Irrigated",0.4]
["30049","Montana","Lewis And Clark","Barley","Bushel","Nonirrigated",0.47]
["30049","Montana","Lewis And Clark","Barley","Bushel","Irrigated",0.66]
["30049","Montana","Lewis And Clark","Wheat","Bushel","Irrigated",0.14000000000000001]
["30049","Montana","Lewis And Clark","Wheat","Bushel","Nonirrigated",0.14000000000000001]
["30051","Montana","Liberty","Barley","Bushel","Irrigated",0.22]
["30051","Montana","Liberty","Barley","Bushel","Nonirrigated",0.22]
["30051","Montana","Liberty","Wheat","Bushel","Irrigated",0.13]
["30051","Montana","Liberty","Wheat","Bushel","Nonirrigated",0.13]
["30055","Montana","Mccone","Barley","Bushel","All",0.63]
["30055","Montana","Mccone","Wheat","Bushel","Irrigated",0.18]
["30055","Montana","Mccone","Wheat","Bushel","Nonirrigated",0.18]
["30057","Montana","Madison","Barley","Bushel","All",0.74]
["30057","Montana","Madison","Wheat","Bushel","Nonirrigated",0.66]
["30057","Montana","Madison","Wheat","Bushel","Irrigated",0.71]
["30059","Montana","Meagher","Barley","Bushel","Nonirrigated",0.33]
["30059","Montana","Meagher","Barley","Bushel","Irrigated",0.45]
["30059","Montana","Meagher","Wheat","Bushel","Nonirrigated",0.18]
["30059","Montana","Meagher","Wheat","Bushel","Irrigated",0.2]
["30063","Montana","Missoula","Wheat","Bushel","All",0.31]
["30065","Montana","Musselshell","Wheat","Bushel","All",0.1]
["30067","Montana","Park","Barley","Bushel","Nonirrigated",0.3]
["30067","Montana","Park","Barley","Bushel","Irrigated",0.59]
["30067","Montana","Park","Wheat","Bushel","Nonirrigated",0.09]
["30067","Montana","Park","Wheat","Bushel","Irrigated",0.12]
["30069","Montana","Petroleum","Wheat","Bushel","All",0.1]
["30071","Montana","Phillips","Barley","Bushel","All",0.42]
["30071","Montana","Phillips","Wheat","Bushel","Irrigated",0.19]
["30071","Montana","Phillips","Wheat","Bushel","Nonirrigated",0.19]
["30073","Montana","Pondera","Barley","Bushel","Irrigated",0.39]
["30073","Montana","Pondera","Barley","Bushel","Nonirrigated",0.39]
["30073","Montana","Pondera","Canola","Pound","Nonirrigated",18.309999999999999]
["30073","Montana","Pondera","Canola","Pound","Irrigated",33.4]
["30073","Montana","Pondera","Wheat","Bushel","Nonirrigated",0.28999999999999998]
["30073","Montana","Pondera","Wheat","Bushel","Irrigated",0.31]
["30075","Montana","Powder River","Wheat","Bushel","All",0.1]
["30079","Montana","Prairie","Corn","Bushel","All",1.24]
["30079","Montana","Prairie","Wheat","Bushel","Irrigated",0.1]
["30079","Montana","Prairie","Wheat","Bushel","Nonirrigated",0.1]
["30081","Montana","Ravalli","Barley","Bushel","All",0.68]
["30081","Montana","Ravalli","Wheat","Bushel","All",0.35]
["30083","Montana","Richland","Barley","Bushel","Nonirrigated",0.57999999999999996]
["30083","Montana","Richland","Barley","Bushel","Irrigated",0.84]
["30083","Montana","Richland","Canola","Pound","All",24.68]
["30083","Montana","Richland","Corn","Bushel","Irrigated",2.04]
["30083","Montana","Richland","Wheat","Bushel","Nonirrigated",0.27]
["30083","Montana","Richland","Wheat","Bushel","Irrigated",0.28000000000000003]
["30085","Montana","Roosevelt","Barley","Bushel","Nonirrigated",0.48]
["30085","Montana","Roosevelt","Barley","Bushel","Irrigated",0.7]
["30085","Montana","Roosevelt","Wheat","Bushel","Irrigated",0.28000000000000003]
["30085","Montana","Roosevelt","Wheat","Bushel","Nonirrigated",0.28000000000000003]
["30087","Montana","Rosebud","Barley","Bushel","Nonirrigated",0.6]
["30087","Montana","Rosebud","Barley","Bushel","Irrigated",0.95]
["30087","Montana","Rosebud","Corn","Bushel","All",1.18]
["30087","Montana","Rosebud","Wheat","Bushel","Irrigated",0.1]
["30087","Montana","Rosebud","Wheat","Bushel","Nonirrigated",0.1]
["30089","Montana","Sanders","Wheat","Bushel","All",0.17]
["30091","Montana","Sheridan","Barley","Bushel","Nonirrigated",0.55000000000000004]
["30091","Montana","Sheridan","Barley","Bushel","Irrigated",0.56999999999999995]
["30091","Montana","Sheridan","Wheat","Bushel","Irrigated",0.26]
["30091","Montana","Sheridan","Wheat","Bushel","Nonirrigated",0.26]
["30095","Montana","Stillwater","Barley","Bushel","Nonirrigated",0.33]
["30095","Montana","Stillwater","Barley","Bushel","Irrigated",0.43]
["30095","Montana","Stillwater","Corn","Bushel","All",2.0499999999999998]
["30095","Montana","Stillwater","Wheat","Bushel","All",7.0000000000000007E-2]
["30097","Montana","Sweet Grass","Barley","Bushel","All",0.56999999999999995]
["30097","Montana","Sweet Grass","Wheat","Bushel","All",0.12]
["30099","Montana","Teton","Barley","Bushel","Nonirrigated",0.38]
["30099","Montana","Teton","Barley","Bushel","Irrigated",0.54]
["30099","Montana","Teton","Canola","Pound","All",33.4]
["30099","Montana","Teton","Wheat","Bushel","Nonirrigated",0.28999999999999998]
["30099","Montana","Teton","Wheat","Bushel","Irrigated",0.3]
["30101","Montana","Toole","Barley","Bushel","All",0.25]
["30101","Montana","Toole","Canola","Pound","All",29.04]
["30101","Montana","Toole","Wheat","Bushel","Irrigated",0.2]
["30101","Montana","Toole","Wheat","Bushel","Nonirrigated",0.2]
["30103","Montana","Treasure","Barley","Bushel","All",0.95]
["30103","Montana","Treasure","Corn","Bushel","All",1.89]
["30103","Montana","Treasure","Wheat","Bushel","Nonirrigated",0.24]
["30103","Montana","Treasure","Wheat","Bushel","Irrigated",0.45]
["30105","Montana","Valley","Barley","Bushel","Nonirrigated",0.49]
["30105","Montana","Valley","Barley","Bushel","Irrigated",0.54]
["30105","Montana","Valley","Canola","Pound","All",24.68]
["30105","Montana","Valley","Wheat","Bushel","Irrigated",0.31]
["30105","Montana","Valley","Wheat","Bushel","Nonirrigated",0.31]
["30107","Montana","Wheatland","Barley","Bushel","All",0.35]
["30107","Montana","Wheatland","Wheat","Bushel","All",0.12]
["30109","Montana","Wibaux","Barley","Bushel","All",0.61]
["30109","Montana","Wibaux","Wheat","Bushel","All",0.17]
["30111","Montana","Yellowstone","Barley","Bushel","Nonirrigated",0.48]
["30111","Montana","Yellowstone","Barley","Bushel","Irrigated",0.95]
["30111","Montana","Yellowstone","Corn","Bushel","Irrigated",2.09]
["30111","Montana","Yellowstone","Wheat","Bushel","Nonirrigated",7.0000000000000007E-2]
["30111","Montana","Yellowstone","Wheat","Bushel","Irrigated",0.08]
["31001","Nebraska","Adams","Corn","Bushel","Nonirrigated",1.32]
["31001","Nebraska","Adams","Corn","Bushel","Irrigated",2.48]
["31001","Nebraska","Adams","Grain Sorghum","Bushel","Nonirrigated",0.64]
["31001","Nebraska","Adams","Grain Sorghum","Bushel","Irrigated",0.73]
["31001","Nebraska","Adams","Soybeans","Bushel","Nonirrigated",0.35]
["31001","Nebraska","Adams","Soybeans","Bushel","Irrigated",0.53]
["31001","Nebraska","Adams","Wheat","Bushel","Irrigated",0.17]
["31001","Nebraska","Adams","Wheat","Bushel","Nonirrigated",0.17]
["31003","Nebraska","Antelope","Corn","Bushel","Nonirrigated",1.34]
["31003","Nebraska","Antelope","Corn","Bushel","Irrigated",2.4300000000000002]
["31003","Nebraska","Antelope","Soybeans","Bushel","Nonirrigated",0.34]
["31003","Nebraska","Antelope","Soybeans","Bushel","Irrigated",0.53]
["31005","Nebraska","Arthur","Corn","Bushel","All",1.84]
["31007","Nebraska","Banner","Corn","Bushel","Irrigated",2.02]
["31007","Nebraska","Banner","Wheat","Bushel","Irrigated",0.02]
["31007","Nebraska","Banner","Wheat","Bushel","Nonirrigated",0.02]
["31009","Nebraska","Blaine","Corn","Bushel","All",1.96]
["31011","Nebraska","Boone","Corn","Bushel","Nonirrigated",1.63]
["31011","Nebraska","Boone","Corn","Bushel","Irrigated",2.4]
["31011","Nebraska","Boone","Soybeans","Bushel","Nonirrigated",0.41]
["31011","Nebraska","Boone","Soybeans","Bushel","Irrigated",0.53]
["31013","Nebraska","Box Butte","Chickpeas_Large","Pound","All",18.82]
["31013","Nebraska","Box Butte","Corn","Bushel","Irrigated",1.93]
["31013","Nebraska","Box Butte","Sunflower Seed","Pound","All",20.69]
["31013","Nebraska","Box Butte","Wheat","Bushel","Nonirrigated",0.12]
["31013","Nebraska","Box Butte","Wheat","Bushel","Irrigated",0.15]
["31015","Nebraska","Boyd","Corn","Bushel","Irrigated",2.0299999999999998]
["31015","Nebraska","Boyd","Grain Sorghum","Bushel","All",0.42]
["31015","Nebraska","Boyd","Soybeans","Bushel","Irrigated",0.39]
["31015","Nebraska","Boyd","Wheat","Bushel","All",0.53]
["31017","Nebraska","Brown","Corn","Bushel","Irrigated",1.76]
["31017","Nebraska","Brown","Soybeans","Bushel","Irrigated",0.53]
["31019","Nebraska","Buffalo","Corn","Bushel","Nonirrigated",0.97]
["31019","Nebraska","Buffalo","Corn","Bushel","Irrigated",2.2999999999999998]
["31019","Nebraska","Buffalo","Grain Sorghum","Bushel","Nonirrigated",0.63]
["31019","Nebraska","Buffalo","Grain Sorghum","Bushel","Irrigated",0.74]
["31019","Nebraska","Buffalo","Soybeans","Bushel","Nonirrigated",0.28999999999999998]
["31019","Nebraska","Buffalo","Soybeans","Bushel","Irrigated",0.53]
["31019","Nebraska","Buffalo","Wheat","Bushel","Irrigated",0.26]
["31019","Nebraska","Buffalo","Wheat","Bushel","Nonirrigated",0.26]
["31021","Nebraska","Burt","Corn","Bushel","Nonirrigated",2.34]
["31021","Nebraska","Burt","Corn","Bushel","Irrigated",2.4500000000000002]
["31021","Nebraska","Burt","Soybeans","Bushel","Nonirrigated",0.52]
["31021","Nebraska","Burt","Soybeans","Bushel","Irrigated",0.53]
["31023","Nebraska","Butler","Corn","Bushel","Nonirrigated",1.7]
["31023","Nebraska","Butler","Corn","Bushel","Irrigated",2.2400000000000002]
["31023","Nebraska","Butler","Grain Sorghum","Bushel","Nonirrigated",0.56000000000000005]
["31023","Nebraska","Butler","Grain Sorghum","Bushel","Irrigated",0.61]
["31023","Nebraska","Butler","Soybeans","Bushel","Nonirrigated",0.45]
["31023","Nebraska","Butler","Soybeans","Bushel","Irrigated",0.53]
["31023","Nebraska","Butler","Wheat","Bushel","All",0.19]
["31025","Nebraska","Cass","Corn","Bushel","Nonirrigated",2.13]
["31025","Nebraska","Cass","Corn","Bushel","Irrigated",2.14]
["31025","Nebraska","Cass","Grain Sorghum","Bushel","All",0.64]
["31025","Nebraska","Cass","Soybeans","Bushel","Irrigated",0.53]
["31025","Nebraska","Cass","Soybeans","Bushel","Nonirrigated",0.53]
["31025","Nebraska","Cass","Wheat","Bushel","All",0.26]
["31027","Nebraska","Cedar","Corn","Bushel","Nonirrigated",2.04]
["31027","Nebraska","Cedar","Corn","Bushel","Irrigated",2.5299999999999998]
["31027","Nebraska","Cedar","Soybeans","Bushel","Nonirrigated",0.48]
["31027","Nebraska","Cedar","Soybeans","Bushel","Irrigated",0.53]
["31027","Nebraska","Cedar","Wheat","Bushel","All",0.46]
["31029","Nebraska","Chase","Chickpeas_Large","Pound","All",24.34]
["31029","Nebraska","Chase","Corn","Bushel","Irrigated",1.53]
["31029","Nebraska","Chase","Grain Sorghum","Bushel","All",0.48]
["31029","Nebraska","Chase","Soybeans","Bushel","All",0.53]
["31029","Nebraska","Chase","Wheat","Bushel","Nonirrigated",0.33]
["31029","Nebraska","Chase","Wheat","Bushel","Irrigated",0.4]
["31031","Nebraska","Cherry","Corn","Bushel","Irrigated",1.61]
["31031","Nebraska","Cherry","Wheat","Bushel","All",0.44]
["31033","Nebraska","Cheyenne","Corn","Bushel","Irrigated",1.84]
["31033","Nebraska","Cheyenne","Grain Sorghum","Bushel","All",0.26]
["31033","Nebraska","Cheyenne","Sunflower Seed","Pound","Nonirrigated",7.44]
["31033","Nebraska","Cheyenne","Sunflower Seed","Pound","Irrigated",8.8800000000000008]
["31033","Nebraska","Cheyenne","Wheat","Bushel","Irrigated",0.05]
["31033","Nebraska","Cheyenne","Wheat","Bushel","Nonirrigated",0.05]
["31035","Nebraska","Clay","Corn","Bushel","Nonirrigated",1.2]
["31035","Nebraska","Clay","Corn","Bushel","Irrigated",2.2000000000000002]
["31035","Nebraska","Clay","Grain Sorghum","Bushel","Nonirrigated",0.61]
["31035","Nebraska","Clay","Grain Sorghum","Bushel","Irrigated",0.65]
["31035","Nebraska","Clay","Soybeans","Bushel","Nonirrigated",0.35]
["31035","Nebraska","Clay","Soybeans","Bushel","Irrigated",0.53]
["31035","Nebraska","Clay","Wheat","Bushel","All",0.26]
["31037","Nebraska","Colfax","Corn","Bushel","Nonirrigated",2.06]
["31037","Nebraska","Colfax","Corn","Bushel","Irrigated",2.3199999999999998]
["31037","Nebraska","Colfax","Soybeans","Bushel","Nonirrigated",0.49]
["31037","Nebraska","Colfax","Soybeans","Bushel","Irrigated",0.53]
["31037","Nebraska","Colfax","Wheat","Bushel","All",0.3]
["31039","Nebraska","Cuming","Corn","Bushel","Nonirrigated",2.36]
["31039","Nebraska","Cuming","Corn","Bushel","Irrigated",2.5099999999999998]
["31039","Nebraska","Cuming","Soybeans","Bushel","Nonirrigated",0.52]
["31039","Nebraska","Cuming","Soybeans","Bushel","Irrigated",0.53]
["31041","Nebraska","Custer","Corn","Bushel","Irrigated",2.14]
["31041","Nebraska","Custer","Grain Sorghum","Bushel","All",0.7]
["31041","Nebraska","Custer","Soybeans","Bushel","Irrigated",0.53]
["31041","Nebraska","Custer","Wheat","Bushel","Irrigated",0.14000000000000001]
["31041","Nebraska","Custer","Wheat","Bushel","Nonirrigated",0.14000000000000001]
["31043","Nebraska","Dakota","Corn","Bushel","Nonirrigated",2.41]
["31043","Nebraska","Dakota","Corn","Bushel","Irrigated",2.5]
["31043","Nebraska","Dakota","Soybeans","Bushel","Nonirrigated",0.52]
["31043","Nebraska","Dakota","Soybeans","Bushel","Irrigated",0.53]
["31045","Nebraska","Dawes, North Sioux","Corn","Bushel","Irrigated",1.63]
["31045","Nebraska","Dawes, North Sioux","Wheat","Bushel","Irrigated",0.08]
["31045","Nebraska","Dawes, North Sioux","Wheat","Bushel","Nonirrigated",0.08]
["31047","Nebraska","Dawson","Corn","Bushel","Irrigated",2.2000000000000002]
["31047","Nebraska","Dawson","Grain Sorghum","Bushel","All",0.74]
["31047","Nebraska","Dawson","Soybeans","Bushel","Irrigated",0.53]
["31047","Nebraska","Dawson","Wheat","Bushel","Irrigated",0.28999999999999998]
["31047","Nebraska","Dawson","Wheat","Bushel","Nonirrigated",0.28999999999999998]
["31049","Nebraska","Deuel","Corn","Bushel","Irrigated",1.85]
["31049","Nebraska","Deuel","Grain Sorghum","Bushel","All",0.3]
["31049","Nebraska","Deuel","Wheat","Bushel","Irrigated",0.1]
["31049","Nebraska","Deuel","Wheat","Bushel","Nonirrigated",0.1]
["31051","Nebraska","Dixon","Corn","Bushel","Nonirrigated",2.44]
["31051","Nebraska","Dixon","Corn","Bushel","Irrigated",2.54]
["31051","Nebraska","Dixon","Soybeans","Bushel","Nonirrigated",0.52]
["31051","Nebraska","Dixon","Soybeans","Bushel","Irrigated",0.53]
["31053","Nebraska","Dodge","Corn","Bushel","Nonirrigated",2.0299999999999998]
["31053","Nebraska","Dodge","Corn","Bushel","Irrigated",2.3199999999999998]
["31053","Nebraska","Dodge","Grain Sorghum","Bushel","All",0.74]
["31053","Nebraska","Dodge","Soybeans","Bushel","Nonirrigated",0.5]
["31053","Nebraska","Dodge","Soybeans","Bushel","Irrigated",0.53]
["31055","Nebraska","Douglas","Corn","Bushel","Nonirrigated",2.15]
["31055","Nebraska","Douglas","Corn","Bushel","Irrigated",2.2200000000000002]
["31055","Nebraska","Douglas","Soybeans","Bushel","Nonirrigated",0.52]
["31055","Nebraska","Douglas","Soybeans","Bushel","Irrigated",0.53]
["31057","Nebraska","Dundy","Corn","Bushel","Irrigated",1.46]
["31057","Nebraska","Dundy","Grain Sorghum","Bushel","All",0.64]
["31057","Nebraska","Dundy","Soybeans","Bushel","All",0.53]
["31057","Nebraska","Dundy","Wheat","Bushel","Nonirrigated",0.24]
["31057","Nebraska","Dundy","Wheat","Bushel","Irrigated",0.25]
["31059","Nebraska","Fillmore","Corn","Bushel","Nonirrigated",1.2]
["31059","Nebraska","Fillmore","Corn","Bushel","Irrigated",2.09]
["31059","Nebraska","Fillmore","Grain Sorghum","Bushel","Nonirrigated",0.6]
["31059","Nebraska","Fillmore","Grain Sorghum","Bushel","Irrigated",0.62]
["31059","Nebraska","Fillmore","Soybeans","Bushel","Nonirrigated",0.37]
["31059","Nebraska","Fillmore","Soybeans","Bushel","Irrigated",0.53]
["31059","Nebraska","Fillmore","Wheat","Bushel","Nonirrigated",0.31]
["31059","Nebraska","Fillmore","Wheat","Bushel","Irrigated",0.32]
["31061","Nebraska","Franklin","Corn","Bushel","Nonirrigated",1.36]
["31061","Nebraska","Franklin","Corn","Bushel","Irrigated",2.31]
["31061","Nebraska","Franklin","Grain Sorghum","Bushel","Nonirrigated",0.45]
["31061","Nebraska","Franklin","Grain Sorghum","Bushel","Irrigated",0.46]
["31061","Nebraska","Franklin","Soybeans","Bushel","Nonirrigated",0.35]
["31061","Nebraska","Franklin","Soybeans","Bushel","Irrigated",0.53]
["31061","Nebraska","Franklin","Wheat","Bushel","Irrigated",0.16]
["31061","Nebraska","Franklin","Wheat","Bushel","Nonirrigated",0.16]
["31063","Nebraska","Frontier","Corn","Bushel","Irrigated",2.04]
["31063","Nebraska","Frontier","Grain Sorghum","Bushel","Nonirrigated",0.55000000000000004]
["31063","Nebraska","Frontier","Grain Sorghum","Bushel","Irrigated",0.57999999999999996]
["31063","Nebraska","Frontier","Soybeans","Bushel","Irrigated",0.53]
["31063","Nebraska","Frontier","Wheat","Bushel","Irrigated",0.21]
["31063","Nebraska","Frontier","Wheat","Bushel","Nonirrigated",0.21]
["31065","Nebraska","Furnas","Corn","Bushel","Irrigated",2.15]
["31065","Nebraska","Furnas","Grain Sorghum","Bushel","Nonirrigated",0.62]
["31065","Nebraska","Furnas","Grain Sorghum","Bushel","Irrigated",0.63]
["31065","Nebraska","Furnas","Soybeans","Bushel","Irrigated",0.53]
["31065","Nebraska","Furnas","Wheat","Bushel","Irrigated",0.25]
["31065","Nebraska","Furnas","Wheat","Bushel","Nonirrigated",0.25]
["31067","Nebraska","Gage","Corn","Bushel","Nonirrigated",1.78]
["31067","Nebraska","Gage","Corn","Bushel","Irrigated",1.99]
["31067","Nebraska","Gage","Grain Sorghum","Bushel","All",0.91]
["31067","Nebraska","Gage","Soybeans","Bushel","Nonirrigated",0.43]
["31067","Nebraska","Gage","Soybeans","Bushel","Irrigated",0.46]
["31067","Nebraska","Gage","Wheat","Bushel","All",0.31]
["31069","Nebraska","Garden","Corn","Bushel","Irrigated",1.93]
["31069","Nebraska","Garden","Grain Sorghum","Bushel","All",0.33]
["31069","Nebraska","Garden","Wheat","Bushel","Irrigated",0.09]
["31069","Nebraska","Garden","Wheat","Bushel","Nonirrigated",0.09]
["31071","Nebraska","Garfield","Corn","Bushel","Irrigated",2.0499999999999998]
["31071","Nebraska","Garfield","Soybeans","Bushel","Irrigated",0.53]
["31073","Nebraska","Gosper","Corn","Bushel","Irrigated",2.4500000000000002]
["31073","Nebraska","Gosper","Grain Sorghum","Bushel","All",0.53]
["31073","Nebraska","Gosper","Soybeans","Bushel","Irrigated",0.53]
["31073","Nebraska","Gosper","Wheat","Bushel","Irrigated",0.28000000000000003]
["31073","Nebraska","Gosper","Wheat","Bushel","Nonirrigated",0.28000000000000003]
["31077","Nebraska","Greeley","Corn","Bushel","Nonirrigated",1.0900000000000001]
["31077","Nebraska","Greeley","Corn","Bushel","Irrigated",2.2400000000000002]
["31077","Nebraska","Greeley","Grain Sorghum","Bushel","All",0.63]
["31077","Nebraska","Greeley","Soybeans","Bushel","Nonirrigated",0.32]
["31077","Nebraska","Greeley","Soybeans","Bushel","Irrigated",0.53]
["31079","Nebraska","Hall","Corn","Bushel","Nonirrigated",1.01]
["31079","Nebraska","Hall","Corn","Bushel","Irrigated",2.2799999999999998]
["31079","Nebraska","Hall","Grain Sorghum","Bushel","Nonirrigated",0.59]
["31079","Nebraska","Hall","Grain Sorghum","Bushel","Irrigated",0.68]
["31079","Nebraska","Hall","Soybeans","Bushel","Nonirrigated",0.28999999999999998]
["31079","Nebraska","Hall","Soybeans","Bushel","Irrigated",0.53]
["31081","Nebraska","Hamilton","Corn","Bushel","Nonirrigated",1.1399999999999999]
["31081","Nebraska","Hamilton","Corn","Bushel","Irrigated",2.2000000000000002]
["31081","Nebraska","Hamilton","Grain Sorghum","Bushel","Nonirrigated",0.4]
["31081","Nebraska","Hamilton","Grain Sorghum","Bushel","Irrigated",0.46]
["31081","Nebraska","Hamilton","Soybeans","Bushel","Nonirrigated",0.34]
["31081","Nebraska","Hamilton","Soybeans","Bushel","Irrigated",0.53]
["31081","Nebraska","Hamilton","Wheat","Bushel","Nonirrigated",0.21]
["31081","Nebraska","Hamilton","Wheat","Bushel","Irrigated",0.23]
["31083","Nebraska","Harlan","Corn","Bushel","Irrigated",2.37]
["31083","Nebraska","Harlan","Grain Sorghum","Bushel","Nonirrigated",0.85]
["31083","Nebraska","Harlan","Grain Sorghum","Bushel","Irrigated",0.87]
["31083","Nebraska","Harlan","Soybeans","Bushel","Irrigated",0.53]
["31083","Nebraska","Harlan","Wheat","Bushel","Irrigated",0.25]
["31083","Nebraska","Harlan","Wheat","Bushel","Nonirrigated",0.25]
["31085","Nebraska","Hayes","Corn","Bushel","Irrigated",1.78]
["31085","Nebraska","Hayes","Grain Sorghum","Bushel","All",0.66]
["31085","Nebraska","Hayes","Soybeans","Bushel","Irrigated",0.53]
["31085","Nebraska","Hayes","Wheat","Bushel","Irrigated",0.2]
["31085","Nebraska","Hayes","Wheat","Bushel","Nonirrigated",0.2]
["31087","Nebraska","Hitchcock","Corn","Bushel","Irrigated",1.75]
["31087","Nebraska","Hitchcock","Grain Sorghum","Bushel","Irrigated",0.72]
["31087","Nebraska","Hitchcock","Grain Sorghum","Bushel","Nonirrigated",0.72]
["31087","Nebraska","Hitchcock","Soybeans","Bushel","Irrigated",0.53]
["31087","Nebraska","Hitchcock","Wheat","Bushel","Irrigated",0.17]
["31087","Nebraska","Hitchcock","Wheat","Bushel","Nonirrigated",0.17]
["31089","Nebraska","Holt","Corn","Bushel","Irrigated",2.13]
["31089","Nebraska","Holt","Grain Sorghum","Bushel","All",0.36]
["31089","Nebraska","Holt","Soybeans","Bushel","Irrigated",0.53]
["31089","Nebraska","Holt","Wheat","Bushel","Nonirrigated",0.32]
["31089","Nebraska","Holt","Wheat","Bushel","Irrigated",0.42]
["31093","Nebraska","Howard","Corn","Bushel","Nonirrigated",1.01]
["31093","Nebraska","Howard","Corn","Bushel","Irrigated",2.2400000000000002]
["31093","Nebraska","Howard","Grain Sorghum","Bushel","All",0.62]
["31093","Nebraska","Howard","Soybeans","Bushel","Nonirrigated",0.3]
["31093","Nebraska","Howard","Soybeans","Bushel","Irrigated",0.53]
["31093","Nebraska","Howard","Wheat","Bushel","All",0.2]
["31095","Nebraska","Jefferson","Corn","Bushel","Nonirrigated",1.38]
["31095","Nebraska","Jefferson","Corn","Bushel","Irrigated",1.84]
["31095","Nebraska","Jefferson","Grain Sorghum","Bushel","All",0.68]
["31095","Nebraska","Jefferson","Soybeans","Bushel","Nonirrigated",0.4]
["31095","Nebraska","Jefferson","Soybeans","Bushel","Irrigated",0.48]
["31095","Nebraska","Jefferson","Wheat","Bushel","All",0.32]
["31097","Nebraska","Johnson","Corn","Bushel","Nonirrigated",1.86]
["31097","Nebraska","Johnson","Corn","Bushel","Irrigated",2.1]
["31097","Nebraska","Johnson","Grain Sorghum","Bushel","All",0.85]
["31097","Nebraska","Johnson","Soybeans","Bushel","Nonirrigated",0.34]
["31097","Nebraska","Johnson","Soybeans","Bushel","Irrigated",0.36]
["31097","Nebraska","Johnson","Wheat","Bushel","All",0.25]
["31099","Nebraska","Kearney","Corn","Bushel","Nonirrigated",1.37]
["31099","Nebraska","Kearney","Corn","Bushel","Irrigated",2.5099999999999998]
["31099","Nebraska","Kearney","Grain Sorghum","Bushel","Nonirrigated",0.86]
["31099","Nebraska","Kearney","Grain Sorghum","Bushel","Irrigated",0.92]
["31099","Nebraska","Kearney","Soybeans","Bushel","Nonirrigated",0.36]
["31099","Nebraska","Kearney","Soybeans","Bushel","Irrigated",0.53]
["31099","Nebraska","Kearney","Wheat","Bushel","Irrigated",0.25]
["31099","Nebraska","Kearney","Wheat","Bushel","Nonirrigated",0.25]
["31101","Nebraska","Keith","Corn","Bushel","Irrigated",1.83]
["31101","Nebraska","Keith","Soybeans","Bushel","Irrigated",0.53]
["31101","Nebraska","Keith","Wheat","Bushel","Nonirrigated",0.24]
["31101","Nebraska","Keith","Wheat","Bushel","Irrigated",0.25]
["31103","Nebraska","Keya Paha","Corn","Bushel","Irrigated",1.54]
["31103","Nebraska","Keya Paha","Soybeans","Bushel","Irrigated",0.52]
["31105","Nebraska","Kimball","Corn","Bushel","Irrigated",1.73]
["31105","Nebraska","Kimball","Sunflower Seed","Pound","Nonirrigated",3.25]
["31105","Nebraska","Kimball","Sunflower Seed","Pound","Irrigated",3.87]
["31107","Nebraska","Knox","Corn","Bushel","Nonirrigated",1.97]
["31107","Nebraska","Knox","Corn","Bushel","Irrigated",2.42]
["31107","Nebraska","Knox","Grain Sorghum","Bushel","All",0.47]
["31107","Nebraska","Knox","Soybeans","Bushel","Nonirrigated",0.47]
["31107","Nebraska","Knox","Soybeans","Bushel","Irrigated",0.53]
["31107","Nebraska","Knox","Wheat","Bushel","All",0.47]
["31109","Nebraska","Lancaster","Corn","Bushel","Nonirrigated",2.0699999999999998]
["31109","Nebraska","Lancaster","Corn","Bushel","Irrigated",2.14]
["31109","Nebraska","Lancaster","Grain Sorghum","Bushel","All",0.66]
["31109","Nebraska","Lancaster","Soybeans","Bushel","Nonirrigated",0.49]
["31109","Nebraska","Lancaster","Soybeans","Bushel","Irrigated",0.51]
["31109","Nebraska","Lancaster","Wheat","Bushel","All",0.3]
["31111","Nebraska","Lincoln","Corn","Bushel","Irrigated",1.9]
["31111","Nebraska","Lincoln","Grain Sorghum","Bushel","All",0.68]
["31111","Nebraska","Lincoln","Soybeans","Bushel","Irrigated",0.53]
["31111","Nebraska","Lincoln","Wheat","Bushel","Nonirrigated",0.26]
["31111","Nebraska","Lincoln","Wheat","Bushel","Irrigated",0.28000000000000003]
["31113","Nebraska","Logan","Corn","Bushel","Irrigated",1.99]
["31113","Nebraska","Logan","Wheat","Bushel","All",0.22]
["31115","Nebraska","Loup","Corn","Bushel","Irrigated",1.99]
["31115","Nebraska","Loup","Soybeans","Bushel","Irrigated",0.53]
["31117","Nebraska","Mcpherson","Corn","Bushel","All",1.87]
["31119","Nebraska","Madison","Corn","Bushel","Nonirrigated",2.06]
["31119","Nebraska","Madison","Corn","Bushel","Irrigated",2.4900000000000002]
["31119","Nebraska","Madison","Soybeans","Bushel","Nonirrigated",0.46]
["31119","Nebraska","Madison","Soybeans","Bushel","Irrigated",0.53]
["31121","Nebraska","Merrick","Corn","Bushel","Nonirrigated",1.02]
["31121","Nebraska","Merrick","Corn","Bushel","Irrigated",2.2200000000000002]
["31121","Nebraska","Merrick","Grain Sorghum","Bushel","All",0.7]
["31121","Nebraska","Merrick","Soybeans","Bushel","Nonirrigated",0.28999999999999998]
["31121","Nebraska","Merrick","Soybeans","Bushel","Irrigated",0.53]
["31121","Nebraska","Merrick","Wheat","Bushel","All",0.16]
["31123","Nebraska","Morrill","Corn","Bushel","Irrigated",2.0099999999999998]
["31123","Nebraska","Morrill","Wheat","Bushel","Nonirrigated",0.12]
["31123","Nebraska","Morrill","Wheat","Bushel","Irrigated",0.15]
["31125","Nebraska","Nance","Corn","Bushel","Nonirrigated",1.5]
["31125","Nebraska","Nance","Corn","Bushel","Irrigated",2.2599999999999998]
["31125","Nebraska","Nance","Grain Sorghum","Bushel","All",0.52]
["31125","Nebraska","Nance","Soybeans","Bushel","Nonirrigated",0.4]
["31125","Nebraska","Nance","Soybeans","Bushel","Irrigated",0.53]
["31125","Nebraska","Nance","Wheat","Bushel","All",0.25]
["31127","Nebraska","Nemaha","Corn","Bushel","Nonirrigated",2]
["31127","Nebraska","Nemaha","Corn","Bushel","Irrigated",2.06]
["31127","Nebraska","Nemaha","Grain Sorghum","Bushel","All",0.72]
["31127","Nebraska","Nemaha","Soybeans","Bushel","Nonirrigated",0.45]
["31127","Nebraska","Nemaha","Soybeans","Bushel","Irrigated",0.46]
["31127","Nebraska","Nemaha","Wheat","Bushel","All",0.32]
["31129","Nebraska","Nuckolls","Corn","Bushel","Nonirrigated",1.39]
["31129","Nebraska","Nuckolls","Corn","Bushel","Irrigated",1.93]
["31129","Nebraska","Nuckolls","Grain Sorghum","Bushel","All",0.92]
["31129","Nebraska","Nuckolls","Soybeans","Bushel","Nonirrigated",0.42]
["31129","Nebraska","Nuckolls","Soybeans","Bushel","Irrigated",0.5]
["31129","Nebraska","Nuckolls","Wheat","Bushel","Irrigated",0.23]
["31129","Nebraska","Nuckolls","Wheat","Bushel","Nonirrigated",0.23]
["31131","Nebraska","Otoe","Corn","Bushel","Nonirrigated",2.08]
["31131","Nebraska","Otoe","Corn","Bushel","Irrigated",2.11]
["31131","Nebraska","Otoe","Grain Sorghum","Bushel","All",0.83]
["31131","Nebraska","Otoe","Soybeans","Bushel","Irrigated",0.41]
["31131","Nebraska","Otoe","Soybeans","Bushel","Nonirrigated",0.41]
["31131","Nebraska","Otoe","Wheat","Bushel","All",0.32]
["31133","Nebraska","Pawnee","Corn","Bushel","Nonirrigated",2.02]
["31133","Nebraska","Pawnee","Corn","Bushel","Irrigated",2.04]
["31133","Nebraska","Pawnee","Grain Sorghum","Bushel","All",0.92]
["31133","Nebraska","Pawnee","Soybeans","Bushel","Irrigated",0.37]
["31133","Nebraska","Pawnee","Soybeans","Bushel","Nonirrigated",0.37]
["31133","Nebraska","Pawnee","Wheat","Bushel","All",0.31]
["31135","Nebraska","Perkins","Corn","Bushel","Irrigated",1.66]
["31135","Nebraska","Perkins","Grain Sorghum","Bushel","All",0.38]
["31135","Nebraska","Perkins","Soybeans","Bushel","Irrigated",0.53]
["31135","Nebraska","Perkins","Sunflower Seed","Pound","All",9.7200000000000006]
["31135","Nebraska","Perkins","Wheat","Bushel","Irrigated",0.28000000000000003]
["31135","Nebraska","Perkins","Wheat","Bushel","Nonirrigated",0.28000000000000003]
["31137","Nebraska","Phelps","Corn","Bushel","Irrigated",2.5099999999999998]
["31137","Nebraska","Phelps","Grain Sorghum","Bushel","Nonirrigated",0.74]
["31137","Nebraska","Phelps","Grain Sorghum","Bushel","Irrigated",0.92]
["31137","Nebraska","Phelps","Soybeans","Bushel","Irrigated",0.53]
["31137","Nebraska","Phelps","Wheat","Bushel","Irrigated",0.26]
["31137","Nebraska","Phelps","Wheat","Bushel","Nonirrigated",0.26]
["31139","Nebraska","Pierce","Corn","Bushel","Nonirrigated",1.79]
["31139","Nebraska","Pierce","Corn","Bushel","Irrigated",2.5299999999999998]
["31139","Nebraska","Pierce","Soybeans","Bushel","Nonirrigated",0.41]
["31139","Nebraska","Pierce","Soybeans","Bushel","Irrigated",0.53]
["31141","Nebraska","Platte","Corn","Bushel","Nonirrigated",1.74]
["31141","Nebraska","Platte","Corn","Bushel","Irrigated",2.3199999999999998]
["31141","Nebraska","Platte","Grain Sorghum","Bushel","All",0.68]
["31141","Nebraska","Platte","Soybeans","Bushel","Nonirrigated",0.43]
["31141","Nebraska","Platte","Soybeans","Bushel","Irrigated",0.53]
["31141","Nebraska","Platte","Wheat","Bushel","All",0.25]
["31143","Nebraska","Polk","Corn","Bushel","Nonirrigated",1.4]
["31143","Nebraska","Polk","Corn","Bushel","Irrigated",2.23]
["31143","Nebraska","Polk","Grain Sorghum","Bushel","Nonirrigated",0.62]
["31143","Nebraska","Polk","Grain Sorghum","Bushel","Irrigated",0.71]
["31143","Nebraska","Polk","Soybeans","Bushel","Nonirrigated",0.38]
["31143","Nebraska","Polk","Soybeans","Bushel","Irrigated",0.53]
["31143","Nebraska","Polk","Wheat","Bushel","All",0.28999999999999998]
["31145","Nebraska","Red Willow","Corn","Bushel","Irrigated",1.82]
["31145","Nebraska","Red Willow","Grain Sorghum","Bushel","Nonirrigated",0.49]
["31145","Nebraska","Red Willow","Grain Sorghum","Bushel","Irrigated",0.5]
["31145","Nebraska","Red Willow","Soybeans","Bushel","Irrigated",0.53]
["31145","Nebraska","Red Willow","Wheat","Bushel","Irrigated",0.3]
["31145","Nebraska","Red Willow","Wheat","Bushel","Nonirrigated",0.3]
["31147","Nebraska","Richardson","Corn","Bushel","Nonirrigated",1.99]
["31147","Nebraska","Richardson","Corn","Bushel","Irrigated",2.0099999999999998]
["31147","Nebraska","Richardson","Grain Sorghum","Bushel","All",0.82]
["31147","Nebraska","Richardson","Soybeans","Bushel","Irrigated",0.48]
["31147","Nebraska","Richardson","Soybeans","Bushel","Nonirrigated",0.48]
["31147","Nebraska","Richardson","Wheat","Bushel","All",0.37]
["31149","Nebraska","Rock","Corn","Bushel","All",1.87]
["31149","Nebraska","Rock","Soybeans","Bushel","All",0.53]
["31151","Nebraska","Saline","Corn","Bushel","Nonirrigated",1.5]
["31151","Nebraska","Saline","Corn","Bushel","Irrigated",2.11]
["31151","Nebraska","Saline","Grain Sorghum","Bushel","All",0.65]
["31151","Nebraska","Saline","Soybeans","Bushel","Nonirrigated",0.43]
["31151","Nebraska","Saline","Soybeans","Bushel","Irrigated",0.53]
["31151","Nebraska","Saline","Wheat","Bushel","All",0.22]
["31153","Nebraska","Sarpy","Corn","Bushel","Nonirrigated",2.11]
["31153","Nebraska","Sarpy","Corn","Bushel","Irrigated",2.17]
["31153","Nebraska","Sarpy","Soybeans","Bushel","Irrigated",0.53]
["31153","Nebraska","Sarpy","Soybeans","Bushel","Nonirrigated",0.53]
["31155","Nebraska","Saunders","Corn","Bushel","Nonirrigated",1.94]
["31155","Nebraska","Saunders","Corn","Bushel","Irrigated",2.2200000000000002]
["31155","Nebraska","Saunders","Grain Sorghum","Bushel","All",0.92]
["31155","Nebraska","Saunders","Soybeans","Bushel","Nonirrigated",0.49]
["31155","Nebraska","Saunders","Soybeans","Bushel","Irrigated",0.53]
["31155","Nebraska","Saunders","Wheat","Bushel","All",0.32]
["31157","Nebraska","Scotts Bluff","Corn","Bushel","Irrigated",2.04]
["31157","Nebraska","Scotts Bluff","Wheat","Bushel","Nonirrigated",0.11]
["31157","Nebraska","Scotts Bluff","Wheat","Bushel","Irrigated",0.18]
["31159","Nebraska","Seward","Corn","Bushel","Nonirrigated",1.61]
["31159","Nebraska","Seward","Corn","Bushel","Irrigated",2.19]
["31159","Nebraska","Seward","Grain Sorghum","Bushel","Nonirrigated",0.87]
["31159","Nebraska","Seward","Grain Sorghum","Bushel","Irrigated",0.92]
["31159","Nebraska","Seward","Soybeans","Bushel","Nonirrigated",0.43]
["31159","Nebraska","Seward","Soybeans","Bushel","Irrigated",0.53]
["31159","Nebraska","Seward","Wheat","Bushel","All",0.23]
["31161","Nebraska","Sheridan","Corn","Bushel","Irrigated",1.67]
["31161","Nebraska","Sheridan","Sunflower Seed","Pound","All",22.99]
["31161","Nebraska","Sheridan","Wheat","Bushel","Nonirrigated",0.09]
["31161","Nebraska","Sheridan","Wheat","Bushel","Irrigated",0.1]
["31163","Nebraska","Sherman","Corn","Bushel","Nonirrigated",0.99]
["31163","Nebraska","Sherman","Corn","Bushel","Irrigated",2.23]
["31163","Nebraska","Sherman","Grain Sorghum","Bushel","All",0.59]
["31163","Nebraska","Sherman","Soybeans","Bushel","Nonirrigated",0.32]
["31163","Nebraska","Sherman","Soybeans","Bushel","Irrigated",0.53]
["31163","Nebraska","Sherman","Wheat","Bushel","Nonirrigated",0.24]
["31163","Nebraska","Sherman","Wheat","Bushel","Irrigated",0.25]
["31165","Nebraska","South Sioux","Corn","Bushel","All",1.84]
["31165","Nebraska","South Sioux","Wheat","Bushel","Nonirrigated",0.15]
["31165","Nebraska","South Sioux","Wheat","Bushel","Irrigated",0.23]
["31167","Nebraska","Stanton","Corn","Bushel","Nonirrigated",2.35]
["31167","Nebraska","Stanton","Corn","Bushel","Irrigated",2.5]
["31167","Nebraska","Stanton","Soybeans","Bushel","Nonirrigated",0.51]
["31167","Nebraska","Stanton","Soybeans","Bushel","Irrigated",0.53]
["31169","Nebraska","Thayer","Corn","Bushel","Nonirrigated",1.2]
["31169","Nebraska","Thayer","Corn","Bushel","Irrigated",1.92]
["31169","Nebraska","Thayer","Grain Sorghum","Bushel","All",0.92]
["31169","Nebraska","Thayer","Soybeans","Bushel","Nonirrigated",0.35]
["31169","Nebraska","Thayer","Soybeans","Bushel","Irrigated",0.48]
["31169","Nebraska","Thayer","Wheat","Bushel","Irrigated",0.3]
["31169","Nebraska","Thayer","Wheat","Bushel","Nonirrigated",0.3]
["31171","Nebraska","Thomas","Corn","Bushel","All",1.87]
["31173","Nebraska","Thurston","Corn","Bushel","Nonirrigated",2.46]
["31173","Nebraska","Thurston","Corn","Bushel","Irrigated",2.5099999999999998]
["31173","Nebraska","Thurston","Soybeans","Bushel","Nonirrigated",0.52]
["31173","Nebraska","Thurston","Soybeans","Bushel","Irrigated",0.53]
["31175","Nebraska","Valley","Corn","Bushel","Nonirrigated",0.87]
["31175","Nebraska","Valley","Corn","Bushel","Irrigated",2.16]
["31175","Nebraska","Valley","Grain Sorghum","Bushel","All",0.54]
["31175","Nebraska","Valley","Soybeans","Bushel","Nonirrigated",0.28999999999999998]
["31175","Nebraska","Valley","Soybeans","Bushel","Irrigated",0.53]
["31175","Nebraska","Valley","Wheat","Bushel","All",0.24]
["31177","Nebraska","Washington","Corn","Bushel","Nonirrigated",2.2400000000000002]
["31177","Nebraska","Washington","Corn","Bushel","Irrigated",2.2799999999999998]
["31177","Nebraska","Washington","Soybeans","Bushel","Irrigated",0.53]
["31177","Nebraska","Washington","Soybeans","Bushel","Nonirrigated",0.53]
["31179","Nebraska","Wayne","Corn","Bushel","Nonirrigated",2.37]
["31179","Nebraska","Wayne","Corn","Bushel","Irrigated",2.56]
["31179","Nebraska","Wayne","Soybeans","Bushel","Nonirrigated",0.51]
["31179","Nebraska","Wayne","Soybeans","Bushel","Irrigated",0.53]
["31181","Nebraska","Webster","Corn","Bushel","Nonirrigated",1.57]
["31181","Nebraska","Webster","Corn","Bushel","Irrigated",2.2599999999999998]
["31181","Nebraska","Webster","Grain Sorghum","Bushel","All",0.92]
["31181","Nebraska","Webster","Soybeans","Bushel","Nonirrigated",0.41]
["31181","Nebraska","Webster","Soybeans","Bushel","Irrigated",0.53]
["31181","Nebraska","Webster","Wheat","Bushel","Irrigated",0.14000000000000001]
["31181","Nebraska","Webster","Wheat","Bushel","Nonirrigated",0.14000000000000001]
["31183","Nebraska","Wheeler","Corn","Bushel","Irrigated",2.1800000000000002]
["31183","Nebraska","Wheeler","Soybeans","Bushel","Irrigated",0.53]
["31185","Nebraska","York","Corn","Bushel","Nonirrigated",1.3]
["31185","Nebraska","York","Corn","Bushel","Irrigated",2.1800000000000002]
["31185","Nebraska","York","Grain Sorghum","Bushel","Nonirrigated",0.69]
["31185","Nebraska","York","Grain Sorghum","Bushel","Irrigated",0.82]
["31185","Nebraska","York","Soybeans","Bushel","Nonirrigated",0.38]
["31185","Nebraska","York","Soybeans","Bushel","Irrigated",0.53]
["31185","Nebraska","York","Wheat","Bushel","All",0.22]
["34005","New Jersey","Burlington","Corn","Bushel","Irrigated",1.44]
["34005","New Jersey","Burlington","Corn","Bushel","Nonirrigated",1.44]
["34005","New Jersey","Burlington","Soybeans","Bushel","All",0.2]
["34005","New Jersey","Burlington","Wheat","Bushel","All",0.4]
["34011","New Jersey","Cumberland","Corn","Bushel","Irrigated",1.5]
["34011","New Jersey","Cumberland","Corn","Bushel","Nonirrigated",1.5]
["34011","New Jersey","Cumberland","Soybeans","Bushel","Irrigated",0.21]
["34011","New Jersey","Cumberland","Soybeans","Bushel","Nonirrigated",0.21]
["34011","New Jersey","Cumberland","Wheat","Bushel","All",0.54]
["34015","New Jersey","Gloucester","Corn","Bushel","All",1.35]
["34015","New Jersey","Gloucester","Soybeans","Bushel","All",0.18]
["34019","New Jersey","Hunterdon","Corn","Bushel","All",1.65]
["34019","New Jersey","Hunterdon","Soybeans","Bushel","All",0.35]
["34019","New Jersey","Hunterdon","Wheat","Bushel","All",0.39]
["34021","New Jersey","Mercer","Corn","Bushel","All",1.5]
["34021","New Jersey","Mercer","Soybeans","Bushel","All",0.24]
["34023","New Jersey","Middlesex","Corn","Bushel","All",1.61]
["34025","New Jersey","Monmouth","Corn","Bushel","All",1.71]
["34025","New Jersey","Monmouth","Soybeans","Bushel","All",0.21]
["34025","New Jersey","Monmouth","Wheat","Bushel","All",0.33]
["34027","New Jersey","Morris","Corn","Bushel","All",1.7]
["34029","New Jersey","Ocean","Corn","Bushel","All",1.43]
["34033","New Jersey","Salem","Corn","Bushel","Nonirrigated",1.46]
["34033","New Jersey","Salem","Corn","Bushel","Irrigated",1.62]
["34033","New Jersey","Salem","Soybeans","Bushel","Irrigated",0.26]
["34033","New Jersey","Salem","Soybeans","Bushel","Nonirrigated",0.26]
["34033","New Jersey","Salem","Wheat","Bushel","All",0.56000000000000005]
["34035","New Jersey","Somerset","Corn","Bushel","All",1.73]
["34035","New Jersey","Somerset","Soybeans","Bushel","All",0.23]
["34035","New Jersey","Somerset","Wheat","Bushel","All",0.33]
["34037","New Jersey","Sussex","Corn","Bushel","All",1.42]
["34041","New Jersey","Warren, Bergen, Essex, Hudson, Passaic","Corn","Bushel","All",1.59]
["34041","New Jersey","Warren, Bergen, Essex, Hudson, Passaic","Soybeans","Bushel","All",0.43]
["35005","New Mexico","Chaves","Cotton_lint","Pound of lint","All",11.43]
["35009","New Mexico","Curry","Corn","Bushel","Irrigated",0.1]
["35009","New Mexico","Curry","Cotton_lint","Pound of lint","All",13.6]
["35009","New Mexico","Curry","Wheat","Bushel","Nonirrigated",0.21]
["35009","New Mexico","Curry","Wheat","Bushel","Irrigated",0.25]
["35013","New Mexico","Dona Ana","Cotton_lint","Pound of lint","All",13.6]
["35015","New Mexico","Eddy","Cotton_lint","Pound of lint","All",2.4500000000000002]
["35023","New Mexico","Hidalgo","Corn","Bushel","All",0.16]
["35023","New Mexico","Hidalgo","Cotton_lint","Pound of lint","All",10.98]
["35023","New Mexico","Hidalgo","Grain Sorghum","Bushel","All",0.17]
["35025","New Mexico","Lea","Cotton_lint","Pound of lint","Nonirrigated",2.63]
["35025","New Mexico","Lea","Cotton_lint","Pound of lint","Irrigated",12.18]
["35025","New Mexico","Lea","Grain Sorghum","Bushel","All",0.5]
["35029","New Mexico","Luna","Cotton_lint","Pound of lint","All",3.88]
["35029","New Mexico","Luna","Grain Sorghum","Bushel","All",0.16]
["35037","New Mexico","Quay","Cotton_lint","Pound of lint","All",13.17]
["35037","New Mexico","Quay","Grain Sorghum","Bushel","Nonirrigated",0.09]
["35037","New Mexico","Quay","Grain Sorghum","Bushel","Irrigated",0.12]
["35037","New Mexico","Quay","Wheat","Bushel","All",0.3]
["35041","New Mexico","Roosevelt","Corn","Bushel","Irrigated",0.1]
["35041","New Mexico","Roosevelt","Cotton_lint","Pound of lint","Nonirrigated",4.66]
["35041","New Mexico","Roosevelt","Cotton_lint","Pound of lint","Irrigated",13.6]
["35041","New Mexico","Roosevelt","Wheat","Bushel","Nonirrigated",0.26]
["35041","New Mexico","Roosevelt","Wheat","Bushel","Irrigated",0.3]
["35045","New Mexico","San Juan","Corn","Bushel","All",0.41]
["35049","New Mexico","Santa Fe","Corn","Bushel","All",1.41]
["35057","New Mexico","Torrance","Corn","Bushel","All",0.12]
["35059","New Mexico","Union","Corn","Bushel","All",1.58]
["35059","New Mexico","Union","Grain Sorghum","Bushel","All",0.16]
["35059","New Mexico","Union","Wheat","Bushel","Nonirrigated",0.1]
["35059","New Mexico","Union","Wheat","Bushel","Irrigated",0.24]
["36001","New York","Albany","Corn","Bushel","All",0.46]
["36003","New York","Allegany","Corn","Bushel","All",1.08]
["36007","New York","Broome","Corn","Bushel","All",0.61]
["36009","New York","Cattaraugus","Corn","Bushel","All",1.18]
["36011","New York","Cayuga","Corn","Bushel","All",0.82]
["36011","New York","Cayuga","Wheat","Bushel","All",0.53]
["36013","New York","Chautauqua","Corn","Bushel","All",1.27]
["36015","New York","Chemung","Corn","Bushel","All",0.65]
["36017","New York","Chenango","Corn","Bushel","All",0.52]
["36019","New York","Clinton","Corn","Bushel","All",1.34]
["36021","New York","Columbia","Corn","Bushel","All",1.02]
["36023","New York","Cortland","Corn","Bushel","All",0.67]
["36025","New York","Delaware","Corn","Bushel","All",0.59]
["36027","New York","Dutchess","Corn","Bushel","All",1.1299999999999999]
["36029","New York","Erie","Corn","Bushel","All",1.2]
["36031","New York","Essex","Corn","Bushel","All",0.9]
["36033","New York","Franklin","Corn","Bushel","All",0.98]
["36035","New York","Fulton","Corn","Bushel","All",0.48]
["36037","New York","Genesee","Corn","Bushel","All",1.1499999999999999]
["36037","New York","Genesee","Wheat","Bushel","All",0.67]
["36039","New York","Greene","Corn","Bushel","All",0.69]
["36043","New York","Herkimer","Corn","Bushel","All",0.76]
["36045","New York","Jefferson","Corn","Bushel","All",0.65]
["36049","New York","Lewis","Corn","Bushel","All",0.52]
["36051","New York","Livingston","Corn","Bushel","All",1.08]
["36051","New York","Livingston","Wheat","Bushel","All",0.68]
["36053","New York","Madison","Corn","Bushel","All",0.87]
["36053","New York","Madison","Wheat","Bushel","All",0.49]
["36055","New York","Monroe","Corn","Bushel","All",1.03]
["36055","New York","Monroe","Wheat","Bushel","All",0.68]
["36057","New York","Montgomery","Corn","Bushel","All",0.48]
["36063","New York","Niagara","Corn","Bushel","All",1.33]
["36063","New York","Niagara","Wheat","Bushel","All",0.69]
["36065","New York","Oneida","Corn","Bushel","All",0.83]
["36065","New York","Oneida","Wheat","Bushel","All",0.54]
["36067","New York","Onondaga","Corn","Bushel","All",0.93]
["36067","New York","Onondaga","Wheat","Bushel","All",0.47]
["36069","New York","Ontario","Corn","Bushel","All",1.03]
["36069","New York","Ontario","Wheat","Bushel","All",0.6]
["36071","New York","Orange, Rockland","Corn","Bushel","All",0.82]
["36073","New York","Orleans","Corn","Bushel","All",1.1100000000000001]
["36073","New York","Orleans","Wheat","Bushel","All",0.61]
["36075","New York","Oswego","Corn","Bushel","All",0.87]
["36077","New York","Otsego","Corn","Bushel","All",0.76]
["36083","New York","Rensselaer","Corn","Bushel","All",0.75]
["36089","New York","St. Lawrence","Corn","Bushel","All",0.66]
["36091","New York","Saratoga","Corn","Bushel","All",0.48]
["36093","New York","Schenectady","Corn","Bushel","All",0.33]
["36095","New York","Schoharie","Corn","Bushel","All",0.42]
["36097","New York","Schuyler","Corn","Bushel","All",0.77]
["36099","New York","Seneca","Corn","Bushel","All",0.95]
["36099","New York","Seneca","Wheat","Bushel","All",0.59]
["36101","New York","Steuben","Corn","Bushel","All",0.98]
["36101","New York","Steuben","Wheat","Bushel","All",0.69]
["36103","New York","Suffolk, Nassau","Corn","Bushel","All",2.58]
["36105","New York","Sullivan","Corn","Bushel","All",0.54]
["36107","New York","Tioga","Corn","Bushel","All",0.61]
["36109","New York","Tompkins","Corn","Bushel","All",0.72]
["36109","New York","Tompkins","Wheat","Bushel","All",0.24]
["36111","New York","Ulster","Corn","Bushel","All",0.71]
["36115","New York","Washington","Corn","Bushel","All",0.94]
["36117","New York","Wayne","Corn","Bushel","All",0.96]
["36117","New York","Wayne","Wheat","Bushel","All",0.57999999999999996]
["36121","New York","Wyoming","Corn","Bushel","All",1.1399999999999999]
["36123","New York","Yates","Corn","Bushel","All",0.98]
["36123","New York","Yates","Wheat","Bushel","All",0.64]
["37001","North Carolina","Alamance","Corn","Bushel","All",0.95]
["37001","North Carolina","Alamance","Soybeans","Bushel","All",0.31]
["37001","North Carolina","Alamance","Wheat","Bushel","All",0.66]
["37003","North Carolina","Alexander","Corn","Bushel","All",1.43]
["37003","North Carolina","Alexander","Soybeans","Bushel","All",0.51]
["37003","North Carolina","Alexander","Wheat","Bushel","All",0.45]
["37007","North Carolina","Anson","Corn","Bushel","All",1.1000000000000001]
["37007","North Carolina","Anson","Cotton_lint","Pound of lint","All",13.6]
["37007","North Carolina","Anson","Soybeans","Bushel","All",0.35]
["37007","North Carolina","Anson","Wheat","Bushel","All",0.63]
["37013","North Carolina","Beaufort","Corn","Bushel","Irrigated",1.45]
["37013","North Carolina","Beaufort","Corn","Bushel","Nonirrigated",1.45]
["37013","North Carolina","Beaufort","Cotton_lint","Pound of lint","All",13.6]
["37013","North Carolina","Beaufort","Grain Sorghum","Bushel","All",0.44]
["37013","North Carolina","Beaufort","Soybeans","Bushel","All",0.34]
["37013","North Carolina","Beaufort","Wheat","Bushel","All",0.54]
["37015","North Carolina","Bertie","Corn","Bushel","Irrigated",1.39]
["37015","North Carolina","Bertie","Corn","Bushel","Nonirrigated",1.39]
["37015","North Carolina","Bertie","Cotton_lint","Pound of lint","All",11.41]
["37015","North Carolina","Bertie","Grain Sorghum","Bushel","All",0.3]
["37015","North Carolina","Bertie","Peanuts","Pound","All",30.81]
["37015","North Carolina","Bertie","Soybeans","Bushel","All",0.3]
["37015","North Carolina","Bertie","Wheat","Bushel","All",0.49]
["37017","North Carolina","Bladen","Corn","Bushel","All",1.3]
["37017","North Carolina","Bladen","Cotton_lint","Pound of lint","All",6.34]
["37017","North Carolina","Bladen","Peanuts","Pound","All",35.93]
["37017","North Carolina","Bladen","Soybeans","Bushel","All",0.17]
["37017","North Carolina","Bladen","Wheat","Bushel","All",0.31]
["37019","North Carolina","Brunswick","Corn","Bushel","All",1.06]
["37019","North Carolina","Brunswick","Soybeans","Bushel","All",0.18]
["37023","North Carolina","Burke","Corn","Bushel","All",1.38]
["37023","North Carolina","Burke","Soybeans","Bushel","All",0.42]
["37025","North Carolina","Cabarrus","Corn","Bushel","All",1.17]
["37025","North Carolina","Cabarrus","Soybeans","Bushel","All",0.37]
["37025","North Carolina","Cabarrus","Wheat","Bushel","All",0.67]
["37027","North Carolina","Caldwell","Corn","Bushel","All",1.51]
["37027","North Carolina","Caldwell","Soybeans","Bushel","All",0.53]
["37029","North Carolina","Camden","Corn","Bushel","All",1.4]
["37029","North Carolina","Camden","Soybeans","Bushel","All",0.32]
["37029","North Carolina","Camden","Wheat","Bushel","All",0.56999999999999995]
["37031","North Carolina","Carteret","Corn","Bushel","All",1.1100000000000001]
["37031","North Carolina","Carteret","Grain Sorghum","Bushel","All",0.51]
["37031","North Carolina","Carteret","Soybeans","Bushel","All",0.34]
["37033","North Carolina","Caswell","Corn","Bushel","All",0.61]
["37033","North Carolina","Caswell","Soybeans","Bushel","All",0.23]
["37033","North Carolina","Caswell","Wheat","Bushel","All",0.57999999999999996]
["37035","North Carolina","Catawba","Corn","Bushel","All",1.4]
["37035","North Carolina","Catawba","Soybeans","Bushel","All",0.45]
["37035","North Carolina","Catawba","Wheat","Bushel","All",0.69]
["37037","North Carolina","Chatham","Corn","Bushel","All",1.1499999999999999]
["37037","North Carolina","Chatham","Soybeans","Bushel","All",0.28999999999999998]
["37037","North Carolina","Chatham","Wheat","Bushel","All",0.61]
["37039","North Carolina","Cherokee","Corn","Bushel","All",1.19]
["37041","North Carolina","Chowan","Corn","Bushel","All",1.44]
["37041","North Carolina","Chowan","Cotton_lint","Pound of lint","All",11.69]
["37041","North Carolina","Chowan","Grain Sorghum","Bushel","All",0.17]
["37041","North Carolina","Chowan","Peanuts","Pound","All",41.71]
["37041","North Carolina","Chowan","Soybeans","Bushel","All",0.33]
["37041","North Carolina","Chowan","Wheat","Bushel","All",0.61]
["37045","North Carolina","Cleveland","Corn","Bushel","All",1.28]
["37045","North Carolina","Cleveland","Cotton_lint","Pound of lint","All",13.6]
["37045","North Carolina","Cleveland","Soybeans","Bushel","All",0.36]
["37045","North Carolina","Cleveland","Wheat","Bushel","All",0.67]
["37047","North Carolina","Columbus","Corn","Bushel","All",1.2]
["37047","North Carolina","Columbus","Cotton_lint","Pound of lint","All",6.6]
["37047","North Carolina","Columbus","Grain Sorghum","Bushel","All",0.47]
["37047","North Carolina","Columbus","Peanuts","Pound","All",33.67]
["37047","North Carolina","Columbus","Soybeans","Bushel","All",0.22]
["37047","North Carolina","Columbus","Wheat","Bushel","All",0.31]
["37049","North Carolina","Craven","Corn","Bushel","All",1.36]
["37049","North Carolina","Craven","Cotton_lint","Pound of lint","All",13.25]
["37049","North Carolina","Craven","Soybeans","Bushel","All",0.28999999999999998]
["37051","North Carolina","Cumberland","Corn","Bushel","Nonirrigated",1.32]
["37051","North Carolina","Cumberland","Corn","Bushel","Irrigated",1.33]
["37051","North Carolina","Cumberland","Cotton_lint","Pound of lint","All",6.02]
["37051","North Carolina","Cumberland","Soybeans","Bushel","All",0.17]
["37051","North Carolina","Cumberland","Wheat","Bushel","All",0.45]
["37053","North Carolina","Currituck","Corn","Bushel","All",1.43]
["37053","North Carolina","Currituck","Grain Sorghum","Bushel","All",0.2]
["37053","North Carolina","Currituck","Soybeans","Bushel","All",0.33]
["37053","North Carolina","Currituck","Wheat","Bushel","All",0.61]
["37055","North Carolina","Dare","Soybeans","Bushel","All",0.22]
["37057","North Carolina","Davidson","Corn","Bushel","All",1.19]
["37057","North Carolina","Davidson","Soybeans","Bushel","All",0.39]
["37057","North Carolina","Davidson","Wheat","Bushel","All",0.65]
["37059","North Carolina","Davie","Corn","Bushel","All",1.34]
["37059","North Carolina","Davie","Soybeans","Bushel","All",0.44]
["37059","North Carolina","Davie","Wheat","Bushel","All",0.62]
["37061","North Carolina","Duplin","Corn","Bushel","All",1.36]
["37061","North Carolina","Duplin","Cotton_lint","Pound of lint","All",8.1999999999999993]
["37061","North Carolina","Duplin","Soybeans","Bushel","All",0.26]
["37061","North Carolina","Duplin","Wheat","Bushel","All",0.36]
["37063","North Carolina","Durham","Soybeans","Bushel","All",0.23]
["37065","North Carolina","Edgecombe","Corn","Bushel","All",1.42]
["37065","North Carolina","Edgecombe","Cotton_lint","Pound of lint","All",11.68]
["37065","North Carolina","Edgecombe","Grain Sorghum","Bushel","All",0.51]
["37065","North Carolina","Edgecombe","Peanuts","Pound","All",29.59]
["37065","North Carolina","Edgecombe","Soybeans","Bushel","All",0.22]
["37065","North Carolina","Edgecombe","Wheat","Bushel","All",0.53]
["37067","North Carolina","Forsyth","Corn","Bushel","All",1.17]
["37067","North Carolina","Forsyth","Soybeans","Bushel","All",0.37]
["37069","North Carolina","Franklin","Corn","Bushel","All",1.1399999999999999]
["37069","North Carolina","Franklin","Soybeans","Bushel","All",0.22]
["37069","North Carolina","Franklin","Wheat","Bushel","All",0.67]
["37071","North Carolina","Gaston","Soybeans","Bushel","All",0.31]
["37071","North Carolina","Gaston","Wheat","Bushel","All",0.55000000000000004]
["37073","North Carolina","Gates","Corn","Bushel","All",1.31]
["37073","North Carolina","Gates","Cotton_lint","Pound of lint","All",11.99]
["37073","North Carolina","Gates","Grain Sorghum","Bushel","All",0.28999999999999998]
["37073","North Carolina","Gates","Peanuts","Pound","All",38.659999999999997]
["37073","North Carolina","Gates","Soybeans","Bushel","All",0.31]
["37073","North Carolina","Gates","Wheat","Bushel","All",0.66]
["37077","North Carolina","Granville","Corn","Bushel","All",0.77]
["37077","North Carolina","Granville","Soybeans","Bushel","All",0.17]
["37077","North Carolina","Granville","Wheat","Bushel","All",0.5]
["37079","North Carolina","Greene","Corn","Bushel","All",1.41]
["37079","North Carolina","Greene","Cotton_lint","Pound of lint","All",13.6]
["37079","North Carolina","Greene","Soybeans","Bushel","All",0.28999999999999998]
["37079","North Carolina","Greene","Wheat","Bushel","All",0.47]
["37081","North Carolina","Guilford","Corn","Bushel","All",0.9]
["37081","North Carolina","Guilford","Soybeans","Bushel","All",0.34]
["37081","North Carolina","Guilford","Wheat","Bushel","All",0.62]
["37083","North Carolina","Halifax","Corn","Bushel","All",1.26]
["37083","North Carolina","Halifax","Cotton_lint","Pound of lint","All",12.02]
["37083","North Carolina","Halifax","Peanuts","Pound","All",21.75]
["37083","North Carolina","Halifax","Soybeans","Bushel","All",0.28999999999999998]
["37083","North Carolina","Halifax","Wheat","Bushel","All",0.54]
["37085","North Carolina","Harnett","Corn","Bushel","All",1.32]
["37085","North Carolina","Harnett","Cotton_lint","Pound of lint","All",8.99]
["37085","North Carolina","Harnett","Soybeans","Bushel","All",0.19]
["37085","North Carolina","Harnett","Wheat","Bushel","All",0.51]
["37089","North Carolina","Henderson","Corn","Bushel","All",1.37]
["37091","North Carolina","Hertford","Corn","Bushel","Irrigated",1.3]
["37091","North Carolina","Hertford","Corn","Bushel","Nonirrigated",1.3]
["37091","North Carolina","Hertford","Cotton_lint","Pound of lint","All",11.59]
["37091","North Carolina","Hertford","Peanuts","Pound","All",30.94]
["37091","North Carolina","Hertford","Soybeans","Bushel","All",0.26]
["37091","North Carolina","Hertford","Wheat","Bushel","All",0.64]
["37093","North Carolina","Hoke","Corn","Bushel","All",1.29]
["37093","North Carolina","Hoke","Cotton_lint","Pound of lint","All",9.02]
["37093","North Carolina","Hoke","Soybeans","Bushel","All",0.26]
["37093","North Carolina","Hoke","Wheat","Bushel","All",0.46]
["37095","North Carolina","Hyde","Corn","Bushel","All",1.6]
["37095","North Carolina","Hyde","Cotton_lint","Pound of lint","All",13.6]
["37095","North Carolina","Hyde","Grain Sorghum","Bushel","All",0.47]
["37095","North Carolina","Hyde","Soybeans","Bushel","All",0.37]
["37095","North Carolina","Hyde","Wheat","Bushel","All",0.51]
["37097","North Carolina","Iredell","Corn","Bushel","All",1.36]
["37097","North Carolina","Iredell","Soybeans","Bushel","All",0.45]
["37097","North Carolina","Iredell","Wheat","Bushel","All",0.67]
["37101","North Carolina","Johnston","Corn","Bushel","All",1.34]
["37101","North Carolina","Johnston","Cotton_lint","Pound of lint","All",12.5]
["37101","North Carolina","Johnston","Soybeans","Bushel","All",0.22]
["37101","North Carolina","Johnston","Wheat","Bushel","All",0.59]
["37103","North Carolina","Jones","Corn","Bushel","All",1.38]
["37103","North Carolina","Jones","Cotton_lint","Pound of lint","All",13.13]
["37103","North Carolina","Jones","Soybeans","Bushel","All",0.25]
["37103","North Carolina","Jones","Wheat","Bushel","All",0.46]
["37105","North Carolina","Lee","Corn","Bushel","All",1.21]
["37105","North Carolina","Lee","Soybeans","Bushel","All",0.25]
["37105","North Carolina","Lee","Wheat","Bushel","All",0.57999999999999996]
["37107","North Carolina","Lenoir","Corn","Bushel","All",1.39]
["37107","North Carolina","Lenoir","Cotton_lint","Pound of lint","All",12.82]
["37107","North Carolina","Lenoir","Soybeans","Bushel","All",0.24]
["37107","North Carolina","Lenoir","Wheat","Bushel","All",0.44]
["37109","North Carolina","Lincoln","Corn","Bushel","All",1.24]
["37109","North Carolina","Lincoln","Soybeans","Bushel","All",0.37]
["37109","North Carolina","Lincoln","Wheat","Bushel","All",0.6]
["37111","North Carolina","Mcdowell","Corn","Bushel","All",1.39]
["37117","North Carolina","Martin","Corn","Bushel","All",1.44]
["37117","North Carolina","Martin","Cotton_lint","Pound of lint","All",11.57]
["37117","North Carolina","Martin","Peanuts","Pound","All",33.799999999999997]
["37117","North Carolina","Martin","Soybeans","Bushel","All",0.26]
["37117","North Carolina","Martin","Wheat","Bushel","All",0.49]
["37119","North Carolina","Mecklenburg","Corn","Bushel","All",1.2]
["37119","North Carolina","Mecklenburg","Soybeans","Bushel","All",0.32]
["37123","North Carolina","Montgomery","Corn","Bushel","All",1.1100000000000001]
["37123","North Carolina","Montgomery","Soybeans","Bushel","All",0.35]
["37125","North Carolina","Moore","Corn","Bushel","All",1.1399999999999999]
["37125","North Carolina","Moore","Soybeans","Bushel","All",0.21]
["37125","North Carolina","Moore","Wheat","Bushel","All",0.63]
["37127","North Carolina","Nash","Corn","Bushel","All",1.35]
["37127","North Carolina","Nash","Cotton_lint","Pound of lint","All",12.28]
["37127","North Carolina","Nash","Soybeans","Bushel","All",0.2]
["37127","North Carolina","Nash","Wheat","Bushel","All",0.53]
["37129","North Carolina","New Hanover","Corn","Bushel","All",0.9]
["37129","North Carolina","New Hanover","Soybeans","Bushel","All",0.27]
["37131","North Carolina","Northampton","Corn","Bushel","All",1.23]
["37131","North Carolina","Northampton","Cotton_lint","Pound of lint","All",12.39]
["37131","North Carolina","Northampton","Grain Sorghum","Bushel","All",0.33]
["37131","North Carolina","Northampton","Peanuts","Pound","All",23.58]
["37131","North Carolina","Northampton","Soybeans","Bushel","All",0.26]
["37131","North Carolina","Northampton","Wheat","Bushel","All",0.64]
["37133","North Carolina","Onslow","Corn","Bushel","All",1.3]
["37133","North Carolina","Onslow","Cotton_lint","Pound of lint","All",8.85]
["37133","North Carolina","Onslow","Soybeans","Bushel","All",0.28999999999999998]
["37133","North Carolina","Onslow","Wheat","Bushel","All",0.36]
["37135","North Carolina","Orange","Corn","Bushel","All",0.93]
["37135","North Carolina","Orange","Soybeans","Bushel","All",0.28999999999999998]
["37135","North Carolina","Orange","Wheat","Bushel","All",0.66]
["37137","North Carolina","Pamlico","Corn","Bushel","All",1.39]
["37137","North Carolina","Pamlico","Soybeans","Bushel","All",0.36]
["37137","North Carolina","Pamlico","Wheat","Bushel","All",0.45]
["37139","North Carolina","Pasquotank","Corn","Bushel","All",1.46]
["37139","North Carolina","Pasquotank","Grain Sorghum","Bushel","All",0.23]
["37139","North Carolina","Pasquotank","Soybeans","Bushel","All",0.28999999999999998]
["37139","North Carolina","Pasquotank","Wheat","Bushel","All",0.52]
["37141","North Carolina","Pender","Corn","Bushel","All",1.28]
["37141","North Carolina","Pender","Soybeans","Bushel","All",0.27]
["37143","North Carolina","Perquimans","Corn","Bushel","All",1.48]
["37143","North Carolina","Perquimans","Cotton_lint","Pound of lint","All",12.67]
["37143","North Carolina","Perquimans","Peanuts","Pound","All",38.47]
["37143","North Carolina","Perquimans","Soybeans","Bushel","All",0.33]
["37143","North Carolina","Perquimans","Wheat","Bushel","All",0.59]
["37145","North Carolina","Person","Corn","Bushel","All",0.54]
["37145","North Carolina","Person","Soybeans","Bushel","All",0.28000000000000003]
["37145","North Carolina","Person","Wheat","Bushel","All",0.62]
["37147","North Carolina","Pitt","Corn","Bushel","All",1.24]
["37147","North Carolina","Pitt","Cotton_lint","Pound of lint","All",13.08]
["37147","North Carolina","Pitt","Peanuts","Pound","All",39.25]
["37147","North Carolina","Pitt","Soybeans","Bushel","All",0.22]
["37147","North Carolina","Pitt","Wheat","Bushel","All",0.5]
["37151","North Carolina","Randolph","Corn","Bushel","All",1.1499999999999999]
["37151","North Carolina","Randolph","Soybeans","Bushel","All",0.39]
["37151","North Carolina","Randolph","Wheat","Bushel","All",0.62]
["37153","North Carolina","Richmond","Corn","Bushel","All",1.1000000000000001]
["37153","North Carolina","Richmond","Soybeans","Bushel","All",0.31]
["37155","North Carolina","Robeson","Corn","Bushel","Irrigated",1.23]
["37155","North Carolina","Robeson","Corn","Bushel","Nonirrigated",1.23]
["37155","North Carolina","Robeson","Cotton_lint","Pound of lint","All",6.57]
["37155","North Carolina","Robeson","Peanuts","Pound","All",30.07]
["37155","North Carolina","Robeson","Soybeans","Bushel","Irrigated",0.23]
["37155","North Carolina","Robeson","Soybeans","Bushel","Nonirrigated",0.23]
["37155","North Carolina","Robeson","Wheat","Bushel","All",0.42]
["37157","North Carolina","Rockingham","Corn","Bushel","All",0.69]
["37157","North Carolina","Rockingham","Soybeans","Bushel","All",0.32]
["37157","North Carolina","Rockingham","Wheat","Bushel","All",0.56000000000000005]
["37159","North Carolina","Rowan","Corn","Bushel","All",1.22]
["37159","North Carolina","Rowan","Soybeans","Bushel","All",0.43]
["37159","North Carolina","Rowan","Wheat","Bushel","All",0.69]
["37161","North Carolina","Rutherford","Cotton_lint","Pound of lint","All",11.18]
["37161","North Carolina","Rutherford","Soybeans","Bushel","All",0.31]
["37161","North Carolina","Rutherford","Wheat","Bushel","All",0.4]
["37163","North Carolina","Sampson","Corn","Bushel","All",1.36]
["37163","North Carolina","Sampson","Cotton_lint","Pound of lint","All",7.98]
["37163","North Carolina","Sampson","Peanuts","Pound","All",24.73]
["37163","North Carolina","Sampson","Soybeans","Bushel","All",0.28000000000000003]
["37163","North Carolina","Sampson","Wheat","Bushel","All",0.46]
["37165","North Carolina","Scotland","Corn","Bushel","All",1.18]
["37165","North Carolina","Scotland","Cotton_lint","Pound of lint","All",9.24]
["37165","North Carolina","Scotland","Soybeans","Bushel","All",0.27]
["37165","North Carolina","Scotland","Wheat","Bushel","All",0.44]
["37167","North Carolina","Stanly","Corn","Bushel","All",1.1299999999999999]
["37167","North Carolina","Stanly","Cotton_lint","Pound of lint","All",13.6]
["37167","North Carolina","Stanly","Soybeans","Bushel","All",0.39]
["37167","North Carolina","Stanly","Wheat","Bushel","All",0.69]
["37169","North Carolina","Stokes","Corn","Bushel","All",0.85]
["37169","North Carolina","Stokes","Soybeans","Bushel","All",0.28000000000000003]
["37169","North Carolina","Stokes","Wheat","Bushel","All",0.47]
["37171","North Carolina","Surry","Corn","Bushel","All",1.38]
["37171","North Carolina","Surry","Soybeans","Bushel","All",0.53]
["37171","North Carolina","Surry","Wheat","Bushel","All",0.62]
["37175","North Carolina","Transylvania","Corn","Bushel","All",1.38]
["37177","North Carolina","Tyrrell","Corn","Bushel","All",1.55]
["37177","North Carolina","Tyrrell","Soybeans","Bushel","All",0.34]
["37177","North Carolina","Tyrrell","Wheat","Bushel","All",0.52]
["37179","North Carolina","Union","Corn","Bushel","All",1.1399999999999999]
["37179","North Carolina","Union","Cotton_lint","Pound of lint","All",13.6]
["37179","North Carolina","Union","Grain Sorghum","Bushel","All",0.17]
["37179","North Carolina","Union","Soybeans","Bushel","All",0.43]
["37179","North Carolina","Union","Wheat","Bushel","All",0.67]
["37181","North Carolina","Vance","Soybeans","Bushel","All",0.25]
["37181","North Carolina","Vance","Wheat","Bushel","All",0.69]
["37183","North Carolina","Wake","Corn","Bushel","All",1.19]
["37183","North Carolina","Wake","Cotton_lint","Pound of lint","All",13.6]
["37183","North Carolina","Wake","Soybeans","Bushel","All",0.22]
["37183","North Carolina","Wake","Wheat","Bushel","All",0.53]
["37185","North Carolina","Warren","Corn","Bushel","All",0.95]
["37185","North Carolina","Warren","Soybeans","Bushel","All",0.19]
["37185","North Carolina","Warren","Wheat","Bushel","All",0.69]
["37187","North Carolina","Washington","Corn","Bushel","All",1.52]
["37187","North Carolina","Washington","Cotton_lint","Pound of lint","All",12.28]
["37187","North Carolina","Washington","Grain Sorghum","Bushel","All",0.44]
["37187","North Carolina","Washington","Soybeans","Bushel","All",0.33]
["37187","North Carolina","Washington","Wheat","Bushel","All",0.55000000000000004]
["37191","North Carolina","Wayne","Corn","Bushel","All",1.39]
["37191","North Carolina","Wayne","Cotton_lint","Pound of lint","All",12.61]
["37191","North Carolina","Wayne","Soybeans","Bushel","All",0.28999999999999998]
["37191","North Carolina","Wayne","Wheat","Bushel","All",0.53]
["37193","North Carolina","Wilkes","Corn","Bushel","All",1.1399999999999999]
["37193","North Carolina","Wilkes","Soybeans","Bushel","All",0.53]
["37195","North Carolina","Wilson","Corn","Bushel","Irrigated",1.39]
["37195","North Carolina","Wilson","Corn","Bushel","Nonirrigated",1.39]
["37195","North Carolina","Wilson","Cotton_lint","Pound of lint","All",13.6]
["37195","North Carolina","Wilson","Soybeans","Bushel","Irrigated",0.28999999999999998]
["37195","North Carolina","Wilson","Soybeans","Bushel","Nonirrigated",0.28999999999999998]
["37195","North Carolina","Wilson","Wheat","Bushel","All",0.54]
["37197","North Carolina","Yadkin","Corn","Bushel","All",1.4]
["37197","North Carolina","Yadkin","Soybeans","Bushel","All",0.53]
["37197","North Carolina","Yadkin","Wheat","Bushel","All",0.64]
["38001","North Dakota","Adams","Barley","Bushel","All",0.59]
["38001","North Dakota","Adams","Corn","Bushel","All",1.48]
["38001","North Dakota","Adams","Sunflower Seed","Pound","All",15.1]
["38001","North Dakota","Adams","Wheat","Bushel","All",0.25]
["38003","North Dakota","Barnes","Barley","Bushel","All",0.65]
["38003","North Dakota","Barnes","Corn","Bushel","All",2.77]
["38003","North Dakota","Barnes","Soybeans","Bushel","All",0.45]
["38003","North Dakota","Barnes","Sunflower Seed","Pound","All",11.67]
["38003","North Dakota","Barnes","Wheat","Bushel","All",0.6]
["38005","North Dakota","Benson","Barley","Bushel","All",0.78]
["38005","North Dakota","Benson","Canola","Pound","All",29.77]
["38005","North Dakota","Benson","Corn","Bushel","Irrigated",2.15]
["38005","North Dakota","Benson","Corn","Bushel","Nonirrigated",2.15]
["38005","North Dakota","Benson","Soybeans","Bushel","Irrigated",0.4]
["38005","North Dakota","Benson","Soybeans","Bushel","Nonirrigated",0.4]
["38005","North Dakota","Benson","Sunflower Seed","Pound","All",8.26]
["38005","North Dakota","Benson","Wheat","Bushel","All",0.52]
["38007","North Dakota","Billings","Sunflower Seed","Pound","All",16.579999999999998]
["38007","North Dakota","Billings","Wheat","Bushel","All",0.25]
["38009","North Dakota","Bottineau","Barley","Bushel","All",0.79]
["38009","North Dakota","Bottineau","Canola","Pound","All",29.82]
["38009","North Dakota","Bottineau","Corn","Bushel","All",2.0099999999999998]
["38009","North Dakota","Bottineau","Soybeans","Bushel","All",0.4]
["38009","North Dakota","Bottineau","Sunflower Seed","Pound","All",11.39]
["38009","North Dakota","Bottineau","Wheat","Bushel","All",0.5]
["38011","North Dakota","Bowman","Barley","Bushel","All",0.56999999999999995]
["38011","North Dakota","Bowman","Canola","Pound","All",16.41]
["38011","North Dakota","Bowman","Corn","Bushel","All",1.42]
["38011","North Dakota","Bowman","Sunflower Seed","Pound","All",14.64]
["38011","North Dakota","Bowman","Wheat","Bushel","All",0.24]
["38013","North Dakota","Burke","Barley","Bushel","All",0.78]
["38013","North Dakota","Burke","Canola","Pound","All",24.63]
["38013","North Dakota","Burke","Sunflower Seed","Pound","All",13.1]
["38013","North Dakota","Burke","Wheat","Bushel","All",0.33]
["38015","North Dakota","Burleigh","Barley","Bushel","All",0.81]
["38015","North Dakota","Burleigh","Canola","Pound","All",36.06]
["38015","North Dakota","Burleigh","Corn","Bushel","Nonirrigated",1.75]
["38015","North Dakota","Burleigh","Corn","Bushel","Irrigated",2.0299999999999998]
["38015","North Dakota","Burleigh","Soybeans","Bushel","Irrigated",0.4]
["38015","North Dakota","Burleigh","Soybeans","Bushel","Nonirrigated",0.4]
["38015","North Dakota","Burleigh","Sunflower Seed","Pound","All",17.149999999999999]
["38015","North Dakota","Burleigh","Wheat","Bushel","All",0.24]
["38017","North Dakota","Cass","Barley","Bushel","All",0.6]
["38017","North Dakota","Cass","Corn","Bushel","Nonirrigated",2.79]
["38017","North Dakota","Cass","Corn","Bushel","Irrigated",2.8]
["38017","North Dakota","Cass","Soybeans","Bushel","Irrigated",0.42]
["38017","North Dakota","Cass","Soybeans","Bushel","Nonirrigated",0.42]
["38017","North Dakota","Cass","Sunflower Seed","Pound","All",11.89]
["38017","North Dakota","Cass","Wheat","Bushel","All",0.63]
["38019","North Dakota","Cavalier","Barley","Bushel","All",0.64]
["38019","North Dakota","Cavalier","Canola","Pound","All",40.049999999999997]
["38019","North Dakota","Cavalier","Soybeans","Bushel","All",0.4]
["38019","North Dakota","Cavalier","Sunflower Seed","Pound","All",8]
["38019","North Dakota","Cavalier","Wheat","Bushel","All",0.45]
["38021","North Dakota","Dickey","Barley","Bushel","All",0.8]
["38021","North Dakota","Dickey","Corn","Bushel","Nonirrigated",2.64]
["38021","North Dakota","Dickey","Corn","Bushel","Irrigated",2.69]
["38021","North Dakota","Dickey","Soybeans","Bushel","Irrigated",0.51]
["38021","North Dakota","Dickey","Soybeans","Bushel","Nonirrigated",0.51]
["38021","North Dakota","Dickey","Sunflower Seed","Pound","All",14.92]
["38021","North Dakota","Dickey","Wheat","Bushel","All",0.63]
["38023","North Dakota","Divide","Barley","Bushel","All",0.54]
["38023","North Dakota","Divide","Canola","Pound","All",24.45]
["38023","North Dakota","Divide","Sunflower Seed","Pound","All",10.06]
["38023","North Dakota","Divide","Wheat","Bushel","Irrigated",0.23]
["38023","North Dakota","Divide","Wheat","Bushel","Nonirrigated",0.23]
["38025","North Dakota","Dunn","Barley","Bushel","All",0.64]
["38025","North Dakota","Dunn","Canola","Pound","All",29.18]
["38025","North Dakota","Dunn","Corn","Bushel","All",1.83]
["38025","North Dakota","Dunn","Sunflower Seed","Pound","All",12.12]
["38025","North Dakota","Dunn","Wheat","Bushel","All",0.26]
["38027","North Dakota","Eddy","Barley","Bushel","All",0.7]
["38027","North Dakota","Eddy","Canola","Pound","All",39.03]
["38027","North Dakota","Eddy","Corn","Bushel","All",2.58]
["38027","North Dakota","Eddy","Soybeans","Bushel","All",0.53]
["38027","North Dakota","Eddy","Sunflower Seed","Pound","All",6.91]
["38027","North Dakota","Eddy","Wheat","Bushel","All",0.44]
["38029","North Dakota","Emmons","Barley","Bushel","All",0.91]
["38029","North Dakota","Emmons","Corn","Bushel","Nonirrigated",1.68]
["38029","North Dakota","Emmons","Corn","Bushel","Irrigated",2.12]
["38029","North Dakota","Emmons","Soybeans","Bushel","Irrigated",0.4]
["38029","North Dakota","Emmons","Soybeans","Bushel","Nonirrigated",0.4]
["38029","North Dakota","Emmons","Sunflower Seed","Pound","All",19.21]
["38029","North Dakota","Emmons","Wheat","Bushel","All",0.37]
["38031","North Dakota","Foster","Barley","Bushel","All",0.73]
["38031","North Dakota","Foster","Canola","Pound","All",40.049999999999997]
["38031","North Dakota","Foster","Corn","Bushel","Nonirrigated",2.58]
["38031","North Dakota","Foster","Corn","Bushel","Irrigated",2.6]
["38031","North Dakota","Foster","Soybeans","Bushel","Irrigated",0.53]
["38031","North Dakota","Foster","Soybeans","Bushel","Nonirrigated",0.53]
["38031","North Dakota","Foster","Sunflower Seed","Pound","All",9.59]
["38031","North Dakota","Foster","Wheat","Bushel","All",0.5]
["38033","North Dakota","Golden Valley","Corn","Bushel","All",1.58]
["38033","North Dakota","Golden Valley","Sunflower Seed","Pound","All",16.559999999999999]
["38033","North Dakota","Golden Valley","Wheat","Bushel","All",0.23]
["38035","North Dakota","Grand Forks","Barley","Bushel","All",0.5]
["38035","North Dakota","Grand Forks","Canola","Pound","All",25.52]
["38035","North Dakota","Grand Forks","Corn","Bushel","Nonirrigated",2.72]
["38035","North Dakota","Grand Forks","Corn","Bushel","Irrigated",2.77]
["38035","North Dakota","Grand Forks","Soybeans","Bushel","Irrigated",0.42]
["38035","North Dakota","Grand Forks","Soybeans","Bushel","Nonirrigated",0.42]
["38035","North Dakota","Grand Forks","Sunflower Seed","Pound","All",6.07]
["38035","North Dakota","Grand Forks","Wheat","Bushel","Irrigated",0.48]
["38035","North Dakota","Grand Forks","Wheat","Bushel","Nonirrigated",0.48]
["38037","North Dakota","Grant","Canola","Pound","All",23.38]
["38037","North Dakota","Grant","Corn","Bushel","Irrigated",1.65]
["38037","North Dakota","Grant","Sunflower Seed","Pound","All",19.27]
["38037","North Dakota","Grant","Wheat","Bushel","All",0.22]
["38039","North Dakota","Griggs","Barley","Bushel","All",0.62]
["38039","North Dakota","Griggs","Canola","Pound","All",32.11]
["38039","North Dakota","Griggs","Corn","Bushel","Nonirrigated",2.75]
["38039","North Dakota","Griggs","Corn","Bushel","Irrigated",2.76]
["38039","North Dakota","Griggs","Soybeans","Bushel","Irrigated",0.47]
["38039","North Dakota","Griggs","Soybeans","Bushel","Nonirrigated",0.47]
["38039","North Dakota","Griggs","Sunflower Seed","Pound","All",11.2]
["38039","North Dakota","Griggs","Wheat","Bushel","All",0.54]
["38041","North Dakota","Hettinger","Barley","Bushel","All",0.67]
["38041","North Dakota","Hettinger","Canola","Pound","All",27.5]
["38041","North Dakota","Hettinger","Corn","Bushel","All",1.58]
["38041","North Dakota","Hettinger","Sunflower Seed","Pound","All",17.32]
["38041","North Dakota","Hettinger","Wheat","Bushel","All",0.34]
["38043","North Dakota","Kidder","Barley","Bushel","All",0.67]
["38043","North Dakota","Kidder","Canola","Pound","All",21.32]
["38043","North Dakota","Kidder","Corn","Bushel","Nonirrigated",1.91]
["38043","North Dakota","Kidder","Corn","Bushel","Irrigated",2.38]
["38043","North Dakota","Kidder","Soybeans","Bushel","Nonirrigated",0.52]
["38043","North Dakota","Kidder","Soybeans","Bushel","Irrigated",0.54]
["38043","North Dakota","Kidder","Sunflower Seed","Pound","All",12.58]
["38043","North Dakota","Kidder","Wheat","Bushel","Irrigated",0.38]
["38043","North Dakota","Kidder","Wheat","Bushel","Nonirrigated",0.38]
["38045","North Dakota","Lamoure","Corn","Bushel","Nonirrigated",2.6]
["38045","North Dakota","Lamoure","Corn","Bushel","Irrigated",2.62]
["38045","North Dakota","Lamoure","Soybeans","Bushel","Irrigated",0.52]
["38045","North Dakota","Lamoure","Soybeans","Bushel","Nonirrigated",0.52]
["38045","North Dakota","Lamoure","Sunflower Seed","Pound","All",13.43]
["38045","North Dakota","Lamoure","Wheat","Bushel","All",0.6]
["38047","North Dakota","Logan","Barley","Bushel","All",0.83]
["38047","North Dakota","Logan","Corn","Bushel","All",2.48]
["38047","North Dakota","Logan","Soybeans","Bushel","All",0.4]
["38047","North Dakota","Logan","Sunflower Seed","Pound","All",10.64]
["38047","North Dakota","Logan","Wheat","Bushel","All",0.43]
["38049","North Dakota","Mchenry","Barley","Bushel","All",0.81]
["38049","North Dakota","Mchenry","Canola","Pound","All",28.54]
["38049","North Dakota","Mchenry","Corn","Bushel","Nonirrigated",1.48]
["38049","North Dakota","Mchenry","Corn","Bushel","Irrigated",1.91]
["38049","North Dakota","Mchenry","Soybeans","Bushel","All",0.4]
["38049","North Dakota","Mchenry","Sunflower Seed","Pound","All",11.3]
["38049","North Dakota","Mchenry","Wheat","Bushel","All",0.46]
["38051","North Dakota","Mcintosh","Barley","Bushel","All",0.81]
["38051","North Dakota","McIntosh","Canola","Pound","All",23.03]
["38051","North Dakota","Mcintosh","Corn","Bushel","All",2.54]
["38051","North Dakota","Mcintosh","Soybeans","Bushel","All",0.4]
["38051","North Dakota","Mcintosh","Sunflower Seed","Pound","All",13.98]
["38051","North Dakota","Mcintosh","Wheat","Bushel","All",0.47]
["38053","North Dakota","Mckenzie","Barley","Bushel","Nonirrigated",0.56000000000000005]
["38053","North Dakota","Mckenzie","Barley","Bushel","Irrigated",0.68]
["38053","North Dakota","Mckenzie","Canola","Pound","All",31.38]
["38053","North Dakota","Mckenzie","Corn","Bushel","Irrigated",1.81]
["38053","North Dakota","Mckenzie","Wheat","Bushel","Irrigated",0.24]
["38053","North Dakota","Mckenzie","Wheat","Bushel","Nonirrigated",0.24]
["38055","North Dakota","Mclean","Barley","Bushel","All",0.79]
["38055","North Dakota","Mclean","Canola","Pound","All",36.81]
["38055","North Dakota","Mclean","Chickpeas_Large","Pound","All",7.83]
["38055","North Dakota","Mclean","Corn","Bushel","Nonirrigated",1.78]
["38055","North Dakota","Mclean","Corn","Bushel","Irrigated",1.91]
["38055","North Dakota","Mclean","Soybeans","Bushel","Nonirrigated",0.39]
["38055","North Dakota","Mclean","Soybeans","Bushel","Irrigated",0.4]
["38055","North Dakota","Mclean","Sunflower Seed","Pound","All",13.36]
["38055","North Dakota","Mclean","Wheat","Bushel","All",0.38]
["38057","North Dakota","Mercer","Barley","Bushel","All",0.69]
["38057","North Dakota","Mercer","Canola","Pound","All",32.11]
["38057","North Dakota","Mercer","Corn","Bushel","Nonirrigated",1.3]
["38057","North Dakota","Mercer","Corn","Bushel","Irrigated",1.77]
["38057","North Dakota","Mercer","Sunflower Seed","Pound","All",14.65]
["38057","North Dakota","Mercer","Wheat","Bushel","All",0.28999999999999998]
["38059","North Dakota","Morton","Barley","Bushel","All",0.76]
["38059","North Dakota","Morton","Canola","Pound","All",33.33]
["38059","North Dakota","Morton","Corn","Bushel","Nonirrigated",1.62]
["38059","North Dakota","Morton","Corn","Bushel","Irrigated",1.85]
["38059","North Dakota","Morton","Sunflower Seed","Pound","All",17.47]
["38059","North Dakota","Morton","Wheat","Bushel","All",0.27]
["38061","North Dakota","Mountrail","Barley","Bushel","All",0.81]
["38061","North Dakota","Mountrail","Canola","Pound","All",23.38]
["38061","North Dakota","Mountrail","Sunflower Seed","Pound","All",13.38]
["38061","North Dakota","Mountrail","Wheat","Bushel","All",0.31]
["38063","North Dakota","Nelson","Barley","Bushel","All",0.56999999999999995]
["38063","North Dakota","Nelson","Canola","Pound","All",34.99]
["38063","North Dakota","Nelson","Corn","Bushel","All",2.8]
["38063","North Dakota","Nelson","Soybeans","Bushel","All",0.46]
["38063","North Dakota","Nelson","Sunflower Seed","Pound","All",7.39]
["38063","North Dakota","Nelson","Wheat","Bushel","All",0.38]
["38065","North Dakota","Oliver","Barley","Bushel","All",0.7]
["38065","North Dakota","Oliver","Canola","Pound","All",36.06]
["38065","North Dakota","Oliver","Corn","Bushel","Nonirrigated",1.52]
["38065","North Dakota","Oliver","Corn","Bushel","Irrigated",1.85]
["38065","North Dakota","Oliver","Sunflower Seed","Pound","All",15.36]
["38065","North Dakota","Oliver","Wheat","Bushel","All",0.32]
["38067","North Dakota","Pembina","Canola","Pound","All",40.049999999999997]
["38067","North Dakota","Pembina","Corn","Bushel","All",2.59]
["38067","North Dakota","Pembina","Soybeans","Bushel","All",0.45]
["38067","North Dakota","Pembina","Sunflower Seed","Pound","All",8.33]
["38067","North Dakota","Pembina","Wheat","Bushel","All",0.47]
["38069","North Dakota","Pierce","Barley","Bushel","All",0.8]
["38069","North Dakota","Pierce","Canola","Pound","All",36.31]
["38069","North Dakota","Pierce","Corn","Bushel","All",2.0099999999999998]
["38069","North Dakota","Pierce","Soybeans","Bushel","All",0.4]
["38069","North Dakota","Pierce","Sunflower Seed","Pound","All",10.89]
["38069","North Dakota","Pierce","Wheat","Bushel","All",0.53]
["38071","North Dakota","Ramsey","Barley","Bushel","All",0.65]
["38071","North Dakota","Ramsey","Canola","Pound","All",40.049999999999997]
["38071","North Dakota","Ramsey","Corn","Bushel","All",2.62]
["38071","North Dakota","Ramsey","Soybeans","Bushel","All",0.47]
["38071","North Dakota","Ramsey","Sunflower Seed","Pound","All",5.93]
["38071","North Dakota","Ramsey","Wheat","Bushel","All",0.4]
["38073","North Dakota","Ransom","Corn","Bushel","Nonirrigated",2.65]
["38073","North Dakota","Ransom","Corn","Bushel","Irrigated",2.7]
["38073","North Dakota","Ransom","Soybeans","Bushel","Irrigated",0.51]
["38073","North Dakota","Ransom","Soybeans","Bushel","Nonirrigated",0.51]
["38073","North Dakota","Ransom","Sunflower Seed","Pound","All",14.08]
["38073","North Dakota","Ransom","Wheat","Bushel","All",0.63]
["38075","North Dakota","Renville","Barley","Bushel","All",0.88]
["38075","North Dakota","Renville","Canola","Pound","All",27.23]
["38075","North Dakota","Renville","Soybeans","Bushel","All",0.4]
["38075","North Dakota","Renville","Sunflower Seed","Pound","All",16.29]
["38075","North Dakota","Renville","Wheat","Bushel","All",0.42]
["38077","North Dakota","Richland","Corn","Bushel","Irrigated",2.75]
["38077","North Dakota","Richland","Corn","Bushel","Nonirrigated",2.75]
["38077","North Dakota","Richland","Soybeans","Bushel","Irrigated",0.5]
["38077","North Dakota","Richland","Soybeans","Bushel","Nonirrigated",0.5]
["38077","North Dakota","Richland","Sunflower Seed","Pound","All",13.03]
["38077","North Dakota","Richland","Wheat","Bushel","All",0.63]
["38079","North Dakota","Rolette","Barley","Bushel","All",0.79]
["38079","North Dakota","Rolette","Canola","Pound","All",36.049999999999997]
["38079","North Dakota","Rolette","Corn","Bushel","All",2.06]
["38079","North Dakota","Rolette","Soybeans","Bushel","All",0.4]
["38079","North Dakota","Rolette","Sunflower Seed","Pound","All",8.8000000000000007]
["38079","North Dakota","Rolette","Wheat","Bushel","All",0.54]
["38081","North Dakota","Sargent","Corn","Bushel","Nonirrigated",2.7]
["38081","North Dakota","Sargent","Corn","Bushel","Irrigated",2.73]
["38081","North Dakota","Sargent","Soybeans","Bushel","Irrigated",0.53]
["38081","North Dakota","Sargent","Soybeans","Bushel","Nonirrigated",0.53]
["38081","North Dakota","Sargent","Sunflower Seed","Pound","All",14.21]
["38081","North Dakota","Sargent","Wheat","Bushel","All",0.66]
["38083","North Dakota","Sheridan","Canola","Pound","All",31.84]
["38083","North Dakota","Sheridan","Corn","Bushel","All",2.23]
["38083","North Dakota","Sheridan","Soybeans","Bushel","All",0.54]
["38083","North Dakota","Sheridan","Sunflower Seed","Pound","All",11.04]
["38083","North Dakota","Sheridan","Wheat","Bushel","All",0.4]
["38085","North Dakota","Sioux","Corn","Bushel","Irrigated",1.1200000000000001]
["38085","North Dakota","Sioux","Sunflower Seed","Pound","All",19.850000000000001]
["38085","North Dakota","Sioux","Wheat","Bushel","All",0.13]
["38087","North Dakota","Slope","Barley","Bushel","All",0.64]
["38087","North Dakota","Slope","Canola","Pound","All",24.45]
["38087","North Dakota","Slope","Corn","Bushel","All",1.1200000000000001]
["38087","North Dakota","Slope","Sunflower Seed","Pound","All",15.6]
["38087","North Dakota","Slope","Wheat","Bushel","All",0.28999999999999998]
["38089","North Dakota","Stark","Canola","Pound","All",23.26]
["38089","North Dakota","Stark","Corn","Bushel","All",1.64]
["38089","North Dakota","Stark","Sunflower Seed","Pound","All",15.41]
["38089","North Dakota","Stark","Wheat","Bushel","All",0.31]
["38091","North Dakota","Steele","Barley","Bushel","All",0.6]
["38091","North Dakota","Steele","Corn","Bushel","Nonirrigated",2.81]
["38091","North Dakota","Steele","Corn","Bushel","Irrigated",2.83]
["38091","North Dakota","Steele","Soybeans","Bushel","Irrigated",0.42]
["38091","North Dakota","Steele","Soybeans","Bushel","Nonirrigated",0.42]
["38091","North Dakota","Steele","Sunflower Seed","Pound","All",10.8]
["38091","North Dakota","Steele","Wheat","Bushel","All",0.56000000000000005]
["38093","North Dakota","Stutsman","Barley","Bushel","All",0.75]
["38093","North Dakota","Stutsman","Canola","Pound","All",26.77]
["38093","North Dakota","Stutsman","Corn","Bushel","Nonirrigated",2.58]
["38093","North Dakota","Stutsman","Corn","Bushel","Irrigated",2.59]
["38093","North Dakota","Stutsman","Soybeans","Bushel","Irrigated",0.53]
["38093","North Dakota","Stutsman","Soybeans","Bushel","Nonirrigated",0.53]
["38093","North Dakota","Stutsman","Sunflower Seed","Pound","All",9.14]
["38093","North Dakota","Stutsman","Wheat","Bushel","All",0.5]
["38095","North Dakota","Towner","Barley","Bushel","Irrigated",0.63]
["38095","North Dakota","Towner","Barley","Bushel","Nonirrigated",0.63]
["38095","North Dakota","Towner","Canola","Pound","All",38.590000000000003]
["38095","North Dakota","Towner","Soybeans","Bushel","All",0.47]
["38095","North Dakota","Towner","Sunflower Seed","Pound","All",6.69]
["38095","North Dakota","Towner","Wheat","Bushel","All",0.43]
["38097","North Dakota","Traill","Barley","Bushel","All",0.55000000000000004]
["38097","North Dakota","Traill","Corn","Bushel","All",2.8]
["38097","North Dakota","Traill","Soybeans","Bushel","All",0.4]
["38097","North Dakota","Traill","Sunflower Seed","Pound","All",9.56]
["38097","North Dakota","Traill","Wheat","Bushel","All",0.6]
["38099","North Dakota","Walsh","Barley","Bushel","All",0.56999999999999995]
["38099","North Dakota","Walsh","Canola","Pound","All",27.77]
["38099","North Dakota","Walsh","Corn","Bushel","All",2.78]
["38099","North Dakota","Walsh","Soybeans","Bushel","All",0.45]
["38099","North Dakota","Walsh","Sunflower Seed","Pound","All",6.95]
["38099","North Dakota","Walsh","Wheat","Bushel","All",0.44]
["38101","North Dakota","Ward","Barley","Bushel","All",0.91]
["38101","North Dakota","Ward","Canola","Pound","All",30.31]
["38101","North Dakota","Ward","Corn","Bushel","All",2]
["38101","North Dakota","Ward","Soybeans","Bushel","All",0.4]
["38101","North Dakota","Ward","Sunflower Seed","Pound","All",16.899999999999999]
["38101","North Dakota","Ward","Wheat","Bushel","All",0.42]
["38103","North Dakota","Wells","Barley","Bushel","All",0.8]
["38103","North Dakota","Wells","Canola","Pound","All",30.39]
["38103","North Dakota","Wells","Corn","Bushel","All",2.42]
["38103","North Dakota","Wells","Soybeans","Bushel","All",0.53]
["38103","North Dakota","Wells","Sunflower Seed","Pound","All",9.91]
["38103","North Dakota","Wells","Wheat","Bushel","All",0.5]
["38105","North Dakota","Williams","Barley","Bushel","Irrigated",0.72]
["38105","North Dakota","Williams","Barley","Bushel","Nonirrigated",0.72]
["38105","North Dakota","Williams","Canola","Pound","All",23.86]
["38105","North Dakota","Williams","Chickpeas_Large","Pound","All",7.75]
["38105","North Dakota","Williams","Corn","Bushel","Irrigated",2.1]
["38105","North Dakota","Williams","Sunflower Seed","Pound","All",13.79]
["38105","North Dakota","Williams","Wheat","Bushel","Irrigated",0.23]
["38105","North Dakota","Williams","Wheat","Bushel","Nonirrigated",0.23]
["39001","Ohio","Adams","Corn","Bushel","All",1.55]
["39001","Ohio","Adams","Soybeans","Bushel","All",0.45]
["39001","Ohio","Adams","Wheat","Bushel","All",0.46]
["39003","Ohio","Allen","Corn","Bushel","All",1.41]
["39003","Ohio","Allen","Soybeans","Bushel","Irrigated",0.42]
["39003","Ohio","Allen","Soybeans","Bushel","Nonirrigated",0.42]
["39003","Ohio","Allen","Wheat","Bushel","All",0.69]
["39005","Ohio","Ashland","Corn","Bushel","All",1.4]
["39005","Ohio","Ashland","Soybeans","Bushel","All",0.45]
["39005","Ohio","Ashland","Wheat","Bushel","All",0.68]
["39007","Ohio","Ashtabula","Corn","Bushel","All",1.41]
["39007","Ohio","Ashtabula","Soybeans","Bushel","All",0.41]
["39007","Ohio","Ashtabula","Wheat","Bushel","All",0.66]
["39009","Ohio","Athens","Corn","Bushel","All",1.48]
["39011","Ohio","Auglaize","Corn","Bushel","All",1.51]
["39011","Ohio","Auglaize","Soybeans","Bushel","Irrigated",0.45]
["39011","Ohio","Auglaize","Soybeans","Bushel","Nonirrigated",0.45]
["39011","Ohio","Auglaize","Wheat","Bushel","All",0.69]
["39013","Ohio","Belmont","Corn","Bushel","All",0.62]
["39015","Ohio","Brown","Corn","Bushel","All",1.61]
["39015","Ohio","Brown","Soybeans","Bushel","All",0.44]
["39015","Ohio","Brown","Wheat","Bushel","All",0.5]
["39017","Ohio","Butler","Corn","Bushel","All",1.8]
["39017","Ohio","Butler","Soybeans","Bushel","All",0.47]
["39017","Ohio","Butler","Wheat","Bushel","All",0.51]
["39019","Ohio","Carroll","Corn","Bushel","All",0.6]
["39019","Ohio","Carroll","Soybeans","Bushel","All",0.39]
["39019","Ohio","Carroll","Wheat","Bushel","All",0.47]
["39021","Ohio","Champaign","Corn","Bushel","Irrigated",1.66]
["39021","Ohio","Champaign","Corn","Bushel","Nonirrigated",1.66]
["39021","Ohio","Champaign","Soybeans","Bushel","Irrigated",0.47]
["39021","Ohio","Champaign","Soybeans","Bushel","Nonirrigated",0.47]
["39021","Ohio","Champaign","Wheat","Bushel","All",0.69]
["39023","Ohio","Clark","Corn","Bushel","All",1.72]
["39023","Ohio","Clark","Soybeans","Bushel","All",0.47]
["39023","Ohio","Clark","Wheat","Bushel","All",0.69]
["39025","Ohio","Clermont","Corn","Bushel","All",1.72]
["39025","Ohio","Clermont","Soybeans","Bushel","All",0.43]
["39027","Ohio","Clinton","Corn","Bushel","All",1.81]
["39027","Ohio","Clinton","Soybeans","Bushel","All",0.45]
["39027","Ohio","Clinton","Wheat","Bushel","All",0.62]
["39029","Ohio","Columbiana","Corn","Bushel","All",1.06]
["39029","Ohio","Columbiana","Soybeans","Bushel","All",0.45]
["39029","Ohio","Columbiana","Wheat","Bushel","All",0.59]
["39031","Ohio","Coshocton","Corn","Bushel","All",0.83]
["39031","Ohio","Coshocton","Soybeans","Bushel","All",0.5]
["39031","Ohio","Coshocton","Wheat","Bushel","All",0.68]
["39033","Ohio","Crawford","Corn","Bushel","All",1.58]
["39033","Ohio","Crawford","Soybeans","Bushel","All",0.46]
["39033","Ohio","Crawford","Wheat","Bushel","All",0.69]
["39037","Ohio","Darke","Corn","Bushel","All",1.65]
["39037","Ohio","Darke","Soybeans","Bushel","All",0.49]
["39037","Ohio","Darke","Wheat","Bushel","All",0.69]
["39039","Ohio","Defiance","Corn","Bushel","All",1.35]
["39039","Ohio","Defiance","Soybeans","Bushel","All",0.31]
["39039","Ohio","Defiance","Wheat","Bushel","All",0.68]
["39041","Ohio","Delaware","Corn","Bushel","All",1.78]
["39041","Ohio","Delaware","Soybeans","Bushel","All",0.48]
["39041","Ohio","Delaware","Wheat","Bushel","All",0.69]
["39043","Ohio","Erie","Corn","Bushel","All",1.59]
["39043","Ohio","Erie","Soybeans","Bushel","All",0.44]
["39043","Ohio","Erie","Wheat","Bushel","All",0.69]
["39045","Ohio","Fairfield","Corn","Bushel","All",1.73]
["39045","Ohio","Fairfield","Soybeans","Bushel","All",0.52]
["39045","Ohio","Fairfield","Wheat","Bushel","All",0.69]
["39047","Ohio","Fayette","Corn","Bushel","All",1.82]
["39047","Ohio","Fayette","Soybeans","Bushel","All",0.47]
["39047","Ohio","Fayette","Wheat","Bushel","All",0.69]
["39049","Ohio","Franklin","Corn","Bushel","All",1.8]
["39049","Ohio","Franklin","Soybeans","Bushel","All",0.49]
["39049","Ohio","Franklin","Wheat","Bushel","All",0.69]
["39051","Ohio","Fulton","Corn","Bushel","All",1.43]
["39051","Ohio","Fulton","Soybeans","Bushel","All",0.43]
["39051","Ohio","Fulton","Wheat","Bushel","All",0.69]
["39053","Ohio","Gallia","Corn","Bushel","All",1.53]
["39055","Ohio","Geauga","Corn","Bushel","All",1.45]
["39057","Ohio","Greene","Corn","Bushel","All",1.84]
["39057","Ohio","Greene","Soybeans","Bushel","All",0.46]
["39057","Ohio","Greene","Wheat","Bushel","All",0.69]
["39059","Ohio","Guernsey","Corn","Bushel","All",0.95]
["39061","Ohio","Hamilton","Corn","Bushel","All",1.7]
["39061","Ohio","Hamilton","Soybeans","Bushel","All",0.46]
["39063","Ohio","Hancock","Corn","Bushel","All",1.4]
["39063","Ohio","Hancock","Soybeans","Bushel","All",0.42]
["39063","Ohio","Hancock","Wheat","Bushel","All",0.67]
["39065","Ohio","Hardin","Corn","Bushel","All",1.57]
["39065","Ohio","Hardin","Soybeans","Bushel","Irrigated",0.45]
["39065","Ohio","Hardin","Soybeans","Bushel","Nonirrigated",0.45]
["39065","Ohio","Hardin","Wheat","Bushel","All",0.57999999999999996]
["39067","Ohio","Harrison","Corn","Bushel","All",0.54]
["39069","Ohio","Henry","Corn","Bushel","All",1.36]
["39069","Ohio","Henry","Soybeans","Bushel","All",0.43]
["39069","Ohio","Henry","Wheat","Bushel","All",0.69]
["39071","Ohio","Highland","Corn","Bushel","All",1.66]
["39071","Ohio","Highland","Soybeans","Bushel","All",0.44]
["39071","Ohio","Highland","Wheat","Bushel","All",0.68]
["39073","Ohio","Hocking","Corn","Bushel","All",1.58]
["39073","Ohio","Hocking","Soybeans","Bushel","All",0.53]
["39075","Ohio","Holmes","Corn","Bushel","All",0.82]
["39075","Ohio","Holmes","Soybeans","Bushel","All",0.48]
["39075","Ohio","Holmes","Wheat","Bushel","All",0.67]
["39077","Ohio","Huron","Corn","Bushel","All",1.53]
["39077","Ohio","Huron","Soybeans","Bushel","All",0.45]
["39077","Ohio","Huron","Wheat","Bushel","All",0.66]
["39079","Ohio","Jackson","Corn","Bushel","All",1.55]
["39079","Ohio","Jackson","Soybeans","Bushel","All",0.49]
["39081","Ohio","Jefferson","Corn","Bushel","All",0.51]
["39083","Ohio","Knox","Corn","Bushel","All",1.46]
["39083","Ohio","Knox","Soybeans","Bushel","All",0.48]
["39083","Ohio","Knox","Wheat","Bushel","All",0.69]
["39087","Ohio","Lawrence","Corn","Bushel","All",1.33]
["39089","Ohio","Licking","Corn","Bushel","All",1.62]
["39089","Ohio","Licking","Soybeans","Bushel","All",0.51]
["39089","Ohio","Licking","Wheat","Bushel","All",0.69]
["39091","Ohio","Logan","Corn","Bushel","All",1.58]
["39091","Ohio","Logan","Soybeans","Bushel","All",0.46]
["39091","Ohio","Logan","Wheat","Bushel","All",0.67]
["39093","Ohio","Lorain","Corn","Bushel","All",1.55]
["39093","Ohio","Lorain","Soybeans","Bushel","All",0.41]
["39093","Ohio","Lorain","Wheat","Bushel","All",0.65]
["39095","Ohio","West Lucas","Corn","Bushel","All",1.48]
["39095","Ohio","West Lucas","Soybeans","Bushel","All",0.43]
["39095","Ohio","West Lucas","Wheat","Bushel","All",0.69]
["39097","Ohio","Madison","Corn","Bushel","All",1.81]
["39097","Ohio","Madison","Soybeans","Bushel","All",0.48]
["39097","Ohio","Madison","Wheat","Bushel","All",0.69]
["39099","Ohio","Mahoning","Corn","Bushel","All",1.25]
["39099","Ohio","Mahoning","Soybeans","Bushel","All",0.45]
["39099","Ohio","Mahoning","Wheat","Bushel","All",0.61]
["39101","Ohio","Marion","Corn","Bushel","All",1.73]
["39101","Ohio","Marion","Soybeans","Bushel","All",0.47]
["39101","Ohio","Marion","Wheat","Bushel","All",0.69]
["39103","Ohio","Medina","Corn","Bushel","All",1.42]
["39103","Ohio","Medina","Soybeans","Bushel","All",0.43]
["39103","Ohio","Medina","Wheat","Bushel","All",0.61]
["39105","Ohio","Meigs","Corn","Bushel","All",1.55]
["39107","Ohio","Mercer","Corn","Bushel","All",1.54]
["39107","Ohio","Mercer","Soybeans","Bushel","All",0.46]
["39107","Ohio","Mercer","Wheat","Bushel","All",0.66]
["39109","Ohio","Miami","Corn","Bushel","All",1.68]
["39109","Ohio","Miami","Soybeans","Bushel","All",0.47]
["39109","Ohio","Miami","Wheat","Bushel","All",0.61]
["39111","Ohio","Monroe","Corn","Bushel","All",1.2]
["39113","Ohio","Montgomery","Corn","Bushel","All",1.83]
["39113","Ohio","Montgomery","Soybeans","Bushel","All",0.47]
["39113","Ohio","Montgomery","Wheat","Bushel","All",0.63]
["39115","Ohio","Morgan","Corn","Bushel","All",1.38]
["39117","Ohio","Morrow","Corn","Bushel","All",1.7]
["39117","Ohio","Morrow","Soybeans","Bushel","All",0.48]
["39117","Ohio","Morrow","Wheat","Bushel","All",0.69]
["39119","Ohio","Muskingum","Corn","Bushel","All",1.28]
["39119","Ohio","Muskingum","Soybeans","Bushel","All",0.53]
["39119","Ohio","Muskingum","Wheat","Bushel","All",0.55000000000000004]
["39121","Ohio","Noble","Corn","Bushel","All",1.19]
["39123","Ohio","Ottawa","Corn","Bushel","All",1.58]
["39123","Ohio","Ottawa","Soybeans","Bushel","All",0.42]
["39123","Ohio","Ottawa","Wheat","Bushel","All",0.67]
["39125","Ohio","Paulding","Corn","Bushel","All",1.36]
["39125","Ohio","Paulding","Soybeans","Bushel","All",0.33]
["39125","Ohio","Paulding","Wheat","Bushel","All",0.63]
["39127","Ohio","Perry","Corn","Bushel","All",1.49]
["39127","Ohio","Perry","Soybeans","Bushel","All",0.53]
["39127","Ohio","Perry","Wheat","Bushel","All",0.64]
["39129","Ohio","Pickaway","Corn","Bushel","Irrigated",1.8]
["39129","Ohio","Pickaway","Corn","Bushel","Nonirrigated",1.8]
["39129","Ohio","Pickaway","Soybeans","Bushel","All",0.5]
["39129","Ohio","Pickaway","Wheat","Bushel","All",0.69]
["39131","Ohio","Pike","Corn","Bushel","All",1.59]
["39131","Ohio","Pike","Soybeans","Bushel","All",0.45]
["39133","Ohio","Portage","Corn","Bushel","All",1.25]
["39133","Ohio","Portage","Soybeans","Bushel","All",0.46]
["39133","Ohio","Portage","Wheat","Bushel","All",0.66]
["39135","Ohio","Preble","Corn","Bushel","All",1.81]
["39135","Ohio","Preble","Soybeans","Bushel","All",0.49]
["39135","Ohio","Preble","Wheat","Bushel","All",0.66]
["39137","Ohio","Putnam","Corn","Bushel","All",1.34]
["39137","Ohio","Putnam","Soybeans","Bushel","Irrigated",0.41]
["39137","Ohio","Putnam","Soybeans","Bushel","Nonirrigated",0.41]
["39137","Ohio","Putnam","Wheat","Bushel","All",0.63]
["39139","Ohio","Richland","Corn","Bushel","All",1.53]
["39139","Ohio","Richland","Soybeans","Bushel","All",0.46]
["39139","Ohio","Richland","Wheat","Bushel","All",0.69]
["39141","Ohio","Ross","Corn","Bushel","Irrigated",1.72]
["39141","Ohio","Ross","Corn","Bushel","Nonirrigated",1.72]
["39141","Ohio","Ross","Soybeans","Bushel","All",0.49]
["39141","Ohio","Ross","Wheat","Bushel","All",0.69]
["39143","Ohio","Sandusky","Corn","Bushel","All",1.53]
["39143","Ohio","Sandusky","Soybeans","Bushel","All",0.43]
["39143","Ohio","Sandusky","Wheat","Bushel","All",0.69]
["39145","Ohio","Scioto","Corn","Bushel","All",1.49]
["39145","Ohio","Scioto","Soybeans","Bushel","All",0.49]
["39145","Ohio","Scioto","Wheat","Bushel","All",0.46]
["39147","Ohio","Seneca","Corn","Bushel","All",1.52]
["39147","Ohio","Seneca","Soybeans","Bushel","Irrigated",0.44]
["39147","Ohio","Seneca","Soybeans","Bushel","Nonirrigated",0.44]
["39147","Ohio","Seneca","Wheat","Bushel","All",0.67]
["39149","Ohio","Shelby","Corn","Bushel","All",1.59]
["39149","Ohio","Shelby","Soybeans","Bushel","Irrigated",0.46]
["39149","Ohio","Shelby","Soybeans","Bushel","Nonirrigated",0.46]
["39149","Ohio","Shelby","Wheat","Bushel","All",0.64]
["39151","Ohio","Stark","Corn","Bushel","All",1.1200000000000001]
["39151","Ohio","Stark","Soybeans","Bushel","All",0.48]
["39151","Ohio","Stark","Wheat","Bushel","All",0.65]
["39153","Ohio","Summit","Corn","Bushel","All",1.35]
["39153","Ohio","Summit","Soybeans","Bushel","All",0.36]
["39155","Ohio","Trumbull","Corn","Bushel","All",1.34]
["39155","Ohio","Trumbull","Soybeans","Bushel","All",0.43]
["39155","Ohio","Trumbull","Wheat","Bushel","All",0.69]
["39157","Ohio","Tuscarawas","Corn","Bushel","All",0.65]
["39157","Ohio","Tuscarawas","Soybeans","Bushel","All",0.49]
["39157","Ohio","Tuscarawas","Wheat","Bushel","All",0.69]
["39159","Ohio","Union","Corn","Bushel","All",1.77]
["39159","Ohio","Union","Soybeans","Bushel","Irrigated",0.48]
["39159","Ohio","Union","Soybeans","Bushel","Nonirrigated",0.48]
["39159","Ohio","Union","Wheat","Bushel","All",0.66]
["39161","Ohio","Van Wert","Corn","Bushel","All",1.39]
["39161","Ohio","Van Wert","Soybeans","Bushel","Irrigated",0.42]
["39161","Ohio","Van Wert","Soybeans","Bushel","Nonirrigated",0.42]
["39161","Ohio","Van Wert","Wheat","Bushel","All",0.64]
["39163","Ohio","Vinton","Corn","Bushel","All",1.55]
["39165","Ohio","Warren","Corn","Bushel","All",1.84]
["39165","Ohio","Warren","Soybeans","Bushel","All",0.46]
["39165","Ohio","Warren","Wheat","Bushel","All",0.69]
["39167","Ohio","Washington","Corn","Bushel","All",1.42]
["39167","Ohio","Washington","Soybeans","Bushel","All",0.53]
["39167","Ohio","Washington","Wheat","Bushel","All",0.42]
["39169","Ohio","Wayne","Corn","Bushel","All",1.21]
["39169","Ohio","Wayne","Soybeans","Bushel","All",0.48]
["39169","Ohio","Wayne","Wheat","Bushel","All",0.69]
["39171","Ohio","Williams","Corn","Bushel","Irrigated",1.41]
["39171","Ohio","Williams","Corn","Bushel","Nonirrigated",1.41]
["39171","Ohio","Williams","Soybeans","Bushel","Irrigated",0.37]
["39171","Ohio","Williams","Soybeans","Bushel","Nonirrigated",0.37]
["39171","Ohio","Williams","Wheat","Bushel","All",0.69]
["39173","Ohio","Wood","Corn","Bushel","All",1.42]
["39173","Ohio","Wood","Soybeans","Bushel","All",0.41]
["39173","Ohio","Wood","Wheat","Bushel","All",0.69]
["39175","Ohio","Wyandot","Corn","Bushel","All",1.55]
["39175","Ohio","Wyandot","Soybeans","Bushel","Irrigated",0.45]
["39175","Ohio","Wyandot","Soybeans","Bushel","Nonirrigated",0.45]
["39175","Ohio","Wyandot","Wheat","Bushel","All",0.64]
["40003","Oklahoma","Alfalfa","Grain Sorghum","Bushel","All",0.43]
["40003","Oklahoma","Alfalfa","Wheat","Bushel","All",0.13]
["40007","Oklahoma","Beaver","Corn","Bushel","All",2.2799999999999998]
["40007","Oklahoma","Beaver","Grain Sorghum","Bushel","Nonirrigated",0.28999999999999998]
["40007","Oklahoma","Beaver","Grain Sorghum","Bushel","Irrigated",0.33]
["40007","Oklahoma","Beaver","Wheat","Bushel","Nonirrigated",0.12]
["40007","Oklahoma","Beaver","Wheat","Bushel","Irrigated",0.13]
["40009","Oklahoma","Beckham","Cotton_lint","Pound of lint","Nonirrigated",3.7]
["40009","Oklahoma","Beckham","Cotton_lint","Pound of lint","Irrigated",6.83]
["40009","Oklahoma","Beckham","Grain Sorghum","Bushel","All",0.17]
["40009","Oklahoma","Beckham","Wheat","Bushel","Irrigated",0.33]
["40009","Oklahoma","Beckham","Wheat","Bushel","Nonirrigated",0.33]
["40011","Oklahoma","Blaine","Grain Sorghum","Bushel","All",0.21]
["40011","Oklahoma","Blaine","Wheat","Bushel","All",0.23]
["40013","Oklahoma","Bryan","Corn","Bushel","Irrigated",0.62]
["40013","Oklahoma","Bryan","Corn","Bushel","Nonirrigated",0.62]
["40013","Oklahoma","Bryan","Grain Sorghum","Bushel","All",0.34]
["40013","Oklahoma","Bryan","Soybeans","Bushel","Nonirrigated",0.09]
["40013","Oklahoma","Bryan","Soybeans","Bushel","Irrigated",0.1]
["40015","Oklahoma","Caddo","Corn","Bushel","All",1.17]
["40015","Oklahoma","Caddo","Cotton_lint","Pound of lint","Nonirrigated",5.05]
["40015","Oklahoma","Caddo","Cotton_lint","Pound of lint","Irrigated",9.3800000000000008]
["40015","Oklahoma","Caddo","Grain Sorghum","Bushel","Nonirrigated",0.15]
["40015","Oklahoma","Caddo","Grain Sorghum","Bushel","Irrigated",0.16]
["40015","Oklahoma","Caddo","Wheat","Bushel","Irrigated",0.23]
["40015","Oklahoma","Caddo","Wheat","Bushel","Nonirrigated",0.23]
["40017","Oklahoma","Canadian","Corn","Bushel","All",1.1399999999999999]
["40017","Oklahoma","Canadian","Cotton_lint","Pound of lint","All",3.8]
["40017","Oklahoma","Canadian","Grain Sorghum","Bushel","All",0.15]
["40017","Oklahoma","Canadian","Soybeans","Bushel","Irrigated",0.12]
["40017","Oklahoma","Canadian","Soybeans","Bushel","Nonirrigated",0.12]
["40017","Oklahoma","Canadian","Wheat","Bushel","All",0.27]
["40023","Oklahoma","Choctaw","Corn","Bushel","All",1.4]
["40023","Oklahoma","Choctaw","Soybeans","Bushel","All",0.1]
["40025","Oklahoma","Cimarron","Corn","Bushel","All",2.25]
["40025","Oklahoma","Cimarron","Grain Sorghum","Bushel","Nonirrigated",0.27]
["40025","Oklahoma","Cimarron","Grain Sorghum","Bushel","Irrigated",0.3]
["40025","Oklahoma","Cimarron","Wheat","Bushel","Nonirrigated",0.09]
["40025","Oklahoma","Cimarron","Wheat","Bushel","Irrigated",0.1]
["40027","Oklahoma","Cleveland","Corn","Bushel","All",1.07]
["40027","Oklahoma","Cleveland","Wheat","Bushel","All",0.3]
["40029","Oklahoma","Coal","Wheat","Bushel","All",0.32]
["40031","Oklahoma","Comanche","Cotton_lint","Pound of lint","All",6.64]
["40031","Oklahoma","Comanche","Grain Sorghum","Bushel","All",0.28999999999999998]
["40031","Oklahoma","Comanche","Wheat","Bushel","All",0.34]
["40033","Oklahoma","Cotton","Cotton_lint","Pound of lint","All",5.43]
["40033","Oklahoma","Cotton","Grain Sorghum","Bushel","All",0.32]
["40033","Oklahoma","Cotton","Wheat","Bushel","All",0.37]
["40035","Oklahoma","Craig","Corn","Bushel","All",1.1399999999999999]
["40035","Oklahoma","Craig","Grain Sorghum","Bushel","All",0.33]
["40035","Oklahoma","Craig","Soybeans","Bushel","All",0.1]
["40035","Oklahoma","Craig","Wheat","Bushel","All",0.28999999999999998]
["40037","Oklahoma","Creek","Wheat","Bushel","All",0.26]
["40039","Oklahoma","Custer","Corn","Bushel","All",0.28999999999999998]
["40039","Oklahoma","Custer","Cotton_lint","Pound of lint","All",5.95]
["40039","Oklahoma","Custer","Grain Sorghum","Bushel","All",0.23]
["40039","Oklahoma","Custer","Wheat","Bushel","Irrigated",0.24]
["40039","Oklahoma","Custer","Wheat","Bushel","Nonirrigated",0.24]
["40041","Oklahoma","Delaware","Grain Sorghum","Bushel","All",0.34]
["40041","Oklahoma","Delaware","Soybeans","Bushel","All",0.12]
["40043","Oklahoma","Dewey","Grain Sorghum","Bushel","All",0.21]
["40043","Oklahoma","Dewey","Wheat","Bushel","Irrigated",0.19]
["40043","Oklahoma","Dewey","Wheat","Bushel","Nonirrigated",0.19]
["40045","Oklahoma","Ellis","Grain Sorghum","Bushel","All",0.1]
["40045","Oklahoma","Ellis","Wheat","Bushel","Irrigated",0.23]
["40045","Oklahoma","Ellis","Wheat","Bushel","Nonirrigated",0.23]
["40047","Oklahoma","Garfield","Grain Sorghum","Bushel","All",0.4]
["40047","Oklahoma","Garfield","Soybeans","Bushel","All",0.03]
["40047","Oklahoma","Garfield","Wheat","Bushel","All",0.17]
["40049","Oklahoma","Garvin","Corn","Bushel","All",0.55000000000000004]
["40049","Oklahoma","Garvin","Grain Sorghum","Bushel","All",0.17]
["40049","Oklahoma","Garvin","Soybeans","Bushel","All",0.01]
["40049","Oklahoma","Garvin","Wheat","Bushel","All",0.35]
["40051","Oklahoma","Grady","Corn","Bushel","All",0.89]
["40051","Oklahoma","Grady","Cotton_lint","Pound of lint","All",4.3499999999999996]
["40051","Oklahoma","Grady","Grain Sorghum","Bushel","All",0.28000000000000003]
["40051","Oklahoma","Grady","Soybeans","Bushel","All",0.12]
["40051","Oklahoma","Grady","Wheat","Bushel","All",0.28999999999999998]
["40053","Oklahoma","Grant","Corn","Bushel","Nonirrigated",2.0699999999999998]
["40053","Oklahoma","Grant","Corn","Bushel","Irrigated",2.25]
["40053","Oklahoma","Grant","Grain Sorghum","Bushel","All",0.31]
["40053","Oklahoma","Grant","Soybeans","Bushel","All",0.03]
["40053","Oklahoma","Grant","Wheat","Bushel","All",0.11]
["40055","Oklahoma","Greer","Cotton_lint","Pound of lint","Nonirrigated",4.8600000000000003]
["40055","Oklahoma","Greer","Cotton_lint","Pound of lint","Irrigated",10.45]
["40055","Oklahoma","Greer","Grain Sorghum","Bushel","All",0.32]
["40055","Oklahoma","Greer","Wheat","Bushel","Irrigated",0.31]
["40055","Oklahoma","Greer","Wheat","Bushel","Nonirrigated",0.31]
["40057","Oklahoma","Harmon","Cotton_lint","Pound of lint","Nonirrigated",3.76]
["40057","Oklahoma","Harmon","Cotton_lint","Pound of lint","Irrigated",10.61]
["40057","Oklahoma","Harmon","Grain Sorghum","Bushel","All",0.25]
["40057","Oklahoma","Harmon","Wheat","Bushel","Nonirrigated",0.39]
["40057","Oklahoma","Harmon","Wheat","Bushel","Irrigated",0.4]
["40059","Oklahoma","Harper","Grain Sorghum","Bushel","All",0.12]
["40059","Oklahoma","Harper","Wheat","Bushel","Irrigated",0.12]
["40059","Oklahoma","Harper","Wheat","Bushel","Nonirrigated",0.12]
["40061","Oklahoma","Haskell","Soybeans","Bushel","All",0.12]
["40063","Oklahoma","Hughes","Corn","Bushel","All",0.93]
["40063","Oklahoma","Hughes","Soybeans","Bushel","All",0.12]
["40065","Oklahoma","Jackson","Cotton_lint","Pound of lint","Nonirrigated",2.25]
["40065","Oklahoma","Jackson","Cotton_lint","Pound of lint","Irrigated",6.28]
["40065","Oklahoma","Jackson","Grain Sorghum","Bushel","All",0.17]
["40065","Oklahoma","Jackson","Wheat","Bushel","Irrigated",0.24]
["40065","Oklahoma","Jackson","Wheat","Bushel","Nonirrigated",0.24]
["40071","Oklahoma","Kay","Corn","Bushel","Nonirrigated",2.0499999999999998]
["40071","Oklahoma","Kay","Corn","Bushel","Irrigated",2.17]
["40071","Oklahoma","Kay","Grain Sorghum","Bushel","All",0.42]
["40071","Oklahoma","Kay","Soybeans","Bushel","Irrigated",7.0000000000000007E-2]
["40071","Oklahoma","Kay","Soybeans","Bushel","Nonirrigated",7.0000000000000007E-2]
["40071","Oklahoma","Kay","Wheat","Bushel","Irrigated",0.1]
["40071","Oklahoma","Kay","Wheat","Bushel","Nonirrigated",0.1]
["40073","Oklahoma","Kingfisher","Grain Sorghum","Bushel","All",0.3]
["40073","Oklahoma","Kingfisher","Wheat","Bushel","All",0.23]
["40075","Oklahoma","Kiowa","Cotton_lint","Pound of lint","Nonirrigated",5.46]
["40075","Oklahoma","Kiowa","Cotton_lint","Pound of lint","Irrigated",9.1300000000000008]
["40075","Oklahoma","Kiowa","Grain Sorghum","Bushel","All",0.28999999999999998]
["40075","Oklahoma","Kiowa","Wheat","Bushel","All",0.32]
["40079","Oklahoma","Le Flore","Soybeans","Bushel","Irrigated",0.14000000000000001]
["40079","Oklahoma","Le Flore","Soybeans","Bushel","Nonirrigated",0.14000000000000001]
["40081","Oklahoma","Lincoln","Wheat","Bushel","All",0.32]
["40083","Oklahoma","Logan","Grain Sorghum","Bushel","All",0.16]
["40083","Oklahoma","Logan","Wheat","Bushel","All",0.28000000000000003]
["40085","Oklahoma","Love","Wheat","Bushel","All",0.36]
["40087","Oklahoma","Mcclain","Corn","Bushel","All",1.02]
["40087","Oklahoma","Mcclain","Grain Sorghum","Bushel","All",0.2]
["40087","Oklahoma","Mcclain","Soybeans","Bushel","All",0.1]
["40087","Oklahoma","Mcclain","Wheat","Bushel","All",0.35]
["40089","Oklahoma","Mccurtain","Corn","Bushel","Nonirrigated",1.89]
["40089","Oklahoma","Mccurtain","Corn","Bushel","Irrigated",1.97]
["40089","Oklahoma","Mccurtain","Grain Sorghum","Bushel","All",0.14000000000000001]
["40089","Oklahoma","Mccurtain","Soybeans","Bushel","Irrigated",0.14000000000000001]
["40089","Oklahoma","Mccurtain","Soybeans","Bushel","Nonirrigated",0.14000000000000001]
["40091","Oklahoma","Mcintosh","Soybeans","Bushel","All",0.16]
["40093","Oklahoma","Major","Corn","Bushel","Nonirrigated",1.2]
["40093","Oklahoma","Major","Corn","Bushel","Irrigated",1.98]
["40093","Oklahoma","Major","Grain Sorghum","Bushel","All",0.36]
["40093","Oklahoma","Major","Wheat","Bushel","Irrigated",0.22]
["40093","Oklahoma","Major","Wheat","Bushel","Nonirrigated",0.22]
["40097","Oklahoma","Mayes","Corn","Bushel","All",1.0900000000000001]
["40097","Oklahoma","Mayes","Grain Sorghum","Bushel","All",0.32]
["40097","Oklahoma","Mayes","Soybeans","Bushel","All",0.1]
["40097","Oklahoma","Mayes","Wheat","Bushel","All",0.2]
["40101","Oklahoma","Muskogee","Corn","Bushel","Nonirrigated",1]
["40101","Oklahoma","Muskogee","Corn","Bushel","Irrigated",1.21]
["40101","Oklahoma","Muskogee","Grain Sorghum","Bushel","All",0.16]
["40101","Oklahoma","Muskogee","Soybeans","Bushel","Irrigated",0.15]
["40101","Oklahoma","Muskogee","Soybeans","Bushel","Nonirrigated",0.15]
["40103","Oklahoma","Noble","Grain Sorghum","Bushel","All",0.28000000000000003]
["40103","Oklahoma","Noble","Wheat","Bushel","All",0.13]
["40105","Oklahoma","Nowata","Corn","Bushel","All",1.1299999999999999]
["40105","Oklahoma","Nowata","Grain Sorghum","Bushel","All",0.46]
["40105","Oklahoma","Nowata","Soybeans","Bushel","All",0.1]
["40105","Oklahoma","Nowata","Wheat","Bushel","All",0.1]
["40107","Oklahoma","Okfuskee","Soybeans","Bushel","All",0.1]
["40109","Oklahoma","Oklahoma","Corn","Bushel","All",1.04]
["40109","Oklahoma","Oklahoma","Wheat","Bushel","All",0.33]
["40111","Oklahoma","Okmulgee","Corn","Bushel","All",1.23]
["40111","Oklahoma","Okmulgee","Soybeans","Bushel","All",0.1]
["40113","Oklahoma","Osage","Grain Sorghum","Bushel","All",0.35]
["40113","Oklahoma","Osage","Soybeans","Bushel","All",0.1]
["40113","Oklahoma","Osage","Wheat","Bushel","All",0.15]
["40115","Oklahoma","Ottawa","Corn","Bushel","All",1.25]
["40115","Oklahoma","Ottawa","Grain Sorghum","Bushel","All",0.56000000000000005]
["40115","Oklahoma","Ottawa","Soybeans","Bushel","All",0.12]
["40115","Oklahoma","Ottawa","Wheat","Bushel","All",0.26]
["40117","Oklahoma","Pawnee","Grain Sorghum","Bushel","All",0.21]
["40117","Oklahoma","Pawnee","Soybeans","Bushel","All",0.09]
["40117","Oklahoma","Pawnee","Wheat","Bushel","All",0.17]
["40119","Oklahoma","Payne","Grain Sorghum","Bushel","All",0.22]
["40119","Oklahoma","Payne","Wheat","Bushel","All",0.25]
["40125","Oklahoma","Pottawatomie","Corn","Bushel","All",1.1100000000000001]
["40125","Oklahoma","Pottawatomie","Grain Sorghum","Bushel","All",0.16]
["40125","Oklahoma","Pottawatomie","Soybeans","Bushel","All",0.1]
["40125","Oklahoma","Pottawatomie","Wheat","Bushel","All",0.31]
["40129","Oklahoma","Roger Mills","Cotton_lint","Pound of lint","All",5.76]
["40129","Oklahoma","Roger Mills","Grain Sorghum","Bushel","All",0.16]
["40129","Oklahoma","Roger Mills","Wheat","Bushel","All",0.23]
["40131","Oklahoma","Rogers","Grain Sorghum","Bushel","All",0.21]
["40131","Oklahoma","Rogers","Soybeans","Bushel","All",0.1]
["40131","Oklahoma","Rogers","Wheat","Bushel","All",0.1]
["40135","Oklahoma","Sequoyah","Corn","Bushel","Nonirrigated",1.34]
["40135","Oklahoma","Sequoyah","Corn","Bushel","Irrigated",1.56]
["40135","Oklahoma","Sequoyah","Soybeans","Bushel","Irrigated",0.16]
["40135","Oklahoma","Sequoyah","Soybeans","Bushel","Nonirrigated",0.16]
["40137","Oklahoma","Stephens","Wheat","Bushel","All",0.4]
["40139","Oklahoma","Texas","Corn","Bushel","All",2.63]
["40139","Oklahoma","Texas","Grain Sorghum","Bushel","Nonirrigated",0.12]
["40139","Oklahoma","Texas","Grain Sorghum","Bushel","Irrigated",0.16]
["40139","Oklahoma","Texas","Wheat","Bushel","Nonirrigated",0.09]
["40139","Oklahoma","Texas","Wheat","Bushel","Irrigated",0.11]
["40141","Oklahoma","Tillman","Cotton_lint","Pound of lint","Nonirrigated",4.3499999999999996]
["40141","Oklahoma","Tillman","Cotton_lint","Pound of lint","Irrigated",8.31]
["40141","Oklahoma","Tillman","Grain Sorghum","Bushel","Nonirrigated",0.28999999999999998]
["40141","Oklahoma","Tillman","Grain Sorghum","Bushel","Irrigated",0.32]
["40141","Oklahoma","Tillman","Wheat","Bushel","Irrigated",0.36]
["40141","Oklahoma","Tillman","Wheat","Bushel","Nonirrigated",0.36]
["40143","Oklahoma","Tulsa","Soybeans","Bushel","All",0.1]
["40145","Oklahoma","Wagoner","Corn","Bushel","All",1.04]
["40145","Oklahoma","Wagoner","Grain Sorghum","Bushel","All",0.33]
["40145","Oklahoma","Wagoner","Soybeans","Bushel","All",0.12]
["40145","Oklahoma","Wagoner","Wheat","Bushel","All",0.14000000000000001]
["40147","Oklahoma","Washington","Grain Sorghum","Bushel","All",0.21]
["40147","Oklahoma","Washington","Soybeans","Bushel","All",0.1]
["40147","Oklahoma","Washington","Wheat","Bushel","All",0.16]
["40149","Oklahoma","Washita","Cotton_lint","Pound of lint","All",5.42]
["40149","Oklahoma","Washita","Grain Sorghum","Bushel","All",0.24]
["40149","Oklahoma","Washita","Wheat","Bushel","Irrigated",0.28000000000000003]
["40149","Oklahoma","Washita","Wheat","Bushel","Nonirrigated",0.28000000000000003]
["40151","Oklahoma","Woods","Grain Sorghum","Bushel","All",0.31]
["40151","Oklahoma","Woods","Wheat","Bushel","All",0.13]
["40153","Oklahoma","Woodward","Grain Sorghum","Bushel","All",0.28000000000000003]
["40153","Oklahoma","Woodward","Wheat","Bushel","Irrigated",0.17]
["40153","Oklahoma","Woodward","Wheat","Bushel","Nonirrigated",0.17]
["41001","Oregon","Baker","Barley","Bushel","All",0.39]
["41001","Oregon","Baker","Wheat","Bushel","All",0.69]
["41021","Oregon","Gilliam","Barley","Bushel","All",0.1]
["41021","Oregon","Gilliam","Wheat","Bushel","All",0.1]
["41031","Oregon","Jefferson","Wheat","Bushel","All",0.69]
["41035","Oregon","Klamath","Barley","Bushel","All",0.49]
["41035","Oregon","Klamath","Wheat","Bushel","All",0.69]
["41043","Oregon","Linn","Wheat","Bushel","All",0.69]
["41045","Oregon","Malheur","Barley","Bushel","All",0.38]
["41045","Oregon","Malheur","Corn","Bushel","All",2.83]
["41045","Oregon","Malheur","Wheat","Bushel","All",0.69]
["41047","Oregon","Marion","Wheat","Bushel","All",0.69]
["41049","Oregon","Morrow","Barley","Bushel","All",0.1]
["41049","Oregon","Morrow","Corn","Bushel","All",2.83]
["41049","Oregon","Morrow","Wheat","Bushel","Nonirrigated",0.12]
["41049","Oregon","Morrow","Wheat","Bushel","Irrigated",0.19]
["41053","Oregon","Polk","Wheat","Bushel","All",0.69]
["41055","Oregon","Sherman","Barley","Bushel","All",0.26]
["41055","Oregon","Sherman","Wheat","Bushel","Irrigated",0.1]
["41055","Oregon","Sherman","Wheat","Bushel","Nonirrigated",0.1]
["41059","Oregon","Umatilla","Barley","Bushel","All",0.1]
["41059","Oregon","Umatilla","Corn","Bushel","All",2.83]
["41059","Oregon","Umatilla","Wheat","Bushel","Nonirrigated",0.49]
["41059","Oregon","Umatilla","Wheat","Bushel","Irrigated",0.53]
["41061","Oregon","Union","Barley","Bushel","Nonirrigated",0.14000000000000001]
["41061","Oregon","Union","Barley","Bushel","Irrigated",0.16]
["41061","Oregon","Union","Wheat","Bushel","Nonirrigated",0.53]
["41061","Oregon","Union","Wheat","Bushel","Irrigated",0.64]
["41063","Oregon","Wallowa","Barley","Bushel","All",0.25]
["41063","Oregon","Wallowa","Wheat","Bushel","Nonirrigated",0.34]
["41063","Oregon","Wallowa","Wheat","Bushel","Irrigated",0.63]
["41065","Oregon","Wasco","Barley","Bushel","All",0.26]
["41065","Oregon","Wasco","Wheat","Bushel","Irrigated",0.1]
["41065","Oregon","Wasco","Wheat","Bushel","Nonirrigated",0.1]
["41067","Oregon","Washington","Wheat","Bushel","All",0.69]
["41071","Oregon","Yamhill","Wheat","Bushel","All",0.69]
["42001","Pennsylvania","Adams","Corn","Bushel","All",0.86]
["42001","Pennsylvania","Adams","Soybeans","Bushel","All",0.53]
["42001","Pennsylvania","Adams","Wheat","Bushel","All",0.69]
["42003","Pennsylvania","Allegheny","Corn","Bushel","All",0.41]
["42005","Pennsylvania","Armstrong","Corn","Bushel","All",0.69]
["42005","Pennsylvania","Armstrong","Soybeans","Bushel","All",0.35]
["42005","Pennsylvania","Armstrong","Wheat","Bushel","All",0.47]
["42007","Pennsylvania","Beaver","Corn","Bushel","All",0.53]
["42007","Pennsylvania","Beaver","Wheat","Bushel","All",0.39]
["42009","Pennsylvania","Bedford","Corn","Bushel","All",0.38]
["42011","Pennsylvania","Berks","Corn","Bushel","All",0.69]
["42011","Pennsylvania","Berks","Soybeans","Bushel","All",0.53]
["42011","Pennsylvania","Berks","Wheat","Bushel","All",0.69]
["42013","Pennsylvania","Blair","Corn","Bushel","All",0.28000000000000003]
["42013","Pennsylvania","Blair","Soybeans","Bushel","All",0.48]
["42015","Pennsylvania","Bradford","Corn","Bushel","All",0.53]
["42017","Pennsylvania","Bucks","Corn","Bushel","All",0.98]
["42017","Pennsylvania","Bucks","Wheat","Bushel","All",0.54]
["42019","Pennsylvania","Butler","Corn","Bushel","All",0.72]
["42019","Pennsylvania","Butler","Soybeans","Bushel","All",0.37]
["42019","Pennsylvania","Butler","Wheat","Bushel","All",0.44]
["42021","Pennsylvania","Cambria","Corn","Bushel","All",0.49]
["42021","Pennsylvania","Cambria","Wheat","Bushel","All",0.69]
["42025","Pennsylvania","Carbon","Corn","Bushel","All",0.46]
["42027","Pennsylvania","Centre","Corn","Bushel","All",0.3]
["42027","Pennsylvania","Centre","Soybeans","Bushel","All",0.46]
["42027","Pennsylvania","Centre","Wheat","Bushel","All",0.69]
["42029","Pennsylvania","Chester","Corn","Bushel","All",0.89]
["42029","Pennsylvania","Chester","Soybeans","Bushel","All",0.53]
["42029","Pennsylvania","Chester","Wheat","Bushel","All",0.69]
["42031","Pennsylvania","Clarion","Corn","Bushel","All",0.95]
["42033","Pennsylvania","Clearfield","Corn","Bushel","All",0.33]
["42035","Pennsylvania","Clinton","Corn","Bushel","All",0.35]
["42037","Pennsylvania","Columbia","Corn","Bushel","All",0.78]
["42037","Pennsylvania","Columbia","Soybeans","Bushel","All",0.44]
["42037","Pennsylvania","Columbia","Wheat","Bushel","All",0.69]
["42039","Pennsylvania","Crawford","Corn","Bushel","All",1.25]
["42039","Pennsylvania","Crawford","Soybeans","Bushel","All",0.28000000000000003]
["42039","Pennsylvania","Crawford","Wheat","Bushel","All",0.39]
["42041","Pennsylvania","Cumberland","Corn","Bushel","All",0.7]
["42041","Pennsylvania","Cumberland","Soybeans","Bushel","All",0.53]
["42041","Pennsylvania","Cumberland","Wheat","Bushel","All",0.69]
["42043","Pennsylvania","Dauphin","Corn","Bushel","All",0.76]
["42043","Pennsylvania","Dauphin","Soybeans","Bushel","All",0.47]
["42043","Pennsylvania","Dauphin","Wheat","Bushel","All",0.69]
["42047","Pennsylvania","Elk","Corn","Bushel","All",0.68]
["42049","Pennsylvania","Erie","Corn","Bushel","All",1.32]
["42049","Pennsylvania","Erie","Soybeans","Bushel","All",0.32]
["42049","Pennsylvania","Erie","Wheat","Bushel","All",0.44]
["42051","Pennsylvania","Fayette","Corn","Bushel","All",0.62]
["42051","Pennsylvania","Fayette","Soybeans","Bushel","All",0.39]
["42053","Pennsylvania","Forest","Corn","Bushel","All",1.01]
["42055","Pennsylvania","Franklin","Corn","Bushel","All",0.61]
["42055","Pennsylvania","Franklin","Soybeans","Bushel","All",0.53]
["42055","Pennsylvania","Franklin","Wheat","Bushel","All",0.69]
["42057","Pennsylvania","Fulton","Corn","Bushel","All",0.33]
["42057","Pennsylvania","Fulton","Wheat","Bushel","All",0.57999999999999996]
["42059","Pennsylvania","Greene","Corn","Bushel","All",0.46]
["42061","Pennsylvania","Huntingdon","Corn","Bushel","All",0.32]
["42061","Pennsylvania","Huntingdon","Soybeans","Bushel","All",0.49]
["42061","Pennsylvania","Huntingdon","Wheat","Bushel","All",0.69]
["42063","Pennsylvania","Indiana","Corn","Bushel","All",0.63]
["42063","Pennsylvania","Indiana","Soybeans","Bushel","All",0.4]
["42063","Pennsylvania","Indiana","Wheat","Bushel","All",0.65]
["42065","Pennsylvania","Jefferson","Corn","Bushel","All",0.93]
["42067","Pennsylvania","Juniata","Corn","Bushel","All",0.53]
["42067","Pennsylvania","Juniata","Soybeans","Bushel","All",0.46]
["42067","Pennsylvania","Juniata","Wheat","Bushel","All",0.69]
["42069","Pennsylvania","Lackawanna","Corn","Bushel","All",0.37]
["42071","Pennsylvania","Lancaster","Corn","Bushel","All",0.75]
["42071","Pennsylvania","Lancaster","Soybeans","Bushel","All",0.53]
["42071","Pennsylvania","Lancaster","Wheat","Bushel","All",0.69]
["42073","Pennsylvania","Lawrence","Corn","Bushel","All",0.95]
["42073","Pennsylvania","Lawrence","Soybeans","Bushel","All",0.43]
["42073","Pennsylvania","Lawrence","Wheat","Bushel","All",0.56999999999999995]
["42075","Pennsylvania","Lebanon","Corn","Bushel","All",0.63]
["42075","Pennsylvania","Lebanon","Soybeans","Bushel","All",0.53]
["42075","Pennsylvania","Lebanon","Wheat","Bushel","All",0.69]
["42077","Pennsylvania","Lehigh","Corn","Bushel","All",0.59]
["42077","Pennsylvania","Lehigh","Soybeans","Bushel","All",0.41]
["42077","Pennsylvania","Lehigh","Wheat","Bushel","All",0.69]
["42079","Pennsylvania","Luzerne","Corn","Bushel","All",0.49]
["42079","Pennsylvania","Luzerne","Soybeans","Bushel","All",0.39]
["42079","Pennsylvania","Luzerne","Wheat","Bushel","All",0.61]
["42081","Pennsylvania","Lycoming","Corn","Bushel","All",0.56000000000000005]
["42081","Pennsylvania","Lycoming","Wheat","Bushel","All",0.69]
["42083","Pennsylvania","Mckean","Corn","Bushel","All",0.83]
["42085","Pennsylvania","Mercer","Corn","Bushel","All",1.2]
["42085","Pennsylvania","Mercer","Soybeans","Bushel","All",0.31]
["42085","Pennsylvania","Mercer","Wheat","Bushel","All",0.47]
["42087","Pennsylvania","Mifflin","Corn","Bushel","All",0.71]
["42087","Pennsylvania","Mifflin","Soybeans","Bushel","All",0.5]
["42089","Pennsylvania","Monroe","Corn","Bushel","All",0.61]
["42091","Pennsylvania","Montgomery","Corn","Bushel","All",0.77]
["42093","Pennsylvania","Montour","Corn","Bushel","All",0.71]
["42093","Pennsylvania","Montour","Soybeans","Bushel","All",0.44]
["42093","Pennsylvania","Montour","Wheat","Bushel","All",0.67]
["42095","Pennsylvania","Northampton","Corn","Bushel","All",0.71]
["42095","Pennsylvania","Northampton","Soybeans","Bushel","All",0.41]
["42095","Pennsylvania","Northampton","Wheat","Bushel","All",0.6]
["42097","Pennsylvania","Northumberland","Corn","Bushel","All",0.77]
["42097","Pennsylvania","Northumberland","Soybeans","Bushel","All",0.5]
["42097","Pennsylvania","Northumberland","Wheat","Bushel","All",0.69]
["42099","Pennsylvania","Perry","Corn","Bushel","All",0.61]
["42099","Pennsylvania","Perry","Soybeans","Bushel","All",0.49]
["42099","Pennsylvania","Perry","Wheat","Bushel","All",0.69]
["42105","Pennsylvania","Potter","Corn","Bushel","All",0.69]
["42105","Pennsylvania","Potter","Wheat","Bushel","All",0.69]
["42107","Pennsylvania","Schuylkill","Corn","Bushel","All",0.61]
["42107","Pennsylvania","Schuylkill","Soybeans","Bushel","All",0.39]
["42107","Pennsylvania","Schuylkill","Wheat","Bushel","All",0.69]
["42109","Pennsylvania","Snyder","Corn","Bushel","All",0.76]
["42109","Pennsylvania","Snyder","Soybeans","Bushel","All",0.48]
["42109","Pennsylvania","Snyder","Wheat","Bushel","All",0.69]
["42111","Pennsylvania","Somerset","Corn","Bushel","All",0.63]
["42111","Pennsylvania","Somerset","Soybeans","Bushel","All",0.41]
["42113","Pennsylvania","Sullivan","Corn","Bushel","All",0.59]
["42115","Pennsylvania","Susquehanna","Corn","Bushel","All",0.55000000000000004]
["42117","Pennsylvania","Tioga","Corn","Bushel","All",0.59]
["42119","Pennsylvania","Union","Corn","Bushel","All",0.7]
["42119","Pennsylvania","Union","Soybeans","Bushel","All",0.47]
["42119","Pennsylvania","Union","Wheat","Bushel","All",0.69]
["42121","Pennsylvania","Venango","Corn","Bushel","All",1.1399999999999999]
["42123","Pennsylvania","Warren","Corn","Bushel","All",1.1399999999999999]
["42125","Pennsylvania","Washington","Corn","Bushel","All",0.4]
["42127","Pennsylvania","Wayne","Corn","Bushel","All",0.33]
["42129","Pennsylvania","Westmoreland","Corn","Bushel","All",0.48]
["42129","Pennsylvania","Westmoreland","Soybeans","Bushel","All",0.34]
["42131","Pennsylvania","Wyoming","Corn","Bushel","All",0.55000000000000004]
["42133","Pennsylvania","York","Corn","Bushel","All",0.84]
["42133","Pennsylvania","York","Soybeans","Bushel","All",0.53]
["42133","Pennsylvania","York","Wheat","Bushel","All",0.69]
["45003","South Carolina","Aiken","Corn","Bushel","Nonirrigated",0.37]
["45003","South Carolina","Aiken","Corn","Bushel","Irrigated",0.5]
["45003","South Carolina","Aiken","Cotton_lint","Pound of lint","All",6.14]
["45003","South Carolina","Aiken","Soybeans","Bushel","All",0.09]
["45003","South Carolina","Aiken","Wheat","Bushel","All",0.21]
["45005","South Carolina","Allendale","Corn","Bushel","Nonirrigated",0.79]
["45005","South Carolina","Allendale","Corn","Bushel","Irrigated",0.83]
["45005","South Carolina","Allendale","Cotton_lint","Pound of lint","All",11.55]
["45005","South Carolina","Allendale","Peanuts","Pound","All",42.76]
["45005","South Carolina","Allendale","Soybeans","Bushel","Nonirrigated",0.18]
["45005","South Carolina","Allendale","Soybeans","Bushel","Irrigated",0.21]
["45005","South Carolina","Allendale","Wheat","Bushel","All",0.37]
["45007","South Carolina","Anderson","Corn","Bushel","All",1.27]
["45007","South Carolina","Anderson","Soybeans","Bushel","All",0.24]
["45007","South Carolina","Anderson","Wheat","Bushel","All",0.37]
["45009","South Carolina","Bamberg","Corn","Bushel","Nonirrigated",0.6]
["45009","South Carolina","Bamberg","Corn","Bushel","Irrigated",0.69]
["45009","South Carolina","Bamberg","Cotton_lint","Pound of lint","Nonirrigated",10.14]
["45009","South Carolina","Bamberg","Cotton_lint","Pound of lint","Irrigated",11.09]
["45009","South Carolina","Bamberg","Soybeans","Bushel","All",0.2]
["45009","South Carolina","Bamberg","Wheat","Bushel","All",0.37]
["45011","South Carolina","Barnwell","Corn","Bushel","Nonirrigated",0.64]
["45011","South Carolina","Barnwell","Corn","Bushel","Irrigated",0.91]
["45011","South Carolina","Barnwell","Cotton_lint","Pound of lint","Nonirrigated",9.41]
["45011","South Carolina","Barnwell","Cotton_lint","Pound of lint","Irrigated",10.18]
["45011","South Carolina","Barnwell","Peanuts","Pound","Nonirrigated",39.85]
["45011","South Carolina","Barnwell","Peanuts","Pound","Irrigated",42.46]
["45011","South Carolina","Barnwell","Soybeans","Bushel","All",0.21]
["45013","South Carolina","Beaufort","Corn","Bushel","All",0.46]
["45015","South Carolina","Berkeley","Corn","Bushel","Nonirrigated",0.55000000000000004]
["45015","South Carolina","Berkeley","Corn","Bushel","Irrigated",0.62]
["45015","South Carolina","Berkeley","Soybeans","Bushel","All",0.14000000000000001]
["45015","South Carolina","Berkeley","Wheat","Bushel","All",0.28999999999999998]
["45017","South Carolina","Calhoun","Corn","Bushel","Nonirrigated",1.1299999999999999]
["45017","South Carolina","Calhoun","Corn","Bushel","Irrigated",1.86]
["45017","South Carolina","Calhoun","Cotton_lint","Pound of lint","Nonirrigated",9.68]
["45017","South Carolina","Calhoun","Cotton_lint","Pound of lint","Irrigated",11.03]
["45017","South Carolina","Calhoun","Soybeans","Bushel","Nonirrigated",0.25]
["45017","South Carolina","Calhoun","Soybeans","Bushel","Irrigated",0.3]
["45019","South Carolina","Charleston","Corn","Bushel","All",0.37]
["45021","South Carolina","Cherokee","Soybeans","Bushel","All",0.27]
["45023","South Carolina","Chester","Cotton_lint","Pound of lint","All",8.17]
["45023","South Carolina","Chester","Wheat","Bushel","All",0.52]
["45025","South Carolina","Chesterfield","Corn","Bushel","All",1.1299999999999999]
["45025","South Carolina","Chesterfield","Soybeans","Bushel","All",0.26]
["45025","South Carolina","Chesterfield","Wheat","Bushel","All",0.69]
["45027","South Carolina","Clarendon","Corn","Bushel","Nonirrigated",1.36]
["45027","South Carolina","Clarendon","Corn","Bushel","Irrigated",1.59]
["45027","South Carolina","Clarendon","Cotton_lint","Pound of lint","All",10]
["45027","South Carolina","Clarendon","Soybeans","Bushel","Nonirrigated",0.28999999999999998]
["45027","South Carolina","Clarendon","Soybeans","Bushel","Irrigated",0.3]
["45027","South Carolina","Clarendon","Wheat","Bushel","All",0.51]
["45029","South Carolina","Colleton","Corn","Bushel","All",0.47]
["45029","South Carolina","Colleton","Soybeans","Bushel","All",0.18]
["45031","South Carolina","Darlington","Corn","Bushel","Nonirrigated",0.97]
["45031","South Carolina","Darlington","Corn","Bushel","Irrigated",1.06]
["45031","South Carolina","Darlington","Cotton_lint","Pound of lint","Nonirrigated",9.51]
["45031","South Carolina","Darlington","Cotton_lint","Pound of lint","Irrigated",9.61]
["45031","South Carolina","Darlington","Soybeans","Bushel","Irrigated",0.23]
["45031","South Carolina","Darlington","Soybeans","Bushel","Nonirrigated",0.23]
["45031","South Carolina","Darlington","Wheat","Bushel","Irrigated",0.49]
["45031","South Carolina","Darlington","Wheat","Bushel","Nonirrigated",0.49]
["45033","South Carolina","Dillon","Corn","Bushel","Nonirrigated",0.87]
["45033","South Carolina","Dillon","Corn","Bushel","Irrigated",0.91]
["45033","South Carolina","Dillon","Cotton_lint","Pound of lint","All",7.39]
["45033","South Carolina","Dillon","Soybeans","Bushel","All",0.23]
["45033","South Carolina","Dillon","Wheat","Bushel","All",0.43]
["45035","South Carolina","Dorchester","Corn","Bushel","Nonirrigated",0.61]
["45035","South Carolina","Dorchester","Corn","Bushel","Irrigated",0.63]
["45035","South Carolina","Dorchester","Cotton_lint","Pound of lint","All",9.7799999999999994]
["45035","South Carolina","Dorchester","Soybeans","Bushel","All",0.23]
["45035","South Carolina","Dorchester","Wheat","Bushel","All",0.42]
["45037","South Carolina","Edgefield","Corn","Bushel","All",0.28000000000000003]
["45037","South Carolina","Edgefield","Soybeans","Bushel","All",0.11]
["45037","South Carolina","Edgefield","Wheat","Bushel","All",0.2]
["45041","South Carolina","Florence","Corn","Bushel","Nonirrigated",0.98]
["45041","South Carolina","Florence","Corn","Bushel","Irrigated",1.01]
["45041","South Carolina","Florence","Cotton_lint","Pound of lint","All",6.83]
["45041","South Carolina","Florence","Soybeans","Bushel","All",0.25]
["45041","South Carolina","Florence","Wheat","Bushel","All",0.44]
["45043","South Carolina","Georgetown","Corn","Bushel","All",0.71]
["45043","South Carolina","Georgetown","Soybeans","Bushel","All",0.24]
["45045","South Carolina","Greenville","Soybeans","Bushel","All",0.35]
["45049","South Carolina","Hampton","Corn","Bushel","Nonirrigated",0.71]
["45049","South Carolina","Hampton","Corn","Bushel","Irrigated",0.78]
["45049","South Carolina","Hampton","Cotton_lint","Pound of lint","Nonirrigated",10.67]
["45049","South Carolina","Hampton","Cotton_lint","Pound of lint","Irrigated",11.21]
["45049","South Carolina","Hampton","Peanuts","Pound","Nonirrigated",39.869999999999997]
["45049","South Carolina","Hampton","Peanuts","Pound","Irrigated",41.92]
["45049","South Carolina","Hampton","Soybeans","Bushel","All",0.23]
["45049","South Carolina","Hampton","Wheat","Bushel","All",0.44]
["45051","South Carolina","Horry","Corn","Bushel","All",0.89]
["45051","South Carolina","Horry","Soybeans","Bushel","All",0.21]
["45051","South Carolina","Horry","Wheat","Bushel","All",0.4]
["45053","South Carolina","Jasper","Corn","Bushel","All",0.79]
["45055","South Carolina","Kershaw","Corn","Bushel","All",1.46]
["45055","South Carolina","Kershaw","Cotton_lint","Pound of lint","All",7.93]
["45055","South Carolina","Kershaw","Soybeans","Bushel","All",0.23]
["45055","South Carolina","Kershaw","Wheat","Bushel","All",0.51]
["45057","South Carolina","Lancaster","Corn","Bushel","All",1.24]
["45057","South Carolina","Lancaster","Soybeans","Bushel","All",0.17]
["45061","South Carolina","Lee","Corn","Bushel","Nonirrigated",1.28]
["45061","South Carolina","Lee","Corn","Bushel","Irrigated",1.68]
["45061","South Carolina","Lee","Cotton_lint","Pound of lint","Nonirrigated",9.24]
["45061","South Carolina","Lee","Cotton_lint","Pound of lint","Irrigated",9.7200000000000006]
["45061","South Carolina","Lee","Peanuts","Pound","All",42.76]
["45061","South Carolina","Lee","Soybeans","Bushel","Nonirrigated",0.27]
["45061","South Carolina","Lee","Soybeans","Bushel","Irrigated",0.28999999999999998]
["45061","South Carolina","Lee","Wheat","Bushel","Nonirrigated",0.53]
["45061","South Carolina","Lee","Wheat","Bushel","Irrigated",0.54]
["45063","South Carolina","Lexington","Corn","Bushel","Nonirrigated",0.85]
["45063","South Carolina","Lexington","Corn","Bushel","Irrigated",1.42]
["45063","South Carolina","Lexington","Cotton_lint","Pound of lint","Nonirrigated",7.86]
["45063","South Carolina","Lexington","Cotton_lint","Pound of lint","Irrigated",8.9600000000000009]
["45063","South Carolina","Lexington","Soybeans","Bushel","All",0.15]
["45067","South Carolina","Marion","Corn","Bushel","Nonirrigated",0.76]
["45067","South Carolina","Marion","Corn","Bushel","Irrigated",0.81]
["45067","South Carolina","Marion","Cotton_lint","Pound of lint","All",7.63]
["45067","South Carolina","Marion","Soybeans","Bushel","All",0.24]
["45067","South Carolina","Marion","Wheat","Bushel","All",0.37]
["45069","South Carolina","Marlboro","Corn","Bushel","Nonirrigated",0.92]
["45069","South Carolina","Marlboro","Corn","Bushel","Irrigated",0.95]
["45069","South Carolina","Marlboro","Cotton_lint","Pound of lint","All",9.2100000000000009]
["45069","South Carolina","Marlboro","Soybeans","Bushel","Nonirrigated",0.25]
["45069","South Carolina","Marlboro","Soybeans","Bushel","Irrigated",0.26]
["45069","South Carolina","Marlboro","Wheat","Bushel","All",0.53]
["45071","South Carolina","Newberry","Corn","Bushel","All",0.6]
["45071","South Carolina","Newberry","Soybeans","Bushel","All",0.09]
["45071","South Carolina","Newberry","Wheat","Bushel","All",0.28000000000000003]
["45073","South Carolina","Oconee","Corn","Bushel","All",1.37]
["45073","South Carolina","Oconee","Soybeans","Bushel","All",0.4]
["45073","South Carolina","Oconee","Wheat","Bushel","All",0.4]
["45075","South Carolina","Orangeburg","Corn","Bushel","Nonirrigated",1.1000000000000001]
["45075","South Carolina","Orangeburg","Corn","Bushel","Irrigated",1.54]
["45075","South Carolina","Orangeburg","Cotton_lint","Pound of lint","Nonirrigated",10.17]
["45075","South Carolina","Orangeburg","Cotton_lint","Pound of lint","Irrigated",10.82]
["45075","South Carolina","Orangeburg","Soybeans","Bushel","Nonirrigated",0.28000000000000003]
["45075","South Carolina","Orangeburg","Soybeans","Bushel","Irrigated",0.28999999999999998]
["45075","South Carolina","Orangeburg","Wheat","Bushel","Nonirrigated",0.56000000000000005]
["45075","South Carolina","Orangeburg","Wheat","Bushel","Irrigated",0.56999999999999995]
["45079","South Carolina","Richland","Corn","Bushel","Nonirrigated",1.44]
["45079","South Carolina","Richland","Corn","Bushel","Irrigated",1.71]
["45079","South Carolina","Richland","Soybeans","Bushel","All",0.22]
["45081","South Carolina","Saluda","Corn","Bushel","All",0.3]
["45081","South Carolina","Saluda","Cotton_lint","Pound of lint","All",7.79]
["45081","South Carolina","Saluda","Soybeans","Bushel","All",0.12]
["45081","South Carolina","Saluda","Wheat","Bushel","All",0.23]
["45083","South Carolina","Spartanburg","Corn","Bushel","All",1.31]
["45083","South Carolina","Spartanburg","Soybeans","Bushel","All",0.28000000000000003]
["45083","South Carolina","Spartanburg","Wheat","Bushel","All",0.31]
["45085","South Carolina","Sumter","Corn","Bushel","Nonirrigated",1.58]
["45085","South Carolina","Sumter","Corn","Bushel","Irrigated",1.9]
["45085","South Carolina","Sumter","Cotton_lint","Pound of lint","All",10.47]
["45085","South Carolina","Sumter","Peanuts","Pound","All",42.76]
["45085","South Carolina","Sumter","Soybeans","Bushel","Nonirrigated",0.27]
["45085","South Carolina","Sumter","Soybeans","Bushel","Irrigated",0.28999999999999998]
["45085","South Carolina","Sumter","Wheat","Bushel","Nonirrigated",0.46]
["45085","South Carolina","Sumter","Wheat","Bushel","Irrigated",0.47]
["45089","South Carolina","Williamsburg","Corn","Bushel","Nonirrigated",0.82]
["45089","South Carolina","Williamsburg","Corn","Bushel","Irrigated",0.86]
["45089","South Carolina","Williamsburg","Cotton_lint","Pound of lint","All",7.88]
["45089","South Carolina","Williamsburg","Soybeans","Bushel","All",0.26]
["45089","South Carolina","Williamsburg","Wheat","Bushel","All",0.43]
["45091","South Carolina","York","Corn","Bushel","All",1.22]
["45091","South Carolina","York","Cotton_lint","Pound of lint","All",11.27]
["45091","South Carolina","York","Soybeans","Bushel","All",0.18]
["45091","South Carolina","York","Wheat","Bushel","All",0.51]
["46003","South Dakota","Aurora","Corn","Bushel","All",2.2999999999999998]
["46003","South Dakota","Aurora","Grain Sorghum","Bushel","All",0.92]
["46003","South Dakota","Aurora","Soybeans","Bushel","All",0.35]
["46003","South Dakota","Aurora","Sunflower Seed","Pound","All",23.23]
["46003","South Dakota","Aurora","Wheat","Bushel","All",0.69]
["46005","South Dakota","Beadle","Corn","Bushel","Nonirrigated",2.4700000000000002]
["46005","South Dakota","Beadle","Corn","Bushel","Irrigated",2.5299999999999998]
["46005","South Dakota","Beadle","Grain Sorghum","Bushel","All",0.68]
["46005","South Dakota","Beadle","Soybeans","Bushel","Irrigated",0.39]
["46005","South Dakota","Beadle","Soybeans","Bushel","Nonirrigated",0.39]
["46005","South Dakota","Beadle","Sunflower Seed","Pound","All",23.23]
["46005","South Dakota","Beadle","Wheat","Bushel","All",0.63]
["46007","South Dakota","Bennett","Corn","Bushel","Irrigated",0.72]
["46007","South Dakota","Bennett","Sunflower Seed","Pound","All",4.96]
["46007","South Dakota","Bennett","Wheat","Bushel","All",0.17]
["46009","South Dakota","Bon Homme","Corn","Bushel","Nonirrigated",2.21]
["46009","South Dakota","Bon Homme","Corn","Bushel","Irrigated",2.3199999999999998]
["46009","South Dakota","Bon Homme","Soybeans","Bushel","Nonirrigated",0.46]
["46009","South Dakota","Bon Homme","Soybeans","Bushel","Irrigated",0.47]
["46009","South Dakota","Bon Homme","Wheat","Bushel","All",0.69]
["46011","South Dakota","Brookings","Corn","Bushel","Nonirrigated",2.75]
["46011","South Dakota","Brookings","Corn","Bushel","Irrigated",2.78]
["46011","South Dakota","Brookings","Soybeans","Bushel","Irrigated",0.53]
["46011","South Dakota","Brookings","Soybeans","Bushel","Nonirrigated",0.53]
["46011","South Dakota","Brookings","Wheat","Bushel","All",0.63]
["46013","South Dakota","Brown","Corn","Bushel","Nonirrigated",2.82]
["46013","South Dakota","Brown","Corn","Bushel","Irrigated",2.83]
["46013","South Dakota","Brown","Soybeans","Bushel","Irrigated",0.53]
["46013","South Dakota","Brown","Soybeans","Bushel","Nonirrigated",0.53]
["46013","South Dakota","Brown","Sunflower Seed","Pound","All",20.84]
["46013","South Dakota","Brown","Wheat","Bushel","All",0.82]
["46015","South Dakota","Brule","Corn","Bushel","Nonirrigated",1.5]
["46015","South Dakota","Brule","Corn","Bushel","Irrigated",1.88]
["46015","South Dakota","Brule","Grain Sorghum","Bushel","All",0.85]
["46015","South Dakota","Brule","Soybeans","Bushel","Irrigated",0.33]
["46015","South Dakota","Brule","Soybeans","Bushel","Nonirrigated",0.33]
["46015","South Dakota","Brule","Sunflower Seed","Pound","All",23.23]
["46015","South Dakota","Brule","Wheat","Bushel","All",0.52]
["46017","South Dakota","Buffalo","Corn","Bushel","Nonirrigated",1.32]
["46017","South Dakota","Buffalo","Corn","Bushel","Irrigated",2.04]
["46017","South Dakota","Buffalo","Soybeans","Bushel","Irrigated",0.42]
["46017","South Dakota","Buffalo","Sunflower Seed","Pound","All",17.77]
["46017","South Dakota","Buffalo","Wheat","Bushel","All",0.47]
["46019","South Dakota","Butte","Corn","Bushel","All",1.1200000000000001]
["46019","South Dakota","Butte","Wheat","Bushel","Irrigated",0.17]
["46019","South Dakota","Butte","Wheat","Bushel","Nonirrigated",0.17]
["46021","South Dakota","Campbell","Corn","Bushel","Nonirrigated",1.89]
["46021","South Dakota","Campbell","Corn","Bushel","Irrigated",2.4300000000000002]
["46021","South Dakota","Campbell","Soybeans","Bushel","Nonirrigated",0.53]
["46021","South Dakota","Campbell","Soybeans","Bushel","Irrigated",0.54]
["46021","South Dakota","Campbell","Sunflower Seed","Pound","All",23.23]
["46021","South Dakota","Campbell","Wheat","Bushel","All",0.66]
["46023","South Dakota","Charles Mix","Corn","Bushel","Nonirrigated",1.55]
["46023","South Dakota","Charles Mix","Corn","Bushel","Irrigated",2.12]
["46023","South Dakota","Charles Mix","Grain Sorghum","Bushel","All",0.92]
["46023","South Dakota","Charles Mix","Soybeans","Bushel","Irrigated",0.43]
["46023","South Dakota","Charles Mix","Soybeans","Bushel","Nonirrigated",0.43]
["46023","South Dakota","Charles Mix","Sunflower Seed","Pound","All",23.23]
["46023","South Dakota","Charles Mix","Wheat","Bushel","Irrigated",0.68]
["46023","South Dakota","Charles Mix","Wheat","Bushel","Nonirrigated",0.68]
["46025","South Dakota","Clark","Corn","Bushel","Nonirrigated",2.75]
["46025","South Dakota","Clark","Corn","Bushel","Irrigated",2.77]
["46025","South Dakota","Clark","Soybeans","Bushel","Irrigated",0.51]
["46025","South Dakota","Clark","Soybeans","Bushel","Nonirrigated",0.51]
["46025","South Dakota","Clark","Sunflower Seed","Pound","All",11.3]
["46025","South Dakota","Clark","Wheat","Bushel","All",0.7]
["46027","South Dakota","Clay","Corn","Bushel","Nonirrigated",2.38]
["46027","South Dakota","Clay","Corn","Bushel","Irrigated",2.46]
["46027","South Dakota","Clay","Soybeans","Bushel","Nonirrigated",0.52]
["46027","South Dakota","Clay","Soybeans","Bushel","Irrigated",0.53]
["46029","South Dakota","Codington","Corn","Bushel","Nonirrigated",2.81]
["46029","South Dakota","Codington","Corn","Bushel","Irrigated",2.82]
["46029","South Dakota","Codington","Soybeans","Bushel","Irrigated",0.53]
["46029","South Dakota","Codington","Soybeans","Bushel","Nonirrigated",0.53]
["46029","South Dakota","Codington","Wheat","Bushel","All",0.63]
["46031","South Dakota","Corson","Corn","Bushel","All",1.5]
["46031","South Dakota","Corson","Sunflower Seed","Pound","All",23.07]
["46031","South Dakota","Corson","Wheat","Bushel","All",0.28000000000000003]
["46033","South Dakota","Custer","Wheat","Bushel","All",0.13]
["46035","South Dakota","Davison","Corn","Bushel","Nonirrigated",2.5]
["46035","South Dakota","Davison","Corn","Bushel","Irrigated",2.5499999999999998]
["46035","South Dakota","Davison","Soybeans","Bushel","All",0.52]
["46035","South Dakota","Davison","Wheat","Bushel","All",0.69]
["46037","South Dakota","Day","Corn","Bushel","Irrigated",2.83]
["46037","South Dakota","Day","Corn","Bushel","Nonirrigated",2.83]
["46037","South Dakota","Day","Soybeans","Bushel","Irrigated",0.52]
["46037","South Dakota","Day","Soybeans","Bushel","Nonirrigated",0.52]
["46037","South Dakota","Day","Wheat","Bushel","All",0.83]
["46039","South Dakota","Deuel","Corn","Bushel","Irrigated",2.82]
["46039","South Dakota","Deuel","Corn","Bushel","Nonirrigated",2.82]
["46039","South Dakota","Deuel","Soybeans","Bushel","Irrigated",0.53]
["46039","South Dakota","Deuel","Soybeans","Bushel","Nonirrigated",0.53]
["46039","South Dakota","Deuel","Wheat","Bushel","All",0.63]
["46041","South Dakota","Dewey","Corn","Bushel","All",1.58]
["46041","South Dakota","Dewey","Sunflower Seed","Pound","All",23.23]
["46041","South Dakota","Dewey","Wheat","Bushel","All",0.38]
["46043","South Dakota","Douglas","Corn","Bushel","Nonirrigated",2.34]
["46043","South Dakota","Douglas","Corn","Bushel","Irrigated",2.36]
["46043","South Dakota","Douglas","Grain Sorghum","Bushel","All",0.92]
["46043","South Dakota","Douglas","Soybeans","Bushel","Irrigated",0.46]
["46043","South Dakota","Douglas","Soybeans","Bushel","Nonirrigated",0.46]
["46043","South Dakota","Douglas","Wheat","Bushel","All",0.69]
["46045","South Dakota","Edmunds","Corn","Bushel","All",2.83]
["46045","South Dakota","Edmunds","Soybeans","Bushel","All",0.54]
["46045","South Dakota","Edmunds","Sunflower Seed","Pound","All",23.23]
["46045","South Dakota","Edmunds","Wheat","Bushel","All",0.79]
["46047","South Dakota","Fall River","Corn","Bushel","All",0.82]
["46047","South Dakota","Fall River","Wheat","Bushel","All",0.1]
["46049","South Dakota","Faulk","Corn","Bushel","All",2.75]
["46049","South Dakota","Faulk","Soybeans","Bushel","All",0.54]
["46049","South Dakota","Faulk","Sunflower Seed","Pound","All",23.23]
["46049","South Dakota","Faulk","Wheat","Bushel","All",0.81]
["46051","South Dakota","Grant","Corn","Bushel","Nonirrigated",2.8]
["46051","South Dakota","Grant","Corn","Bushel","Irrigated",2.83]
["46051","South Dakota","Grant","Soybeans","Bushel","Irrigated",0.52]
["46051","South Dakota","Grant","Soybeans","Bushel","Nonirrigated",0.52]
["46051","South Dakota","Grant","Wheat","Bushel","All",0.69]
["46053","South Dakota","Gregory","Corn","Bushel","Nonirrigated",1.38]
["46053","South Dakota","Gregory","Corn","Bushel","Irrigated",1.43]
["46053","South Dakota","Gregory","Grain Sorghum","Bushel","All",0.54]
["46053","South Dakota","Gregory","Soybeans","Bushel","All",0.32]
["46053","South Dakota","Gregory","Sunflower Seed","Pound","All",15.88]
["46053","South Dakota","Gregory","Wheat","Bushel","All",0.3]
["46055","South Dakota","Haakon","Corn","Bushel","All",1.04]
["46055","South Dakota","Haakon","Grain Sorghum","Bushel","All",0.4]
["46055","South Dakota","Haakon","Sunflower Seed","Pound","All",19.010000000000002]
["46055","South Dakota","Haakon","Wheat","Bushel","All",0.31]
["46057","South Dakota","Hamlin","Corn","Bushel","Nonirrigated",2.78]
["46057","South Dakota","Hamlin","Corn","Bushel","Irrigated",2.79]
["46057","South Dakota","Hamlin","Soybeans","Bushel","Irrigated",0.53]
["46057","South Dakota","Hamlin","Soybeans","Bushel","Nonirrigated",0.53]
["46057","South Dakota","Hamlin","Wheat","Bushel","All",0.69]
["46059","South Dakota","Hand","Corn","Bushel","Nonirrigated",2.3199999999999998]
["46059","South Dakota","Hand","Corn","Bushel","Irrigated",2.39]
["46059","South Dakota","Hand","Grain Sorghum","Bushel","All",0.72]
["46059","South Dakota","Hand","Soybeans","Bushel","Irrigated",0.36]
["46059","South Dakota","Hand","Soybeans","Bushel","Nonirrigated",0.36]
["46059","South Dakota","Hand","Sunflower Seed","Pound","All",23.23]
["46059","South Dakota","Hand","Wheat","Bushel","All",0.63]
["46061","South Dakota","Hanson","Corn","Bushel","All",2.64]
["46061","South Dakota","Hanson","Soybeans","Bushel","All",0.53]
["46061","South Dakota","Hanson","Wheat","Bushel","All",0.69]
["46063","South Dakota","Harding","Wheat","Bushel","All",0.17]
["46065","South Dakota","Hughes","Corn","Bushel","Nonirrigated",1.08]
["46065","South Dakota","Hughes","Corn","Bushel","Irrigated",1.72]
["46065","South Dakota","Hughes","Grain Sorghum","Bushel","All",0.77]
["46065","South Dakota","Hughes","Soybeans","Bushel","Irrigated",0.41]
["46065","South Dakota","Hughes","Sunflower Seed","Pound","All",23.23]
["46065","South Dakota","Hughes","Wheat","Bushel","All",0.6]
["46067","South Dakota","Hutchinson","Corn","Bushel","Nonirrigated",2.4500000000000002]
["46067","South Dakota","Hutchinson","Corn","Bushel","Irrigated",2.4700000000000002]
["46067","South Dakota","Hutchinson","Soybeans","Bushel","Irrigated",0.51]
["46067","South Dakota","Hutchinson","Soybeans","Bushel","Nonirrigated",0.51]
["46067","South Dakota","Hutchinson","Wheat","Bushel","All",0.69]
["46069","South Dakota","Hyde","Corn","Bushel","All",2.12]
["46069","South Dakota","Hyde","Grain Sorghum","Bushel","All",0.92]
["46069","South Dakota","Hyde","Soybeans","Bushel","All",0.42]
["46069","South Dakota","Hyde","Sunflower Seed","Pound","All",23.23]
["46069","South Dakota","Hyde","Wheat","Bushel","All",0.47]
["46071","South Dakota","Jackson","Sunflower Seed","Pound","All",20.69]
["46071","South Dakota","Jackson","Wheat","Bushel","All",0.1]
["46073","South Dakota","Jerauld","Corn","Bushel","Nonirrigated",2.09]
["46073","South Dakota","Jerauld","Corn","Bushel","Irrigated",2.29]
["46073","South Dakota","Jerauld","Grain Sorghum","Bushel","All",0.92]
["46073","South Dakota","Jerauld","Soybeans","Bushel","All",0.42]
["46073","South Dakota","Jerauld","Sunflower Seed","Pound","All",8.31]
["46073","South Dakota","Jerauld","Wheat","Bushel","All",0.51]
["46075","South Dakota","Jones","Corn","Bushel","All",1.1299999999999999]
["46075","South Dakota","Jones","Grain Sorghum","Bushel","All",0.69]
["46075","South Dakota","Jones","Wheat","Bushel","All",0.14000000000000001]
["46077","South Dakota","Kingsbury","Corn","Bushel","Irrigated",2.72]
["46077","South Dakota","Kingsbury","Corn","Bushel","Nonirrigated",2.72]
["46077","South Dakota","Kingsbury","Soybeans","Bushel","Irrigated",0.53]
["46077","South Dakota","Kingsbury","Soybeans","Bushel","Nonirrigated",0.53]
["46077","South Dakota","Kingsbury","Wheat","Bushel","All",0.7]
["46079","South Dakota","Lake","Corn","Bushel","Irrigated",2.74]
["46079","South Dakota","Lake","Corn","Bushel","Nonirrigated",2.74]
["46079","South Dakota","Lake","Soybeans","Bushel","Irrigated",0.53]
["46079","South Dakota","Lake","Soybeans","Bushel","Nonirrigated",0.53]
["46079","South Dakota","Lake","Wheat","Bushel","All",0.69]
["46083","South Dakota","Lincoln","Corn","Bushel","Irrigated",2.4700000000000002]
["46083","South Dakota","Lincoln","Corn","Bushel","Nonirrigated",2.4700000000000002]
["46083","South Dakota","Lincoln","Soybeans","Bushel","Irrigated",0.52]
["46083","South Dakota","Lincoln","Soybeans","Bushel","Nonirrigated",0.52]
["46085","South Dakota","Lyman","Corn","Bushel","Nonirrigated",0.91]
["46085","South Dakota","Lyman","Corn","Bushel","Irrigated",1.38]
["46085","South Dakota","Lyman","Grain Sorghum","Bushel","All",0.92]
["46085","South Dakota","Lyman","Sunflower Seed","Pound","All",13.08]
["46085","South Dakota","Lyman","Wheat","Bushel","All",0.49]
["46087","South Dakota","Mccook","Corn","Bushel","All",2.66]
["46087","South Dakota","Mccook","Soybeans","Bushel","All",0.53]
["46089","South Dakota","Mcpherson","Corn","Bushel","All",2.8]
["46089","South Dakota","Mcpherson","Soybeans","Bushel","All",0.54]
["46089","South Dakota","Mcpherson","Sunflower Seed","Pound","All",21.73]
["46089","South Dakota","Mcpherson","Wheat","Bushel","All",0.63]
["46091","South Dakota","Marshall","Corn","Bushel","Irrigated",2.82]
["46091","South Dakota","Marshall","Corn","Bushel","Nonirrigated",2.82]
["46091","South Dakota","Marshall","Soybeans","Bushel","All",0.52]
["46091","South Dakota","Marshall","Wheat","Bushel","All",0.63]
["46093","South Dakota","Meade","Corn","Bushel","All",1.08]
["46093","South Dakota","Meade","Grain Sorghum","Bushel","All",0.3]
["46093","South Dakota","Meade","Wheat","Bushel","All",0.18]
["46095","South Dakota","Mellette","Corn","Bushel","All",0.87]
["46095","South Dakota","Mellette","Grain Sorghum","Bushel","All",0.53]
["46095","South Dakota","Mellette","Sunflower Seed","Pound","All",6.68]
["46095","South Dakota","Mellette","Wheat","Bushel","All",0.26]
["46097","South Dakota","Miner","Corn","Bushel","All",2.7]
["46097","South Dakota","Miner","Soybeans","Bushel","All",0.53]
["46097","South Dakota","Miner","Wheat","Bushel","All",0.7]
["46099","South Dakota","Minnehaha","Corn","Bushel","Irrigated",2.66]
["46099","South Dakota","Minnehaha","Corn","Bushel","Nonirrigated",2.66]
["46099","South Dakota","Minnehaha","Soybeans","Bushel","Irrigated",0.53]
["46099","South Dakota","Minnehaha","Soybeans","Bushel","Nonirrigated",0.53]
["46101","South Dakota","Moody","Corn","Bushel","Irrigated",2.73]
["46101","South Dakota","Moody","Corn","Bushel","Nonirrigated",2.73]
["46101","South Dakota","Moody","Soybeans","Bushel","Irrigated",0.53]
["46101","South Dakota","Moody","Soybeans","Bushel","Nonirrigated",0.53]
["46101","South Dakota","Moody","Wheat","Bushel","All",0.69]
["46103","South Dakota","Pennington","Corn","Bushel","All",1]
["46103","South Dakota","Pennington","Wheat","Bushel","All",0.12]
["46105","South Dakota","Perkins","Corn","Bushel","All",1.21]
["46105","South Dakota","Perkins","Sunflower Seed","Pound","All",18.62]
["46105","South Dakota","Perkins","Wheat","Bushel","All",0.31]
["46107","South Dakota","Potter","Corn","Bushel","Nonirrigated",1.76]
["46107","South Dakota","Potter","Corn","Bushel","Irrigated",2.52]
["46107","South Dakota","Potter","Soybeans","Bushel","Irrigated",0.54]
["46107","South Dakota","Potter","Soybeans","Bushel","Nonirrigated",0.54]
["46107","South Dakota","Potter","Sunflower Seed","Pound","All",23.23]
["46107","South Dakota","Potter","Wheat","Bushel","All",0.76]
["46109","South Dakota","Roberts","Corn","Bushel","Irrigated",2.83]
["46109","South Dakota","Roberts","Corn","Bushel","Nonirrigated",2.83]
["46109","South Dakota","Roberts","Soybeans","Bushel","Irrigated",0.52]
["46109","South Dakota","Roberts","Soybeans","Bushel","Nonirrigated",0.52]
["46109","South Dakota","Roberts","Wheat","Bushel","All",0.63]
["46111","South Dakota","Sanborn","Corn","Bushel","All",2.59]
["46111","South Dakota","Sanborn","Soybeans","Bushel","All",0.52]
["46111","South Dakota","Sanborn","Wheat","Bushel","All",0.69]
["46115","South Dakota","Spink","Corn","Bushel","Nonirrigated",2.76]
["46115","South Dakota","Spink","Corn","Bushel","Irrigated",2.82]
["46115","South Dakota","Spink","Soybeans","Bushel","Nonirrigated",0.5]
["46115","South Dakota","Spink","Soybeans","Bushel","Irrigated",0.51]
["46115","South Dakota","Spink","Sunflower Seed","Pound","All",22.06]
["46115","South Dakota","Spink","Wheat","Bushel","All",0.66]
["46117","South Dakota","Stanley","Corn","Bushel","All",1.33]
["46117","South Dakota","Stanley","Grain Sorghum","Bushel","All",0.45]
["46117","South Dakota","Stanley","Sunflower Seed","Pound","All",7.21]
["46117","South Dakota","Stanley","Wheat","Bushel","All",0.35]
["46119","South Dakota","Sully","Corn","Bushel","Nonirrigated",1.29]
["46119","South Dakota","Sully","Corn","Bushel","Irrigated",1.94]
["46119","South Dakota","Sully","Grain Sorghum","Bushel","All",0.92]
["46119","South Dakota","Sully","Soybeans","Bushel","Irrigated",0.43]
["46119","South Dakota","Sully","Sunflower Seed","Pound","All",23.23]
["46119","South Dakota","Sully","Wheat","Bushel","All",0.57999999999999996]
["46121","South Dakota","Todd","Corn","Bushel","Nonirrigated",0.46]
["46121","South Dakota","Todd","Corn","Bushel","Irrigated",1.0900000000000001]
["46121","South Dakota","Todd","Grain Sorghum","Bushel","All",0.44]
["46121","South Dakota","Todd","Wheat","Bushel","All",0.17]
["46123","South Dakota","Tripp","Corn","Bushel","Nonirrigated",0.83]
["46123","South Dakota","Tripp","Corn","Bushel","Irrigated",1.05]
["46123","South Dakota","Tripp","Grain Sorghum","Bushel","All",0.66]
["46123","South Dakota","Tripp","Soybeans","Bushel","All",0.33]
["46123","South Dakota","Tripp","Sunflower Seed","Pound","All",12.51]
["46123","South Dakota","Tripp","Wheat","Bushel","All",0.24]
["46125","South Dakota","Turner","Corn","Bushel","Nonirrigated",2.4300000000000002]
["46125","South Dakota","Turner","Corn","Bushel","Irrigated",2.5]
["46125","South Dakota","Turner","Soybeans","Bushel","Irrigated",0.53]
["46125","South Dakota","Turner","Soybeans","Bushel","Nonirrigated",0.53]
["46127","South Dakota","Union","Corn","Bushel","Nonirrigated",2.36]
["46127","South Dakota","Union","Corn","Bushel","Irrigated",2.4300000000000002]
["46127","South Dakota","Union","Soybeans","Bushel","Nonirrigated",0.52]
["46127","South Dakota","Union","Soybeans","Bushel","Irrigated",0.53]
["46129","South Dakota","Walworth","Corn","Bushel","Nonirrigated",2]
["46129","South Dakota","Walworth","Corn","Bushel","Irrigated",2.62]
["46129","South Dakota","Walworth","Soybeans","Bushel","Irrigated",0.54]
["46129","South Dakota","Walworth","Soybeans","Bushel","Nonirrigated",0.54]
["46129","South Dakota","Walworth","Sunflower Seed","Pound","All",23.23]
["46129","South Dakota","Walworth","Wheat","Bushel","All",0.7]
["46135","South Dakota","Yankton","Corn","Bushel","Nonirrigated",2.33]
["46135","South Dakota","Yankton","Corn","Bushel","Irrigated",2.44]
["46135","South Dakota","Yankton","Soybeans","Bushel","Nonirrigated",0.52]
["46135","South Dakota","Yankton","Soybeans","Bushel","Irrigated",0.53]
["46135","South Dakota","Yankton","Wheat","Bushel","All",0.69]
["46137","South Dakota","Ziebach","Corn","Bushel","All",1.1599999999999999]
["46137","South Dakota","Ziebach","Wheat","Bushel","All",0.26]
["47003","Tennessee","Bedford","Corn","Bushel","All",2.33]
["47003","Tennessee","Bedford","Soybeans","Bushel","All",0.53]
["47003","Tennessee","Bedford","Wheat","Bushel","All",0.51]
["47005","Tennessee","Benton","Corn","Bushel","All",1.88]
["47005","Tennessee","Benton","Soybeans","Bushel","All",0.49]
["47007","Tennessee","Bledsoe","Corn","Bushel","All",1.04]
["47007","Tennessee","Bledsoe","Soybeans","Bushel","All",0.4]
["47009","Tennessee","Blount","Corn","Bushel","All",1.17]
["47009","Tennessee","Blount","Soybeans","Bushel","All",0.53]
["47011","Tennessee","Bradley","Corn","Bushel","All",1.38]
["47015","Tennessee","Cannon","Corn","Bushel","All",2.1800000000000002]
["47015","Tennessee","Cannon","Soybeans","Bushel","All",0.53]
["47017","Tennessee","Carroll","Corn","Bushel","Nonirrigated",1.92]
["47017","Tennessee","Carroll","Corn","Bushel","Irrigated",1.93]
["47017","Tennessee","Carroll","Cotton_lint","Pound of lint","Nonirrigated",13.5]
["47017","Tennessee","Carroll","Cotton_lint","Pound of lint","Irrigated",13.6]
["47017","Tennessee","Carroll","Soybeans","Bushel","Irrigated",0.52]
["47017","Tennessee","Carroll","Soybeans","Bushel","Nonirrigated",0.52]
["47017","Tennessee","Carroll","Wheat","Bushel","All",0.69]
["47021","Tennessee","Cheatham","Corn","Bushel","All",1.76]
["47021","Tennessee","Cheatham","Soybeans","Bushel","All",0.48]
["47023","Tennessee","Chester","Corn","Bushel","All",2.0299999999999998]
["47023","Tennessee","Chester","Cotton_lint","Pound of lint","All",13.6]
["47023","Tennessee","Chester","Soybeans","Bushel","All",0.49]
["47023","Tennessee","Chester","Wheat","Bushel","All",0.62]
["47029","Tennessee","Cocke","Corn","Bushel","All",1.17]
["47029","Tennessee","Cocke","Soybeans","Bushel","All",0.53]
["47031","Tennessee","Coffee","Corn","Bushel","All",1.66]
["47031","Tennessee","Coffee","Soybeans","Bushel","All",0.52]
["47031","Tennessee","Coffee","Wheat","Bushel","All",0.65]
["47033","Tennessee","Crockett","Corn","Bushel","Irrigated",1.88]
["47033","Tennessee","Crockett","Corn","Bushel","Nonirrigated",1.88]
["47033","Tennessee","Crockett","Cotton_lint","Pound of lint","Nonirrigated",13.41]
["47033","Tennessee","Crockett","Cotton_lint","Pound of lint","Irrigated",13.6]
["47033","Tennessee","Crockett","Soybeans","Bushel","Irrigated",0.51]
["47033","Tennessee","Crockett","Soybeans","Bushel","Nonirrigated",0.51]
["47033","Tennessee","Crockett","Wheat","Bushel","All",0.59]
["47035","Tennessee","Cumberland","Corn","Bushel","All",0.85]
["47039","Tennessee","Decatur","Corn","Bushel","All",1.96]
["47039","Tennessee","Decatur","Soybeans","Bushel","All",0.47]
["47041","Tennessee","Dekalb","Corn","Bushel","All",1.92]
["47041","Tennessee","Dekalb","Soybeans","Bushel","All",0.53]
["47043","Tennessee","Dickson","Corn","Bushel","All",1.77]
["47045","Tennessee","Dyer","Corn","Bushel","Irrigated",1.62]
["47045","Tennessee","Dyer","Corn","Bushel","Nonirrigated",1.62]
["47045","Tennessee","Dyer","Cotton_lint","Pound of lint","Nonirrigated",12.92]
["47045","Tennessee","Dyer","Cotton_lint","Pound of lint","Irrigated",13.6]
["47045","Tennessee","Dyer","Soybeans","Bushel","Irrigated",0.47]
["47045","Tennessee","Dyer","Soybeans","Bushel","Nonirrigated",0.47]
["47045","Tennessee","Dyer","Wheat","Bushel","Irrigated",0.62]
["47045","Tennessee","Dyer","Wheat","Bushel","Nonirrigated",0.62]
["47047","Tennessee","Fayette","Corn","Bushel","Irrigated",2.14]
["47047","Tennessee","Fayette","Corn","Bushel","Nonirrigated",2.14]
["47047","Tennessee","Fayette","Cotton_lint","Pound of lint","Nonirrigated",13.48]
["47047","Tennessee","Fayette","Cotton_lint","Pound of lint","Irrigated",13.6]
["47047","Tennessee","Fayette","Grain Sorghum","Bushel","All",0.92]
["47047","Tennessee","Fayette","Soybeans","Bushel","Irrigated",0.47]
["47047","Tennessee","Fayette","Soybeans","Bushel","Nonirrigated",0.47]
["47047","Tennessee","Fayette","Wheat","Bushel","All",0.6]
["47049","Tennessee","Fentress","Corn","Bushel","All",0.9]
["47051","Tennessee","Franklin","Corn","Bushel","All",1.69]
["47051","Tennessee","Franklin","Cotton_lint","Pound of lint","All",13.6]
["47051","Tennessee","Franklin","Soybeans","Bushel","All",0.48]
["47051","Tennessee","Franklin","Wheat","Bushel","All",0.69]
["47053","Tennessee","Gibson","Corn","Bushel","Irrigated",1.85]
["47053","Tennessee","Gibson","Corn","Bushel","Nonirrigated",1.85]
["47053","Tennessee","Gibson","Cotton_lint","Pound of lint","Irrigated",13.6]
["47053","Tennessee","Gibson","Cotton_lint","Pound of lint","Nonirrigated",13.6]
["47053","Tennessee","Gibson","Soybeans","Bushel","Irrigated",0.51]
["47053","Tennessee","Gibson","Soybeans","Bushel","Nonirrigated",0.51]
["47053","Tennessee","Gibson","Wheat","Bushel","All",0.66]
["47055","Tennessee","Giles","Corn","Bushel","Irrigated",2.4700000000000002]
["47055","Tennessee","Giles","Corn","Bushel","Nonirrigated",2.4700000000000002]
["47055","Tennessee","Giles","Cotton_lint","Pound of lint","All",13.6]
["47055","Tennessee","Giles","Soybeans","Bushel","Irrigated",0.53]
["47055","Tennessee","Giles","Soybeans","Bushel","Nonirrigated",0.53]
["47055","Tennessee","Giles","Wheat","Bushel","All",0.6]
["47057","Tennessee","Grainger","Corn","Bushel","All",0.98]
["47059","Tennessee","Greene","Corn","Bushel","All",1.02]
["47059","Tennessee","Greene","Soybeans","Bushel","All",0.53]
["47061","Tennessee","Grundy","Corn","Bushel","All",1.37]
["47061","Tennessee","Grundy","Soybeans","Bushel","All",0.49]
["47061","Tennessee","Grundy","Wheat","Bushel","All",0.67]
["47063","Tennessee","Hamblen","Corn","Bushel","All",0.94]
["47063","Tennessee","Hamblen","Soybeans","Bushel","All",0.53]
["47065","Tennessee","Hamilton","Corn","Bushel","All",1.39]
["47069","Tennessee","Hardeman","Corn","Bushel","All",2.04]
["47069","Tennessee","Hardeman","Cotton_lint","Pound of lint","All",13.6]
["47069","Tennessee","Hardeman","Grain Sorghum","Bushel","All",0.76]
["47069","Tennessee","Hardeman","Soybeans","Bushel","Irrigated",0.48]
["47069","Tennessee","Hardeman","Soybeans","Bushel","Nonirrigated",0.48]
["47069","Tennessee","Hardeman","Wheat","Bushel","Irrigated",0.67]
["47069","Tennessee","Hardeman","Wheat","Bushel","Nonirrigated",0.67]
["47071","Tennessee","Hardin","Corn","Bushel","Irrigated",2.13]
["47071","Tennessee","Hardin","Corn","Bushel","Nonirrigated",2.13]
["47071","Tennessee","Hardin","Cotton_lint","Pound of lint","All",13.6]
["47071","Tennessee","Hardin","Soybeans","Bushel","Irrigated",0.44]
["47071","Tennessee","Hardin","Soybeans","Bushel","Nonirrigated",0.44]
["47073","Tennessee","Hawkins","Corn","Bushel","All",0.86]
["47075","Tennessee","Haywood","Corn","Bushel","Irrigated",1.93]
["47075","Tennessee","Haywood","Corn","Bushel","Nonirrigated",1.93]
["47075","Tennessee","Haywood","Cotton_lint","Pound of lint","Nonirrigated",13.19]
["47075","Tennessee","Haywood","Cotton_lint","Pound of lint","Irrigated",13.6]
["47075","Tennessee","Haywood","Soybeans","Bushel","Irrigated",0.49]
["47075","Tennessee","Haywood","Soybeans","Bushel","Nonirrigated",0.49]
["47075","Tennessee","Haywood","Wheat","Bushel","All",0.6]
["47077","Tennessee","Henderson","Corn","Bushel","All",1.99]
["47077","Tennessee","Henderson","Cotton_lint","Pound of lint","All",13.6]
["47077","Tennessee","Henderson","Soybeans","Bushel","All",0.51]
["47077","Tennessee","Henderson","Wheat","Bushel","All",0.57999999999999996]
["47079","Tennessee","Henry","Corn","Bushel","Irrigated",1.88]
["47079","Tennessee","Henry","Corn","Bushel","Nonirrigated",1.88]
["47079","Tennessee","Henry","Soybeans","Bushel","Irrigated",0.51]
["47079","Tennessee","Henry","Soybeans","Bushel","Nonirrigated",0.51]
["47079","Tennessee","Henry","Wheat","Bushel","All",0.68]
["47081","Tennessee","Hickman","Corn","Bushel","All",1.79]
["47081","Tennessee","Hickman","Soybeans","Bushel","All",0.46]
["47085","Tennessee","Humphreys","Corn","Bushel","Irrigated",1.69]
["47085","Tennessee","Humphreys","Corn","Bushel","Nonirrigated",1.69]
["47085","Tennessee","Humphreys","Soybeans","Bushel","Irrigated",0.46]
["47085","Tennessee","Humphreys","Soybeans","Bushel","Nonirrigated",0.46]
["47089","Tennessee","Jefferson","Corn","Bushel","All",1.08]
["47089","Tennessee","Jefferson","Soybeans","Bushel","All",0.53]
["47091","Tennessee","Johnson","Corn","Bushel","All",0.35]
["47095","Tennessee","Lake","Corn","Bushel","Nonirrigated",1.52]
["47095","Tennessee","Lake","Corn","Bushel","Irrigated",1.54]
["47095","Tennessee","Lake","Cotton_lint","Pound of lint","All",13.6]
["47095","Tennessee","Lake","Soybeans","Bushel","Irrigated",0.46]
["47095","Tennessee","Lake","Soybeans","Bushel","Nonirrigated",0.46]
["47095","Tennessee","Lake","Wheat","Bushel","Irrigated",0.65]
["47095","Tennessee","Lake","Wheat","Bushel","Nonirrigated",0.65]
["47097","Tennessee","Lauderdale","Corn","Bushel","Irrigated",1.81]
["47097","Tennessee","Lauderdale","Corn","Bushel","Nonirrigated",1.81]
["47097","Tennessee","Lauderdale","Cotton_lint","Pound of lint","Nonirrigated",13.46]
["47097","Tennessee","Lauderdale","Cotton_lint","Pound of lint","Irrigated",13.6]
["47097","Tennessee","Lauderdale","Soybeans","Bushel","Irrigated",0.47]
["47097","Tennessee","Lauderdale","Soybeans","Bushel","Nonirrigated",0.47]
["47097","Tennessee","Lauderdale","Wheat","Bushel","All",0.55000000000000004]
["47099","Tennessee","Lawrence","Corn","Bushel","All",2.06]
["47099","Tennessee","Lawrence","Soybeans","Bushel","All",0.46]
["47099","Tennessee","Lawrence","Wheat","Bushel","All",0.69]
["47103","Tennessee","Lincoln","Corn","Bushel","Nonirrigated",2.42]
["47103","Tennessee","Lincoln","Corn","Bushel","Irrigated",2.4300000000000002]
["47103","Tennessee","Lincoln","Cotton_lint","Pound of lint","All",13.6]
["47103","Tennessee","Lincoln","Soybeans","Bushel","Irrigated",0.52]
["47103","Tennessee","Lincoln","Soybeans","Bushel","Nonirrigated",0.52]
["47103","Tennessee","Lincoln","Wheat","Bushel","All",0.68]
["47105","Tennessee","Loudon","Corn","Bushel","All",1.17]
["47105","Tennessee","Loudon","Soybeans","Bushel","All",0.53]
["47105","Tennessee","Loudon","Wheat","Bushel","All",0.22]
["47107","Tennessee","Mcminn","Corn","Bushel","All",1.22]
["47107","Tennessee","Mcminn","Soybeans","Bushel","All",0.53]
["47109","Tennessee","Mcnairy","Corn","Bushel","All",2.0299999999999998]
["47109","Tennessee","McNairy","Cotton_lint","Pound of lint","All",13.6]
["47109","Tennessee","Mcnairy","Soybeans","Bushel","All",0.49]
["47111","Tennessee","Macon","Corn","Bushel","All",2.02]
["47111","Tennessee","Macon","Soybeans","Bushel","All",0.53]
["47111","Tennessee","Macon","Wheat","Bushel","All",0.44]
["47113","Tennessee","Madison","Corn","Bushel","Irrigated",1.96]
["47113","Tennessee","Madison","Corn","Bushel","Nonirrigated",1.96]
["47113","Tennessee","Madison","Cotton_lint","Pound of lint","All",13.6]
["47113","Tennessee","Madison","Soybeans","Bushel","Irrigated",0.51]
["47113","Tennessee","Madison","Soybeans","Bushel","Nonirrigated",0.51]
["47113","Tennessee","Madison","Wheat","Bushel","All",0.69]
["47115","Tennessee","Marion","Corn","Bushel","All",1.42]
["47115","Tennessee","Marion","Soybeans","Bushel","All",0.45]
["47115","Tennessee","Marion","Wheat","Bushel","All",0.59]
["47117","Tennessee","Marshall","Corn","Bushel","All",2.44]
["47117","Tennessee","Marshall","Soybeans","Bushel","All",0.48]
["47119","Tennessee","Maury","Corn","Bushel","All",2.2599999999999998]
["47119","Tennessee","Maury","Soybeans","Bushel","All",0.53]
["47119","Tennessee","Maury","Wheat","Bushel","All",0.54]
["47121","Tennessee","Meigs","Corn","Bushel","All",1.24]
["47123","Tennessee","Monroe","Corn","Bushel","All",1.19]
["47123","Tennessee","Monroe","Soybeans","Bushel","All",0.53]
["47123","Tennessee","Monroe","Wheat","Bushel","All",0.16]
["47125","Tennessee","Montgomery","Corn","Bushel","All",1.68]
["47125","Tennessee","Montgomery","Soybeans","Bushel","All",0.47]
["47125","Tennessee","Montgomery","Wheat","Bushel","All",0.69]
["47131","Tennessee","Obion","Corn","Bushel","Irrigated",1.59]
["47131","Tennessee","Obion","Corn","Bushel","Nonirrigated",1.59]
["47131","Tennessee","Obion","Cotton_lint","Pound of lint","All",13.6]
["47131","Tennessee","Obion","Soybeans","Bushel","Irrigated",0.46]
["47131","Tennessee","Obion","Soybeans","Bushel","Nonirrigated",0.46]
["47131","Tennessee","Obion","Wheat","Bushel","All",0.52]
["47133","Tennessee","Overton","Corn","Bushel","All",0.83]
["47133","Tennessee","Overton","Soybeans","Bushel","All",0.53]
["47135","Tennessee","Perry","Corn","Bushel","All",1.78]
["47135","Tennessee","Perry","Soybeans","Bushel","All",0.36]
["47139","Tennessee","Polk","Corn","Bushel","All",1.18]
["47139","Tennessee","Polk","Soybeans","Bushel","All",0.53]
["47141","Tennessee","Putnam","Corn","Bushel","All",1.1299999999999999]
["47143","Tennessee","Rhea","Corn","Bushel","All",1.23]
["47143","Tennessee","Rhea","Soybeans","Bushel","All",0.41]
["47147","Tennessee","Robertson","Corn","Bushel","All",1.78]
["47147","Tennessee","Robertson","Soybeans","Bushel","All",0.5]
["47147","Tennessee","Robertson","Wheat","Bushel","All",0.69]
["47149","Tennessee","Rutherford","Corn","Bushel","All",2.4]
["47149","Tennessee","Rutherford","Cotton_lint","Pound of lint","All",13.6]
["47149","Tennessee","Rutherford","Soybeans","Bushel","All",0.53]
["47149","Tennessee","Rutherford","Wheat","Bushel","All",0.56999999999999995]
["47153","Tennessee","Sequatchie","Corn","Bushel","All",1.22]
["47153","Tennessee","Sequatchie","Soybeans","Bushel","All",0.35]
["47157","Tennessee","Shelby","Corn","Bushel","Irrigated",2.23]
["47157","Tennessee","Shelby","Corn","Bushel","Nonirrigated",2.23]
["47157","Tennessee","Shelby","Cotton_lint","Pound of lint","All",12.14]
["47157","Tennessee","Shelby","Soybeans","Bushel","Irrigated",0.37]
["47157","Tennessee","Shelby","Soybeans","Bushel","Nonirrigated",0.37]
["47157","Tennessee","Shelby","Wheat","Bushel","All",0.51]
["47159","Tennessee","Smith","Corn","Bushel","All",2.12]
["47159","Tennessee","Smith","Soybeans","Bushel","All",0.53]
["47161","Tennessee","Stewart","Corn","Bushel","All",1.71]
["47161","Tennessee","Stewart","Soybeans","Bushel","All",0.38]
["47163","Tennessee","Sullivan","Corn","Bushel","All",0.56000000000000005]
["47165","Tennessee","Sumner","Corn","Bushel","All",2.17]
["47165","Tennessee","Sumner","Soybeans","Bushel","All",0.53]
["47165","Tennessee","Sumner","Wheat","Bushel","All",0.62]
["47167","Tennessee","Tipton","Corn","Bushel","Irrigated",1.94]
["47167","Tennessee","Tipton","Corn","Bushel","Nonirrigated",1.94]
["47167","Tennessee","Tipton","Cotton_lint","Pound of lint","All",13.6]
["47167","Tennessee","Tipton","Soybeans","Bushel","Irrigated",0.44]
["47167","Tennessee","Tipton","Soybeans","Bushel","Nonirrigated",0.44]
["47167","Tennessee","Tipton","Wheat","Bushel","All",0.54]
["47169","Tennessee","Trousdale","Corn","Bushel","All",2.21]
["47177","Tennessee","Warren","Corn","Bushel","All",1.39]
["47177","Tennessee","Warren","Soybeans","Bushel","All",0.52]
["47177","Tennessee","Warren","Wheat","Bushel","All",0.48]
["47179","Tennessee","Washington","Corn","Bushel","All",0.89]
["47181","Tennessee","Wayne","Corn","Bushel","All",1.97]
["47181","Tennessee","Wayne","Soybeans","Bushel","All",0.36]
["47183","Tennessee","Weakley","Corn","Bushel","Nonirrigated",1.85]
["47183","Tennessee","Weakley","Corn","Bushel","Irrigated",1.86]
["47183","Tennessee","Weakley","Cotton_lint","Pound of lint","All",13.6]
["47183","Tennessee","Weakley","Soybeans","Bushel","Irrigated",0.5]
["47183","Tennessee","Weakley","Soybeans","Bushel","Nonirrigated",0.5]
["47183","Tennessee","Weakley","Wheat","Bushel","All",0.59]
["47185","Tennessee","White","Corn","Bushel","All",0.99]
["47185","Tennessee","White","Soybeans","Bushel","All",0.52]
["47187","Tennessee","Williamson","Corn","Bushel","All",2.25]
["47187","Tennessee","Williamson","Soybeans","Bushel","All",0.53]
["47189","Tennessee","Wilson","Corn","Bushel","All",2.33]
["47189","Tennessee","Wilson","Soybeans","Bushel","All",0.53]
["48003","Texas","Andrews","Cotton_lint","Pound of lint","Nonirrigated",2.35]
["48003","Texas","Andrews","Cotton_lint","Pound of lint","Irrigated",8.9]
["48003","Texas","Andrews","Grain Sorghum","Bushel","All",0.19]
["48009","Texas","Archer","Wheat","Bushel","All",0.54]
["48011","Texas","Armstrong","Grain Sorghum","Bushel","All",0.12]
["48011","Texas","Armstrong","Wheat","Bushel","Irrigated",0.3]
["48011","Texas","Armstrong","Wheat","Bushel","Nonirrigated",0.3]
["48013","Texas","Atascosa","Corn","Bushel","All",1.1299999999999999]
["48013","Texas","Atascosa","Grain Sorghum","Bushel","All",0.36]
["48013","Texas","Atascosa","Wheat","Bushel","All",0.08]
["48015","Texas","Austin","Corn","Bushel","All",0.67]
["48015","Texas","Austin","Cotton_lint","Pound of lint","All",9.89]
["48015","Texas","Austin","Grain Sorghum","Bushel","All",0.37]
["48017","Texas","Bailey","Corn","Bushel","Irrigated",0.12]
["48017","Texas","Bailey","Cotton_lint","Pound of lint","Nonirrigated",6.88]
["48017","Texas","Bailey","Cotton_lint","Pound of lint","Irrigated",11.37]
["48017","Texas","Bailey","Grain Sorghum","Bushel","Nonirrigated",0.06]
["48017","Texas","Bailey","Grain Sorghum","Bushel","Irrigated",0.1]
["48017","Texas","Bailey","Wheat","Bushel","Nonirrigated",0.22]
["48017","Texas","Bailey","Wheat","Bushel","Irrigated",0.26]
["48021","Texas","Bastrop","Corn","Bushel","All",0.69]
["48021","Texas","Bastrop","Grain Sorghum","Bushel","All",0.38]
["48023","Texas","Baylor","Cotton_lint","Pound of lint","Nonirrigated",3.19]
["48023","Texas","Baylor","Cotton_lint","Pound of lint","Irrigated",4.9400000000000004]
["48023","Texas","Baylor","Grain Sorghum","Bushel","All",0.19]
["48023","Texas","Baylor","Wheat","Bushel","Irrigated",0.49]
["48023","Texas","Baylor","Wheat","Bushel","Nonirrigated",0.49]
["48025","Texas","Bee","Corn","Bushel","Nonirrigated",0.64]
["48025","Texas","Bee","Corn","Bushel","Irrigated",0.74]
["48025","Texas","Bee","Cotton_lint","Pound of lint","Nonirrigated",6.73]
["48025","Texas","Bee","Cotton_lint","Pound of lint","Irrigated",10.94]
["48025","Texas","Bee","Grain Sorghum","Bushel","Nonirrigated",0.35]
["48025","Texas","Bee","Grain Sorghum","Bushel","Irrigated",0.37]
["48027","Texas","Bell","Corn","Bushel","All",0.83]
["48027","Texas","Bell","Cotton_lint","Pound of lint","All",8.35]
["48027","Texas","Bell","Grain Sorghum","Bushel","All",0.49]
["48027","Texas","Bell","Wheat","Bushel","All",0.41]
["48029","Texas","Bexar","Corn","Bushel","Nonirrigated",0.68]
["48029","Texas","Bexar","Corn","Bushel","Irrigated",0.96]
["48029","Texas","Bexar","Grain Sorghum","Bushel","All",0.39]
["48029","Texas","Bexar","Wheat","Bushel","Nonirrigated",0.12]
["48029","Texas","Bexar","Wheat","Bushel","Irrigated",0.13]
["48033","Texas","Borden","Cotton_lint","Pound of lint","Nonirrigated",4.07]
["48033","Texas","Borden","Cotton_lint","Pound of lint","Irrigated",6.33]
["48035","Texas","Bosque","Corn","Bushel","All",1.07]
["48035","Texas","Bosque","Grain Sorghum","Bushel","All",0.46]
["48035","Texas","Bosque","Wheat","Bushel","All",0.39]
["48037","Texas","Bowie","Corn","Bushel","Irrigated",2.17]
["48037","Texas","Bowie","Corn","Bushel","Nonirrigated",2.17]
["48037","Texas","Bowie","Soybeans","Bushel","Irrigated",0.3]
["48037","Texas","Bowie","Soybeans","Bushel","Nonirrigated",0.3]
["48037","Texas","Bowie","Wheat","Bushel","All",0.2]
["48039","Texas","Brazoria","Corn","Bushel","All",0.83]
["48039","Texas","Brazoria","Cotton_lint","Pound of lint","All",7.69]
["48039","Texas","Brazoria","Grain Sorghum","Bushel","All",0.49]
["48039","Texas","Brazoria","Soybeans","Bushel","All",0.14000000000000001]
["48041","Texas","Brazos","Corn","Bushel","Nonirrigated",0.64]
["48041","Texas","Brazos","Corn","Bushel","Irrigated",0.82]
["48041","Texas","Brazos","Cotton_lint","Pound of lint","Nonirrigated",1.68]
["48041","Texas","Brazos","Cotton_lint","Pound of lint","Irrigated",2.5499999999999998]
["48041","Texas","Brazos","Grain Sorghum","Bushel","Nonirrigated",0.47]
["48041","Texas","Brazos","Grain Sorghum","Bushel","Irrigated",0.48]
["48045","Texas","Briscoe","Corn","Bushel","All",1.44]
["48045","Texas","Briscoe","Cotton_lint","Pound of lint","Nonirrigated",7.11]
["48045","Texas","Briscoe","Cotton_lint","Pound of lint","Irrigated",12.49]
["48045","Texas","Briscoe","Grain Sorghum","Bushel","Nonirrigated",0.08]
["48045","Texas","Briscoe","Grain Sorghum","Bushel","Irrigated",0.11]
["48045","Texas","Briscoe","Wheat","Bushel","Nonirrigated",0.28000000000000003]
["48045","Texas","Briscoe","Wheat","Bushel","Irrigated",0.3]
["48049","Texas","Brown","Grain Sorghum","Bushel","All",0.68]
["48049","Texas","Brown","Wheat","Bushel","All",0.39]
["48051","Texas","Burleson","Corn","Bushel","Nonirrigated",0.64]
["48051","Texas","Burleson","Corn","Bushel","Irrigated",0.73]
["48051","Texas","Burleson","Cotton_lint","Pound of lint","Nonirrigated",3.43]
["48051","Texas","Burleson","Cotton_lint","Pound of lint","Irrigated",5.58]
["48051","Texas","Burleson","Grain Sorghum","Bushel","Irrigated",0.37]
["48051","Texas","Burleson","Grain Sorghum","Bushel","Nonirrigated",0.37]
["48055","Texas","Caldwell","Corn","Bushel","All",0.73]
["48055","Texas","Caldwell","Cotton_lint","Pound of lint","All",10.73]
["48055","Texas","Caldwell","Grain Sorghum","Bushel","All",0.39]
["48055","Texas","Caldwell","Wheat","Bushel","All",0.13]
["48057","Texas","Calhoun","Corn","Bushel","All",0.61]
["48057","Texas","Calhoun","Cotton_lint","Pound of lint","All",11.01]
["48057","Texas","Calhoun","Grain Sorghum","Bushel","All",0.47]
["48057","Texas","Calhoun","Soybeans","Bushel","All",0.09]
["48059","Texas","Callahan","Wheat","Bushel","All",0.46]
["48061","Texas","Cameron","Corn","Bushel","Nonirrigated",0.28000000000000003]
["48061","Texas","Cameron","Corn","Bushel","Irrigated",0.43]
["48061","Texas","Cameron","Cotton_lint","Pound of lint","Nonirrigated",1.73]
["48061","Texas","Cameron","Cotton_lint","Pound of lint","Irrigated",2.56]
["48061","Texas","Cameron","Grain Sorghum","Bushel","Irrigated",0.15]
["48061","Texas","Cameron","Grain Sorghum","Bushel","Nonirrigated",0.15]
["48065","Texas","Carson","Corn","Bushel","All",1.55]
["48065","Texas","Carson","Cotton_lint","Pound of lint","Nonirrigated",7.25]
["48065","Texas","Carson","Cotton_lint","Pound of lint","Irrigated",12.14]
["48065","Texas","Carson","Wheat","Bushel","Nonirrigated",0.16]
["48065","Texas","Carson","Wheat","Bushel","Irrigated",0.17]
["48069","Texas","Castro","Corn","Bushel","All",1.07]
["48069","Texas","Castro","Cotton_lint","Pound of lint","Nonirrigated",4.68]
["48069","Texas","Castro","Cotton_lint","Pound of lint","Irrigated",13.6]
["48069","Texas","Castro","Soybeans","Bushel","All",0.31]
["48069","Texas","Castro","Wheat","Bushel","Nonirrigated",0.19]
["48069","Texas","Castro","Wheat","Bushel","Irrigated",0.27]
["48071","Texas","Chambers","Soybeans","Bushel","All",0.09]
["48075","Texas","Childress","Cotton_lint","Pound of lint","Nonirrigated",5.26]
["48075","Texas","Childress","Cotton_lint","Pound of lint","Irrigated",7.81]
["48075","Texas","Childress","Grain Sorghum","Bushel","All",0.52]
["48075","Texas","Childress","Wheat","Bushel","Irrigated",0.2]
["48075","Texas","Childress","Wheat","Bushel","Nonirrigated",0.2]
["48077","Texas","Clay","Cotton_lint","Pound of lint","All",2.56]
["48077","Texas","Clay","Wheat","Bushel","All",0.48]
["48079","Texas","Cochran","Cotton_lint","Pound of lint","Nonirrigated",5.09]
["48079","Texas","Cochran","Cotton_lint","Pound of lint","Irrigated",9.9600000000000009]
["48079","Texas","Cochran","Grain Sorghum","Bushel","Nonirrigated",7.0000000000000007E-2]
["48079","Texas","Cochran","Grain Sorghum","Bushel","Irrigated",0.1]
["48081","Texas","Coke","Wheat","Bushel","All",0.12]
["48083","Texas","Coleman","Cotton_lint","Pound of lint","All",3.24]
["48083","Texas","Coleman","Grain Sorghum","Bushel","All",0.26]
["48083","Texas","Coleman","Wheat","Bushel","All",0.37]
["48085","Texas","Collin","Corn","Bushel","All",0.92]
["48085","Texas","Collin","Cotton_lint","Pound of lint","All",5.49]
["48085","Texas","Collin","Grain Sorghum","Bushel","All",0.51]
["48085","Texas","Collin","Wheat","Bushel","All",0.51]
["48087","Texas","Collingsworth","Cotton_lint","Pound of lint","Nonirrigated",5.22]
["48087","Texas","Collingsworth","Cotton_lint","Pound of lint","Irrigated",8.64]
["48087","Texas","Collingsworth","Grain Sorghum","Bushel","All",0.47]
["48087","Texas","Collingsworth","Wheat","Bushel","Nonirrigated",0.28999999999999998]
["48087","Texas","Collingsworth","Wheat","Bushel","Irrigated",0.35]
["48089","Texas","Colorado","Corn","Bushel","All",0.61]
["48089","Texas","Colorado","Cotton_lint","Pound of lint","All",13.25]
["48089","Texas","Colorado","Grain Sorghum","Bushel","All",0.51]
["48089","Texas","Colorado","Soybeans","Bushel","All",0.14000000000000001]
["48093","Texas","Comanche","Grain Sorghum","Bushel","All",0.44]
["48095","Texas","Concho","Cotton_lint","Pound of lint","Nonirrigated",2.92]
["48095","Texas","Concho","Cotton_lint","Pound of lint","Irrigated",5.8]
["48095","Texas","Concho","Grain Sorghum","Bushel","Nonirrigated",0.39]
["48095","Texas","Concho","Grain Sorghum","Bushel","Irrigated",0.4]
["48095","Texas","Concho","Wheat","Bushel","Nonirrigated",0.2]
["48095","Texas","Concho","Wheat","Bushel","Irrigated",0.21]
["48097","Texas","Cooke","Grain Sorghum","Bushel","All",0.45]
["48097","Texas","Cooke","Wheat","Bushel","All",0.44]
["48099","Texas","Coryell","Corn","Bushel","All",0.96]
["48099","Texas","Coryell","Grain Sorghum","Bushel","All",0.46]
["48099","Texas","Coryell","Wheat","Bushel","All",0.35]
["48101","Texas","Cottle","Cotton_lint","Pound of lint","Nonirrigated",3.51]
["48101","Texas","Cottle","Cotton_lint","Pound of lint","Irrigated",5.98]
["48101","Texas","Cottle","Wheat","Bushel","All",0.38]
["48107","Texas","Crosby","Cotton_lint","Pound of lint","Nonirrigated",4.9800000000000004]
["48107","Texas","Crosby","Cotton_lint","Pound of lint","Irrigated",9.35]
["48107","Texas","Crosby","Wheat","Bushel","Nonirrigated",0.23]
["48107","Texas","Crosby","Wheat","Bushel","Irrigated",0.26]
["48111","Texas","Dallam","Corn","Bushel","All",1.3]
["48111","Texas","Dallam","Grain Sorghum","Bushel","Nonirrigated",0.13]
["48111","Texas","Dallam","Grain Sorghum","Bushel","Irrigated",0.23]
["48111","Texas","Dallam","Wheat","Bushel","Nonirrigated",0.09]
["48111","Texas","Dallam","Wheat","Bushel","Irrigated",0.2]
["48113","Texas","Dallas","Grain Sorghum","Bushel","All",0.61]
["48113","Texas","Dallas","Wheat","Bushel","All",0.51]
["48115","Texas","Dawson","Cotton_lint","Pound of lint","Nonirrigated",5.43]
["48115","Texas","Dawson","Cotton_lint","Pound of lint","Irrigated",8.23]
["48115","Texas","Dawson","Grain Sorghum","Bushel","Nonirrigated",0.14000000000000001]
["48115","Texas","Dawson","Grain Sorghum","Bushel","Irrigated",0.24]
["48115","Texas","Dawson","Wheat","Bushel","Nonirrigated",0.17]
["48115","Texas","Dawson","Wheat","Bushel","Irrigated",0.36]
["48117","Texas","Deaf Smith","Corn","Bushel","All",0.79]
["48117","Texas","Deaf Smith","Cotton_lint","Pound of lint","Nonirrigated",5.62]
["48117","Texas","Deaf Smith","Cotton_lint","Pound of lint","Irrigated",13.6]
["48117","Texas","Deaf Smith","Wheat","Bushel","Nonirrigated",0.16]
["48117","Texas","Deaf Smith","Wheat","Bushel","Irrigated",0.2]
["48119","Texas","Delta","Cotton_lint","Pound of lint","All",4.3]
["48119","Texas","Delta","Grain Sorghum","Bushel","All",0.92]
["48119","Texas","Delta","Soybeans","Bushel","All",0.24]
["48119","Texas","Delta","Wheat","Bushel","All",0.59]
["48121","Texas","Denton","Grain Sorghum","Bushel","All",0.41]
["48121","Texas","Denton","Wheat","Bushel","All",0.35]
["48123","Texas","Dewitt","Corn","Bushel","All",0.64]
["48123","Texas","Dewitt","Grain Sorghum","Bushel","All",0.44]
["48125","Texas","Dickens","Cotton_lint","Pound of lint","Nonirrigated",5.46]
["48125","Texas","Dickens","Cotton_lint","Pound of lint","Irrigated",7]
["48125","Texas","Dickens","Grain Sorghum","Bushel","All",0.47]
["48125","Texas","Dickens","Wheat","Bushel","All",0.35]
["48129","Texas","Donley","Cotton_lint","Pound of lint","Nonirrigated",3.9]
["48129","Texas","Donley","Cotton_lint","Pound of lint","Irrigated",10.18]
["48129","Texas","Donley","Grain Sorghum","Bushel","All",0.44]
["48129","Texas","Donley","Wheat","Bushel","Nonirrigated",0.3]
["48129","Texas","Donley","Wheat","Bushel","Irrigated",0.32]
["48133","Texas","Eastland","Grain Sorghum","Bushel","All",0.55000000000000004]
["48133","Texas","Eastland","Wheat","Bushel","All",0.51]
["48139","Texas","Ellis","Corn","Bushel","All",0.97]
["48139","Texas","Ellis","Cotton_lint","Pound of lint","All",6.71]
["48139","Texas","Ellis","Grain Sorghum","Bushel","All",0.65]
["48139","Texas","Ellis","Wheat","Bushel","All",0.46]
["48141","Texas","El Paso","Cotton_lint","Pound of lint","All",13.6]
["48145","Texas","Falls","Corn","Bushel","Nonirrigated",0.83]
["48145","Texas","Falls","Corn","Bushel","Irrigated",0.84]
["48145","Texas","Falls","Cotton_lint","Pound of lint","Nonirrigated",6.57]
["48145","Texas","Falls","Cotton_lint","Pound of lint","Irrigated",8.93]
["48145","Texas","Falls","Grain Sorghum","Bushel","All",0.5]
["48145","Texas","Falls","Wheat","Bushel","All",0.38]
["48147","Texas","Fannin","Corn","Bushel","Nonirrigated",0.88]
["48147","Texas","Fannin","Corn","Bushel","Irrigated",0.9]
["48147","Texas","Fannin","Grain Sorghum","Bushel","All",0.47]
["48147","Texas","Fannin","Soybeans","Bushel","Irrigated",0.12]
["48147","Texas","Fannin","Soybeans","Bushel","Nonirrigated",0.12]
["48147","Texas","Fannin","Wheat","Bushel","All",0.33]
["48149","Texas","Fayette","Corn","Bushel","All",0.64]
["48149","Texas","Fayette","Grain Sorghum","Bushel","All",0.38]
["48151","Texas","Fisher","Cotton_lint","Pound of lint","Nonirrigated",3.61]
["48151","Texas","Fisher","Cotton_lint","Pound of lint","Irrigated",5.5]
["48151","Texas","Fisher","Grain Sorghum","Bushel","All",0.26]
["48151","Texas","Fisher","Wheat","Bushel","All",0.35]
["48153","Texas","Floyd","Corn","Bushel","All",1.47]
["48153","Texas","Floyd","Cotton_lint","Pound of lint","Nonirrigated",6.8]
["48153","Texas","Floyd","Cotton_lint","Pound of lint","Irrigated",13.6]
["48153","Texas","Floyd","Soybeans","Bushel","All",0.25]
["48153","Texas","Floyd","Wheat","Bushel","Nonirrigated",0.24]
["48153","Texas","Floyd","Wheat","Bushel","Irrigated",0.28000000000000003]
["48155","Texas","Foard","Cotton_lint","Pound of lint","Nonirrigated",3.48]
["48155","Texas","Foard","Cotton_lint","Pound of lint","Irrigated",4.92]
["48155","Texas","Foard","Wheat","Bushel","Irrigated",0.47]
["48155","Texas","Foard","Wheat","Bushel","Nonirrigated",0.47]
["48157","Texas","Fort Bend","Corn","Bushel","All",0.79]
["48157","Texas","Fort Bend","Cotton_lint","Pound of lint","All",8.19]
["48157","Texas","Fort Bend","Grain Sorghum","Bushel","All",0.25]
["48157","Texas","Fort Bend","Soybeans","Bushel","All",0.01]
["48163","Texas","Frio","Corn","Bushel","All",1.28]
["48163","Texas","Frio","Cotton_lint","Pound of lint","All",12.94]
["48163","Texas","Frio","Grain Sorghum","Bushel","All",0.36]
["48163","Texas","Frio","Wheat","Bushel","Nonirrigated",0.08]
["48163","Texas","Frio","Wheat","Bushel","Irrigated",0.15]
["48165","Texas","Gaines","Cotton_lint","Pound of lint","Nonirrigated",3.48]
["48165","Texas","Gaines","Cotton_lint","Pound of lint","Irrigated",10.050000000000001]
["48165","Texas","Gaines","Grain Sorghum","Bushel","Nonirrigated",0.11]
["48165","Texas","Gaines","Grain Sorghum","Bushel","Irrigated",0.13]
["48169","Texas","Garza","Cotton_lint","Pound of lint","Nonirrigated",4.4000000000000004]
["48169","Texas","Garza","Cotton_lint","Pound of lint","Irrigated",7.4]
["48171","Texas","Gillespie","Corn","Bushel","All",1.38]
["48171","Texas","Gillespie","Grain Sorghum","Bushel","All",0.37]
["48171","Texas","Gillespie","Wheat","Bushel","All",0.18]
["48173","Texas","Glasscock","Cotton_lint","Pound of lint","Nonirrigated",1.23]
["48173","Texas","Glasscock","Cotton_lint","Pound of lint","Irrigated",2.3199999999999998]
["48173","Texas","Glasscock","Grain Sorghum","Bushel","Nonirrigated",0.12]
["48173","Texas","Glasscock","Grain Sorghum","Bushel","Irrigated",0.13]
["48173","Texas","Glasscock","Wheat","Bushel","All",0.14000000000000001]
["48175","Texas","Goliad","Corn","Bushel","All",0.64]
["48175","Texas","Goliad","Grain Sorghum","Bushel","All",0.55000000000000004]
["48177","Texas","Gonzales","Corn","Bushel","All",0.67]
["48177","Texas","Gonzales","Grain Sorghum","Bushel","All",0.65]
["48179","Texas","Gray","Corn","Bushel","All",1.44]
["48179","Texas","Gray","Cotton_lint","Pound of lint","Nonirrigated",8.4]
["48179","Texas","Gray","Cotton_lint","Pound of lint","Irrigated",11.71]
["48179","Texas","Gray","Grain Sorghum","Bushel","Nonirrigated",0.09]
["48179","Texas","Gray","Grain Sorghum","Bushel","Irrigated",0.1]
["48179","Texas","Gray","Wheat","Bushel","Nonirrigated",0.26]
["48179","Texas","Gray","Wheat","Bushel","Irrigated",0.28000000000000003]
["48181","Texas","Grayson","Corn","Bushel","All",0.88]
["48181","Texas","Grayson","Grain Sorghum","Bushel","All",0.51]
["48181","Texas","Grayson","Wheat","Bushel","All",0.5]
["48187","Texas","Guadalupe","Corn","Bushel","All",0.77]
["48187","Texas","Guadalupe","Grain Sorghum","Bushel","All",0.37]
["48187","Texas","Guadalupe","Wheat","Bushel","All",0.11]
["48189","Texas","Hale","Corn","Bushel","All",1.23]
["48189","Texas","Hale","Cotton_lint","Pound of lint","Nonirrigated",6.01]
["48189","Texas","Hale","Cotton_lint","Pound of lint","Irrigated",13.6]
["48189","Texas","Hale","Soybeans","Bushel","All",0.24]
["48189","Texas","Hale","Sunflower Seed","Pound","Nonirrigated",11.19]
["48189","Texas","Hale","Sunflower Seed","Pound","Irrigated",20.69]
["48189","Texas","Hale","Wheat","Bushel","Nonirrigated",0.19]
["48189","Texas","Hale","Wheat","Bushel","Irrigated",0.28999999999999998]
["48191","Texas","Hall","Cotton_lint","Pound of lint","Nonirrigated",5.48]
["48191","Texas","Hall","Cotton_lint","Pound of lint","Irrigated",8.24]
["48191","Texas","Hall","Wheat","Bushel","All",0.33]
["48193","Texas","Hamilton","Grain Sorghum","Bushel","All",0.56000000000000005]
["48193","Texas","Hamilton","Wheat","Bushel","All",0.43]
["48195","Texas","Hansford","Corn","Bushel","All",1.92]
["48195","Texas","Hansford","Cotton_lint","Pound of lint","All",12.14]
["48195","Texas","Hansford","Wheat","Bushel","Nonirrigated",0.08]
["48195","Texas","Hansford","Wheat","Bushel","Irrigated",0.1]
["48197","Texas","Hardeman","Cotton_lint","Pound of lint","Nonirrigated",2.83]
["48197","Texas","Hardeman","Cotton_lint","Pound of lint","Irrigated",8.77]
["48197","Texas","Hardeman","Wheat","Bushel","Nonirrigated",0.37]
["48197","Texas","Hardeman","Wheat","Bushel","Irrigated",0.38]
["48201","Texas","Harris","Corn","Bushel","All",0.9]
["48205","Texas","Hartley","Corn","Bushel","All",1.17]
["48205","Texas","Hartley","Cotton_lint","Pound of lint","All",12.14]
["48205","Texas","Hartley","Grain Sorghum","Bushel","Nonirrigated",0.09]
["48205","Texas","Hartley","Grain Sorghum","Bushel","Irrigated",0.2]
["48205","Texas","Hartley","Wheat","Bushel","Nonirrigated",0.13]
["48205","Texas","Hartley","Wheat","Bushel","Irrigated",0.32]
["48207","Texas","Haskell","Cotton_lint","Pound of lint","Nonirrigated",3.52]
["48207","Texas","Haskell","Cotton_lint","Pound of lint","Irrigated",4.8600000000000003]
["48207","Texas","Haskell","Grain Sorghum","Bushel","Nonirrigated",0.28999999999999998]
["48207","Texas","Haskell","Grain Sorghum","Bushel","Irrigated",0.38]
["48207","Texas","Haskell","Wheat","Bushel","Nonirrigated",0.41]
["48207","Texas","Haskell","Wheat","Bushel","Irrigated",0.44]
["48209","Texas","Hays","Corn","Bushel","All",0.89]
["48209","Texas","Hays","Grain Sorghum","Bushel","All",0.42]
["48211","Texas","Hemphill","Grain Sorghum","Bushel","All",0.28000000000000003]
["48211","Texas","Hemphill","Wheat","Bushel","Nonirrigated",0.2]
["48211","Texas","Hemphill","Wheat","Bushel","Irrigated",0.21]
["48215","Texas","Hidalgo","Corn","Bushel","Nonirrigated",0.33]
["48215","Texas","Hidalgo","Corn","Bushel","Irrigated",0.38]
["48215","Texas","Hidalgo","Cotton_lint","Pound of lint","Nonirrigated",2.7]
["48215","Texas","Hidalgo","Cotton_lint","Pound of lint","Irrigated",6.67]
["48215","Texas","Hidalgo","Grain Sorghum","Bushel","Irrigated",0.15]
["48215","Texas","Hidalgo","Grain Sorghum","Bushel","Nonirrigated",0.15]
["48217","Texas","Hill","Corn","Bushel","All",0.96]
["48217","Texas","Hill","Cotton_lint","Pound of lint","All",7.92]
["48217","Texas","Hill","Grain Sorghum","Bushel","All",0.48]
["48217","Texas","Hill","Wheat","Bushel","All",0.51]
["48219","Texas","Hockley","Cotton_lint","Pound of lint","Nonirrigated",5.05]
["48219","Texas","Hockley","Cotton_lint","Pound of lint","Irrigated",9.76]
["48219","Texas","Hockley","Grain Sorghum","Bushel","Nonirrigated",0.1]
["48219","Texas","Hockley","Grain Sorghum","Bushel","Irrigated",0.18]
["48219","Texas","Hockley","Wheat","Bushel","Nonirrigated",0.28000000000000003]
["48219","Texas","Hockley","Wheat","Bushel","Irrigated",0.38]
["48225","Texas","Houston","Corn","Bushel","All",1.75]
["48225","Texas","Houston","Cotton_lint","Pound of lint","All",5.53]
["48227","Texas","Howard","Cotton_lint","Pound of lint","Nonirrigated",3.05]
["48227","Texas","Howard","Cotton_lint","Pound of lint","Irrigated",5.82]
["48227","Texas","Howard","Grain Sorghum","Bushel","All",0.28000000000000003]
["48229","Texas","Hudspeth","Cotton_lint","Pound of lint","All",13.6]
["48231","Texas","Hunt","Corn","Bushel","All",1.2]
["48231","Texas","Hunt","Cotton_lint","Pound of lint","All",5.09]
["48231","Texas","Hunt","Grain Sorghum","Bushel","All",0.51]
["48231","Texas","Hunt","Wheat","Bushel","All",0.41]
["48233","Texas","Hutchinson","Corn","Bushel","All",1.68]
["48233","Texas","Hutchinson","Cotton_lint","Pound of lint","Nonirrigated",3.8]
["48233","Texas","Hutchinson","Cotton_lint","Pound of lint","Irrigated",12.14]
["48233","Texas","Hutchinson","Wheat","Bushel","Nonirrigated",0.08]
["48233","Texas","Hutchinson","Wheat","Bushel","Irrigated",0.1]
["48237","Texas","Jack","Wheat","Bushel","All",0.62]
["48239","Texas","Jackson","Corn","Bushel","Nonirrigated",0.57999999999999996]
["48239","Texas","Jackson","Corn","Bushel","Irrigated",0.59]
["48239","Texas","Jackson","Cotton_lint","Pound of lint","All",7.12]
["48239","Texas","Jackson","Grain Sorghum","Bushel","All",0.26]
["48239","Texas","Jackson","Soybeans","Bushel","All",0.03]
["48249","Texas","Jim Wells","Corn","Bushel","All",0.99]
["48249","Texas","Jim Wells","Cotton_lint","Pound of lint","All",6.05]
["48249","Texas","Jim Wells","Grain Sorghum","Bushel","All",0.26]
["48251","Texas","Johnson","Corn","Bushel","All",0.99]
["48251","Texas","Johnson","Grain Sorghum","Bushel","All",0.52]
["48251","Texas","Johnson","Wheat","Bushel","All",0.47]
["48253","Texas","Jones","Cotton_lint","Pound of lint","Nonirrigated",3.71]
["48253","Texas","Jones","Cotton_lint","Pound of lint","Irrigated",4.08]
["48253","Texas","Jones","Grain Sorghum","Bushel","All",0.28000000000000003]
["48253","Texas","Jones","Wheat","Bushel","All",0.37]
["48255","Texas","Karnes","Corn","Bushel","All",0.76]
["48255","Texas","Karnes","Grain Sorghum","Bushel","All",0.41]
["48257","Texas","Kaufman","Wheat","Bushel","All",0.21]
["48263","Texas","Kent","Cotton_lint","Pound of lint","All",4.78]
["48269","Texas","King","Cotton_lint","Pound of lint","All",4.6900000000000004]
["48273","Texas","Kleberg","Cotton_lint","Pound of lint","All",3.85]
["48273","Texas","Kleberg","Grain Sorghum","Bushel","All",0.3]
["48275","Texas","Knox","Cotton_lint","Pound of lint","Nonirrigated",3.25]
["48275","Texas","Knox","Cotton_lint","Pound of lint","Irrigated",8.49]
["48275","Texas","Knox","Grain Sorghum","Bushel","All",0.4]
["48275","Texas","Knox","Wheat","Bushel","Nonirrigated",0.33]
["48275","Texas","Knox","Wheat","Bushel","Irrigated",0.36]
["48277","Texas","Lamar","Corn","Bushel","Nonirrigated",1.21]
["48277","Texas","Lamar","Corn","Bushel","Irrigated",1.26]
["48277","Texas","Lamar","Cotton_lint","Pound of lint","All",5.69]
["48277","Texas","Lamar","Grain Sorghum","Bushel","All",0.54]
["48277","Texas","Lamar","Soybeans","Bushel","Irrigated",0.23]
["48277","Texas","Lamar","Soybeans","Bushel","Nonirrigated",0.23]
["48277","Texas","Lamar","Wheat","Bushel","All",0.28999999999999998]
["48279","Texas","Lamb","Corn","Bushel","All",0.71]
["48279","Texas","Lamb","Cotton_lint","Pound of lint","Nonirrigated",6.36]
["48279","Texas","Lamb","Cotton_lint","Pound of lint","Irrigated",12.17]
["48279","Texas","Lamb","Grain Sorghum","Bushel","Nonirrigated",0.08]
["48279","Texas","Lamb","Grain Sorghum","Bushel","Irrigated",0.18]
["48279","Texas","Lamb","Soybeans","Bushel","All",0.33]
["48279","Texas","Lamb","Sunflower Seed","Pound","All",20.69]
["48279","Texas","Lamb","Wheat","Bushel","Nonirrigated",0.22]
["48279","Texas","Lamb","Wheat","Bushel","Irrigated",0.38]
["48281","Texas","Lampasas","Wheat","Bushel","All",0.28999999999999998]
["48285","Texas","Lavaca","Corn","Bushel","All",0.61]
["48285","Texas","Lavaca","Grain Sorghum","Bushel","All",0.37]
["48287","Texas","Lee","Corn","Bushel","All",0.68]
["48291","Texas","Liberty","Grain Sorghum","Bushel","All",0.32]
["48291","Texas","Liberty","Soybeans","Bushel","All",0.02]
["48293","Texas","Limestone","Corn","Bushel","All",1.02]
["48293","Texas","Limestone","Cotton_lint","Pound of lint","All",5.84]
["48293","Texas","Limestone","Grain Sorghum","Bushel","All",0.6]
["48293","Texas","Limestone","Wheat","Bushel","All",0.36]
["48295","Texas","Lipscomb","Grain Sorghum","Bushel","Nonirrigated",0.22]
["48295","Texas","Lipscomb","Grain Sorghum","Bushel","Irrigated",0.3]
["48295","Texas","Lipscomb","Wheat","Bushel","Nonirrigated",0.22]
["48295","Texas","Lipscomb","Wheat","Bushel","Irrigated",0.27]
["48297","Texas","Live Oak","Corn","Bushel","All",1.06]
["48297","Texas","Live Oak","Cotton_lint","Pound of lint","All",5.7]
["48297","Texas","Live Oak","Grain Sorghum","Bushel","All",0.61]
["48303","Texas","Lubbock","Cotton_lint","Pound of lint","Nonirrigated",5.47]
["48303","Texas","Lubbock","Cotton_lint","Pound of lint","Irrigated",10.130000000000001]
["48303","Texas","Lubbock","Wheat","Bushel","Nonirrigated",0.2]
["48303","Texas","Lubbock","Wheat","Bushel","Irrigated",0.23]
["48305","Texas","Lynn","Cotton_lint","Pound of lint","Nonirrigated",5.2]
["48305","Texas","Lynn","Cotton_lint","Pound of lint","Irrigated",7.94]
["48305","Texas","Lynn","Grain Sorghum","Bushel","Nonirrigated",0.1]
["48305","Texas","Lynn","Grain Sorghum","Bushel","Irrigated",0.14000000000000001]
["48305","Texas","Lynn","Wheat","Bushel","Nonirrigated",0.21]
["48305","Texas","Lynn","Wheat","Bushel","Irrigated",0.24]
["48307","Texas","McCulloch","Cotton_lint","Pound of lint","All",5.87]
["48307","Texas","Mcculloch","Grain Sorghum","Bushel","All",0.44]
["48307","Texas","Mcculloch","Wheat","Bushel","All",0.24]
["48309","Texas","Mclennan","Corn","Bushel","All",0.9]
["48309","Texas","McLennan","Cotton_lint","Pound of lint","All",9.0399999999999991]
["48309","Texas","Mclennan","Grain Sorghum","Bushel","All",0.46]
["48309","Texas","Mclennan","Wheat","Bushel","All",0.49]
["48317","Texas","Martin","Cotton_lint","Pound of lint","Nonirrigated",3.46]
["48317","Texas","Martin","Cotton_lint","Pound of lint","Irrigated",6.68]
["48317","Texas","Martin","Grain Sorghum","Bushel","All",0.17]
["48321","Texas","Matagorda","Corn","Bushel","All",0.64]
["48321","Texas","Matagorda","Cotton_lint","Pound of lint","All",9.8699999999999992]
["48321","Texas","Matagorda","Grain Sorghum","Bushel","All",0.3]
["48321","Texas","Matagorda","Soybeans","Bushel","All",0.12]
["48325","Texas","Medina","Corn","Bushel","Nonirrigated",0.56000000000000005]
["48325","Texas","Medina","Corn","Bushel","Irrigated",1.1499999999999999]
["48325","Texas","Medina","Cotton_lint","Pound of lint","Nonirrigated",2.2999999999999998]
["48325","Texas","Medina","Cotton_lint","Pound of lint","Irrigated",4.47]
["48325","Texas","Medina","Grain Sorghum","Bushel","Nonirrigated",0.37]
["48325","Texas","Medina","Grain Sorghum","Bushel","Irrigated",0.41]
["48325","Texas","Medina","Wheat","Bushel","Nonirrigated",0.12]
["48325","Texas","Medina","Wheat","Bushel","Irrigated",0.14000000000000001]
["48329","Texas","Midland","Cotton_lint","Pound of lint","Nonirrigated",2.54]
["48329","Texas","Midland","Cotton_lint","Pound of lint","Irrigated",5.05]
["48331","Texas","Milam","Corn","Bushel","Nonirrigated",0.74]
["48331","Texas","Milam","Corn","Bushel","Irrigated",0.76]
["48331","Texas","Milam","Cotton_lint","Pound of lint","Nonirrigated",8.43]
["48331","Texas","Milam","Cotton_lint","Pound of lint","Irrigated",9.5299999999999994]
["48331","Texas","Milam","Grain Sorghum","Bushel","All",0.43]
["48331","Texas","Milam","Wheat","Bushel","All",0.28000000000000003]
["48333","Texas","Mills","Wheat","Bushel","All",0.47]
["48335","Texas","Mitchell","Cotton_lint","Pound of lint","Nonirrigated",3.94]
["48335","Texas","Mitchell","Cotton_lint","Pound of lint","Irrigated",6.09]
["48335","Texas","Mitchell","Grain Sorghum","Bushel","All",0.38]
["48335","Texas","Mitchell","Wheat","Bushel","Nonirrigated",0.3]
["48335","Texas","Mitchell","Wheat","Bushel","Irrigated",0.32]
["48337","Texas","Montague","Wheat","Bushel","All",0.5]
["48341","Texas","Moore","Corn","Bushel","All",1.53]
["48341","Texas","Moore","Cotton_lint","Pound of lint","All",12.14]
["48341","Texas","Moore","Wheat","Bushel","Nonirrigated",0.09]
["48341","Texas","Moore","Wheat","Bushel","Irrigated",0.13]
["48345","Texas","Motley","Cotton_lint","Pound of lint","Nonirrigated",5.34]
["48345","Texas","Motley","Cotton_lint","Pound of lint","Irrigated",7.37]
["48349","Texas","Navarro","Corn","Bushel","All",1.1200000000000001]
["48349","Texas","Navarro","Cotton_lint","Pound of lint","All",7.27]
["48349","Texas","Navarro","Grain Sorghum","Bushel","All",0.54]
["48349","Texas","Navarro","Wheat","Bushel","All",0.28999999999999998]
["48353","Texas","Nolan","Cotton_lint","Pound of lint","Nonirrigated",3.68]
["48353","Texas","Nolan","Cotton_lint","Pound of lint","Irrigated",5.78]
["48353","Texas","Nolan","Grain Sorghum","Bushel","All",0.38]
["48353","Texas","Nolan","Wheat","Bushel","Nonirrigated",0.23]
["48353","Texas","Nolan","Wheat","Bushel","Irrigated",0.26]
["48355","Texas","Nueces","Corn","Bushel","All",0.69]
["48355","Texas","Nueces","Cotton_lint","Pound of lint","All",5.03]
["48355","Texas","Nueces","Grain Sorghum","Bushel","All",0.23]
["48357","Texas","Ochiltree","Corn","Bushel","All",1.74]
["48357","Texas","Ochiltree","Cotton_lint","Pound of lint","Nonirrigated",6.08]
["48357","Texas","Ochiltree","Cotton_lint","Pound of lint","Irrigated",12.14]
["48357","Texas","Ochiltree","Wheat","Bushel","Nonirrigated",0.17]
["48357","Texas","Ochiltree","Wheat","Bushel","Irrigated",0.19]
["48359","Texas","Oldham","Corn","Bushel","All",0.79]
["48359","Texas","Oldham","Wheat","Bushel","Nonirrigated",0.21]
["48359","Texas","Oldham","Wheat","Bushel","Irrigated",0.22]
["48369","Texas","Parmer","Corn","Bushel","All",0.4]
["48369","Texas","Parmer","Cotton_lint","Pound of lint","Nonirrigated",5.43]
["48369","Texas","Parmer","Cotton_lint","Pound of lint","Irrigated",13.6]
["48369","Texas","Parmer","Soybeans","Bushel","All",0.26]
["48369","Texas","Parmer","Wheat","Bushel","Nonirrigated",0.14000000000000001]
["48369","Texas","Parmer","Wheat","Bushel","Irrigated",0.17]
["48371","Texas","Pecos","Cotton_lint","Pound of lint","All",11.28]
["48375","Texas","Potter","Grain Sorghum","Bushel","All",0.1]
["48375","Texas","Potter","Wheat","Bushel","All",0.27]
["48381","Texas","Randall","Corn","Bushel","All",1.36]
["48381","Texas","Randall","Cotton_lint","Pound of lint","Nonirrigated",6.41]
["48381","Texas","Randall","Cotton_lint","Pound of lint","Irrigated",12.94]
["48381","Texas","Randall","Wheat","Bushel","Nonirrigated",0.25]
["48381","Texas","Randall","Wheat","Bushel","Irrigated",0.26]
["48383","Texas","Reagan","Cotton_lint","Pound of lint","Nonirrigated",2.5]
["48383","Texas","Reagan","Cotton_lint","Pound of lint","Irrigated",5.13]
["48383","Texas","Reagan","Grain Sorghum","Bushel","All",0.22]
["48387","Texas","Red River","Corn","Bushel","Nonirrigated",1.69]
["48387","Texas","Red River","Corn","Bushel","Irrigated",1.79]
["48387","Texas","Red River","Cotton_lint","Pound of lint","All",6.33]
["48387","Texas","Red River","Soybeans","Bushel","Irrigated",0.2]
["48387","Texas","Red River","Soybeans","Bushel","Nonirrigated",0.2]
["48387","Texas","Red River","Wheat","Bushel","All",0.21]
["48389","Texas","Reeves","Cotton_lint","Pound of lint","All",6.58]
["48391","Texas","Refugio","Corn","Bushel","All",0.63]
["48391","Texas","Refugio","Cotton_lint","Pound of lint","All",9.06]
["48391","Texas","Refugio","Grain Sorghum","Bushel","All",0.31]
["48393","Texas","Roberts","Wheat","Bushel","Nonirrigated",0.16]
["48393","Texas","Roberts","Wheat","Bushel","Irrigated",0.17]
["48395","Texas","Robertson","Corn","Bushel","Nonirrigated",0.65]
["48395","Texas","Robertson","Corn","Bushel","Irrigated",0.87]
["48395","Texas","Robertson","Cotton_lint","Pound of lint","Nonirrigated",3.47]
["48395","Texas","Robertson","Cotton_lint","Pound of lint","Irrigated",5.65]
["48395","Texas","Robertson","Grain Sorghum","Bushel","Irrigated",0.32]
["48395","Texas","Robertson","Grain Sorghum","Bushel","Nonirrigated",0.32]
["48397","Texas","Rockwall","Grain Sorghum","Bushel","All",0.91]
["48399","Texas","Runnels","Cotton_lint","Pound of lint","Nonirrigated",2.67]
["48399","Texas","Runnels","Cotton_lint","Pound of lint","Irrigated",5]
["48399","Texas","Runnels","Grain Sorghum","Bushel","All",0.27]
["48399","Texas","Runnels","Wheat","Bushel","Irrigated",0.31]
["48399","Texas","Runnels","Wheat","Bushel","Nonirrigated",0.31]
["48409","Texas","San Patricio","Corn","Bushel","Nonirrigated",0.71]
["48409","Texas","San Patricio","Corn","Bushel","Irrigated",0.75]
["48409","Texas","San Patricio","Cotton_lint","Pound of lint","Nonirrigated",4.42]
["48409","Texas","San Patricio","Cotton_lint","Pound of lint","Irrigated",6.15]
["48409","Texas","San Patricio","Grain Sorghum","Bushel","Irrigated",0.38]
["48409","Texas","San Patricio","Grain Sorghum","Bushel","Nonirrigated",0.38]
["48411","Texas","San Saba","Wheat","Bushel","All",0.21]
["48413","Texas","Schleicher","Cotton_lint","Pound of lint","All",6.35]
["48413","Texas","Schleicher","Grain Sorghum","Bushel","All",0.37]
["48415","Texas","Scurry","Cotton_lint","Pound of lint","Nonirrigated",4.3]
["48415","Texas","Scurry","Cotton_lint","Pound of lint","Irrigated",5.45]
["48415","Texas","Scurry","Grain Sorghum","Bushel","All",0.2]
["48415","Texas","Scurry","Wheat","Bushel","All",0.33]
["48417","Texas","Shackelford","Cotton_lint","Pound of lint","All",2.88]
["48417","Texas","Shackelford","Wheat","Bushel","All",0.56000000000000005]
["48421","Texas","Sherman","Corn","Bushel","All",1.77]
["48421","Texas","Sherman","Cotton_lint","Pound of lint","All",12.14]
["48421","Texas","Sherman","Grain Sorghum","Bushel","Nonirrigated",7.0000000000000007E-2]
["48421","Texas","Sherman","Grain Sorghum","Bushel","Irrigated",0.18]
["48421","Texas","Sherman","Wheat","Bushel","Nonirrigated",0.11]
["48421","Texas","Sherman","Wheat","Bushel","Irrigated",0.19]
["48427","Texas","Starr","Cotton_lint","Pound of lint","All",2.4500000000000002]
["48427","Texas","Starr","Grain Sorghum","Bushel","All",0.17]
["48433","Texas","Stonewall","Cotton_lint","Pound of lint","All",4.05]
["48433","Texas","Stonewall","Grain Sorghum","Bushel","All",0.33]
["48433","Texas","Stonewall","Wheat","Bushel","All",0.43]
["48437","Texas","Swisher","Corn","Bushel","Irrigated",1.41]
["48437","Texas","Swisher","Cotton_lint","Pound of lint","Nonirrigated",7.47]
["48437","Texas","Swisher","Cotton_lint","Pound of lint","Irrigated",13.6]
["48437","Texas","Swisher","Wheat","Bushel","Nonirrigated",0.24]
["48437","Texas","Swisher","Wheat","Bushel","Irrigated",0.27]
["48441","Texas","Taylor","Cotton_lint","Pound of lint","All",4.1100000000000003]
["48441","Texas","Taylor","Grain Sorghum","Bushel","All",0.22]
["48441","Texas","Taylor","Wheat","Bushel","All",0.36]
["48445","Texas","Terry","Cotton_lint","Pound of lint","Nonirrigated",4.78]
["48445","Texas","Terry","Cotton_lint","Pound of lint","Irrigated",8.7899999999999991]
["48445","Texas","Terry","Grain Sorghum","Bushel","Nonirrigated",0.08]
["48445","Texas","Terry","Grain Sorghum","Bushel","Irrigated",0.1]
["48445","Texas","Terry","Wheat","Bushel","Nonirrigated",0.23]
["48445","Texas","Terry","Wheat","Bushel","Irrigated",0.34]
["48447","Texas","Throckmorton","Cotton_lint","Pound of lint","All",3.11]
["48447","Texas","Throckmorton","Wheat","Bushel","All",0.56999999999999995]
["48451","Texas","Tom Green","Cotton_lint","Pound of lint","Nonirrigated",3.01]
["48451","Texas","Tom Green","Cotton_lint","Pound of lint","Irrigated",6.49]
["48451","Texas","Tom Green","Grain Sorghum","Bushel","Nonirrigated",0.31]
["48451","Texas","Tom Green","Grain Sorghum","Bushel","Irrigated",0.35]
["48451","Texas","Tom Green","Wheat","Bushel","Nonirrigated",0.13]
["48451","Texas","Tom Green","Wheat","Bushel","Irrigated",0.17]
["48453","Texas","Travis","Corn","Bushel","All",0.86]
["48453","Texas","Travis","Cotton_lint","Pound of lint","All",10.199999999999999]
["48453","Texas","Travis","Grain Sorghum","Bushel","All",0.41]
["48453","Texas","Travis","Wheat","Bushel","All",0.13]
["48461","Texas","Upton","Cotton_lint","Pound of lint","Nonirrigated",3.07]
["48461","Texas","Upton","Cotton_lint","Pound of lint","Irrigated",6.89]
["48463","Texas","Uvalde","Corn","Bushel","Nonirrigated",0.68]
["48463","Texas","Uvalde","Corn","Bushel","Irrigated",1.45]
["48463","Texas","Uvalde","Cotton_lint","Pound of lint","Nonirrigated",3.69]
["48463","Texas","Uvalde","Cotton_lint","Pound of lint","Irrigated",13.6]
["48463","Texas","Uvalde","Grain Sorghum","Bushel","Nonirrigated",0.43]
["48463","Texas","Uvalde","Grain Sorghum","Bushel","Irrigated",0.53]
["48463","Texas","Uvalde","Wheat","Bushel","Nonirrigated",0.1]
["48463","Texas","Uvalde","Wheat","Bushel","Irrigated",0.14000000000000001]
["48469","Texas","Victoria","Corn","Bushel","All",0.6]
["48469","Texas","Victoria","Cotton_lint","Pound of lint","All",7.11]
["48469","Texas","Victoria","Grain Sorghum","Bushel","All",0.33]
["48471","Texas","Walker","Cotton_lint","Pound of lint","All",3.59]
["48473","Texas","Waller","Corn","Bushel","All",0.72]
["48481","Texas","Wharton","Corn","Bushel","Irrigated",0.62]
["48481","Texas","Wharton","Corn","Bushel","Nonirrigated",0.62]
["48481","Texas","Wharton","Cotton_lint","Pound of lint","Nonirrigated",6.72]
["48481","Texas","Wharton","Cotton_lint","Pound of lint","Irrigated",8.5299999999999994]
["48481","Texas","Wharton","Grain Sorghum","Bushel","All",0.23]
["48481","Texas","Wharton","Soybeans","Bushel","Irrigated",0.03]
["48481","Texas","Wharton","Soybeans","Bushel","Nonirrigated",0.03]
["48483","Texas","Wheeler","Cotton_lint","Pound of lint","Nonirrigated",4.9800000000000004]
["48483","Texas","Wheeler","Cotton_lint","Pound of lint","Irrigated",8.0399999999999991]
["48483","Texas","Wheeler","Grain Sorghum","Bushel","All",0.38]
["48483","Texas","Wheeler","Wheat","Bushel","All",0.33]
["48485","Texas","Wichita","Cotton_lint","Pound of lint","All",4.5599999999999996]
["48485","Texas","Wichita","Wheat","Bushel","All",0.4]
["48487","Texas","Wilbarger","Cotton_lint","Pound of lint","Nonirrigated",3.74]
["48487","Texas","Wilbarger","Cotton_lint","Pound of lint","Irrigated",6]
["48487","Texas","Wilbarger","Grain Sorghum","Bushel","All",0.37]
["48487","Texas","Wilbarger","Wheat","Bushel","Nonirrigated",0.4]
["48487","Texas","Wilbarger","Wheat","Bushel","Irrigated",0.41]
["48489","Texas","Willacy","Corn","Bushel","Nonirrigated",0.28999999999999998]
["48489","Texas","Willacy","Corn","Bushel","Irrigated",0.3]
["48489","Texas","Willacy","Cotton_lint","Pound of lint","Nonirrigated",4.45]
["48489","Texas","Willacy","Cotton_lint","Pound of lint","Irrigated",4.72]
["48489","Texas","Willacy","Grain Sorghum","Bushel","Irrigated",0.15]
["48489","Texas","Willacy","Grain Sorghum","Bushel","Nonirrigated",0.15]
["48491","Texas","Williamson","Corn","Bushel","All",0.79]
["48491","Texas","Williamson","Cotton_lint","Pound of lint","All",10.15]
["48491","Texas","Williamson","Grain Sorghum","Bushel","All",0.46]
["48491","Texas","Williamson","Wheat","Bushel","All",0.3]
["48493","Texas","Wilson","Corn","Bushel","Nonirrigated",0.55000000000000004]
["48493","Texas","Wilson","Corn","Bushel","Irrigated",0.79]
["48493","Texas","Wilson","Grain Sorghum","Bushel","All",0.67]
["48497","Texas","Wise","Grain Sorghum","Bushel","All",0.48]
["48497","Texas","Wise","Wheat","Bushel","All",0.52]
["48501","Texas","Yoakum","Cotton_lint","Pound of lint","Nonirrigated",3.47]
["48501","Texas","Yoakum","Cotton_lint","Pound of lint","Irrigated",9.6999999999999993]
["48501","Texas","Yoakum","Grain Sorghum","Bushel","Nonirrigated",0.17]
["48501","Texas","Yoakum","Grain Sorghum","Bushel","Irrigated",0.23]
["48501","Texas","Yoakum","Wheat","Bushel","Nonirrigated",0.19]
["48501","Texas","Yoakum","Wheat","Bushel","Irrigated",0.3]
["48503","Texas","Young","Cotton_lint","Pound of lint","All",2.82]
["48503","Texas","Young","Wheat","Bushel","All",0.56000000000000005]
["48507","Texas","Zavala","Corn","Bushel","All",1.4]
["48507","Texas","Zavala","Cotton_lint","Pound of lint","All",10.28]
["48507","Texas","Zavala","Grain Sorghum","Bushel","All",0.34]
["48507","Texas","Zavala","Wheat","Bushel","Nonirrigated",0.08]
["48507","Texas","Zavala","Wheat","Bushel","Irrigated",0.1]
["49003","Utah","Box Elder","Barley","Bushel","All",0.7]
["49003","Utah","Box Elder","Corn","Bushel","All",1.68]
["49005","Utah","Cache","Barley","Bushel","Nonirrigated",0.3]
["49005","Utah","Cache","Barley","Bushel","Irrigated",0.51]
["49005","Utah","Cache","Corn","Bushel","All",1.21]
["49011","Utah","Davis","Corn","Bushel","All",1.66]
["49013","Utah","Duchesne","Corn","Bushel","All",1.86]
["49015","Utah","Emery","Corn","Bushel","All",2.31]
["49023","Utah","Juab","Barley","Bushel","All",0.48]
["49023","Utah","Juab","Corn","Bushel","All",1.0900000000000001]
["49027","Utah","Millard","Barley","Bushel","All",0.85]
["49027","Utah","Millard","Corn","Bushel","All",0.94]
["49029","Utah","Morgan","Barley","Bushel","All",0.51]
["49033","Utah","Rich","Barley","Bushel","All",0.52]
["49039","Utah","Sanpete","Barley","Bushel","All",0.67]
["49041","Utah","Sevier","Barley","Bushel","All",0.86]
["49041","Utah","Sevier","Corn","Bushel","All",1.28]
["49047","Utah","Uintah","Barley","Bushel","All",0.69]
["49047","Utah","Uintah","Corn","Bushel","All",1.52]
["49049","Utah","Utah","Barley","Bushel","All",0.66]
["49049","Utah","Utah","Corn","Bushel","All",1.67]
["49057","Utah","Weber","Corn","Bushel","All",1.25]
["51001","Virginia","Accomack","Corn","Bushel","All",0.73]
["51001","Virginia","Accomack","Soybeans","Bushel","All",0.37]
["51001","Virginia","Accomack","Wheat","Bushel","All",0.69]
["51003","Virginia","Albemarle, Charlottesville City","Corn","Bushel","All",0.36]
["51007","Virginia","Amelia","Corn","Bushel","All",0.56000000000000005]
["51007","Virginia","Amelia","Soybeans","Bushel","All",0.33]
["51007","Virginia","Amelia","Wheat","Bushel","All",0.69]
["51011","Virginia","Appomattox","Corn","Bushel","All",0.18]
["51011","Virginia","Appomattox","Soybeans","Bushel","All",0.39]
["51011","Virginia","Appomattox","Wheat","Bushel","All",0.62]
["51015","Virginia","Augusta","Corn","Bushel","All",0.62]
["51019","Virginia","Bedford","Corn","Bushel","All",0.14000000000000001]
["51019","Virginia","Bedford","Wheat","Bushel","All",0.54]
["51023","Virginia","Botetourt","Corn","Bushel","All",0.08]
["51025","Virginia","Brunswick","Corn","Bushel","All",0.81]
["51025","Virginia","Brunswick","Soybeans","Bushel","All",0.19]
["51029","Virginia","Buckingham","Corn","Bushel","All",0.56000000000000005]
["51031","Virginia","Campbell, Lynchburg City","Corn","Bushel","All",0.14000000000000001]
["51031","Virginia","Campbell, Lynchburg City","Soybeans","Bushel","All",0.28999999999999998]
["51031","Virginia","Campbell, Lynchburg City","Wheat","Bushel","All",0.5]
["51033","Virginia","Caroline","Corn","Bushel","Nonirrigated",0.8]
["51033","Virginia","Caroline","Corn","Bushel","Irrigated",0.81]
["51033","Virginia","Caroline","Soybeans","Bushel","Irrigated",0.46]
["51033","Virginia","Caroline","Soybeans","Bushel","Nonirrigated",0.46]
["51033","Virginia","Caroline","Wheat","Bushel","All",0.69]
["51036","Virginia","Charles City","Corn","Bushel","Irrigated",0.72]
["51036","Virginia","Charles City","Corn","Bushel","Nonirrigated",0.72]
["51036","Virginia","Charles City","Soybeans","Bushel","All",0.36]
["51036","Virginia","Charles City","Wheat","Bushel","All",0.69]
["51037","Virginia","Charlotte","Corn","Bushel","All",0.18]
["51037","Virginia","Charlotte","Wheat","Bushel","All",0.42]
["51041","Virginia","Chesterfield","Soybeans","Bushel","All",0.32]
["51043","Virginia","Clarke","Corn","Bushel","All",1.1399999999999999]
["51043","Virginia","Clarke","Soybeans","Bushel","All",0.53]
["51047","Virginia","Culpeper","Corn","Bushel","All",0.95]
["51047","Virginia","Culpeper","Soybeans","Bushel","All",0.53]
["51047","Virginia","Culpeper","Wheat","Bushel","All",0.62]
["51049","Virginia","Cumberland","Corn","Bushel","All",0.54]
["51053","Virginia","Dinwiddie, Petersburg City","Corn","Bushel","All",0.71]
["51053","Virginia","Dinwiddie, Petersburg City","Soybeans","Bushel","All",0.25]
["51053","Virginia","Dinwiddie, Petersburg City","Wheat","Bushel","All",0.63]
["51057","Virginia","Essex","Corn","Bushel","All",0.72]
["51057","Virginia","Essex","Soybeans","Bushel","All",0.38]
["51057","Virginia","Essex","Wheat","Bushel","All",0.69]
["51061","Virginia","Fauquier","Corn","Bushel","All",1.07]
["51061","Virginia","Fauquier","Soybeans","Bushel","All",0.53]
["51065","Virginia","Fluvanna","Corn","Bushel","All",0.62]
["51067","Virginia","Franklin","Corn","Bushel","All",0.14000000000000001]
["51067","Virginia","Franklin","Wheat","Bushel","All",0.4]
["51069","Virginia","Frederick, Winchester City","Corn","Bushel","All",1.1200000000000001]
["51069","Virginia","Frederick, Winchester City","Wheat","Bushel","All",0.69]
["51073","Virginia","Gloucester","Corn","Bushel","All",0.69]
["51073","Virginia","Gloucester","Soybeans","Bushel","All",0.37]
["51073","Virginia","Gloucester","Wheat","Bushel","All",0.69]
["51075","Virginia","Goochland","Corn","Bushel","All",0.56000000000000005]
["51075","Virginia","Goochland","Soybeans","Bushel","All",0.39]
["51081","Virginia","Greensville, Emporia City","Corn","Bushel","All",0.81]
["51081","Virginia","Greensville-Emporia City","Cotton_lint","Pound of lint","All",13.6]
["51081","Virginia","Greensville, Emporia City","Peanuts","Pound","All",17.95]
["51081","Virginia","Greensville, Emporia City","Soybeans","Bushel","All",0.18]
["51081","Virginia","Greensville, Emporia City","Wheat","Bushel","All",0.6]
["51083","Virginia","Halifax","Corn","Bushel","All",0.18]
["51083","Virginia","Halifax","Soybeans","Bushel","All",0.14000000000000001]
["51083","Virginia","Halifax","Wheat","Bushel","All",0.4]
["51085","Virginia","Hanover","Corn","Bushel","Irrigated",0.68]
["51085","Virginia","Hanover","Corn","Bushel","Nonirrigated",0.68]
["51085","Virginia","Hanover","Soybeans","Bushel","Irrigated",0.41]
["51085","Virginia","Hanover","Soybeans","Bushel","Nonirrigated",0.41]
["51085","Virginia","Hanover","Wheat","Bushel","All",0.68]
["51087","Virginia","Henrico, Richmond City","Corn","Bushel","All",0.74]
["51087","Virginia","Henrico, Richmond City","Soybeans","Bushel","All",0.36]
["51093","Virginia","Isle Of Wight","Corn","Bushel","All",0.71]
["51093","Virginia","Isle of Wight","Cotton_lint","Pound of lint","All",13.6]
["51093","Virginia","Isle Of Wight","Soybeans","Bushel","All",0.3]
["51093","Virginia","Isle Of Wight","Wheat","Bushel","All",0.65]
["51095","Virginia","James City, Williamsburg City","Corn","Bushel","All",0.69]
["51095","Virginia","James City, Williamsburg City","Soybeans","Bushel","All",0.37]
["51097","Virginia","King And Queen","Corn","Bushel","All",0.69]
["51097","Virginia","King And Queen","Soybeans","Bushel","All",0.37]
["51097","Virginia","King And Queen","Wheat","Bushel","All",0.69]
["51099","Virginia","King George","Corn","Bushel","All",0.77]
["51099","Virginia","King George","Soybeans","Bushel","All",0.43]
["51101","Virginia","King William","Corn","Bushel","Irrigated",0.82]
["51101","Virginia","King William","Corn","Bushel","Nonirrigated",0.82]
["51101","Virginia","King William","Soybeans","Bushel","Irrigated",0.43]
["51101","Virginia","King William","Soybeans","Bushel","Nonirrigated",0.43]
["51101","Virginia","King William","Wheat","Bushel","All",0.69]
["51103","Virginia","Lancaster","Corn","Bushel","All",0.68]
["51103","Virginia","Lancaster","Soybeans","Bushel","All",0.33]
["51105","Virginia","Lee","Corn","Bushel","All",0.12]
["51107","Virginia","Loudoun","Corn","Bushel","All",1.19]
["51107","Virginia","Loudoun","Soybeans","Bushel","All",0.53]
["51107","Virginia","Loudoun","Wheat","Bushel","All",0.69]
["51109","Virginia","Louisa","Corn","Bushel","All",0.61]
["51109","Virginia","Louisa","Soybeans","Bushel","All",0.47]
["51111","Virginia","Lunenburg","Soybeans","Bushel","All",0.22]
["51111","Virginia","Lunenburg","Wheat","Bushel","All",0.52]
["51113","Virginia","Madison","Corn","Bushel","All",0.93]
["51113","Virginia","Madison","Soybeans","Bushel","All",0.53]
["51113","Virginia","Madison","Wheat","Bushel","All",0.69]
["51115","Virginia","Mathews","Corn","Bushel","All",0.78]
["51115","Virginia","Mathews","Soybeans","Bushel","All",0.26]
["51117","Virginia","Mecklenburg","Corn","Bushel","All",0.55000000000000004]
["51117","Virginia","Mecklenburg","Soybeans","Bushel","All",0.24]
["51117","Virginia","Mecklenburg","Wheat","Bushel","All",0.61]
["51119","Virginia","Middlesex","Corn","Bushel","All",0.72]
["51119","Virginia","Middlesex","Soybeans","Bushel","All",0.4]
["51119","Virginia","Middlesex","Wheat","Bushel","All",0.69]
["51121","Virginia","Montgomery, Radford City","Corn","Bushel","All",0.1]
["51127","Virginia","New Kent","Corn","Bushel","All",0.71]
["51127","Virginia","New Kent","Soybeans","Bushel","All",0.35]
["51131","Virginia","Northampton","Corn","Bushel","All",0.91]
["51131","Virginia","Northampton","Soybeans","Bushel","All",0.32]
["51131","Virginia","Northampton","Wheat","Bushel","All",0.65]
["51133","Virginia","Northumberland","Corn","Bushel","All",0.72]
["51133","Virginia","Northumberland","Soybeans","Bushel","All",0.37]
["51133","Virginia","Northumberland","Wheat","Bushel","All",0.69]
["51135","Virginia","Nottoway","Corn","Bushel","All",0.53]
["51135","Virginia","Nottoway","Soybeans","Bushel","All",0.24]
["51137","Virginia","Orange","Corn","Bushel","All",0.72]
["51137","Virginia","Orange","Soybeans","Bushel","All",0.53]
["51137","Virginia","Orange","Wheat","Bushel","All",0.62]
["51139","Virginia","Page","Corn","Bushel","All",0.87]
["51141","Virginia","Patrick","Corn","Bushel","All",0.03]
["51143","Virginia","Pittsylvania","Corn","Bushel","All",0.14000000000000001]
["51143","Virginia","Pittsylvania","Soybeans","Bushel","All",0.26]
["51143","Virginia","Pittsylvania","Wheat","Bushel","All",0.4]
["51145","Virginia","Powhatan","Corn","Bushel","All",0.6]
["51145","Virginia","Powhatan","Soybeans","Bushel","All",0.39]
["51147","Virginia","Prince Edward","Corn","Bushel","All",0.56000000000000005]
["51149","Virginia","Prince George","Corn","Bushel","All",0.79]
["51149","Virginia","Prince George","Soybeans","Bushel","All",0.28999999999999998]
["51149","Virginia","Prince George","Wheat","Bushel","All",0.66]
["51153","Virginia","Prince William","Corn","Bushel","All",0.82]
["51153","Virginia","Prince William","Soybeans","Bushel","All",0.53]
["51157","Virginia","Rappahannock","Corn","Bushel","All",1.06]
["51159","Virginia","Richmond","Corn","Bushel","All",0.69]
["51159","Virginia","Richmond","Soybeans","Bushel","All",0.35]
["51159","Virginia","Richmond","Wheat","Bushel","All",0.69]
["51163","Virginia","Rockbridge, Buena Vista City, Lexington City","Corn","Bushel","All",0.26]
["51165","Virginia","Rockingham, Harrisonburg City","Corn","Bushel","Irrigated",0.72]
["51165","Virginia","Rockingham, Harrisonburg City","Corn","Bushel","Nonirrigated",0.72]
["51165","Virginia","Rockingham, Harrisonburg City","Soybeans","Bushel","All",0.53]
["51165","Virginia","Rockingham, Harrisonburg City","Wheat","Bushel","All",0.68]
["51171","Virginia","Shenandoah","Corn","Bushel","All",1.1200000000000001]
["51171","Virginia","Shenandoah","Soybeans","Bushel","All",0.53]
["51171","Virginia","Shenandoah","Wheat","Bushel","All",0.69]
["51175","Virginia","Southampton, Franklin City","Corn","Bushel","All",0.81]
["51175","Virginia","Southampton-Franklin City","Cotton_lint","Pound of lint","All",13.6]
["51175","Virginia","Southampton, Franklin City","Peanuts","Pound","All",9.7799999999999994]
["51175","Virginia","Southampton, Franklin City","Soybeans","Bushel","All",0.27]
["51175","Virginia","Southampton, Franklin City","Wheat","Bushel","All",0.59]
["51177","Virginia","Spotsylvania, Fredericksburg City","Corn","Bushel","All",0.74]
["51177","Virginia","Spotsylvania, Fredericksburg City","Soybeans","Bushel","All",0.51]
["51179","Virginia","Stafford","Corn","Bushel","All",0.85]
["51179","Virginia","Stafford","Soybeans","Bushel","All",0.53]
["51181","Virginia","Surry","Corn","Bushel","All",0.71]
["51181","Virginia","Surry","Peanuts","Pound","All",14.47]
["51181","Virginia","Surry","Soybeans","Bushel","All",0.22]
["51181","Virginia","Surry","Wheat","Bushel","All",0.66]
["51183","Virginia","Sussex","Corn","Bushel","All",0.71]
["51183","Virginia","Sussex","Cotton_lint","Pound of lint","All",13.6]
["51183","Virginia","Sussex","Soybeans","Bushel","All",0.22]
["51183","Virginia","Sussex","Wheat","Bushel","All",0.68]
["51191","Virginia","Washington","Corn","Bushel","All",0.12]
["51193","Virginia","Westmoreland","Corn","Bushel","All",0.69]
["51193","Virginia","Westmoreland","Soybeans","Bushel","All",0.33]
["51193","Virginia","Westmoreland","Wheat","Bushel","All",0.69]
["51197","Virginia","Wythe","Corn","Bushel","All",0.1]
["51550","Virginia","Chesapeake","Corn","Bushel","All",1]
["51550","Virginia","Chesapeake","Soybeans","Bushel","All",0.35]
["51550","Virginia","Chesapeake","Wheat","Bushel","All",0.56999999999999995]
["51800","Virginia","Suffolk","Corn","Bushel","All",0.83]
["51800","Virginia","Suffolk","Cotton_lint","Pound of lint","All",13.6]
["51800","Virginia","Suffolk","Peanuts","Pound","All",17.54]
["51800","Virginia","Suffolk","Soybeans","Bushel","All",0.27]
["51800","Virginia","Suffolk","Wheat","Bushel","All",0.68]
["51810","Virginia","Virginia Beach","Corn","Bushel","All",1]
["51810","Virginia","Virginia Beach","Soybeans","Bushel","All",0.3]
["51810","Virginia","Virginia Beach","Wheat","Bushel","All",0.62]
["53001","Washington","Adams","Barley","Bushel","All",0.25]
["53001","Washington","Adams","Corn","Bushel","All",2.5499999999999998]
["53001","Washington","Adams","Wheat","Bushel","Nonirrigated",0.28000000000000003]
["53001","Washington","Adams","Wheat","Bushel","Irrigated",0.48]
["53003","Washington","Asotin","Wheat","Bushel","All",0.44]
["53005","Washington","Benton","Wheat","Bushel","Nonirrigated",0.43]
["53005","Washington","Benton","Wheat","Bushel","Irrigated",0.45]
["53013","Washington","Columbia","Barley","Bushel","All",0.5]
["53013","Washington","Columbia","Wheat","Bushel","All",0.63]
["53017","Washington","Douglas","Wheat","Bushel","All",0.16]
["53021","Washington","Franklin","Corn","Bushel","All",2.5099999999999998]
["53021","Washington","Franklin","Wheat","Bushel","Nonirrigated",0.21]
["53021","Washington","Franklin","Wheat","Bushel","Irrigated",0.63]
["53023","Washington","Garfield","Barley","Bushel","All",0.43]
["53023","Washington","Garfield","Wheat","Bushel","All",0.59]
["53025","Washington","Grant","Corn","Bushel","All",2.0499999999999998]
["53025","Washington","Grant","Wheat","Bushel","Nonirrigated",0.22]
["53025","Washington","Grant","Wheat","Bushel","Irrigated",0.63]
["53039","Washington","Klickitat","Barley","Bushel","All",0.1]
["53039","Washington","Klickitat","Wheat","Bushel","Irrigated",0.12]
["53039","Washington","Klickitat","Wheat","Bushel","Nonirrigated",0.12]
["53043","Washington","Lincoln","Barley","Bushel","All",0.24]
["53043","Washington","Lincoln","Chickpeas_Large","Pound","All",3.71]
["53043","Washington","Lincoln","Wheat","Bushel","Nonirrigated",0.31]
["53043","Washington","Lincoln","Wheat","Bushel","Irrigated",0.32]
["53047","Washington","Okanogan","Barley","Bushel","All",0.1]
["53057","Washington","Skagit","Wheat","Bushel","All",0.17]
["53063","Washington","Spokane","Barley","Bushel","All",0.32]
["53063","Washington","Spokane","Wheat","Bushel","All",0.49]
["53071","Washington","Walla Walla","Wheat","Bushel","Nonirrigated",0.57999999999999996]
["53071","Washington","Walla Walla","Wheat","Bushel","Irrigated",0.61]
["53075","Washington","Whitman","Barley","Bushel","All",0.63]
["53075","Washington","Whitman","Wheat","Bushel","All",0.61]
["53077","Washington","Yakima","Corn","Bushel","All",0.61]
["53077","Washington","Yakima","Wheat","Bushel","Nonirrigated",0.06]
["53077","Washington","Yakima","Wheat","Bushel","Irrigated",0.19]
["54003","West Virginia","Berkeley","Corn","Bushel","All",0.87]
["54003","West Virginia","Berkeley","Wheat","Bushel","All",0.53]
["54027","West Virginia","Hampshire","Corn","Bushel","All",0.82]
["54031","West Virginia","Hardy","Corn","Bushel","All",1.04]
["54037","West Virginia","Jefferson","Corn","Bushel","All",1.02]
["54037","West Virginia","Jefferson","Wheat","Bushel","All",0.64]
["54053","West Virginia","Mason","Corn","Bushel","All",1.68]
["54057","West Virginia","Mineral","Corn","Bushel","All",0.91]
["54063","West Virginia","Monroe","Corn","Bushel","All",0.14000000000000001]
["54071","West Virginia","Pendleton","Corn","Bushel","All",1]
["54077","West Virginia","Preston","Corn","Bushel","All",1.5]
["55001","Wisconsin","Adams","Corn","Bushel","Nonirrigated",1.18]
["55001","Wisconsin","Adams","Corn","Bushel","Irrigated",1.49]
["55001","Wisconsin","Adams","Soybeans","Bushel","Nonirrigated",0.46]
["55001","Wisconsin","Adams","Soybeans","Bushel","Irrigated",0.53]
["55005","Wisconsin","Barron","Corn","Bushel","Nonirrigated",1.35]
["55005","Wisconsin","Barron","Corn","Bushel","Irrigated",1.38]
["55005","Wisconsin","Barron","Soybeans","Bushel","Irrigated",0.48]
["55005","Wisconsin","Barron","Soybeans","Bushel","Nonirrigated",0.48]
["55005","Wisconsin","Barron","Wheat","Bushel","All",0.56999999999999995]
["55009","Wisconsin","Brown","Corn","Bushel","All",0.87]
["55009","Wisconsin","Brown","Soybeans","Bushel","All",0.53]
["55009","Wisconsin","Brown","Wheat","Bushel","All",0.69]
["55011","Wisconsin","Buffalo","Corn","Bushel","Nonirrigated",1.68]
["55011","Wisconsin","Buffalo","Corn","Bushel","Irrigated",1.69]
["55011","Wisconsin","Buffalo","Soybeans","Bushel","Irrigated",0.53]
["55011","Wisconsin","Buffalo","Soybeans","Bushel","Nonirrigated",0.53]
["55013","Wisconsin","Burnett","Corn","Bushel","All",1.49]
["55013","Wisconsin","Burnett","Soybeans","Bushel","All",0.37]
["55015","Wisconsin","Calumet","Corn","Bushel","All",0.85]
["55015","Wisconsin","Calumet","Soybeans","Bushel","All",0.53]
["55015","Wisconsin","Calumet","Wheat","Bushel","All",0.69]
["55017","Wisconsin","Chippewa","Corn","Bushel","Irrigated",1.33]
["55017","Wisconsin","Chippewa","Corn","Bushel","Nonirrigated",1.33]
["55017","Wisconsin","Chippewa","Soybeans","Bushel","Irrigated",0.53]
["55017","Wisconsin","Chippewa","Soybeans","Bushel","Nonirrigated",0.53]
["55019","Wisconsin","Clark","Corn","Bushel","All",1.35]
["55019","Wisconsin","Clark","Soybeans","Bushel","All",0.53]
["55021","Wisconsin","Columbia","Corn","Bushel","Irrigated",1.78]
["55021","Wisconsin","Columbia","Corn","Bushel","Nonirrigated",1.78]
["55021","Wisconsin","Columbia","Soybeans","Bushel","Irrigated",0.53]
["55021","Wisconsin","Columbia","Soybeans","Bushel","Nonirrigated",0.53]
["55021","Wisconsin","Columbia","Wheat","Bushel","All",0.69]
["55023","Wisconsin","Crawford","Corn","Bushel","All",1.68]
["55023","Wisconsin","Crawford","Soybeans","Bushel","All",0.52]
["55025","Wisconsin","Dane","Corn","Bushel","Irrigated",1.89]
["55025","Wisconsin","Dane","Corn","Bushel","Nonirrigated",1.89]
["55025","Wisconsin","Dane","Soybeans","Bushel","All",0.53]
["55025","Wisconsin","Dane","Wheat","Bushel","All",0.69]
["55027","Wisconsin","Dodge","Corn","Bushel","All",1.63]
["55027","Wisconsin","Dodge","Soybeans","Bushel","All",0.52]
["55027","Wisconsin","Dodge","Wheat","Bushel","All",0.69]
["55029","Wisconsin","Door","Corn","Bushel","All",0.99]
["55029","Wisconsin","Door","Soybeans","Bushel","All",0.46]
["55029","Wisconsin","Door","Wheat","Bushel","All",0.68]
["55033","Wisconsin","Dunn","Corn","Bushel","Nonirrigated",1.41]
["55033","Wisconsin","Dunn","Corn","Bushel","Irrigated",1.53]
["55033","Wisconsin","Dunn","Soybeans","Bushel","Nonirrigated",0.51]
["55033","Wisconsin","Dunn","Soybeans","Bushel","Irrigated",0.53]
["55035","Wisconsin","Eau Claire","Corn","Bushel","Nonirrigated",1.48]
["55035","Wisconsin","Eau Claire","Corn","Bushel","Irrigated",1.49]
["55035","Wisconsin","Eau Claire","Soybeans","Bushel","Irrigated",0.53]
["55035","Wisconsin","Eau Claire","Soybeans","Bushel","Nonirrigated",0.53]
["55039","Wisconsin","Fond Du Lac","Corn","Bushel","All",1.03]
["55039","Wisconsin","Fond Du Lac","Soybeans","Bushel","All",0.53]
["55039","Wisconsin","Fond Du Lac","Wheat","Bushel","All",0.69]
["55043","Wisconsin","Grant","Corn","Bushel","All",1.72]
["55043","Wisconsin","Grant","Soybeans","Bushel","All",0.53]
["55043","Wisconsin","Grant","Wheat","Bushel","All",0.69]
["55045","Wisconsin","Green","Corn","Bushel","Nonirrigated",1.97]
["55045","Wisconsin","Green","Corn","Bushel","Irrigated",1.98]
["55045","Wisconsin","Green","Soybeans","Bushel","Irrigated",0.52]
["55045","Wisconsin","Green","Soybeans","Bushel","Nonirrigated",0.52]
["55045","Wisconsin","Green","Wheat","Bushel","All",0.69]
["55047","Wisconsin","Green Lake","Corn","Bushel","Irrigated",1.42]
["55047","Wisconsin","Green Lake","Corn","Bushel","Nonirrigated",1.42]
["55047","Wisconsin","Green Lake","Soybeans","Bushel","All",0.53]
["55047","Wisconsin","Green Lake","Wheat","Bushel","All",0.67]
["55049","Wisconsin","Iowa","Corn","Bushel","Irrigated",1.66]
["55049","Wisconsin","Iowa","Corn","Bushel","Nonirrigated",1.66]
["55049","Wisconsin","Iowa","Soybeans","Bushel","Irrigated",0.53]
["55049","Wisconsin","Iowa","Soybeans","Bushel","Nonirrigated",0.53]
["55049","Wisconsin","Iowa","Wheat","Bushel","All",0.69]
["55053","Wisconsin","Jackson","Corn","Bushel","All",1.49]
["55053","Wisconsin","Jackson","Soybeans","Bushel","All",0.53]
["55055","Wisconsin","Jefferson","Corn","Bushel","Irrigated",1.82]
["55055","Wisconsin","Jefferson","Corn","Bushel","Nonirrigated",1.82]
["55055","Wisconsin","Jefferson","Soybeans","Bushel","All",0.5]
["55055","Wisconsin","Jefferson","Wheat","Bushel","All",0.69]
["55057","Wisconsin","Juneau","Corn","Bushel","Irrigated",1.52]
["55057","Wisconsin","Juneau","Corn","Bushel","Nonirrigated",1.52]
["55057","Wisconsin","Juneau","Soybeans","Bushel","All",0.53]
["55057","Wisconsin","Juneau","Wheat","Bushel","All",0.44]
["55059","Wisconsin","Kenosha","Corn","Bushel","All",1.49]
["55059","Wisconsin","Kenosha","Soybeans","Bushel","All",0.41]
["55059","Wisconsin","Kenosha","Wheat","Bushel","All",0.69]
["55061","Wisconsin","Kewaunee","Corn","Bushel","All",0.97]
["55061","Wisconsin","Kewaunee","Soybeans","Bushel","All",0.52]
["55061","Wisconsin","Kewaunee","Wheat","Bushel","All",0.69]
["55063","Wisconsin","La Crosse","Corn","Bushel","All",1.62]
["55063","Wisconsin","La Crosse","Soybeans","Bushel","All",0.53]
["55065","Wisconsin","Lafayette","Corn","Bushel","All",1.79]
["55065","Wisconsin","Lafayette","Soybeans","Bushel","All",0.52]
["55065","Wisconsin","Lafayette","Wheat","Bushel","All",0.69]
["55067","Wisconsin","Langlade","Corn","Bushel","Nonirrigated",1.32]
["55067","Wisconsin","Langlade","Corn","Bushel","Irrigated",1.34]
["55067","Wisconsin","Langlade","Soybeans","Bushel","Nonirrigated",0.52]
["55067","Wisconsin","Langlade","Soybeans","Bushel","Irrigated",0.53]
["55067","Wisconsin","Langlade","Wheat","Bushel","All",0.63]
["55069","Wisconsin","Lincoln","Corn","Bushel","All",1.27]
["55071","Wisconsin","Manitowoc","Corn","Bushel","All",0.95]
["55071","Wisconsin","Manitowoc","Soybeans","Bushel","All",0.53]
["55071","Wisconsin","Manitowoc","Wheat","Bushel","All",0.69]
["55073","Wisconsin","Marathon","Corn","Bushel","Irrigated",1.32]
["55073","Wisconsin","Marathon","Corn","Bushel","Nonirrigated",1.32]
["55073","Wisconsin","Marathon","Soybeans","Bushel","Irrigated",0.53]
["55073","Wisconsin","Marathon","Soybeans","Bushel","Nonirrigated",0.53]
["55073","Wisconsin","Marathon","Wheat","Bushel","All",0.49]
["55075","Wisconsin","Marinette","Corn","Bushel","All",1.23]
["55075","Wisconsin","Marinette","Soybeans","Bushel","All",0.47]
["55075","Wisconsin","Marinette","Wheat","Bushel","All",0.55000000000000004]
["55077","Wisconsin","Marquette","Corn","Bushel","Nonirrigated",1.47]
["55077","Wisconsin","Marquette","Corn","Bushel","Irrigated",1.53]
["55077","Wisconsin","Marquette","Soybeans","Bushel","Nonirrigated",0.51]
["55077","Wisconsin","Marquette","Soybeans","Bushel","Irrigated",0.53]
["55077","Wisconsin","Marquette","Wheat","Bushel","All",0.37]
["55079","Wisconsin","Milwaukee","Corn","Bushel","All",1.4]
["55079","Wisconsin","Milwaukee","Soybeans","Bushel","All",0.25]
["55081","Wisconsin","Monroe","Corn","Bushel","All",1.52]
["55081","Wisconsin","Monroe","Soybeans","Bushel","All",0.53]
["55083","Wisconsin","Oconto","Corn","Bushel","All",1.22]
["55083","Wisconsin","Oconto","Soybeans","Bushel","All",0.53]
["55083","Wisconsin","Oconto","Wheat","Bushel","All",0.64]
["55087","Wisconsin","Outagamie","Corn","Bushel","All",0.95]
["55087","Wisconsin","Outagamie","Soybeans","Bushel","All",0.53]
["55087","Wisconsin","Outagamie","Wheat","Bushel","All",0.69]
["55089","Wisconsin","Ozaukee","Corn","Bushel","All",1.31]
["55089","Wisconsin","Ozaukee","Soybeans","Bushel","All",0.43]
["55089","Wisconsin","Ozaukee","Wheat","Bushel","All",0.69]
["55091","Wisconsin","Pepin","Corn","Bushel","Nonirrigated",1.67]
["55091","Wisconsin","Pepin","Corn","Bushel","Irrigated",1.69]
["55091","Wisconsin","Pepin","Soybeans","Bushel","Irrigated",0.53]
["55091","Wisconsin","Pepin","Soybeans","Bushel","Nonirrigated",0.53]
["55093","Wisconsin","Pierce","Corn","Bushel","All",1.77]
["55093","Wisconsin","Pierce","Soybeans","Bushel","All",0.53]
["55095","Wisconsin","Polk","Corn","Bushel","Irrigated",1.51]
["55095","Wisconsin","Polk","Corn","Bushel","Nonirrigated",1.51]
["55095","Wisconsin","Polk","Soybeans","Bushel","All",0.44]
["55095","Wisconsin","Polk","Wheat","Bushel","All",0.28999999999999998]
["55097","Wisconsin","Portage","Corn","Bushel","Nonirrigated",1.21]
["55097","Wisconsin","Portage","Corn","Bushel","Irrigated",1.42]
["55097","Wisconsin","Portage","Soybeans","Bushel","Nonirrigated",0.46]
["55097","Wisconsin","Portage","Soybeans","Bushel","Irrigated",0.53]
["55099","Wisconsin","Price","Corn","Bushel","All",1.24]
["55101","Wisconsin","Racine","Corn","Bushel","All",1.38]
["55101","Wisconsin","Racine","Soybeans","Bushel","All",0.38]
["55101","Wisconsin","Racine","Wheat","Bushel","All",0.69]
["55103","Wisconsin","Richland","Corn","Bushel","Irrigated",1.55]
["55103","Wisconsin","Richland","Corn","Bushel","Nonirrigated",1.55]
["55103","Wisconsin","Richland","Soybeans","Bushel","Irrigated",0.53]
["55103","Wisconsin","Richland","Soybeans","Bushel","Nonirrigated",0.53]
["55105","Wisconsin","Rock","Corn","Bushel","Nonirrigated",1.91]
["55105","Wisconsin","Rock","Corn","Bushel","Irrigated",1.94]
["55105","Wisconsin","Rock","Soybeans","Bushel","Irrigated",0.5]
["55105","Wisconsin","Rock","Soybeans","Bushel","Nonirrigated",0.5]
["55105","Wisconsin","Rock","Wheat","Bushel","All",0.69]
["55107","Wisconsin","Rusk","Corn","Bushel","All",1.29]
["55107","Wisconsin","Rusk","Soybeans","Bushel","All",0.51]
["55109","Wisconsin","St. Croix","Corn","Bushel","Nonirrigated",1.51]
["55109","Wisconsin","St. Croix","Corn","Bushel","Irrigated",1.56]
["55109","Wisconsin","St. Croix","Soybeans","Bushel","Nonirrigated",0.5]
["55109","Wisconsin","St. Croix","Soybeans","Bushel","Irrigated",0.51]
["55109","Wisconsin","St. Croix","Wheat","Bushel","All",0.55000000000000004]
["55111","Wisconsin","Sauk","Corn","Bushel","Nonirrigated",1.53]
["55111","Wisconsin","Sauk","Corn","Bushel","Irrigated",1.57]
["55111","Wisconsin","Sauk","Soybeans","Bushel","Irrigated",0.53]
["55111","Wisconsin","Sauk","Soybeans","Bushel","Nonirrigated",0.53]
["55111","Wisconsin","Sauk","Wheat","Bushel","All",0.69]
["55113","Wisconsin","Sawyer","Corn","Bushel","All",1.33]
["55115","Wisconsin","Shawano","Corn","Bushel","All",1.3]
["55115","Wisconsin","Shawano","Soybeans","Bushel","All",0.53]
["55115","Wisconsin","Shawano","Wheat","Bushel","All",0.59]
["55117","Wisconsin","Sheboygan","Corn","Bushel","All",0.99]
["55117","Wisconsin","Sheboygan","Soybeans","Bushel","All",0.51]
["55117","Wisconsin","Sheboygan","Wheat","Bushel","All",0.69]
["55119","Wisconsin","Taylor","Corn","Bushel","All",1.28]
["55119","Wisconsin","Taylor","Soybeans","Bushel","All",0.53]
["55121","Wisconsin","Trempealeau","Corn","Bushel","Nonirrigated",1.63]
["55121","Wisconsin","Trempealeau","Corn","Bushel","Irrigated",1.67]
["55121","Wisconsin","Trempealeau","Soybeans","Bushel","Irrigated",0.53]
["55121","Wisconsin","Trempealeau","Soybeans","Bushel","Nonirrigated",0.53]
["55123","Wisconsin","Vernon","Corn","Bushel","All",1.64]
["55123","Wisconsin","Vernon","Soybeans","Bushel","All",0.53]
["55127","Wisconsin","Walworth","Corn","Bushel","Irrigated",1.53]
["55127","Wisconsin","Walworth","Corn","Bushel","Nonirrigated",1.53]
["55127","Wisconsin","Walworth","Soybeans","Bushel","All",0.41]
["55127","Wisconsin","Walworth","Wheat","Bushel","All",0.69]
["55129","Wisconsin","Washburn","Corn","Bushel","Irrigated",1.43]
["55129","Wisconsin","Washburn","Corn","Bushel","Nonirrigated",1.43]
["55129","Wisconsin","Washburn","Soybeans","Bushel","All",0.38]
["55131","Wisconsin","Washington","Corn","Bushel","All",1.25]
["55131","Wisconsin","Washington","Soybeans","Bushel","All",0.43]
["55131","Wisconsin","Washington","Wheat","Bushel","All",0.69]
["55133","Wisconsin","Waukesha","Corn","Bushel","All",1.41]
["55133","Wisconsin","Waukesha","Soybeans","Bushel","All",0.41]
["55135","Wisconsin","Waupaca","Corn","Bushel","Nonirrigated",1.27]
["55135","Wisconsin","Waupaca","Corn","Bushel","Irrigated",1.3]
["55135","Wisconsin","Waupaca","Soybeans","Bushel","Nonirrigated",0.52]
["55135","Wisconsin","Waupaca","Soybeans","Bushel","Irrigated",0.53]
["55135","Wisconsin","Waupaca","Wheat","Bushel","All",0.46]
["55137","Wisconsin","Waushara","Corn","Bushel","Nonirrigated",1.22]
["55137","Wisconsin","Waushara","Corn","Bushel","Irrigated",1.4]
["55137","Wisconsin","Waushara","Soybeans","Bushel","Nonirrigated",0.51]
["55137","Wisconsin","Waushara","Soybeans","Bushel","Irrigated",0.53]
["55137","Wisconsin","Waushara","Wheat","Bushel","All",0.41]
["55139","Wisconsin","Winnebago","Corn","Bushel","All",1.01]
["55139","Wisconsin","Winnebago","Soybeans","Bushel","All",0.53]
["55139","Wisconsin","Winnebago","Wheat","Bushel","All",0.67]
["55141","Wisconsin","Wood","Corn","Bushel","All",1.46]
["55141","Wisconsin","Wood","Soybeans","Bushel","All",0.53]
["56003","Wyoming","Big Horn","Barley","Bushel","All",0.85]
["56003","Wyoming","Big Horn","Corn","Bushel","All",1.59]
["56011","Wyoming","Crook","Wheat","Bushel","All",0.1]
["56013","Wyoming","Fremont","Corn","Bushel","All",0.37]
["56015","Wyoming","Goshen","Corn","Bushel","Irrigated",2.15]
["56015","Wyoming","Goshen","Wheat","Bushel","Nonirrigated",0.08]
["56015","Wyoming","Goshen","Wheat","Bushel","Irrigated",0.1]
["56021","Wyoming","Laramie","Corn","Bushel","Irrigated",2.04]
["56021","Wyoming","Laramie","Wheat","Bushel","Nonirrigated",0.08]
["56021","Wyoming","Laramie","Wheat","Bushel","Irrigated",0.1]
["56029","Wyoming","Park","Barley","Bushel","All",0.92]
["56029","Wyoming","Park","Corn","Bushel","All",1.53]
["56031","Wyoming","Platte","Corn","Bushel","All",1.86]
["56031","Wyoming","Platte","Wheat","Bushel","Nonirrigated",0.1]
["56031","Wyoming","Platte","Wheat","Bushel","Irrigated",0.11]
["56043","Wyoming","Washakie","Barley","Bushel","All",0.95]
["56043","Wyoming","Washakie","Corn","Bushel","All",1.41]

{"sheet":"Background Calculations","index":6,"n_rows":117,"n_cols":28,"rows_kept":117,"cut":false,"hidden":true,"merged":[[12,11,12,12],[22,10,28,10]]}
[null,null,null,null,null,null,null,null,null,null,null,{"$f":"'2019-20 Farm Bill Calculator'!C4","v":"EATON"}]
[null,null," 81% or 85.91% wheat PLC Update Yield Calculation",{"$f":"AVERAGE('2019-20 Farm Bill Calculator'!E23:E27)*0.81","v":{"$error":"#DIV/0!"}},null,{"$f":"AVERAGE('2019-20 Farm Bill Calculator'!G23:G27)*0.81","v":{"$error":"#DIV/0!"}},null,{"$f":"AVERAGE('2019-20 Farm Bill Calculator'!I23:I27)*0.8591","v":{"$error":"#DIV/0!"}},null,null,null,null,"County Trend Yield from FSA ARC-CO",2013,2014,2015,2016,2017,2018,2019,2020,2021,2022,2023]
[null,null,"2019-23 PLC Price Guarantee",3.7,null,8.4,null,5.5,null,null,"all","Corn",{"$f":"'2019-20 Farm Bill Calculator'!$C$4&L3&K3","v":"EATONCornall"},{"$f":"IFERROR(VLOOKUP($M3,'County Trend Yields'!$B$3:$AF$289,2,0),0)","v":187.02},{"$f":"IFERROR(VLOOKUP($M3,'County Trend Yields'!$B$3:$AF$289,3,0),0)","v":177.62},{"$f":"IFERROR(VLOOKUP($M3,'County Trend Yields'!$B$3:$AF$289,4,0),0)","v":171.02},{"$f":"IFERROR(VLOOKUP($M3,'County Trend Yields'!$B$3:$AF$289,5,0),0)","v":149.97},{"$f":"IFERROR(VLOOKUP($M3,'County Trend Yields'!$B$3:$AF$289,6,0),0)","v":178.21},{"$f":"IFERROR(VLOOKUP($M3,'County Trend Yields'!$B$3:$AF$289,7,0),0)","v":150.08000000000001},{"$f":"IFERROR(VLOOKUP($M3,'County Trend Yields'!$B$3:$AF$289,8,0),0)","v":167.46000000000004},{"$f":"IFERROR(VLOOKUP($M3,'County Trend Yields'!$B$3:$AF$289,9,0),0)","v":165.42800000000003},{"$f":"IFERROR(VLOOKUP($M3,'County Trend Yields'!$B$3:$AF$289,10,0),0)","v":164.30960000000002},{"$f":"IFERROR(VLOOKUP($M3,'County Trend Yields'!$B$3:$AF$289,11,0),0)","v":167.17752000000004},{"$f":"IFERROR(VLOOKUP($M3,'County Trend Yields'!$B$3:$AF$289,12,0),0)","v":164.97102400000006}]
[null,null,"PLC / Acre/Before 85%","CORN","Farm w/85%","SOYBEANS","Farm w/85%","WHEAT","Farm w/85%",null,"all","soybeans",{"$f":"'2019-20 Farm Bill Calculator'!$C$4&L4&K4","v":"EATONsoybeansall"},{"$f":"IFERROR(VLOOKUP($M4,'County Trend Yields'!$B$3:$AF$289,2,0),0)","v":0},{"$f":"IFERROR(VLOOKUP($M4,'County Trend Yields'!$B$3:$AF$289,3,0),0)","v":0},{"$f":"IFERROR(VLOOKUP($M4,'County Trend Yields'!$B$3:$AF$289,4,0),0)","v":0},{"$f":"IFERROR(VLOOKUP($M4,'County Trend Yields'!$B$3:$AF$289,5,0),0)","v":0},{"$f":"IFERROR(VLOOKUP($M4,'County Trend Yields'!$B$3:$AF$289,6,0),0)","v":0},{"$f":"IFERROR(VLOOKUP($M4,'County Trend Yields'!$B$3:$AF$289,7,0),0)","v":0},{"$f":"IFERROR(VLOOKUP($M4,'County Trend Yields'!$B$3:$AF$289,8,0),0)","v":0},{"$f":"IFERROR(VLOOKUP($M4,'County Trend Yields'!$B$3:$AF$289,9,0),0)","v":0},{"$f":"IFERROR(VLOOKUP($M4,'County Trend Yields'!$B$3:$AF$289,10,0),0)","v":0},{"$f":"IFERROR(VLOOKUP($M4,'County Trend Yields'!$B$3:$AF$289,11,0),0)","v":0},{"$f":"IFERROR(VLOOKUP($M4,'County Trend Yields'!$B$3:$AF$289,12,0),0)","v":0}]
[null,null,2019,{"$f":"IF('2019-20 Farm Bill Calculator'!E48>'2019-20 Farm Bill Calculator'!E$16,IF('2019-20 Farm Bill Calculator'!E48<D$3,D$3-'2019-20 Farm Bill Calculator'!E48,0)*'2019-20 Farm Bill Calculator'!C10,(D$3-'2019-20 Farm Bill Calculator'!E$16)*'2019-20 Farm Bill Calculator'!C10)","v":0},{"$f":"D5*'2019-20 Farm Bill Calculator'!$C$9*0.85","v":0},{"$f":"IF('2019-20 Farm Bill Calculator'!G48>'2019-20 Farm Bill Calculator'!G$16,IF('2019-20 Farm Bill Calculator'!G48<F$3,F$3-'2019-20 Farm Bill Calculator'!G48,0)*'2019-20 Farm Bill Calculator'!D10,(F$3-'2019-20 Farm Bill Calculator'!G$16)*'2019-20 Farm Bill Calculator'!D10)","v":0},{"$f":"F5*'2019-20 Farm Bill Calculator'!$D$9*0.85","v":0},{"$f":"IF('2019-20 Farm Bill Calculator'!I48>'2019-20 Farm Bill Calculator'!I$16,IF('2019-20 Farm Bill Calculator'!I48<H$3,H$3-'2019-20 Farm Bill Calculator'!I48,0)*'2019-20 Farm Bill Calculator'!E10,(H$3-'2019-20 Farm Bill Calculator'!I$16)*'2019-20 Farm Bill Calculator'!E10)","v":0},{"$f":"H5*'2019-20 Farm Bill Calculator'!$E$9*0.85","v":0},null,"all","Wheat",{"$f":"'2019-20 Farm Bill Calculator'!$C$4&L5&K5","v":"EATONWheatall"},{"$f":"IFERROR(VLOOKUP($M5,'County Trend Yields'!$B$3:$AF$289,2,0),0)","v":79.08},{"$f":"IFERROR(VLOOKUP($M5,'County Trend Yields'!$B$3:$AF$289,3,0),0)","v":78.27},{"$f":"IFERROR(VLOOKUP($M5,'County Trend Yields'!$B$3:$AF$289,4,0),0)","v":73.69},{"$f":"IFERROR(VLOOKUP($M5,'County Trend Yields'!$B$3:$AF$289,5,0),0)","v":84.15},{"$f":"IFERROR(VLOOKUP($M5,'County Trend Yields'!$B$3:$AF$289,6,0),0)","v":74.62},{"$f":"IFERROR(VLOOKUP($M5,'County Trend Yields'!$B$3:$AF$289,7,0),0)","v":67.790000000000006},{"$f":"IFERROR(VLOOKUP($M5,'County Trend Yields'!$B$3:$AF$289,8,0),0)","v":75.704000000000008},{"$f":"IFERROR(VLOOKUP($M5,'County Trend Yields'!$B$3:$AF$289,9,0),0)","v":75.190799999999996},{"$f":"IFERROR(VLOOKUP($M5,'County Trend Yields'!$B$3:$AF$289,10,0),0)","v":75.490960000000001},{"$f":"IFERROR(VLOOKUP($M5,'County Trend Yields'!$B$3:$AF$289,11,0),0)","v":73.759152},{"$f":"IFERROR(VLOOKUP($M5,'County Trend Yields'!$B$3:$AF$289,12,0),0)","v":73.586982400000011}]
[null,null,2020,{"$f":"IF('2019-20 Farm Bill Calculator'!E49>'2019-20 Farm Bill Calculator'!E$16,IF('2019-20 Farm Bill Calculator'!E49<D$3,D$3-'2019-20 Farm Bill Calculator'!E49,0)*'2019-20 Farm Bill Calculator'!E$54,(D$3-'2019-20 Farm Bill Calculator'!E$16)*'2019-20 Farm Bill Calculator'!E$54)","v":0},{"$f":"D6*'2019-20 Farm Bill Calculator'!$C$9*0.85","v":0},{"$f":"IF('2019-20 Farm Bill Calculator'!G49>'2019-20 Farm Bill Calculator'!G$16,IF('2019-20 Farm Bill Calculator'!G49<F$3,F$3-'2019-20 Farm Bill Calculator'!G49,0)*'2019-20 Farm Bill Calculator'!G$54,(F$3-'2019-20 Farm Bill Calculator'!G$16)*'2019-20 Farm Bill Calculator'!G$54)","v":0},{"$f":"F6*'2019-20 Farm Bill Calculator'!$D$9*0.85","v":0},{"$f":"IF('2019-20 Farm Bill Calculator'!I49>'2019-20 Farm Bill Calculator'!I$16,IF('2019-20 Farm Bill Calculator'!I49<H$3,H$3-'2019-20 Farm Bill Calculator'!I49,0)*'2019-20 Farm Bill Calculator'!I$54,(H$3-'2019-20 Farm Bill Calculator'!I$16)*'2019-20 Farm Bill Calculator'!I$54)","v":0},{"$f":"H6*'2019-20 Farm Bill Calculator'!$E$9*0.85","v":0},null,"Irrigated","Corn",{"$f":"'2019-20 Farm Bill Calculator'!$C$4&L6&K6","v":"EATONCornIrrigated"},{"$f":"IFERROR(VLOOKUP($M6,'County Trend Yields'!$B$3:$AF$289,2,0),0)","v":0},{"$f":"IFERROR(VLOOKUP($M6,'County Trend Yields'!$B$3:$AF$289,3,0),0)","v":0},{"$f":"IFERROR(VLOOKUP($M6,'County Trend Yields'!$B$3:$AF$289,4,0),0)","v":0},{"$f":"IFERROR(VLOOKUP($M6,'County Trend Yields'!$B$3:$AF$289,5,0),0)","v":0},{"$f":"IFERROR(VLOOKUP($M6,'County Trend Yields'!$B$3:$AF$289,6,0),0)","v":0},{"$f":"IFERROR(VLOOKUP($M6,'County Trend Yields'!$B$3:$AF$289,7,0),0)","v":0},{"$f":"IFERROR(VLOOKUP($M6,'County Trend Yields'!$B$3:$AF$289,8,0),0)","v":0},{"$f":"IFERROR(VLOOKUP($M6,'County Trend Yields'!$B$3:$AF$289,9,0),0)","v":0},{"$f":"IFERROR(VLOOKUP($M6,'County Trend Yields'!$B$3:$AF$289,10,0),0)","v":0},{"$f":"IFERROR(VLOOKUP($M6,'County Trend Yields'!$B$3:$AF$289,11,0),0)","v":0},{"$f":"IFERROR(VLOOKUP($M6,'County Trend Yields'!$B$3:$AF$289,12,0),0)","v":0}]
[null,null,2021,null,{"$f":"D7*'2019-20 Farm Bill Calculator'!$C$9*0.85","v":0},null,{"$f":"F7*'2019-20 Farm Bill Calculator'!$D$9*0.85","v":0},null,{"$f":"H7*'2019-20 Farm Bill Calculator'!$E$9*0.85","v":0},null,"Irrigated","soybeans",{"$f":"'2019-20 Farm Bill Calculator'!$C$4&L7&K7","v":"EATONsoybeansIrrigated"},{"$f":"IFERROR(VLOOKUP($M7,'County Trend Yields'!$B$3:$AF$289,2,0),0)","v":39.82},{"$f":"IFERROR(VLOOKUP($M7,'County Trend Yields'!$B$3:$AF$289,3,0),0)","v":36.44},{"$f":"IFERROR(VLOOKUP($M7,'County Trend Yields'!$B$3:$AF$289,4,0),0)","v":47.77},{"$f":"IFERROR(VLOOKUP($M7,'County Trend Yields'!$B$3:$AF$289,5,0),0)","v":50.14},{"$f":"IFERROR(VLOOKUP($M7,'County Trend Yields'!$B$3:$AF$289,6,0),0)","v":52.17},{"$f":"IFERROR(VLOOKUP($M7,'County Trend Yields'!$B$3:$AF$289,7,0),0)","v":45.738000000000007},{"$f":"IFERROR(VLOOKUP($M7,'County Trend Yields'!$B$3:$AF$289,8,0),0)","v":46.921600000000005},{"$f":"IFERROR(VLOOKUP($M7,'County Trend Yields'!$B$3:$AF$289,9,0),0)","v":49.017919999999997},{"$f":"IFERROR(VLOOKUP($M7,'County Trend Yields'!$B$3:$AF$289,10,0),0)","v":49.267504000000002},{"$f":"IFERROR(VLOOKUP($M7,'County Trend Yields'!$B$3:$AF$289,11,0),0)","v":49.093004800000003},{"$f":"IFERROR(VLOOKUP($M7,'County Trend Yields'!$B$3:$AF$289,12,0),0)","v":48.477605760000003}]
[null,null,2022,null,{"$f":"D8*'2019-20 Farm Bill Calculator'!$C$9*0.85","v":0},null,{"$f":"F8*'2019-20 Farm Bill Calculator'!$D$9*0.85","v":0},null,{"$f":"H8*'2019-20 Farm Bill Calculator'!$E$9*0.85","v":0},null,"nonirrigated","Corn",{"$f":"'2019-20 Farm Bill Calculator'!$C$4&L8&K8","v":"EATONCornnonirrigated"},{"$f":"IFERROR(VLOOKUP($M8,'County Trend Yields'!$B$3:$AF$289,2,0),0)","v":0},{"$f":"IFERROR(VLOOKUP($M8,'County Trend Yields'!$B$3:$AF$289,3,0),0)","v":0},{"$f":"IFERROR(VLOOKUP($M8,'County Trend Yields'!$B$3:$AF$289,4,0),0)","v":0},{"$f":"IFERROR(VLOOKUP($M8,'County Trend Yields'!$B$3:$AF$289,5,0),0)","v":0},{"$f":"IFERROR(VLOOKUP($M8,'County Trend Yields'!$B$3:$AF$289,6,0),0)","v":0},{"$f":"IFERROR(VLOOKUP($M8,'County Trend Yields'!$B$3:$AF$289,7,0),0)","v":0},{"$f":"IFERROR(VLOOKUP($M8,'County Trend Yields'!$B$3:$AF$289,8,0),0)","v":0},{"$f":"IFERROR(VLOOKUP($M8,'County Trend Yields'!$B$3:$AF$289,9,0),0)","v":0},{"$f":"IFERROR(VLOOKUP($M8,'County Trend Yields'!$B$3:$AF$289,10,0),0)","v":0},{"$f":"IFERROR(VLOOKUP($M8,'County Trend Yields'!$B$3:$AF$289,11,0),0)","v":0},{"$f":"IFERROR(VLOOKUP($M8,'County Trend Yields'!$B$3:$AF$289,12,0),0)","v":0}]
[null,null,2023,null,{"$f":"D9*'2019-20 Farm Bill Calculator'!$C$9*0.85","v":0},null,{"$f":"F9*'2019-20 Farm Bill Calculator'!$D$9*0.85","v":0},null,{"$f":"H9*'2019-20 Farm Bill Calculator'!$E$9*0.85","v":0},null,"nonirrigated","soybeans",{"$f":"'2019-20 Farm Bill Calculator'!$C$4&L9&K9","v":"EATONsoybeansnonirrigated"},{"$f":"IFERROR(VLOOKUP($M9,'County Trend Yields'!$B$3:$AF$289,2,0),0)","v":52.7},{"$f":"IFERROR(VLOOKUP($M9,'County Trend Yields'!$B$3:$AF$289,3,0),0)","v":46.25},{"$f":"IFERROR(VLOOKUP($M9,'County Trend Yields'!$B$3:$AF$289,4,0),0)","v":48.56},{"$f":"IFERROR(VLOOKUP($M9,'County Trend Yields'!$B$3:$AF$289,5,0),0)","v":52.58},{"$f":"IFERROR(VLOOKUP($M9,'County Trend Yields'!$B$3:$AF$289,6,0),0)","v":43.39},{"$f":"IFERROR(VLOOKUP($M9,'County Trend Yields'!$B$3:$AF$289,7,0),0)","v":49.16599999999999},{"$f":"IFERROR(VLOOKUP($M9,'County Trend Yields'!$B$3:$AF$289,8,0),0)","v":48.459199999999996},{"$f":"IFERROR(VLOOKUP($M9,'County Trend Yields'!$B$3:$AF$289,9,0),0)","v":48.901039999999995},{"$f":"IFERROR(VLOOKUP($M9,'County Trend Yields'!$B$3:$AF$289,10,0),0)","v":48.969247999999993},{"$f":"IFERROR(VLOOKUP($M9,'County Trend Yields'!$B$3:$AF$289,11,0),0)","v":48.247097599999996},{"$f":"IFERROR(VLOOKUP($M9,'County Trend Yields'!$B$3:$AF$289,12,0),0)","v":49.218517119999987}]
[null,null,"Totals",{"$f":"SUM(D5:D9)","v":0},{"$f":"D10*'2019-20 Farm Bill Calculator'!$C$9*0.85","v":0},{"$f":"SUM(F5:F9)","v":0},{"$f":"F10*'2019-20 Farm Bill Calculator'!$D$9*0.85","v":0},{"$f":"SUM(H5:H9)","v":0},{"$f":"H10*'2019-20 Farm Bill Calculator'!$E$9*0.85","v":0},null,"Irrigated","Wheat",{"$f":"'2019-20 Farm Bill Calculator'!$C$4&L10&K10","v":"EATONWheatIrrigated"},{"$f":"IFERROR(VLOOKUP($M10,'County Trend Yields'!$B$3:$AF$289,2,0),0)","v":0},{"$f":"IFERROR(VLOOKUP($M10,'County Trend Yields'!$B$3:$AF$289,3,0),0)","v":0},{"$f":"IFERROR(VLOOKUP($M10,'County Trend Yields'!$B$3:$AF$289,4,0),0)","v":0},{"$f":"IFERROR(VLOOKUP($M10,'County Trend Yields'!$B$3:$AF$289,5,0),0)","v":0},{"$f":"IFERROR(VLOOKUP($M10,'County Trend Yields'!$B$3:$AF$289,6,0),0)","v":0},{"$f":"IFERROR(VLOOKUP($M10,'County Trend Yields'!$B$3:$AF$289,7,0),0)","v":0},{"$f":"IFERROR(VLOOKUP($M10,'County Trend Yields'!$B$3:$AF$289,8,0),0)","v":0},{"$f":"IFERROR(VLOOKUP($M10,'County Trend Yields'!$B$3:$AF$289,9,0),0)","v":0},{"$f":"IFERROR(VLOOKUP($M10,'County Trend Yields'!$B$3:$AF$289,10,0),0)","v":0},{"$f":"IFERROR(VLOOKUP($M10,'County Trend Yields'!$B$3:$AF$289,11,0),0)","v":0},{"$f":"IFERROR(VLOOKUP($M10,'County Trend Yields'!$B$3:$AF$289,12,0),0)","v":0}]
[null,null,"ARC-CO Payment/Acre /before the 85%",null,null,null,null,null,null,null,"nonirrigated","Wheat",{"$f":"'2019-20 Farm Bill Calculator'!$C$4&L11&K11","v":"EATONWheatnonirrigated"},{"$f":"IFERROR(VLOOKUP($M11,'County Trend Yields'!$B$3:$AF$289,2,0),0)","v":0},{"$f":"IFERROR(VLOOKUP($M11,'County Trend Yields'!$B$3:$AF$289,3,0),0)","v":0},{"$f":"IFERROR(VLOOKUP($M11,'County Trend Yields'!$B$3:$AF$289,4,0),0)","v":0},{"$f":"IFERROR(VLOOKUP($M11,'County Trend Yields'!$B$3:$AF$289,5,0),0)","v":0},{"$f":"IFERROR(VLOOKUP($M11,'County Trend Yields'!$B$3:$AF$289,6,0),0)","v":0},{"$f":"IFERROR(VLOOKUP($M11,'County Trend Yields'!$B$3:$AF$289,7,0),0)","v":0},{"$f":"IFERROR(VLOOKUP($M11,'County Trend Yields'!$B$3:$AF$289,8,0),0)","v":0},{"$f":"IFERROR(VLOOKUP($M11,'County Trend Yields'!$B$3:$AF$289,9,0),0)","v":0},{"$f":"IFERROR(VLOOKUP($M11,'County Trend Yields'!$B$3:$AF$289,10,0),0)","v":0},{"$f":"IFERROR(VLOOKUP($M11,'County Trend Yields'!$B$3:$AF$289,11,0),0)","v":0},{"$f":"IFERROR(VLOOKUP($M11,'County Trend Yields'!$B$3:$AF$289,12,0),0)","v":0}]
[null,null,2019,{"$f":"MIN(IF('2019-20 Farm Bill Calculator'!$E$48*'2019-20 Farm Bill Calculator'!$E$35<$E$28,$E$28-('2019-20 Farm Bill Calculator'!$E$35*'2019-20 Farm Bill Calculator'!$E$48),0),E40)","v":16.318900000000099},{"$f":"D12*'2019-20 Farm Bill Calculator'!$C$9*0.85","v":0},{"$f":"MIN(IF('2019-20 Farm Bill Calculator'!$G$48*'2019-20 Farm Bill Calculator'!$G$35<$G$28,$G$28-('2019-20 Farm Bill Calculator'!$G$35*'2019-20 Farm Bill Calculator'!$G$48),0),G40)","v":45.445250000000001},{"$f":"F12*'2019-20 Farm Bill Calculator'!$D$9*0.85","v":0},{"$f":"MIN(IF('2019-20 Farm Bill Calculator'!$I$48*'2019-20 Farm Bill Calculator'!$I$35<$I$28,$I$28-('2019-20 Farm Bill Calculator'!$I$35*'2019-20 Farm Bill Calculator'!$I$48),0),I40)","v":42.527833333333334},{"$f":"H12*'2019-20 Farm Bill Calculator'!$E$9*0.85","v":0}]
[null,null,2020,{"$f":"MIN(IF('2019-20 Farm Bill Calculator'!$E$49*'2019-20 Farm Bill Calculator'!$E$36<$E$29,$E$29-('2019-20 Farm Bill Calculator'!$E$36*'2019-20 Farm Bill Calculator'!$E$49),0),E41)","v":0},{"$f":"D13*'2019-20 Farm Bill Calculator'!$C$9*0.85","v":0},{"$f":"MIN(IF('2019-20 Farm Bill Calculator'!$G$49*'2019-20 Farm Bill Calculator'!$G$36<$G$29,$G$29-('2019-20 Farm Bill Calculator'!$G$36*'2019-20 Farm Bill Calculator'!$G$49),0),G41)","v":0},{"$f":"F13*'2019-20 Farm Bill Calculator'!$D$9*0.85","v":0},{"$f":"MIN(IF('2019-20 Farm Bill Calculator'!$I$49*'2019-20 Farm Bill Calculator'!$I$36<$I$29,$I$29-('2019-20 Farm Bill Calculator'!$I$36*'2019-20 Farm Bill Calculator'!$I$49),0),I41)","v":0},{"$f":"H13*'2019-20 Farm Bill Calculator'!$E$9*0.85","v":0},null,null,"County Olympic Average Yield ARC-CO",null,2013,2014,2015,2016,2017,2018,2019,2020,2021,2022,2023]
[null,null,2021,null,{"$f":"D14*'2019-20 Farm Bill Calculator'!$C$9*0.85","v":0},null,{"$f":"F14*'2019-20 Farm Bill Calculator'!$D$9*0.85","v":0},null,{"$f":"H14*'2019-20 Farm Bill Calculator'!$E$9*0.85","v":0},null,null,"Corn",{"$f":"M3","v":"EATONCornall"},null,null,null,null,null,null,{"$f":"(SUM(N3:R3)-MAX(N3:R3)-MIN(N3:R3))/3","v":175.61666666666667},{"$f":"(SUM(O3:S3)-MAX(O3:S3)-MIN(O3:S3))/3","v":166.24},{"$f":"(SUM(P3:T3)-MAX(P3:T3)-MIN(P3:T3))/3","v":162.85333333333335},{"$f":"(SUM(Q3:U3)-MAX(Q3:U3)-MIN(Q3:U3))/3","v":160.98933333333332},{"$f":"(SUM(R3:V3)-MAX(R3:V3)-MIN(R3:V3))/3","v":165.73253333333335}]
[null,null,2022,null,{"$f":"D15*'2019-20 Farm Bill Calculator'!$C$9*0.85","v":0},null,{"$f":"F15*'2019-20 Farm Bill Calculator'!$D$9*0.85","v":0},null,{"$f":"H15*'2019-20 Farm Bill Calculator'!$E$9*0.85","v":0},null,null,"soybeans",{"$f":"M4","v":"EATONsoybeansall"},null,null,null,null,null,null,{"$f":"((SUM(N4:R4)-MAX(N4:R4)-MIN(N4:R4)))/3","v":0},{"$f":"(SUM(O4:S4)-MAX(O4:S4)-MIN(O4:S4))/3","v":0},{"$f":"(SUM(P4:T4)-MAX(P4:T4)-MIN(P4:T4))/3","v":0},{"$f":"(SUM(Q4:U4)-MAX(Q4:U4)-MIN(Q4:U4))/3","v":0},{"$f":"(SUM(R4:V4)-MAX(R4:V4)-MIN(R4:V4))/3","v":0}]
[null,null,2023,null,{"$f":"D16*'2019-20 Farm Bill Calculator'!$C$9*0.85","v":0},null,{"$f":"F16*'2019-20 Farm Bill Calculator'!$D$9*0.85","v":0},null,{"$f":"H16*'2019-20 Farm Bill Calculator'!$E$9*0.85","v":0},null,null,"Wheat","EATONWheatall",null,null,null,null,null,null,{"$f":"(SUM(N5:R5)-MAX(N5:R5)-MIN(N5:R5))/3","v":77.323333333333323},75.526666666666657,74.671333333333322,75.171599999999998,75.100586666666644]
[null,null,"Totals",{"$f":"SUM(D12:D16)","v":16.318900000000099},0,45.445250000000001,0,42.527833333333334,0,null,null,"Corn","EATONCornIrrigated",null,null,null,null,null,null,{"$f":"(SUM(N6:R6)-MAX(N6:R6)-MIN(N6:R6))/3","v":0},0,0,0,0]
[null,null,null,null,null,null,null,null,null,null,null,"soybeans","EATONsoybeansIrrigated",null,null,null,null,null,null,{"$f":"(SUM(N7:R7)-MAX(N7:R7)-MIN(N7:R7))/3","v":45.910000000000004},47.882666666666672,48.277199999999993,48.693173333333334,48.402341333333347]
[null,null,null,null,null,null,null,null,null,null,null,"Corn","EATONCornnonirrigated",null,null,null,null,null,null,{"$f":"(SUM(N8:R8)-MAX(N8:R8)-MIN(N8:R8))/3","v":0},0,0,0,0]
[null,null,null,null,null,null,null,null,null,null,null,"soybeans","EATONsoybeansnonirrigated",null,null,null,null,null,null,{"$f":"(SUM(N9:R9)-MAX(N9:R9)-MIN(N9:R9))/3","v":49.129999999999995},47.991999999999997,48.728400000000001,48.842079999999989,48.776495999999987]
[null,null,"ARC-CO Benchmark Revenue/ac",{"$f":"D4","v":"CORN"},"Per Acre",{"$f":"F4","v":"SOYBEANS"},"Per Acre",{"$f":"H4","v":"WHEAT"},"Per Acre"]
[null,null,2019,null,{"$f":"T32*T56","v":649.78166666666675},null,{"$f":"T33*T57","v":454.45249999999999},null,{"$f":"T34*T58","v":425.27833333333331},null,null," FSA County Trend Yields for Arc Co NOT USED",null,2013,2014,2015,2016,2017,2018,2019,2020,2021,2022,2023]
[null,null,2020,null,{"$f":"U32*U56","v":615.08800000000008},null,{"$f":"U33*U57","v":433.84767999999991},null,{"$f":"U34*U58","v":415.39666666666659},null,"Problem Irrigated Yields for counties with out irrigated history back to 2013","Corn",{"$f":"M3","v":"EATONCornall"},187.02,177.62,171.02,149.97,178.21,150.08000000000001,167.46000000000004,165.42800000000003,164.30960000000002,167.17752000000004,164.97102400000006]
[null,null,2021,null,{"$f":"D24*'2019-20 Farm Bill Calculator'!#REF!","v":{"$error":"#REF!"}},null,null,null,null,null,null,"soybeans",{"$f":"M4","v":"EATONsoybeansall"},0,0,0,0,0,0,0,0,0,0,0]
[null,null,2022,null,{"$f":"D25*'2019-20 Farm Bill Calculator'!#REF!","v":{"$error":"#REF!"}},null,null,null,null,null,null,"Wheat","EATONWheatall",79.08,78.27,73.69,84.15,74.62,67.790000000000006,75.704000000000008,75.190799999999996,75.490960000000001,73.759152,73.586982400000011]
[null,null,2023,null,{"$f":"D26*'2019-20 Farm Bill Calculator'!#REF!","v":{"$error":"#REF!"}},null,null,null,null,null,null,"Corn","EATONCornIrrigated",0,0,0,0,0,0,0,0,0,0,0]
[null,null,"86% ARC-CO Guarantee/Ac",null,null,null,null,null,null,null,null,"soybeans","EATONsoybeansIrrigated",39.82,36.44,47.77,50.14,52.17,45.738000000000007,46.921600000000005,49.017919999999997,49.267504000000002,49.093004800000003,48.477605760000003]
[null,null,2019,null,{"$f":"E22*0.86","v":558.81223333333344},null,{"$f":"G22*0.86","v":390.82914999999997},null,{"$f":"I22*0.86","v":365.73936666666663},null,null,"Corn","EATONCornnonirrigated",0,0,0,0,0,0,0,0,0,0,0]
[null,null,2020,null,{"$f":"E23*0.86","v":528.97568000000001},null,{"$f":"G23*0.86","v":373.10900479999992},null,{"$f":"I23*0.86","v":357.24113333333327},null,null,"soybeans","EATONsoybeansnonirrigated",52.7,46.25,48.56,52.58,43.39,49.16599999999999,48.459199999999996,48.901039999999995,48.969247999999993,48.247097599999996,49.218517119999987]
[null,null,2021]
[null,null,2022,null,null,null,null,null,null,null,null,"County Benchmark Weighted Olympic average Yield",null,2013,2014,2015,2016,2017,2018,2019,2020,2021,2022,2023]
[null,null,2023,null,null,null,null,null,null,null,null,null,"Corn",null,null,null,null,null,null,{"$f":"('Background Calculations'!T$14)+('Background Calculations'!T$17*'2019-20 Farm Bill Calculator'!$C$11)+('Background Calculations'!T$19*(1-'2019-20 Farm Bill Calculator'!$C$11))","v":175.61666666666667},{"$f":"('Background Calculations'!U$14)+('Background Calculations'!U$17*'2019-20 Farm Bill Calculator'!$C$11)+('Background Calculations'!U$19*(1-'2019-20 Farm Bill Calculator'!$C$11))","v":166.24},{"$f":"('Background Calculations'!V$14)+('Background Calculations'!V$17*'2019-20 Farm Bill Calculator'!$C$11)+('Background Calculations'!V$19*(1-'2019-20 Farm Bill Calculator'!$C$11))","v":162.85333333333335},{"$f":"('Background Calculations'!W$14)+('Background Calculations'!W$17*'2019-20 Farm Bill Calculator'!$C$11)+('Background Calculations'!W$19*(1-'2019-20 Farm Bill Calculator'!$C$11))","v":160.98933333333332},{"$f":"('Background Calculations'!X$14)+('Background Calculations'!X$17*'2019-20 Farm Bill Calculator'!$C$11)+('Background Calculations'!X$19*(1-'2019-20 Farm Bill Calculator'!$C$11))","v":165.73253333333335}]
[null,null,"ARC-CO Actual Revenue/Ac (before 85%)",null,null,null,null,null,null,null,null,null,"Soybeans",null,null,null,null,null,null,{"$f":"('Background Calculations'!T$15)+('Background Calculations'!T$18*'2019-20 Farm Bill Calculator'!$D$11)+('Background Calculations'!T$20*(1-'2019-20 Farm Bill Calculator'!$D$11))","v":49.129999999999995},{"$f":"('Background Calculations'!U$15)+('Background Calculations'!U$18*'2019-20 Farm Bill Calculator'!$D$11)+('Background Calculations'!U$20*(1-'2019-20 Farm Bill Calculator'!$D$11))","v":47.991999999999997},{"$f":"('Background Calculations'!V$15)+('Background Calculations'!V$18*'2019-20 Farm Bill Calculator'!$D$11)+('Background Calculations'!V$20*(1-'2019-20 Farm Bill Calculator'!$D$11))","v":48.728400000000001},{"$f":"('Background Calculations'!W$15)+('Background Calculations'!W$18*'2019-20 Farm Bill Calculator'!$D$11)+('Background Calculations'!W$20*(1-'2019-20 Farm Bill Calculator'!$D$11))","v":48.842079999999989},{"$f":"('Background Calculations'!X$15)+('Background Calculations'!X$18*'2019-20 Farm Bill Calculator'!$D$11)+('Background Calculations'!X$20*(1-'2019-20 Farm Bill Calculator'!$D$11))","v":48.776495999999987}]
[null,null,2019,null,{"$f":"'2019-20 Farm Bill Calculator'!E48*'2019-20 Farm Bill Calculator'!E35","v":542.49333333333334},null,{"$f":"'2019-20 Farm Bill Calculator'!G48*'2019-20 Farm Bill Calculator'!G35","v":304.096},null,{"$f":"'2019-20 Farm Bill Calculator'!I48*'2019-20 Farm Bill Calculator'!I35","v":272.39683333333335},null,null,null,"Wheat",null,null,null,null,null,null,{"$f":"T16","v":77.323333333333323},{"$f":"U16","v":75.526666666666657},{"$f":"V16","v":74.671333333333322},{"$f":"W16","v":75.171599999999998},{"$f":"X16","v":75.100586666666644}]
[null,null,2020,null,{"$f":"'2019-20 Farm Bill Calculator'!E49*'2019-20 Farm Bill Calculator'!E36","v":593.75386666666668},null,{"$f":"'2019-20 Farm Bill Calculator'!G49*'2019-20 Farm Bill Calculator'!G36","v":417.85034666666667},null,{"$f":"'2019-20 Farm Bill Calculator'!I49*'2019-20 Farm Bill Calculator'!I36","v":365.32878055555551}]
[null,null,2021,null,null,null,null,null,null,null,null,"Cty Act. weighted payment yields not Trended not Olympic",null,2013,2014,2015,2016,2017,2018,2019,2020,2021,2022,2023]
[null,null,2022,null,null,null,null,null,null,null,null,null,"Corn",{"$f":"('Background Calculations'!R63)+('Background Calculations'!R66*'2019-20 Farm Bill Calculator'!$C$11)+('Background Calculations'!R68*(1-'2019-20 Farm Bill Calculator'!$C$11))","v":170},{"$f":"('Background Calculations'!S63)+('Background Calculations'!S66*'2019-20 Farm Bill Calculator'!$C$11)+('Background Calculations'!S68*(1-'2019-20 Farm Bill Calculator'!$C$11))","v":176},{"$f":"('Background Calculations'!T63)+('Background Calculations'!T66*'2019-20 Farm Bill Calculator'!$C$11)+('Background Calculations'!T68*(1-'2019-20 Farm Bill Calculator'!$C$11))","v":163},{"$f":"('Background Calculations'!U63)+('Background Calculations'!U66*'2019-20 Farm Bill Calculator'!$C$11)+('Background Calculations'!U68*(1-'2019-20 Farm Bill Calculator'!$C$11))","v":145},{"$f":"('Background Calculations'!V63)+('Background Calculations'!V66*'2019-20 Farm Bill Calculator'!$C$11)+('Background Calculations'!V68*(1-'2019-20 Farm Bill Calculator'!$C$11))","v":167},{"$f":"('Background Calculations'!W63)+('Background Calculations'!W66*'2019-20 Farm Bill Calculator'!$C$11)+('Background Calculations'!W68*(1-'2019-20 Farm Bill Calculator'!$C$11))","v":148},{"$f":"('Background Calculations'!X63)+('Background Calculations'!X66*'2019-20 Farm Bill Calculator'!$C$11)+('Background Calculations'!X68*(1-'2019-20 Farm Bill Calculator'!$C$11))","v":167.46000000000004},{"$f":"('Background Calculations'!Y63)+('Background Calculations'!Y66*'2019-20 Farm Bill Calculator'!$C$11)+('Background Calculations'!Y68*(1-'2019-20 Farm Bill Calculator'!$C$11))","v":165.42800000000003},{"$f":"('Background Calculations'!Z63)+('Background Calculations'!Z66*'2019-20 Farm Bill Calculator'!$C$11)+('Background Calculations'!Z68*(1-'2019-20 Farm Bill Calculator'!$C$11))","v":164.30960000000002},{"$f":"('Background Calculations'!AA63)+('Background Calculations'!AA66*'2019-20 Farm Bill Calculator'!$C$11)+('Background Calculations'!AA68*(1-'2019-20 Farm Bill Calculator'!$C$11))","v":167.17752000000004},{"$f":"('Background Calculations'!AB63)+('Background Calculations'!AB66*'2019-20 Farm Bill Calculator'!$C$11)+('Background Calculations'!AB68*(1-'2019-20 Farm Bill Calculator'!$C$11))","v":164.97102400000006}]
[null,null,2023,null,null,null,null,null,null,null,null,null,"Soybeans",{"$f":"('Background Calculations'!R64)+('Background Calculations'!R67*'2019-20 Farm Bill Calculator'!$C$11)+('Background Calculations'!R69*(1-'2019-20 Farm Bill Calculator'!$C$11))","v":48},{"$f":"('Background Calculations'!S64)+('Background Calculations'!S67*'2019-20 Farm Bill Calculator'!$C$11)+('Background Calculations'!S69*(1-'2019-20 Farm Bill Calculator'!$C$11))","v":45},{"$f":"('Background Calculations'!T64)+('Background Calculations'!T67*'2019-20 Farm Bill Calculator'!$C$11)+('Background Calculations'!T69*(1-'2019-20 Farm Bill Calculator'!$C$11))","v":49},{"$f":"('Background Calculations'!U64)+('Background Calculations'!U67*'2019-20 Farm Bill Calculator'!$C$11)+('Background Calculations'!U69*(1-'2019-20 Farm Bill Calculator'!$C$11))","v":49},{"$f":"('Background Calculations'!V64)+('Background Calculations'!V67*'2019-20 Farm Bill Calculator'!$C$11)+('Background Calculations'!V69*(1-'2019-20 Farm Bill Calculator'!$C$11))","v":41},{"$f":"('Background Calculations'!W64)+('Background Calculations'!W67*'2019-20 Farm Bill Calculator'!$C$11)+('Background Calculations'!W69*(1-'2019-20 Farm Bill Calculator'!$C$11))","v":48.695999999999991},{"$f":"('Background Calculations'!X64)+('Background Calculations'!X67*'2019-20 Farm Bill Calculator'!$C$11)+('Background Calculations'!X69*(1-'2019-20 Farm Bill Calculator'!$C$11))","v":48.459199999999996},{"$f":"('Background Calculations'!Y64)+('Background Calculations'!Y67*'2019-20 Farm Bill Calculator'!$C$11)+('Background Calculations'!Y69*(1-'2019-20 Farm Bill Calculator'!$C$11))","v":48.901039999999995},{"$f":"('Background Calculations'!Z64)+('Background Calculations'!Z67*'2019-20 Farm Bill Calculator'!$C$11)+('Background Calculations'!Z69*(1-'2019-20 Farm Bill Calculator'!$C$11))","v":48.969247999999993},{"$f":"('Background Calculations'!AA64)+('Background Calculations'!AA67*'2019-20 Farm Bill Calculator'!$C$11)+('Background Calculations'!AA69*(1-'2019-20 Farm Bill Calculator'!$C$11))","v":48.247097599999996},{"$f":"('Background Calculations'!AB64)+('Background Calculations'!AB67*'2019-20 Farm Bill Calculator'!$C$11)+('Background Calculations'!AB69*(1-'2019-20 Farm Bill Calculator'!$C$11))","v":49.218517119999987}]
[null,null,"10% Maximum Payment ARC-CO/Ac (before 85%)",null,null,null,null,null,null,null,null,null,"Wheat",{"$f":"R65","v":72},77,68,86,60,67,75.704000000000008,75.190799999999996,75.490960000000001,73.759152,73.586982400000011]
[null,null,2019,null,{"$f":"E22*0.1","v":64.978166666666681},null,{"$f":"G22*0.1","v":45.445250000000001},null,{"$f":"I22*0.1","v":42.527833333333334}]
[null,null,2020,null,{"$f":"E23*0.1","v":61.508800000000008},null,{"$f":"G23*0.1","v":43.384767999999994},null,{"$f":"I23*0.1","v":41.539666666666662},null,null,"Actual National Market Year Average Price (MYA)"]
[null,null,2021,null,null,null,null,null,null,null,null,null,null,2013,2014,2015,2016,2017,2018,2019,2020,2021,2022,2023]
[null,null,2022,null,null,null,null,null,null,null,null,null,"Corn MYA Producer Price 3.70",{"$f":"'2019-20 Farm Bill Calculator'!O37","v":4.46},{"$f":"'2019-20 Farm Bill Calculator'!O38","v":3.6999999999999997},{"$f":"'2019-20 Farm Bill Calculator'!O39","v":3.61},{"$f":"'2019-20 Farm Bill Calculator'!O40","v":3.36},{"$f":"'2019-20 Farm Bill Calculator'!O41","v":3.36},{"$f":"'2019-20 Farm Bill Calculator'!O42","v":3.61},{"$f":"'2019-20 Farm Bill Calculator'!E48","v":3.8666666666666667},{"$f":"'2019-20 Farm Bill Calculator'!E49","v":3.5716666666666668},{"$f":"'2019-20 Farm Bill Calculator'!#REF!","v":{"$error":"#REF!"}},{"$f":"'2019-20 Farm Bill Calculator'!#REF!","v":{"$error":"#REF!"}},{"$f":"'2019-20 Farm Bill Calculator'!#REF!","v":{"$error":"#REF!"}}]
[null,null,2023,null,null,null,null,null,null,null,null,null,"Soy MYA Producer Price 8.40",{"$f":"'2019-20 Farm Bill Calculator'!P37","v":13},{"$f":"'2019-20 Farm Bill Calculator'!P38","v":10.1},{"$f":"'2019-20 Farm Bill Calculator'!P39","v":8.9500000000000011},{"$f":"'2019-20 Farm Bill Calculator'!P40","v":9.4700000000000006},{"$f":"'2019-20 Farm Bill Calculator'!P41","v":9.33},{"$f":"'2019-20 Farm Bill Calculator'!P42","v":8.48},{"$f":"'2019-20 Farm Bill Calculator'!G48","v":8.84},{"$f":"'2019-20 Farm Bill Calculator'!G49","v":8.706666666666667},{"$f":"'2019-20 Farm Bill Calculator'!#REF!","v":{"$error":"#REF!"}},{"$f":"'2019-20 Farm Bill Calculator'!#REF!","v":{"$error":"#REF!"}},{"$f":"'2019-20 Farm Bill Calculator'!#REF!","v":{"$error":"#REF!"}}]
[null,null,"ARC-CO PAYMENT /ac (before 85%)",null,null,null,null,null,null,null,null,null,"Wheat MYA Producer Price 5.50",{"$f":"'2019-20 Farm Bill Calculator'!Q37","v":6.87},{"$f":"'2019-20 Farm Bill Calculator'!Q38","v":5.9900000000000011},{"$f":"'2019-20 Farm Bill Calculator'!Q39","v":4.8899999999999997},{"$f":"'2019-20 Farm Bill Calculator'!Q40","v":3.89},{"$f":"'2019-20 Farm Bill Calculator'!Q41","v":4.72},{"$f":"'2019-20 Farm Bill Calculator'!Q42","v":5.16},{"$f":"'2019-20 Farm Bill Calculator'!I48","v":4.5704166666666666},{"$f":"'2019-20 Farm Bill Calculator'!I49","v":4.8370833333333332},{"$f":"'2019-20 Farm Bill Calculator'!#REF!","v":{"$error":"#REF!"}},{"$f":"'2019-20 Farm Bill Calculator'!#REF!","v":{"$error":"#REF!"}},{"$f":"'2019-20 Farm Bill Calculator'!#REF!","v":{"$error":"#REF!"}}]
[null,null,2019,null,{"$f":"IF(E28-E34>0,MIN(E28-E34,E40),0)","v":16.318900000000099},null,{"$f":"IF(G28-G34>0,MIN(G28-G34,G40),0)","v":45.445250000000001},null,{"$f":"IF(I28-I34>0,MIN(I28-I34,I40),0)","v":42.527833333333334}]
[null,null,2020,null,{"$f":"IF(E29-E35>0,MIN(E29-E35,E41),0)","v":0},null,{"$f":"IF(G29-G35>0,MIN(G29-G35,G41),0)","v":0},null,{"$f":"IF(I29-I35>0,MIN(I29-I35,I41),0)","v":0}]
[null,null,2021]
[null,null,2022]
[null,null,2023,null,null,null,null,null,null,null,null,"Minimum Prices for Revenue Guarantees",null,2013,2014,2015,2016,2017,{"$f":"S42","v":2018},2019,2020,2021,2022,2023]
[null,null,"ARC-IC",null,null,null,null,null,null,null,null,null,"Corn MYA Producer Price 3.70",{"$f":"IF(N43<3.7,3.7,N43)","v":4.46},3.6999999999999997,3.7,3.7,3.7,3.7,3.8666666666666667,3.7,{"$error":"#REF!"},{"$error":"#REF!"},{"$error":"#REF!"}]
[null,null,"Individual Farm Actual Revenues",null,null,null,null,null,null,null,null,null,"Soy MYA Producer Price 8.40",{"$f":"IF(N44<8.4,8.4,N44)","v":13},10.1,8.9500000000000011,9.4700000000000006,9.33,8.48,8.84,8.706666666666667,{"$f":"IF(V44<8.4,8.4,V44)","v":{"$error":"#REF!"}},{"$error":"#REF!"},{"$error":"#REF!"}]
[null,null,null,{"$f":"'2019-20 Farm Bill Calculator'!E15","v":"CORN"},null,{"$f":"'2019-20 Farm Bill Calculator'!G15","v":"SOYBEANS"},null,{"$f":"'2019-20 Farm Bill Calculator'!I15","v":"WHEAT"},null,"Farm Actual Revenue/ac",null,null,"Wheat MYA Producer Price 5.50",{"$f":"IF(N45<5.5,5.5,N45)","v":6.87},5.9900000000000011,5.5,5.5,5.5,5.5,5.5,5.5,{"$error":"#REF!"},{"$error":"#REF!"},{"$error":"#REF!"}]
[null,null,2013,{"$f":"IFERROR('2019-20 Farm Bill Calculator'!E23*'Background Calculations'!N$43,0)","v":0},null,{"$f":"IFERROR('2019-20 Farm Bill Calculator'!G23*'Background Calculations'!N$44,0)","v":0},null,{"$f":"IFERROR('2019-20 Farm Bill Calculator'!I23*'Background Calculations'!N$45,0)","v":0},null,{"$f":"D54*D77+F54*F77+H54*H77","v":0}]
[null,null,2014,{"$f":"IFERROR('2019-20 Farm Bill Calculator'!E24*'Background Calculations'!O$43,0)","v":0},null,{"$f":"IFERROR('2019-20 Farm Bill Calculator'!G24*'Background Calculations'!O$44,0)","v":0},null,{"$f":"IFERROR('2019-20 Farm Bill Calculator'!I24*'Background Calculations'!O$45,0)","v":0},null,{"$f":"D55*D78+F55*F78+H55*H78","v":{"$error":"#DIV/0!"}},null,null,null,null,null,null,null,null,"Benchmark Olympic Price",2019,2020,2021,2022,2023]
[null,null,2015,{"$f":"IFERROR('2019-20 Farm Bill Calculator'!E25*'Background Calculations'!P$43,0)","v":0},null,{"$f":"IFERROR('2019-20 Farm Bill Calculator'!G25*'Background Calculations'!P$44,0)","v":0},null,{"$f":"IFERROR('2019-20 Farm Bill Calculator'!I25*'Background Calculations'!P$45,0)","v":0},null,{"$error":"#DIV/0!"},null,null,null,null,null,null,null,null,"Corn",{"$f":"ROUND(((SUM(O51:S51)-MAX(O51:S51)-MIN(O51:S51))/3),2)","v":3.7},3.7,3.7,{"$error":"#REF!"},{"$error":"#REF!"}]
[null,null,2016,{"$f":"IFERROR('2019-20 Farm Bill Calculator'!E26*'Background Calculations'!Q$43,0)","v":0},null,{"$f":"IFERROR('2019-20 Farm Bill Calculator'!G26*'Background Calculations'!Q$44,0)","v":0},null,{"$f":"IFERROR('2019-20 Farm Bill Calculator'!I26*'Background Calculations'!Q$45,0)","v":0},null,{"$error":"#DIV/0!"},null,null,null,null,null,null,null,null,"Soys",{"$f":"ROUND(((SUM(O52:S52)-MAX(O52:S52)-MIN(O52:S52))/3),2)","v":9.25},9.0399999999999991,8.9600000000000009,{"$error":"#REF!"},{"$error":"#REF!"}]
[null,null,2017,{"$f":"IFERROR('2019-20 Farm Bill Calculator'!E27*'Background Calculations'!R$43,0)","v":0},null,{"$f":"IFERROR('2019-20 Farm Bill Calculator'!G27*'Background Calculations'!R$44,0)","v":0},null,{"$f":"IFERROR('2019-20 Farm Bill Calculator'!I27*'Background Calculations'!R$45,0)","v":0},null,{"$error":"#DIV/0!"},null,null,null,null,null,null,null,null,"Wheat",5.5,5.5,5.5,{"$error":"#REF!"},{"$error":"#REF!"}]
[null,null,2018,{"$f":"IFERROR('2019-20 Farm Bill Calculator'!E28*'Background Calculations'!S$43,0)","v":0},null,{"$f":"IFERROR('2019-20 Farm Bill Calculator'!G28*'Background Calculations'!S$44,0)","v":0},null,{"$f":"IFERROR('2019-20 Farm Bill Calculator'!I28*'Background Calculations'!S$45,0)","v":0},null,{"$error":"#DIV/0!"}]
[null,null,2019,{"$f":"IFERROR('2019-20 Farm Bill Calculator'!E29*'Background Calculations'!T$43,0)","v":0},null,{"$f":"IFERROR('2019-20 Farm Bill Calculator'!G29*'Background Calculations'!T$44,0)","v":0},null,{"$f":"IFERROR('2019-20 Farm Bill Calculator'!I29*'Background Calculations'!T$45,0)","v":0},null,{"$f":"D60*D83+F60*F83+H60*H83","v":{"$error":"#DIV/0!"}}]
[null,null,2020,{"$f":"IFERROR('2019-20 Farm Bill Calculator'!E30*'Background Calculations'!U$43,0)","v":0},null,{"$f":"IFERROR('2019-20 Farm Bill Calculator'!G30*'Background Calculations'!U$44,0)","v":0},null,{"$f":"IFERROR('2019-20 Farm Bill Calculator'!I30*'Background Calculations'!U$45,0)","v":0},null,{"$error":"#DIV/0!"},null,{"$f":"L1","v":"EATON"},"Actual Yields NOT TRENDED"]
[null,null,2021,{"$f":"IFERROR('2019-20 Farm Bill Calculator'!E31*'Background Calculations'!V$43,0)","v":0},null,{"$f":"IFERROR('2019-20 Farm Bill Calculator'!G31*'Background Calculations'!U$44,0)","v":0},null,{"$f":"IFERROR('2019-20 Farm Bill Calculator'!I31*'Background Calculations'!V$45,0)","v":0},null,{"$f":"D62*D85+F62*F85+H62*H85","v":{"$error":"#DIV/0!"}},null,null,"County Trend Yield from FSA ARC-CO",2009,2010,2011,2012,2013,2014,2015,2016,2017,2018,2019,2020,2021,2022,2023]
[null,null,2022,{"$f":"IFERROR('2019-20 Farm Bill Calculator'!E32*'Background Calculations'!W$43,0)","v":0},null,{"$f":"IFERROR('2019-20 Farm Bill Calculator'!G32*'Background Calculations'!U$44,0)","v":0},null,{"$f":"IFERROR('2019-20 Farm Bill Calculator'!I32*'Background Calculations'!W$45,0)","v":0},null,{"$f":"D63*D86+F63*F86+H63*H86","v":{"$error":"#VALUE!"}},"all","Corn",{"$f":"'2019-20 Farm Bill Calculator'!$C$4&L63&K63","v":"EATONCornall"},{"$f":"IFERROR(VLOOKUP($M63,'FSA 18'!$E$5:$O$482,3,0),0)","v":152},{"$f":"IFERROR(VLOOKUP($M63,'FSA 18'!$E$5:$O$482,4,0),0)","v":162},{"$f":"IFERROR(VLOOKUP($M63,'FSA 18'!$E$5:$O$482,5,0),0)","v":147},{"$f":"IFERROR(VLOOKUP($M63,'FSA 18'!$E$5:$O$482,6,0),0)","v":124},{"$f":"IFERROR(VLOOKUP($M63,'FSA 18'!$E$5:$O$482,7,0),0)","v":170},{"$f":"IFERROR(VLOOKUP($M63,'FSA 18'!$E$5:$O$482,8,0),0)","v":176},{"$f":"IFERROR(VLOOKUP($M63,'FSA 18'!$E$5:$O$482,9,0),0)","v":163},{"$f":"IFERROR(VLOOKUP($M63,'FSA 18'!$E$5:$O$482,10,0),0)","v":145},{"$f":"IFERROR(VLOOKUP($M63,'FSA 18'!$E$5:$O$482,11,0),0)","v":167},{"$f":"IFERROR(VLOOKUP($M63,'County Trend Yields'!$B$3:$AF$289,26,0),0)","v":148},{"$f":"IFERROR(VLOOKUP($M63,'County Trend Yields'!$B$3:$AF$289,27,0),0)","v":167.46000000000004},{"$f":"IFERROR(VLOOKUP($M63,'County Trend Yields'!$B$3:$AF$289,28,0),0)","v":165.42800000000003},{"$f":"IFERROR(VLOOKUP($M63,'County Trend Yields'!$B$3:$AF$289,29,0),0)","v":164.30960000000002},{"$f":"IFERROR(VLOOKUP($M63,'County Trend Yields'!$B$3:$AF$289,30,0),0)","v":167.17752000000004},{"$f":"IFERROR(VLOOKUP($M63,'County Trend Yields'!$B$3:$AF$289,31,0),0)","v":164.97102400000006}]
[null,null,null,null,null,null,null,null,null,null,"all","soybeans",{"$f":"'2019-20 Farm Bill Calculator'!$C$4&L64&K64","v":"EATONsoybeansall"},{"$f":"IFERROR(VLOOKUP($M64,'FSA 18'!$E$5:$O$482,3,0),0)","v":42},{"$f":"IFERROR(VLOOKUP($M64,'FSA 18'!$E$5:$O$482,4,0),0)","v":47},{"$f":"IFERROR(VLOOKUP($M64,'FSA 18'!$E$5:$O$482,5,0),0)","v":43},{"$f":"IFERROR(VLOOKUP($M64,'FSA 18'!$E$5:$O$482,6,0),0)","v":40},{"$f":"IFERROR(VLOOKUP($M64,'FSA 18'!$E$5:$O$482,7,0),0)","v":48},{"$f":"IFERROR(VLOOKUP($M64,'FSA 18'!$E$5:$O$482,8,0),0)","v":45},{"$f":"IFERROR(VLOOKUP($M64,'FSA 18'!$E$5:$O$482,9,0),0)","v":49},{"$f":"IFERROR(VLOOKUP($M64,'FSA 18'!$E$5:$O$482,10,0),0)","v":49},{"$f":"IFERROR(VLOOKUP($M64,'FSA 18'!$E$5:$O$482,11,0),0)","v":41},{"$f":"IFERROR(VLOOKUP($M64,'County Trend Yields'!$B$3:$AF$289,26,0),0)","v":0},{"$f":"IFERROR(VLOOKUP($M64,'County Trend Yields'!$B$3:$AF$289,27,0),0)","v":0},{"$f":"IFERROR(VLOOKUP($M64,'County Trend Yields'!$B$3:$AF$289,28,0),0)","v":0},{"$f":"IFERROR(VLOOKUP($M64,'County Trend Yields'!$B$3:$AF$289,29,0),0)","v":0},{"$f":"IFERROR(VLOOKUP($M64,'County Trend Yields'!$B$3:$AF$289,30,0),0)","v":0},{"$f":"IFERROR(VLOOKUP($M64,'County Trend Yields'!$B$3:$AF$289,31,0),0)","v":0}]
[null,null,"Individual Farm Benchmark Revenues",null,null,null,null,null,null,null,"all","Wheat",{"$f":"'2019-20 Farm Bill Calculator'!$C$4&L65&K65","v":"EATONWheatall"},{"$f":"IFERROR(VLOOKUP($M65,'FSA 18'!$E$5:$O$482,3,0),0)","v":64},{"$f":"IFERROR(VLOOKUP($M65,'FSA 18'!$E$5:$O$482,4,0),0)","v":65},{"$f":"IFERROR(VLOOKUP($M65,'FSA 18'!$E$5:$O$482,5,0),0)","v":76},{"$f":"IFERROR(VLOOKUP($M65,'FSA 18'!$E$5:$O$482,6,0),0)","v":75},{"$f":"IFERROR(VLOOKUP($M65,'FSA 18'!$E$5:$O$482,7,0),0)","v":72},{"$f":"IFERROR(VLOOKUP($M65,'FSA 18'!$E$5:$O$482,8,0),0)","v":77},{"$f":"IFERROR(VLOOKUP($M65,'FSA 18'!$E$5:$O$482,9,0),0)","v":68},{"$f":"IFERROR(VLOOKUP($M65,'FSA 18'!$E$5:$O$482,10,0),0)","v":86},{"$f":"IFERROR(VLOOKUP($M65,'FSA 18'!$E$5:$O$482,11,0),0)","v":60},{"$f":"IFERROR(VLOOKUP($M65,'County Trend Yields'!$B$3:$AF$289,26,0),0)","v":67},{"$f":"IFERROR(VLOOKUP($M65,'County Trend Yields'!$B$3:$AF$289,27,0),0)","v":75.704000000000008},{"$f":"IFERROR(VLOOKUP($M65,'County Trend Yields'!$B$3:$AF$289,28,0),0)","v":75.190799999999996},{"$f":"IFERROR(VLOOKUP($M65,'County Trend Yields'!$B$3:$AF$289,29,0),0)","v":75.490960000000001},{"$f":"IFERROR(VLOOKUP($M65,'County Trend Yields'!$B$3:$AF$289,30,0),0)","v":73.759152},{"$f":"IFERROR(VLOOKUP($M65,'County Trend Yields'!$B$3:$AF$289,31,0),0)","v":73.586982400000011}]
[null,null,2013,{"$f":"'Background Calculations'!N$51*'Background Calculations'!N$115","v":758.2},null,{"$f":"'Background Calculations'!$N$52*'Background Calculations'!$N$116","v":429},null,{"$f":"'Background Calculations'!$N$53*'Background Calculations'!$N$117","v":494.64},null,null,"Irrigated","Corn",{"$f":"'2019-20 Farm Bill Calculator'!$C$4&L66&K66","v":"EATONCornIrrigated"},{"$f":"IFERROR(VLOOKUP($M66,'FSA 18'!$E$5:$O$482,3,0),0)","v":0},{"$f":"IFERROR(VLOOKUP($M66,'FSA 18'!$E$5:$O$482,4,0),0)","v":0},{"$f":"IFERROR(VLOOKUP($M66,'FSA 18'!$E$5:$O$482,5,0),0)","v":0},{"$f":"IFERROR(VLOOKUP($M66,'FSA 18'!$E$5:$O$482,6,0),0)","v":0},{"$f":"IFERROR(VLOOKUP($M66,'FSA 18'!$E$5:$O$482,7,0),0)","v":0},{"$f":"IFERROR(VLOOKUP($M66,'FSA 18'!$E$5:$O$482,8,0),0)","v":0},{"$f":"IFERROR(VLOOKUP($M66,'FSA 18'!$E$5:$O$482,9,0),0)","v":0},{"$f":"IFERROR(VLOOKUP($M66,'FSA 18'!$E$5:$O$482,10,0),0)","v":0},{"$f":"IFERROR(VLOOKUP($M66,'FSA 18'!$E$5:$O$482,11,0),0)","v":0},{"$f":"IFERROR(VLOOKUP($M66,'County Trend Yields'!$B$3:$AF$289,26,0),0)","v":0},{"$f":"IFERROR(VLOOKUP($M66,'County Trend Yields'!$B$3:$AF$289,27,0),0)","v":0},{"$f":"IFERROR(VLOOKUP($M66,'County Trend Yields'!$B$3:$AF$289,28,0),0)","v":0},{"$f":"IFERROR(VLOOKUP($M66,'County Trend Yields'!$B$3:$AF$289,29,0),0)","v":0},{"$f":"IFERROR(VLOOKUP($M66,'County Trend Yields'!$B$3:$AF$289,30,0),0)","v":0},{"$f":"IFERROR(VLOOKUP($M66,'County Trend Yields'!$B$3:$AF$289,31,0),0)","v":0}]
[null,null,2014,{"$f":"'Background Calculations'!O$51*'Background Calculations'!O$115","v":651.19999999999993},null,{"$f":"'Background Calculations'!O$52*'Background Calculations'!O$116","v":454.5},null,{"$f":"'Background Calculations'!$O$53*'Background Calculations'!$O$117","v":461.23000000000008},null,null,"Irrigated","soybeans",{"$f":"'2019-20 Farm Bill Calculator'!$C$4&L67&K67","v":"EATONsoybeansIrrigated"},{"$f":"IFERROR(VLOOKUP($M67,'FSA 18'!$E$5:$O$482,3,0),0)","v":0},{"$f":"IFERROR(VLOOKUP($M67,'FSA 18'!$E$5:$O$482,4,0),0)","v":0},{"$f":"IFERROR(VLOOKUP($M67,'FSA 18'!$E$5:$O$482,5,0),0)","v":0},{"$f":"IFERROR(VLOOKUP($M67,'FSA 18'!$E$5:$O$482,6,0),0)","v":0},{"$f":"IFERROR(VLOOKUP($M67,'FSA 18'!$E$5:$O$482,7,0),0)","v":0},{"$f":"IFERROR(VLOOKUP($M67,'FSA 18'!$E$5:$O$482,8,0),0)","v":0},{"$f":"IFERROR(VLOOKUP($M67,'FSA 18'!$E$5:$O$482,9,0),0)","v":0},{"$f":"IFERROR(VLOOKUP($M67,'FSA 18'!$E$5:$O$482,10,0),0)","v":0},{"$f":"IFERROR(VLOOKUP($M67,'FSA 18'!$E$5:$O$482,11,0),0)","v":0},{"$f":"IFERROR(VLOOKUP($M67,'County Trend Yields'!$B$3:$AF$289,26,0),0)","v":45.268000000000008},{"$f":"IFERROR(VLOOKUP($M67,'County Trend Yields'!$B$3:$AF$289,27,0),0)","v":46.921600000000005},{"$f":"IFERROR(VLOOKUP($M67,'County Trend Yields'!$B$3:$AF$289,28,0),0)","v":49.017919999999997},{"$f":"IFERROR(VLOOKUP($M67,'County Trend Yields'!$B$3:$AF$289,29,0),0)","v":49.267504000000002},{"$f":"IFERROR(VLOOKUP($M67,'County Trend Yields'!$B$3:$AF$289,30,0),0)","v":49.093004800000003},{"$f":"IFERROR(VLOOKUP($M67,'County Trend Yields'!$B$3:$AF$289,31,0),0)","v":48.477605760000003}]
[null,null,2015,{"$f":"'Background Calculations'!P$51*'Background Calculations'!P$115","v":603.1},null,{"$f":"'Background Calculations'!P$52*'Background Calculations'!P$116","v":438.55000000000007},null,{"$f":"'Background Calculations'!$P$53*'Background Calculations'!$P$117","v":374},null,null,"nonirrigated","Corn",{"$f":"'2019-20 Farm Bill Calculator'!$C$4&L68&K68","v":"EATONCornnonirrigated"},{"$f":"IFERROR(VLOOKUP($M68,'FSA 18'!$E$5:$O$482,3,0),0)","v":0},{"$f":"IFERROR(VLOOKUP($M68,'FSA 18'!$E$5:$O$482,4,0),0)","v":0},{"$f":"IFERROR(VLOOKUP($M68,'FSA 18'!$E$5:$O$482,5,0),0)","v":0},{"$f":"IFERROR(VLOOKUP($M68,'FSA 18'!$E$5:$O$482,6,0),0)","v":0},{"$f":"IFERROR(VLOOKUP($M68,'FSA 18'!$E$5:$O$482,7,0),0)","v":0},{"$f":"IFERROR(VLOOKUP($M68,'FSA 18'!$E$5:$O$482,8,0),0)","v":0},{"$f":"IFERROR(VLOOKUP($M68,'FSA 18'!$E$5:$O$482,9,0),0)","v":0},{"$f":"IFERROR(VLOOKUP($M68,'FSA 18'!$E$5:$O$482,10,0),0)","v":0},{"$f":"IFERROR(VLOOKUP($M68,'FSA 18'!$E$5:$O$482,11,0),0)","v":0},{"$f":"IFERROR(VLOOKUP($M68,'County Trend Yields'!$B$3:$AF$289,26,0),0)","v":0},{"$f":"IFERROR(VLOOKUP($M68,'County Trend Yields'!$B$3:$AF$289,27,0),0)","v":0},{"$f":"IFERROR(VLOOKUP($M68,'County Trend Yields'!$B$3:$AF$289,28,0),0)","v":0},{"$f":"IFERROR(VLOOKUP($M68,'County Trend Yields'!$B$3:$AF$289,29,0),0)","v":0},{"$f":"IFERROR(VLOOKUP($M68,'County Trend Yields'!$B$3:$AF$289,30,0),0)","v":0},{"$f":"IFERROR(VLOOKUP($M68,'County Trend Yields'!$B$3:$AF$289,31,0),0)","v":0}]
[null,null,2016,{"$f":"'Background Calculations'!Q$51*'Background Calculations'!Q$115","v":536.5},null,{"$f":"'Background Calculations'!Q$52*'Background Calculations'!Q$116","v":464.03000000000003},null,{"$f":"'Background Calculations'!$Q$53*'Background Calculations'!$Q$117","v":473},null,null,"nonirrigated","soybeans",{"$f":"'2019-20 Farm Bill Calculator'!$C$4&L69&K69","v":"EATONsoybeansnonirrigated"},{"$f":"IFERROR(VLOOKUP($M69,'FSA 18'!$E$5:$O$482,3,0),0)","v":0},{"$f":"IFERROR(VLOOKUP($M69,'FSA 18'!$E$5:$O$482,4,0),0)","v":0},{"$f":"IFERROR(VLOOKUP($M69,'FSA 18'!$E$5:$O$482,5,0),0)","v":0},{"$f":"IFERROR(VLOOKUP($M69,'FSA 18'!$E$5:$O$482,6,0),0)","v":0},{"$f":"IFERROR(VLOOKUP($M69,'FSA 18'!$E$5:$O$482,7,0),0)","v":0},{"$f":"IFERROR(VLOOKUP($M69,'FSA 18'!$E$5:$O$482,8,0),0)","v":0},{"$f":"IFERROR(VLOOKUP($M69,'FSA 18'!$E$5:$O$482,9,0),0)","v":0},{"$f":"IFERROR(VLOOKUP($M69,'FSA 18'!$E$5:$O$482,10,0),0)","v":0},{"$f":"IFERROR(VLOOKUP($M69,'FSA 18'!$E$5:$O$482,11,0),0)","v":0},{"$f":"IFERROR(VLOOKUP($M69,'County Trend Yields'!$B$3:$AF$289,26,0),0)","v":48.695999999999991},{"$f":"IFERROR(VLOOKUP($M69,'County Trend Yields'!$B$3:$AF$289,27,0),0)","v":48.459199999999996},{"$f":"IFERROR(VLOOKUP($M69,'County Trend Yields'!$B$3:$AF$289,28,0),0)","v":48.901039999999995},{"$f":"IFERROR(VLOOKUP($M69,'County Trend Yields'!$B$3:$AF$289,29,0),0)","v":48.969247999999993},{"$f":"IFERROR(VLOOKUP($M69,'County Trend Yields'!$B$3:$AF$289,30,0),0)","v":48.247097599999996},{"$f":"IFERROR(VLOOKUP($M69,'County Trend Yields'!$B$3:$AF$289,31,0),0)","v":49.218517119999987}]
[null,null,2017,{"$f":"'Background Calculations'!R$51*'Background Calculations'!R$115","v":617.9},null,{"$f":"'Background Calculations'!R$52*'Background Calculations'!R$116","v":382.53000000000003},null,{"$f":"'Background Calculations'!$R$53*'Background Calculations'!$R$117","v":330},null,null,"Irrigated","Wheat",{"$f":"'2019-20 Farm Bill Calculator'!$C$4&L70&K70","v":"EATONWheatIrrigated"},{"$f":"IFERROR(VLOOKUP($M70,'FSA 18'!$E$5:$O$482,3,0),0)","v":0},{"$f":"IFERROR(VLOOKUP($M70,'FSA 18'!$E$5:$O$482,4,0),0)","v":0},{"$f":"IFERROR(VLOOKUP($M70,'FSA 18'!$E$5:$O$482,5,0),0)","v":0},{"$f":"IFERROR(VLOOKUP($M70,'FSA 18'!$E$5:$O$482,6,0),0)","v":0},{"$f":"IFERROR(VLOOKUP($M70,'FSA 18'!$E$5:$O$482,7,0),0)","v":0},{"$f":"IFERROR(VLOOKUP($M70,'FSA 18'!$E$5:$O$482,8,0),0)","v":0},{"$f":"IFERROR(VLOOKUP($M70,'FSA 18'!$E$5:$O$482,9,0),0)","v":0},{"$f":"IFERROR(VLOOKUP($M70,'FSA 18'!$E$5:$O$482,10,0),0)","v":0},{"$f":"IFERROR(VLOOKUP($M70,'FSA 18'!$E$5:$O$482,11,0),0)","v":0},{"$f":"IFERROR(VLOOKUP($M70,'County Trend Yields'!$B$3:$AF$289,26,0),0)","v":0},{"$f":"IFERROR(VLOOKUP($M70,'County Trend Yields'!$B$3:$AF$289,27,0),0)","v":0},{"$f":"IFERROR(VLOOKUP($M70,'County Trend Yields'!$B$3:$AF$289,28,0),0)","v":0},{"$f":"IFERROR(VLOOKUP($M70,'County Trend Yields'!$B$3:$AF$289,29,0),0)","v":0},{"$f":"IFERROR(VLOOKUP($M70,'County Trend Yields'!$B$3:$AF$289,30,0),0)","v":0},{"$f":"IFERROR(VLOOKUP($M70,'County Trend Yields'!$B$3:$AF$289,31,0),0)","v":0}]
[null,null,2018,{"$f":"'Background Calculations'!S$51*'Background Calculations'!S$115","v":547.6},null,{"$f":"'Background Calculations'!S$52*'Background Calculations'!S$116","v":412.94207999999992},null,{"$f":"'Background Calculations'!$S$53*'Background Calculations'!$S$117","v":368.5},null,null,"nonirrigated","Wheat",{"$f":"'2019-20 Farm Bill Calculator'!$C$4&L71&K71","v":"EATONWheatnonirrigated"},{"$f":"IFERROR(VLOOKUP($M71,'FSA 18'!$E$5:$O$482,3,0),0)","v":0},{"$f":"IFERROR(VLOOKUP($M71,'FSA 18'!$E$5:$O$482,4,0),0)","v":0},{"$f":"IFERROR(VLOOKUP($M71,'FSA 18'!$E$5:$O$482,5,0),0)","v":0},{"$f":"IFERROR(VLOOKUP($M71,'FSA 18'!$E$5:$O$482,6,0),0)","v":0},{"$f":"IFERROR(VLOOKUP($M71,'FSA 18'!$E$5:$O$482,7,0),0)","v":0},{"$f":"IFERROR(VLOOKUP($M71,'FSA 18'!$E$5:$O$482,8,0),0)","v":0},{"$f":"IFERROR(VLOOKUP($M71,'FSA 18'!$E$5:$O$482,9,0),0)","v":0},{"$f":"IFERROR(VLOOKUP($M71,'FSA 18'!$E$5:$O$482,10,0),0)","v":0},{"$f":"IFERROR(VLOOKUP($M71,'FSA 18'!$E$5:$O$482,11,0),0)","v":0},{"$f":"IFERROR(VLOOKUP($M71,'County Trend Yields'!$B$3:$AF$289,26,0),0)","v":0},{"$f":"IFERROR(VLOOKUP($M71,'County Trend Yields'!$B$3:$AF$289,27,0),0)","v":0},{"$f":"IFERROR(VLOOKUP($M71,'County Trend Yields'!$B$3:$AF$289,28,0),0)","v":0},{"$f":"IFERROR(VLOOKUP($M71,'County Trend Yields'!$B$3:$AF$289,29,0),0)","v":0},{"$f":"IFERROR(VLOOKUP($M71,'County Trend Yields'!$B$3:$AF$289,30,0),0)","v":0},{"$f":"IFERROR(VLOOKUP($M71,'County Trend Yields'!$B$3:$AF$289,31,0),0)","v":0}]
[null,null,2019,{"$f":"'Background Calculations'!T$51*'Background Calculations'!T$115","v":647.51200000000017},null,{"$f":"'Background Calculations'!T$52*'Background Calculations'!T$116","v":428.37932799999993},null,{"$f":"'Background Calculations'!$T$53*'Background Calculations'!$T$117","v":416.37200000000007}]
[null,null,2020,{"$f":"'Background Calculations'!U$51*'Background Calculations'!U$115","v":440.05284000000006},null,{"$f":"'Background Calculations'!U$52*'Background Calculations'!U$116","v":308.28944943999994},null,{"$f":"'Background Calculations'!$U$53*'Background Calculations'!$U$117","v":413.54939999999999},null,null,null,"FOR ARC IC LOW YIELD TABLE weighted by Percent irrigated"]
[null,null,2021,{"$f":"'Background Calculations'!V$51*'Background Calculations'!V$115","v":{"$error":"#REF!"}},null,{"$f":"'Background Calculations'!V$52*'Background Calculations'!V$116","v":{"$error":"#REF!"}},null,{"$f":"'Background Calculations'!$V$53*'Background Calculations'!$V$117","v":{"$error":"#REF!"}},null,null,null,"Cty Act. weighted payment yields not Trended not Olympic",null,2009,2010,2011,2012,2013,2014,2015,2016,2017,2018,2019,2020,2021,2022,2023]
[null,null,2022,{"$f":"'Background Calculations'!W$51*'Background Calculations'!W$115","v":{"$error":"#REF!"}},null,{"$f":"'Background Calculations'!W$52*'Background Calculations'!W$116","v":{"$error":"#REF!"}},null,{"$f":"'Background Calculations'!$W$53*'Background Calculations'!$W$117","v":{"$error":"#REF!"}},null,null,null,null,"Corn",{"$f":"('Background Calculations'!N63)+('Background Calculations'!N66*'Multiple ARC-IC Farms'!$D$55)+('Background Calculations'!N68*(1-'Multiple ARC-IC Farms'!$D$55))","v":152},{"$f":"('Background Calculations'!O63)+('Background Calculations'!O66*'Multiple ARC-IC Farms'!$D$55)+('Background Calculations'!O68*(1-'Multiple ARC-IC Farms'!$D$55))","v":162},{"$f":"('Background Calculations'!P63)+('Background Calculations'!P66*'Multiple ARC-IC Farms'!$D$55)+('Background Calculations'!P68*(1-'Multiple ARC-IC Farms'!$D$55))","v":147},{"$f":"('Background Calculations'!Q63)+('Background Calculations'!Q66*'Multiple ARC-IC Farms'!$D$55)+('Background Calculations'!Q68*(1-'Multiple ARC-IC Farms'!$D$55))","v":124},{"$f":"('Background Calculations'!R63)+('Background Calculations'!R66*'Multiple ARC-IC Farms'!$D$55)+('Background Calculations'!R68*(1-'Multiple ARC-IC Farms'!$D$55))","v":170},{"$f":"('Background Calculations'!S63)+('Background Calculations'!S66*'Multiple ARC-IC Farms'!$D$55)+('Background Calculations'!S68*(1-'Multiple ARC-IC Farms'!$D$55))","v":176},{"$f":"('Background Calculations'!T63)+('Background Calculations'!T66*'Multiple ARC-IC Farms'!$D$55)+('Background Calculations'!T68*(1-'Multiple ARC-IC Farms'!$D$55))","v":163},{"$f":"('Background Calculations'!U63)+('Background Calculations'!U66*'Multiple ARC-IC Farms'!$D$55)+('Background Calculations'!U68*(1-'Multiple ARC-IC Farms'!$D$55))","v":145},{"$f":"('Background Calculations'!V63)+('Background Calculations'!V66*'Multiple ARC-IC Farms'!$D$55)+('Background Calculations'!V68*(1-'Multiple ARC-IC Farms'!$D$55))","v":167},{"$f":"('Background Calculations'!W63)+('Background Calculations'!W66*'Multiple ARC-IC Farms'!$D$55)+('Background Calculations'!W68*(1-'Multiple ARC-IC Farms'!$D$55))","v":148},{"$f":"('Background Calculations'!X63)+('Background Calculations'!X66*'Multiple ARC-IC Farms'!$D$55)+('Background Calculations'!X68*(1-'Multiple ARC-IC Farms'!$D$55))","v":167.46000000000004},{"$f":"('Background Calculations'!Y63)+('Background Calculations'!Y66*'Multiple ARC-IC Farms'!$D$55)+('Background Calculations'!Y68*(1-'Multiple ARC-IC Farms'!$D$55))","v":165.42800000000003},{"$f":"('Background Calculations'!Z63)+('Background Calculations'!Z66*'Multiple ARC-IC Farms'!$D$55)+('Background Calculations'!Z68*(1-'Multiple ARC-IC Farms'!$D$55))","v":164.30960000000002},{"$f":"('Background Calculations'!AA63)+('Background Calculations'!AA66*'Multiple ARC-IC Farms'!$D$55)+('Background Calculations'!AA68*(1-'Multiple ARC-IC Farms'!$D$55))","v":167.17752000000004},{"$f":"('Background Calculations'!AB63)+('Background Calculations'!AB66*'Multiple ARC-IC Farms'!$D$55)+('Background Calculations'!AB68*(1-'Multiple ARC-IC Farms'!$D$55))","v":164.97102400000006}]
[null,null,"Percent Planted by Year",null,null,null,null,null,null,null,null,null,"Soybeans",{"$f":"('Background Calculations'!N64)+('Background Calculations'!N67*'Multiple ARC-IC Farms'!$F$55)+('Background Calculations'!N69*(1-'Multiple ARC-IC Farms'!$F$55))","v":42},{"$f":"('Background Calculations'!O64)+('Background Calculations'!O67*'Multiple ARC-IC Farms'!$F$55)+('Background Calculations'!O69*(1-'Multiple ARC-IC Farms'!$F$55))","v":47},{"$f":"('Background Calculations'!P64)+('Background Calculations'!P67*'Multiple ARC-IC Farms'!$F$55)+('Background Calculations'!P69*(1-'Multiple ARC-IC Farms'!$F$55))","v":43},{"$f":"('Background Calculations'!Q64)+('Background Calculations'!Q67*'Multiple ARC-IC Farms'!$F$55)+('Background Calculations'!Q69*(1-'Multiple ARC-IC Farms'!$F$55))","v":40},{"$f":"('Background Calculations'!R64)+('Background Calculations'!R67*'Multiple ARC-IC Farms'!$F$55)+('Background Calculations'!R69*(1-'Multiple ARC-IC Farms'!$F$55))","v":48},{"$f":"('Background Calculations'!S64)+('Background Calculations'!S67*'Multiple ARC-IC Farms'!$F$55)+('Background Calculations'!S69*(1-'Multiple ARC-IC Farms'!$F$55))","v":45},{"$f":"('Background Calculations'!T64)+('Background Calculations'!T67*'Multiple ARC-IC Farms'!$F$55)+('Background Calculations'!T69*(1-'Multiple ARC-IC Farms'!$F$55))","v":49},{"$f":"('Background Calculations'!U64)+('Background Calculations'!U67*'Multiple ARC-IC Farms'!$F$55)+('Background Calculations'!U69*(1-'Multiple ARC-IC Farms'!$F$55))","v":49},{"$f":"('Background Calculations'!V64)+('Background Calculations'!V67*'Multiple ARC-IC Farms'!$F$55)+('Background Calculations'!V69*(1-'Multiple ARC-IC Farms'!$F$55))","v":41},{"$f":"('Background Calculations'!W64)+('Background Calculations'!W67*'Multiple ARC-IC Farms'!$F$55)+('Background Calculations'!W69*(1-'Multiple ARC-IC Farms'!$F$55))","v":48.695999999999991},{"$f":"('Background Calculations'!X64)+('Background Calculations'!X67*'Multiple ARC-IC Farms'!$F$55)+('Background Calculations'!X69*(1-'Multiple ARC-IC Farms'!$F$55))","v":48.459199999999996},{"$f":"('Background Calculations'!Y64)+('Background Calculations'!Y67*'Multiple ARC-IC Farms'!$F$55)+('Background Calculations'!Y69*(1-'Multiple ARC-IC Farms'!$F$55))","v":48.901039999999995},{"$f":"('Background Calculations'!Z64)+('Background Calculations'!Z67*'Multiple ARC-IC Farms'!$F$55)+('Background Calculations'!Z69*(1-'Multiple ARC-IC Farms'!$F$55))","v":48.969247999999993},{"$f":"('Background Calculations'!AA64)+('Background Calculations'!AA67*'Multiple ARC-IC Farms'!$F$55)+('Background Calculations'!AA69*(1-'Multiple ARC-IC Farms'!$F$55))","v":48.247097599999996},{"$f":"('Background Calculations'!AB64)+('Background Calculations'!AB67*'Multiple ARC-IC Farms'!$F$55)+('Background Calculations'!AB69*(1-'Multiple ARC-IC Farms'!$F$55))","v":49.218517119999987}]
[null,null,2013,{"$f":"'2019-20 Farm Bill Calculator'!F23/'2019-20 Farm Bill Calculator'!K23","v":0},null,{"$f":"'2019-20 Farm Bill Calculator'!H23/'2019-20 Farm Bill Calculator'!K23","v":1},null,{"$f":"'2019-20 Farm Bill Calculator'!J23/'2019-20 Farm Bill Calculator'!K23","v":0},null,null,null,null,"Wheat",{"$f":"N65","v":64},{"$f":"O65","v":65},{"$f":"P65","v":76},{"$f":"Q65","v":75},{"$f":"R65","v":72},77,68,86,60,67,75.704000000000008,75.190799999999996,75.490960000000001,73.759152,73.586982400000011]
[null,null,2014,{"$f":"'2019-20 Farm Bill Calculator'!F24/'2019-20 Farm Bill Calculator'!K24","v":{"$error":"#DIV/0!"}},null,{"$f":"'2019-20 Farm Bill Calculator'!H24/'2019-20 Farm Bill Calculator'!K24","v":{"$error":"#DIV/0!"}},null,{"$f":"'2019-20 Farm Bill Calculator'!J24/'2019-20 Farm Bill Calculator'!K24","v":{"$error":"#DIV/0!"}}]
[null,null,2015,{"$f":"'2019-20 Farm Bill Calculator'!F25/'2019-20 Farm Bill Calculator'!K25","v":{"$error":"#DIV/0!"}},null,{"$f":"'2019-20 Farm Bill Calculator'!H25/'2019-20 Farm Bill Calculator'!K25","v":{"$error":"#DIV/0!"}},null,{"$f":"'2019-20 Farm Bill Calculator'!J25/'2019-20 Farm Bill Calculator'!K25","v":{"$error":"#DIV/0!"}},null,null,null,"Cty Act. weighted payment yields not Trended not Olympic 5 year average",null,null,null,null,null,2013,2014,2015,2016,2017,2018,2019,2020,2021,2022,2023]
[null,null,2016,{"$f":"'2019-20 Farm Bill Calculator'!F26/'2019-20 Farm Bill Calculator'!K26","v":{"$error":"#DIV/0!"}},null,{"$f":"'2019-20 Farm Bill Calculator'!H26/'2019-20 Farm Bill Calculator'!K26","v":{"$error":"#DIV/0!"}},null,{"$f":"'2019-20 Farm Bill Calculator'!J26/'2019-20 Farm Bill Calculator'!K26","v":{"$error":"#DIV/0!"}},null,null,null,null,"Corn",null,null,null,null,{"$f":"AVERAGE(N75:R75)","v":151},{"$f":"AVERAGE(O75:S75)","v":155.80000000000001},156,155.6,164.2,159.80000000000001,158.09200000000001,158.57760000000002,162.43952000000002,162.47502400000002,165.86922880000003]
[null,null,2017,{"$f":"'2019-20 Farm Bill Calculator'!F27/'2019-20 Farm Bill Calculator'!K27","v":{"$error":"#DIV/0!"}},null,{"$f":"'2019-20 Farm Bill Calculator'!H27/'2019-20 Farm Bill Calculator'!K27","v":{"$error":"#DIV/0!"}},null,{"$f":"'2019-20 Farm Bill Calculator'!J27/'2019-20 Farm Bill Calculator'!K27","v":{"$error":"#DIV/0!"}},null,null,null,null,"Soybeans",null,null,null,null,{"$f":"AVERAGE(N76:R76)","v":44},44.6,45,46.2,46.4,46.539200000000001,47.231039999999993,47.211247999999998,47.205097599999995,48.654517119999994,48.759020543999988]
[null,null,2018,{"$f":"'2019-20 Farm Bill Calculator'!F28/'2019-20 Farm Bill Calculator'!K28","v":{"$error":"#DIV/0!"}},null,{"$f":"'2019-20 Farm Bill Calculator'!H28/'2019-20 Farm Bill Calculator'!K28","v":{"$error":"#DIV/0!"}},null,{"$f":"'2019-20 Farm Bill Calculator'!J28/'2019-20 Farm Bill Calculator'!K28","v":{"$error":"#DIV/0!"}},null,null,null,null,"Wheat",null,null,null,null,{"$f":"AVERAGE(N77:R77)","v":70.400000000000006},73,73.599999999999994,75.599999999999994,72.599999999999994,71.599999999999994,71.340800000000002,72.778960000000012,70.677152000000007,73.428982399999995,74.746378879999995]
[null,null,2019,{"$f":"'2019-20 Farm Bill Calculator'!F29/'2019-20 Farm Bill Calculator'!K29","v":{"$error":"#DIV/0!"}},null,{"$f":"'2019-20 Farm Bill Calculator'!H29/'2019-20 Farm Bill Calculator'!K29","v":{"$error":"#DIV/0!"}},null,{"$f":"'2019-20 Farm Bill Calculator'!J29/'2019-20 Farm Bill Calculator'!K29","v":{"$error":"#DIV/0!"}}]
[null,null,2020,{"$f":"'2019-20 Farm Bill Calculator'!F30/'2019-20 Farm Bill Calculator'!K30","v":{"$error":"#DIV/0!"}},null,{"$f":"'2019-20 Farm Bill Calculator'!H30/'2019-20 Farm Bill Calculator'!K30","v":{"$error":"#DIV/0!"}},null,{"$f":"'2019-20 Farm Bill Calculator'!J30/'2019-20 Farm Bill Calculator'!K30","v":{"$error":"#DIV/0!"}}]
[null,null,2021,{"$f":"'2019-20 Farm Bill Calculator'!F31/'2019-20 Farm Bill Calculator'!K31","v":{"$error":"#DIV/0!"}},null,{"$f":"'2019-20 Farm Bill Calculator'!H31/'2019-20 Farm Bill Calculator'!K31","v":{"$error":"#DIV/0!"}},null,{"$f":"'2019-20 Farm Bill Calculator'!J31/'2019-20 Farm Bill Calculator'!K31","v":{"$error":"#DIV/0!"}}]
[null,null,2022,{"$f":"'2019-20 Farm Bill Calculator'!E32/'2019-20 Farm Bill Calculator'!#REF!","v":{"$error":"#VALUE!"}},null,{"$f":"'2019-20 Farm Bill Calculator'!#REF!/'2019-20 Farm Bill Calculator'!#REF!","v":{"$error":"#REF!"}},null,{"$f":"'2019-20 Farm Bill Calculator'!J32/'2019-20 Farm Bill Calculator'!#REF!","v":{"$error":"#REF!"}},null,null,null,null,"Estimated T-Yield = 5yr weighted by % irrigation average ",{"$f":"N2","v":2013},2014,2015,2016,2017,2018,2019,2020,2021,2022,2023]
[null,null,null,null,null,null,null,null,null,null,null,null,"Corn",{"$f":"R80","v":151},{"$f":"S80","v":155.80000000000001},156,155.6,164.2,159.80000000000001,158.09200000000001,158.57760000000002,162.43952000000002,162.47502400000002,165.86922880000003]
[null,null,"ARC-IC OLYMPIC AVERAGES lagged one year",null,null,null,null,"ARC-IC",null,"ARC-IC",null,null,"Soybeans",{"$f":"R81","v":44},{"$f":"S81","v":44.6},45,46.2,46.4,46.539200000000001,47.231039999999993,47.211247999999998,47.205097599999995,48.654517119999994,48.759020543999988]
[null,null,null,"Corn","Soys ","Wheat",null,"Benchmark Rev",null,"Coverage Guarantee",null,null,"Wheat",{"$f":"R82","v":70.400000000000006},{"$f":"S82","v":73},73.599999999999994,75.599999999999994,72.599999999999994,71.599999999999994,71.340800000000002,72.778960000000012,70.677152000000007,73.428982399999995,74.746378879999995]
[null,null,2019,{"$f":"(SUM(D66:D70)-MIN(D66:D70)-MAX(D66:D70))/3","v":624.06666666666672},{"$f":"(SUM(F66:F70)-MIN(F66:F70)-MAX(F66:F70))/3","v":440.68333333333339},{"$f":"(SUM(H66:H70)-MIN(H66:H70)-MAX(H66:H70))/3","v":436.07666666666665},null,{"$f":"D90*D83+E90*F83+F90*H83","v":{"$error":"#DIV/0!"}},null,{"$f":"0.86*H90","v":{"$error":"#DIV/0!"}},null,null,"Weighted 5 YR Average Yield"]
[null,null,2020,{"$f":"(SUM(D67:D71)-MIN(D67:D71)-MAX(D67:D71))/3","v":589.5333333333333},{"$f":"(SUM(F67:F71)-MIN(F67:F71)-MAX(F67:F71))/3","v":435.33069333333333},{"$f":"(SUM(H67:H71)-MIN(H67:H71)-MAX(H67:H71))/3","v":401.24333333333334},null,{"$f":"D91*D84+E91*F84+F91*H84","v":{"$error":"#DIV/0!"}},null,{"$f":"0.86*H91","v":{"$error":"#DIV/0!"}},null,null,"Corn",{"$f":"N87","v":151},{"$f":"O87","v":155.80000000000001},156,155.6,164.2,159.80000000000001,158.09200000000001,158.57760000000002,162.43952000000002,162.47502400000002,165.86922880000003]
[null,null,2021,{"$f":"(SUM(D68:D72)-MIN(D68:D72)-MAX(D68:D72))/3","v":589.5333333333333},{"$f":"(SUM(F68:F72)-MIN(F68:F72)-MAX(F68:F72))/3","v":426.62380266666668},{"$f":"(SUM(H68:H72)-MIN(H68:H72)-MAX(H68:H72))/3","v":386.29066666666671},null,{"$f":"D92*D85+E92*F85+F92*H85","v":{"$error":"#DIV/0!"}},null,{"$f":"0.86*H92","v":{"$error":"#DIV/0!"}},null,null,"Soybeans",{"$f":"N88","v":44},44.6,45,46.2,46.4,46.539200000000001,47.231039999999993,47.211247999999998,47.205097599999995,48.654517119999994,48.759020543999988]
[null,null,2022,{"$f":"(SUM(D69:D73)-MIN(D69:D73)-MAX(D69:D73))/3","v":567.33333333333314},{"$f":"(SUM(F69:F73)-MIN(F69:F73)-MAX(F69:F73))/3","v":407.95046933333333},{"$f":"(SUM(H69:H73)-MIN(H69:H73)-MAX(H69:H73))/3","v":399.47380000000004},null,{"$f":"D93*D85+E93*F85+F93*H85","v":{"$error":"#DIV/0!"}},null,{"$f":"0.86*H93","v":{"$error":"#DIV/0!"}},null,null,"Wheat",{"$f":"N89","v":70.400000000000006},73,73.599999999999994,75.599999999999994,72.599999999999994,71.599999999999994,71.340800000000002,72.778960000000012,70.677152000000007,73.428982399999995,74.746378879999995]
[null,null,2023,{"$f":"(SUM(D70:D74)-MIN(D70:D74)-MAX(D70:D74))/3","v":{"$error":"#REF!"}},{"$f":"(SUM(F70:F74)-MIN(F70:F74)-MAX(F70:F74))/3","v":{"$error":"#REF!"}},{"$f":"(SUM(H70:H74)-MIN(H70:H74)-MAX(H70:H74))/3","v":{"$error":"#REF!"}},null,{"$f":"D94*D86+E94*F86+F94*H86","v":{"$error":"#REF!"}},null,{"$f":"0.86*H94","v":{"$error":"#REF!"}}]
[null,null,"ARC-IC","Payment Rate/Ac(before 65%)",null,"Max Rate/Ac(before65%)",null,"Payment/Ac(before 65%)",null,"Farm Payment @ 65% of Base Acres",null,"75% T-Yield for Individual"]
[null,null,2019,{"$f":"J90-J60","v":{"$error":"#DIV/0!"}},null,{"$f":"H90*0.1","v":{"$error":"#DIV/0!"}},null,{"$f":"IF(D96>0.01,MIN(D96,F96),0)","v":{"$error":"#DIV/0!"}},null,{"$f":"IF(H96>0,H96*'2019-20 Farm Bill Calculator'!$F$9*0.65,0)","v":{"$error":"#DIV/0!"}},null,null,"Corn",{"$f":"0.75*N87","v":113.25},116.85000000000001,117,116.69999999999999,123.14999999999999,119.85000000000001,118.56900000000002,118.93320000000001,121.82964000000001,121.85626800000001,124.40192160000002]
[null,null,2020,{"$f":"J91-J61","v":{"$error":"#DIV/0!"}},null,{"$f":"H91*0.1","v":{"$error":"#DIV/0!"}},null,{"$f":"IF(D97>0.01,MIN(D97,F97),0)","v":{"$error":"#DIV/0!"}},null,{"$f":"IF(H97>0,H97*'2019-20 Farm Bill Calculator'!$F$9*0.65,0)","v":{"$error":"#DIV/0!"}},null,null,"Soybeans",{"$f":"0.75*N88","v":33},33.450000000000003,33.75,34.650000000000006,34.799999999999997,34.904400000000003,35.423279999999991,35.408435999999995,35.403823199999998,36.490887839999999,36.569265407999993]
[null,null,2021,{"$f":"J92-J61","v":{"$error":"#DIV/0!"}},null,{"$f":"H92*0.1","v":{"$error":"#DIV/0!"}},null,{"$f":"IF(D98>0.01,MIN(D98,F98),0)","v":{"$error":"#DIV/0!"}},null,{"$f":"IF(H98>0,H98*'2019-20 Farm Bill Calculator'!$F$9*0.65,0)","v":{"$error":"#DIV/0!"}},null,null,"Wheat",{"$f":"0.75*N89","v":52.800000000000004},54.75,55.199999999999996,56.699999999999996,54.449999999999996,53.699999999999996,53.505600000000001,54.584220000000009,53.007864000000005,55.071736799999996,56.059784159999992]
[null,null,2022,{"$f":"J93-J62","v":{"$error":"#DIV/0!"}},null,{"$f":"H93*0.1","v":{"$error":"#DIV/0!"}},null,{"$f":"IF(D99>0.01,MIN(D99,F99),0)","v":{"$error":"#DIV/0!"}},null,{"$f":"IF(H99>0,H99*'2019-20 Farm Bill Calculator'!$F$9*0.65,0)","v":{"$error":"#DIV/0!"}}]
[null,null,2023,{"$f":"J94-J63","v":{"$error":"#REF!"}},null,{"$f":"H94*0.1","v":{"$error":"#REF!"}},null,{"$f":"IF(D100>0.01,MIN(D100,F100),0)","v":{"$error":"#REF!"}},null,{"$f":"IF(H100>0,H100*'2019-20 Farm Bill Calculator'!$F$9*0.65,0)","v":{"$error":"#REF!"}}]
[]
[null,null,null,null,null,null,null,null,null,null,null,"80% of 5yr County Average Yield"]
[null,null,null,null,null,null,null,null,null,null,null,null,{"$f":"M91","v":"Corn"},{"$f":"0.8*N91","v":120.80000000000001},124.64000000000001,124.80000000000001,124.48,131.35999999999999,127.84000000000002,{"$f":"0.8*T91","v":126.47360000000002},126.86208000000002,129.95161600000003,129.98001920000002,132.69538304000002]
[null,null,null,null,null,null,null,null,null,null,null,null,{"$f":"M92","v":"Soybeans"},{"$f":"0.8*N92","v":35.200000000000003},35.68,36,36.96,37.119999999999997,37.231360000000002,37.784831999999994,37.768998400000001,37.764078079999997,38.923613695999997,39.007216435199993]
[null,null,null,null,null,null,null,null,null,null,null,null,{"$f":"M93","v":"Wheat"},{"$f":"0.8*N93","v":56.320000000000007},58.400000000000006,58.879999999999995,60.48,58.08,57.28,57.072640000000007,58.223168000000015,56.54172160000001,58.743185920000002,59.797103104000001]
[]
[null,null,null,null,null,null,null,null,null,null,null,"Min \"75% Yield\" for Farm (PLC Yield)",null,2013,2014,2015,2016,2017,2018,2019,2020,2021,2022,2023]
[null,null,null,null,null,null,null,null,null,null,null,null,{"$f":"M103","v":"Corn"},{"$f":"N87*0.75","v":113.25},{"$f":"O87*0.75","v":116.85000000000001},117,116.69999999999999,123.14999999999999,119.85000000000001,118.56900000000002,118.93320000000001,121.82964000000001,121.85626800000001,124.40192160000002]
[null,null,null,null,null,null,null,null,null,null,null,null,{"$f":"M104","v":"Soybeans"},{"$f":"N88*0.75","v":33},33.450000000000003,33.75,34.650000000000006,34.799999999999997,34.904400000000003,35.423279999999991,35.408435999999995,35.403823199999998,36.490887839999999,36.569265407999993]
[null,null,null,null,null,null,null,null,null,null,null,null,{"$f":"M105","v":"Wheat"},{"$f":"N89*0.75","v":52.800000000000004},54.75,55.199999999999996,56.699999999999996,54.449999999999996,53.699999999999996,53.505600000000001,54.584220000000009,53.007864000000005,55.071736799999996,56.059784159999992]
[]
[]
[]
[null,null,null,null,null,null,null,null,null,null,null,"FOR ARC-IC if not planted = MAX of (County Yield or \"75% T Yield\")  -OR- if planted MAX of (farm actual or 75% T-Yield)"]
[null,null,null,null,null,null,null,null,null,null,null,null,{"$f":"M108","v":"Corn"},{"$f":"IF('2019-20 Farm Bill Calculator'!$E23>0.01,MAX(N96,'2019-20 Farm Bill Calculator'!$E23),MAX(N96,N37))","v":170},{"$f":"IF('2019-20 Farm Bill Calculator'!$E24>0.01,MAX(O96,'2019-20 Farm Bill Calculator'!$E24),MAX(O96,O37))","v":176},{"$f":"IF('2019-20 Farm Bill Calculator'!$E25>0.01,MAX(P96,'2019-20 Farm Bill Calculator'!$E25),MAX(P96,P37))","v":163},{"$f":"IF('2019-20 Farm Bill Calculator'!$E26>0.01,MAX(Q96,'2019-20 Farm Bill Calculator'!$E26),MAX(Q96,Q37))","v":145},{"$f":"IF('2019-20 Farm Bill Calculator'!$E27>0.01,MAX(R96,'2019-20 Farm Bill Calculator'!$E27),MAX(R96,R37))","v":167},{"$f":"IF('2019-20 Farm Bill Calculator'!$E28>0.01,MAX(S96,'2019-20 Farm Bill Calculator'!$E28),MAX(S96,S37))","v":148},{"$f":"IF('2019-20 Farm Bill Calculator'!$E29>0.01,MAX(T96,'2019-20 Farm Bill Calculator'!$E29),MAX(T96,T37))","v":167.46000000000004},{"$f":"IF('2019-20 Farm Bill Calculator'!$E30>0.01,MAX(U96,'2019-20 Farm Bill Calculator'!$E30),MAX(U96,U37))","v":118.93320000000001},{"$f":"IF('2019-20 Farm Bill Calculator'!$E31>0.01,MAX(V96,'2019-20 Farm Bill Calculator'!$E31),MAX(V96,V37))","v":164.30960000000002},{"$f":"IF('2019-20 Farm Bill Calculator'!$E32>0.01,MAX(W96,'2019-20 Farm Bill Calculator'!$E32),MAX(W96,W37))","v":121.85626800000001},{"$f":"IF('2019-20 Farm Bill Calculator'!$E34>0.01,MAX(X96,'2019-20 Farm Bill Calculator'!$E34),MAX(X96,X37))","v":164.97102400000006}]
[null,null,null,null,null,null,null,null,null,null,null,null,{"$f":"M109","v":"Soybeans"},{"$f":"IF('2019-20 Farm Bill Calculator'!$G23>0.1,MAX(N97,'2019-20 Farm Bill Calculator'!$G23),MAX(N97,N38))","v":33},{"$f":"IF('2019-20 Farm Bill Calculator'!$G24>0.1,MAX(O97,'2019-20 Farm Bill Calculator'!$G24),MAX(O97,O38))","v":45},{"$f":"IF('2019-20 Farm Bill Calculator'!$G25>0.1,MAX(P97,'2019-20 Farm Bill Calculator'!$G25),MAX(P97,P38))","v":49},{"$f":"IF('2019-20 Farm Bill Calculator'!$G26>0.1,MAX(Q97,'2019-20 Farm Bill Calculator'!$G26),MAX(Q97,Q38))","v":49},{"$f":"IF('2019-20 Farm Bill Calculator'!$G27>0.1,MAX(R97,'2019-20 Farm Bill Calculator'!$G27),MAX(R97,R38))","v":41},{"$f":"IF('2019-20 Farm Bill Calculator'!$G28>0.1,MAX(S97,'2019-20 Farm Bill Calculator'!$G28),MAX(S97,S38))","v":48.695999999999991},{"$f":"IF('2019-20 Farm Bill Calculator'!$G29>0.1,MAX(T97,'2019-20 Farm Bill Calculator'!$G29),MAX(T97,T38))","v":48.459199999999996},{"$f":"IF('2019-20 Farm Bill Calculator'!$G30>0.1,MAX(U97,'2019-20 Farm Bill Calculator'!$G30),MAX(U97,U38))","v":35.408435999999995},{"$f":"IF('2019-20 Farm Bill Calculator'!$G31>0.1,MAX(V97,'2019-20 Farm Bill Calculator'!$G31),MAX(V97,V38))","v":48.969247999999993},{"$f":"IF('2019-20 Farm Bill Calculator'!$G32>0.1,MAX(W97,'2019-20 Farm Bill Calculator'!$G32),MAX(W97,W38))","v":48.247097599999996},{"$f":"IF('2019-20 Farm Bill Calculator'!$G34>0.1,MAX(X97,'2019-20 Farm Bill Calculator'!$G34),MAX(X97,X38))","v":49.218517119999987}]
[null,null,null,null,null,null,null,null,null,null,null,null,{"$f":"M110","v":"Wheat"},{"$f":"IF('2019-20 Farm Bill Calculator'!$I23>0.1,MAX(N98,'2019-20 Farm Bill Calculator'!$I23),MAX(N98,N39))","v":72},{"$f":"IF('2019-20 Farm Bill Calculator'!$I24>0.1,MAX(O98,'2019-20 Farm Bill Calculator'!$I24),MAX(O98,O39))","v":77},{"$f":"IF('2019-20 Farm Bill Calculator'!$I25>0.1,MAX(P98,'2019-20 Farm Bill Calculator'!$I25),MAX(P98,P39))","v":68},{"$f":"IF('2019-20 Farm Bill Calculator'!$I26>0.1,MAX(Q98,'2019-20 Farm Bill Calculator'!$I26),MAX(Q98,Q39))","v":86},{"$f":"IF('2019-20 Farm Bill Calculator'!$I27>0.1,MAX(R98,'2019-20 Farm Bill Calculator'!$I27),MAX(R98,R39))","v":60},{"$f":"IF('2019-20 Farm Bill Calculator'!$I28>0.1,MAX(S98,'2019-20 Farm Bill Calculator'!$I28),MAX(S98,S39))","v":67},{"$f":"IF('2019-20 Farm Bill Calculator'!$I29>0.1,MAX(T98,'2019-20 Farm Bill Calculator'!$I29),MAX(T98,T39))","v":75.704000000000008},{"$f":"IF('2019-20 Farm Bill Calculator'!$I30>0.1,MAX(U98,'2019-20 Farm Bill Calculator'!$I30),MAX(U98,U39))","v":75.190799999999996},{"$f":"IF('2019-20 Farm Bill Calculator'!$I31>0.1,MAX(V98,'2019-20 Farm Bill Calculator'!$I31),MAX(V98,V39))","v":75.490960000000001},{"$f":"IF('2019-20 Farm Bill Calculator'!$I33>0.1,MAX(W98,'2019-20 Farm Bill Calculator'!$I33),MAX(W98,W39))","v":73.759152},{"$f":"IF('2019-20 Farm Bill Calculator'!$I35>0.1,MAX(X98,'2019-20 Farm Bill Calculator'!$I35),MAX(X98,X39))","v":59.6}]

{"sheet":"County Trend Yields","index":7,"n_rows":289,"n_cols":32,"rows_kept":289,"cut":false,"hidden":true,"merged":[]}
[1,"Helper Column 1",2,3,4,5,6,7,8,9,10,11,12,13,14,15,16,17,18,19,20,"21 Actual Yields",22,23,24,25,26,"Trend yield26",28,29,30,31]
["county",null,2013,2014,2015,2016,2017,"trend adjusted2018","Trend Adjusted 2019","trend adjusted2020","trend adjusted2021","trend adjusted2022","trend adjusted2023","trend adjusted2024",null,null,null,"Corn","Soys ","Wheat","Note: We are not supporting selecting irrigated and non-irrigated fields, yet. We will default to non-irrigated if available, otherwise irrigated.",2013,2014,2015,2016,2017,2018,2019,2020,2021,2022,2023]
["ALCONA","AlconaCornAll",{"$f":"VLOOKUP($B3,'FSA19'!$E$5:$K$290,3,0)","v":129.65},{"$f":"VLOOKUP($B3,'FSA19'!$E$5:$K$290,4,0)","v":79.5},{"$f":"VLOOKUP($B3,'FSA19'!$E$5:$K$290,5,0)","v":155.36000000000001},{"$f":"VLOOKUP($B3,'FSA19'!$E$5:$K$290,6,0)","v":118.6},{"$f":"VLOOKUP($B3,'FSA19'!$E$5:$K$290,7,0)","v":130.07},{"$f":"VLOOKUP(B3,'FSA 18'!$E$5:$BN$482,62,0)+R3","v":121.02},{"$f":"AVERAGE(D3:H3)+$R3","v":121.93},130.41600000000003,125.42720000000001,126.79263999999999,126.13716799999999,127.16060160000001,null,null,null,1.02,0.35,0.86,null,{"$f":"C3-($R3*6)","v":123.53},{"$f":"D3-($R3*5)","v":74.400000000000006},{"$f":"E3-($R3*4)","v":151.28},{"$f":"F3-($R3*3)","v":115.53999999999999},{"$f":"G3-($R3*2)","v":128.03},{"$f":"H3-($R3*1)","v":120},{"$f":"I3","v":121.93},{"$f":"J3","v":130.41600000000003},{"$f":"K3","v":125.42720000000001},{"$f":"L3","v":126.79263999999999},{"$f":"M3","v":126.13716799999999}]
["ALGER","AlgerCornAll",{"$f":"VLOOKUP($B4,'FSA19'!$E$5:$K$290,3,0)","v":120},{"$f":"VLOOKUP($B4,'FSA19'!$E$5:$K$290,4,0)","v":52.8},{"$f":"VLOOKUP($B4,'FSA19'!$E$5:$K$290,5,0)","v":132},{"$f":"VLOOKUP($B4,'FSA19'!$E$5:$K$290,6,0)","v":87},{"$f":"VLOOKUP($B4,'FSA19'!$E$5:$K$290,7,0)","v":58.4},{"$f":"VLOOKUP(B4,'FSA 18'!$E$5:$BN$482,62,0)+R4","v":112.04},{"$f":"AVERAGE(D4:H4)+$R4","v":89.488000000000014},{"$f":"AVERAGE(E4:I4)+$R4","v":96.825600000000009},{"$f":"AVERAGE(F4:J4)+$R4","v":89.790720000000007},{"$f":"AVERAGE(G4:K4)+$R4","v":90.348864000000006},{"$f":"AVERAGE(H4:L4)+$R4","v":96.738636800000009},{"$f":"AVERAGE(I4:M4)+$R4","v":93.678364160000015},null,null,null,1.04,null,0.67,null,{"$f":"C4-($R4*6)","v":113.76},{"$f":"D4-($R4*5)","v":47.599999999999994},{"$f":"E4-($R4*4)","v":127.84},{"$f":"F4-($R4*3)","v":83.88},{"$f":"G4-($R4*2)","v":56.32},{"$f":"H4-($R4*1)","v":111},89.488000000000014,96.825600000000009,89.790720000000007,90.348864000000006,96.738636800000009]
["ALLEGAN","AlleganCornIrrigated",{"$f":"VLOOKUP($B5,'FSA19'!$E$5:$K$290,3,0)","v":217.16},{"$f":"VLOOKUP($B5,'FSA19'!$E$5:$K$290,4,0)","v":228.69},{"$f":"VLOOKUP($B5,'FSA19'!$E$5:$K$290,5,0)","v":182.78},{"$f":"VLOOKUP($B5,'FSA19'!$E$5:$K$290,6,0)","v":222.1},{"$f":"VLOOKUP($B5,'FSA19'!$E$5:$K$290,7,0)","v":225.31},{"$f":"AVERAGE(C5:G5)+R5","v":217.358},217.39760000000001,215.13912000000002,221.61094400000002,221.51313280000005,220.75375936,221.43291123200001,null,null,null,2.15,0.55000000000000004,0.82,null,204.26,217.94,174.18,215.65,221.01,215.208,217.39760000000001,215.13912000000002,221.61094400000002,221.51313280000005,220.75375936]
["ALPENA","AlleganCornNonirrigated",{"$f":"VLOOKUP($B6,'FSA19'!$E$5:$K$290,3,0)","v":166.56},{"$f":"VLOOKUP($B6,'FSA19'!$E$5:$K$290,4,0)","v":171.71},{"$f":"VLOOKUP($B6,'FSA19'!$E$5:$K$290,5,0)","v":160.30000000000001},{"$f":"VLOOKUP($B6,'FSA19'!$E$5:$K$290,6,0)","v":176.14},{"$f":"VLOOKUP($B6,'FSA19'!$E$5:$K$290,7,0)","v":182},{"$f":"AVERAGE(C6:G6)+R6","v":173.49200000000002},174.87840000000003,175.51208000000003,178.55449600000003,179.03739519999999,178.44487423999999,179.43544908800001,null,null,null,2.15,0.55000000000000004,0.82,null,153.66,160.96,151.70000000000002,169.69,177.7,171.34200000000001,174.87840000000003,175.51208000000003,178.55449600000003,179.03739519999999,178.44487423999999]
["ANTRIM","AlpenaCornAll",{"$f":"VLOOKUP($B7,'FSA19'!$E$5:$K$290,3,0)","v":108.34},{"$f":"VLOOKUP($B7,'FSA19'!$E$5:$K$290,4,0)","v":107.6},{"$f":"VLOOKUP($B7,'FSA19'!$E$5:$K$290,5,0)","v":140.25},{"$f":"VLOOKUP($B7,'FSA19'!$E$5:$K$290,6,0)","v":100.14},{"$f":"VLOOKUP($B7,'FSA19'!$E$5:$K$290,7,0)","v":144.77000000000001},{"$f":"VLOOKUP(B7,'FSA 18'!$E$5:$BN$482,62,0)+R7","v":106.2},120.992,123.6704,120.35448000000001,124.39737600000001,120.32285120000002,123.14742144000002,null,null,null,1.2,0.27,0.64,null,101.14,101.6,135.44999999999999,96.54,142.37,105,120.992,123.6704,120.35448000000001,124.39737600000001,120.32285120000002]
["ARENAC","AntrimCornAll",{"$f":"VLOOKUP($B8,'FSA19'!$E$5:$K$290,3,0)","v":135.88},{"$f":"VLOOKUP($B8,'FSA19'!$E$5:$K$290,4,0)","v":99.8},{"$f":"VLOOKUP($B8,'FSA19'!$E$5:$K$290,5,0)","v":104.57},{"$f":"VLOOKUP($B8,'FSA19'!$E$5:$K$290,6,0)","v":101.34},{"$f":"VLOOKUP($B8,'FSA19'!$E$5:$K$290,7,0)","v":137.55000000000001},{"$f":"VLOOKUP(B8,'FSA 18'!$E$5:$BN$482,62,0)+R8","v":112.07},112.136,114.6032,116.60983999999999,119.66380799999999,116.08656959999999,116.88988351999998,null,null,null,1.07,0.33,0.25,null,129.46,94.45,100.28999999999999,98.13000000000001,135.41000000000003,111,112.136,114.6032,116.60983999999999,119.66380799999999,116.08656959999999]
["BARAGA","ArenacCornAll",{"$f":"VLOOKUP($B9,'FSA19'!$E$5:$K$290,3,0)","v":141.19999999999999},{"$f":"VLOOKUP($B9,'FSA19'!$E$5:$K$290,4,0)","v":147.79},{"$f":"VLOOKUP($B9,'FSA19'!$E$5:$K$290,5,0)","v":165.26},{"$f":"VLOOKUP($B9,'FSA19'!$E$5:$K$290,6,0)","v":148.44999999999999},{"$f":"VLOOKUP($B9,'FSA19'!$E$5:$K$290,7,0)","v":169.14},{"$f":"VLOOKUP(B9,'FSA 18'!$E$5:$BN$482,62,0)+R9","v":161.81},160.29999999999995,162.80199999999999,162.31039999999999,165.08247999999998,164.27097599999999,164.76317119999999,null,null,null,1.81,0.53,0.88,null,130.33999999999997,138.73999999999998,158.01999999999998,143.01999999999998,165.51999999999998,160,160.29999999999995,162.80199999999999,162.31039999999999,165.08247999999998,164.27097599999999]
["BARRY","BaragaCornAll",{"$f":"VLOOKUP($B10,'FSA19'!$E$5:$K$290,3,0)","v":120},{"$f":"VLOOKUP($B10,'FSA19'!$E$5:$K$290,4,0)","v":69.599999999999994},{"$f":"VLOOKUP($B10,'FSA19'!$E$5:$K$290,5,0)","v":132},{"$f":"VLOOKUP($B10,'FSA19'!$E$5:$K$290,6,0)","v":87},{"$f":"VLOOKUP($B10,'FSA19'!$E$5:$K$290,7,0)","v":84},{"$f":"VLOOKUP(B10,'FSA 18'!$E$5:$BN$482,62,0)+R10","v":111.97},97.884000000000015,103.5408,97.848960000000005,100.01875200000001,103.22250240000001,101.47300288000001,null,null,null,0.97,null,null,null,{"$f":"C10-($R10*6)","v":114.18},64.75,128.12,84.09,82.06,111,97.884000000000015,103.5408,97.848960000000005,100.01875200000001,103.22250240000001]
["BAY","BarryCornIrrigated",{"$f":"VLOOKUP($B11,'FSA19'!$E$5:$K$290,3,0)","v":206.55},{"$f":"VLOOKUP($B11,'FSA19'!$E$5:$K$290,4,0)","v":183.25},{"$f":"VLOOKUP($B11,'FSA19'!$E$5:$K$290,5,0)","v":195.94},{"$f":"VLOOKUP($B11,'FSA19'!$E$5:$K$290,6,0)","v":186.71},{"$f":"VLOOKUP($B11,'FSA19'!$E$5:$K$290,7,0)","v":201.61},{"$f":"AVERAGE(C11:G11)+R11","v":196.762},194.80439999999999,197.11527999999998,197.350336,199.4784032,199.05208383999997,199.51010060799999,null,null,null,1.95,0.52,0.86,null,194.85000000000002,173.5,188.14,180.86,197.71,194.81200000000001,194.80439999999999,197.11527999999998,197.350336,199.4784032,199.05208383999997]
["BENZIE","BarryCornNonirrigated",{"$f":"VLOOKUP($B12,'FSA19'!$E$5:$K$290,3,0)","v":172.42},{"$f":"VLOOKUP($B12,'FSA19'!$E$5:$K$290,4,0)","v":171},{"$f":"VLOOKUP($B12,'FSA19'!$E$5:$K$290,5,0)","v":162.33000000000001},{"$f":"VLOOKUP($B12,'FSA19'!$E$5:$K$290,6,0)","v":146.19999999999999},{"$f":"VLOOKUP($B12,'FSA19'!$E$5:$K$290,7,0)","v":170.37},{"$f":"AVERAGE(C12:G12)+R12","v":166.41399999999999},165.21280000000002,164.05535999999998,164.40043199999997,168.04051839999997,167.57462207999998,167.80674649599996,null,null,null,1.95,0.52,0.86,null,160.72,161.25,154.53,140.35,166.47,164.464,{"$f":"I12","v":165.21280000000002},164.05535999999998,164.40043199999997,168.04051839999997,167.57462207999998]
["BERRIEN","BayCornIrrigated",{"$f":"VLOOKUP($B13,'FSA19'!$E$5:$K$290,3,0)","v":184.25},{"$f":"VLOOKUP($B13,'FSA19'!$E$5:$K$290,4,0)","v":203.45},{"$f":"VLOOKUP($B13,'FSA19'!$E$5:$K$290,5,0)","v":206.56},{"$f":"VLOOKUP($B13,'FSA19'!$E$5:$K$290,6,0)","v":198.59},{"$f":"VLOOKUP($B13,'FSA19'!$E$5:$K$290,7,0)","v":182.62},{"$f":"AVERAGE(C13:G13)+R13","v":197.024},199.5788,198.80456000000001,197.25347200000002,196.9861664,199.85939968000002,200.42647961600002,null,null,null,1.93,0.56000000000000005,0.98,null,172.67,193.79999999999998,198.84,192.8,178.76,195.09399999999999,199.5788,198.80456000000001,197.25347200000002,196.9861664,199.85939968000002]
["BRANCH","BayCornNonirrigated",{"$f":"VLOOKUP($B14,'FSA19'!$E$5:$K$290,3,0)","v":161.54},{"$f":"VLOOKUP($B14,'FSA19'!$E$5:$K$290,4,0)","v":184.5},{"$f":"VLOOKUP($B14,'FSA19'!$E$5:$K$290,5,0)","v":186.74},{"$f":"VLOOKUP($B14,'FSA19'!$E$5:$K$290,6,0)","v":172.96},{"$f":"VLOOKUP($B14,'FSA19'!$E$5:$K$290,7,0)","v":172.05},{"$f":"AVERAGE(C14:G14)+R14","v":177.488},180.67760000000001,179.91312000000002,178.54774400000002,179.66529280000003,181.18835136000007,181.92842163200007,null,null,null,1.93,0.56000000000000005,0.98,null,149.95999999999998,174.85,179.02,167.17000000000002,168.19,175.55799999999999,180.67760000000001,179.91312000000002,178.54774400000002,179.66529280000003,181.18835136000007]
["CALHOUN","BenzieCornAll",{"$f":"VLOOKUP($B15,'FSA19'!$E$5:$K$290,3,0)","v":120.72},{"$f":"VLOOKUP($B15,'FSA19'!$E$5:$K$290,4,0)","v":101.42},{"$f":"VLOOKUP($B15,'FSA19'!$E$5:$K$290,5,0)","v":86.28},{"$f":"VLOOKUP($B15,'FSA19'!$E$5:$K$290,6,0)","v":102.61},{"$f":"VLOOKUP($B15,'FSA19'!$E$5:$K$290,7,0)","v":129.04},{"$f":"VLOOKUP(B15,'FSA 18'!$E$5:$BN$482,62,0)+R15","v":112.05},107.33,108.51199999999999,112.95839999999998,115.02808,112.22569599999999,112.26083519999999,null,null,null,1.05,null,null,null,114.42,96.17,82.08,99.46,126.94,111,107.33,108.51199999999999,112.95839999999998,115.02808,112.22569599999999]
["CASS","BerrienCornIrrigated",{"$f":"VLOOKUP($B16,'FSA19'!$E$5:$K$290,3,0)","v":216.35},{"$f":"VLOOKUP($B16,'FSA19'!$E$5:$K$290,4,0)","v":203.91},{"$f":"VLOOKUP($B16,'FSA19'!$E$5:$K$290,5,0)","v":221.29},{"$f":"VLOOKUP($B16,'FSA19'!$E$5:$K$290,6,0)","v":205.81},{"$f":"VLOOKUP($B16,'FSA19'!$E$5:$K$290,7,0)","v":234.01},{"$f":"AVERAGE(C16:G16)+R16","v":218.49399999999997},218.92279999999997,221.92536000000001,222.05243199999998,225.30091839999997,223.55910207999997,224.57212249599999,null,null,null,2.2200000000000002,0.53,0.77,null,203.03,192.81,212.41,199.15,229.57,216.27399999999997,218.92279999999997,221.92536000000001,222.05243199999998,225.30091839999997,223.55910207999997]
["CHARLEVOIX","BerrienCornNonirrigated",{"$f":"VLOOKUP($B17,'FSA19'!$E$5:$K$290,3,0)","v":167.56},{"$f":"VLOOKUP($B17,'FSA19'!$E$5:$K$290,4,0)","v":166.52},{"$f":"VLOOKUP($B17,'FSA19'!$E$5:$K$290,5,0)","v":179.46},{"$f":"VLOOKUP($B17,'FSA19'!$E$5:$K$290,6,0)","v":167.33},{"$f":"VLOOKUP($B17,'FSA19'!$E$5:$K$290,7,0)","v":175.69},{"$f":"AVERAGE(C17:G17)+R17","v":173.53200000000004},174.72640000000001,176.36768000000001,175.74921599999999,177.4330592,177.78167103999999,178.631605248,null,null,null,2.2200000000000002,0.53,0.77,null,154.24,155.42000000000002,170.58,160.67000000000002,171.25,171.31200000000004,174.72640000000001,176.36768000000001,175.74921599999999,177.4330592,177.78167103999999]
["CHEBOYGAN","BranchCornIrrigated",{"$f":"VLOOKUP($B18,'FSA19'!$E$5:$K$290,3,0)","v":193.3},{"$f":"VLOOKUP($B18,'FSA19'!$E$5:$K$290,4,0)","v":188.28},{"$f":"VLOOKUP($B18,'FSA19'!$E$5:$K$290,5,0)","v":191.66},{"$f":"VLOOKUP($B18,'FSA19'!$E$5:$K$290,6,0)","v":192.69},{"$f":"VLOOKUP($B18,'FSA19'!$E$5:$K$290,7,0)","v":197.26},{"$f":"VLOOKUP(B18,'FSA 18'!$E$5:$BN$482,62,0)+R18","v":154.81},186.75,186.44400000000002,185.4008,183.94295999999997,181.279552,186.57346240000001,null,null,null,1.81,0.48,0.65,null,182.44,179.23,184.42,187.26,193.64,153,186.75,186.44400000000002,185.4008,183.94295999999997,181.279552]
["CHIPPEWA","BranchCornNonirrigated",{"$f":"VLOOKUP($B19,'FSA19'!$E$5:$K$290,3,0)","v":173.68},{"$f":"VLOOKUP($B19,'FSA19'!$E$5:$K$290,4,0)","v":158.22},{"$f":"VLOOKUP($B19,'FSA19'!$E$5:$K$290,5,0)","v":161.56},{"$f":"VLOOKUP($B19,'FSA19'!$E$5:$K$290,6,0)","v":163.99},{"$f":"VLOOKUP($B19,'FSA19'!$E$5:$K$290,7,0)","v":159.6},{"$f":"VLOOKUP(B19,'FSA 18'!$E$5:$BN$482,62,0)+R19","v":152.81},161.04600000000002,161.61120000000003,161.62144000000001,161.14772800000003,161.45727360000001,163.18672832000004,null,null,null,1.81,0.48,0.65,null,162.82,149.16999999999999,154.32,158.56,155.97999999999999,151,161.04600000000002,161.61120000000003,161.62144000000001,161.14772800000003,161.45727360000001]
["CLARE","CalhounCornIrrigated",{"$f":"VLOOKUP($B20,'FSA19'!$E$5:$K$290,3,0)","v":218.96},{"$f":"VLOOKUP($B20,'FSA19'!$E$5:$K$290,4,0)","v":214.95},{"$f":"VLOOKUP($B20,'FSA19'!$E$5:$K$290,5,0)","v":208.52},{"$f":"VLOOKUP($B20,'FSA19'!$E$5:$K$290,6,0)","v":194.15},{"$f":"VLOOKUP($B20,'FSA19'!$E$5:$K$290,7,0)","v":194.96},{"$f":"AVERAGE(C20:G20)+R20","v":207.81799999999998},205.58959999999999,203.71751999999998,202.757024,204.47842879999999,206.38211455999999,206.09493747199997,null,null,null,1.51,0.44,0.66,null,209.9,207.39999999999998,202.48000000000002,189.62,191.94,206.30799999999999,205.58959999999999,203.71751999999998,202.757024,204.47842879999999,206.38211455999999]
["CLINTON","CalhounCornNonirrigated",{"$f":"VLOOKUP($B21,'FSA19'!$E$5:$K$290,3,0)","v":178.96},{"$f":"VLOOKUP($B21,'FSA19'!$E$5:$K$290,4,0)","v":157.58000000000001},{"$f":"VLOOKUP($B21,'FSA19'!$E$5:$K$290,5,0)","v":160.53},{"$f":"VLOOKUP($B21,'FSA19'!$E$5:$K$290,6,0)","v":139.96},{"$f":"VLOOKUP($B21,'FSA19'!$E$5:$K$290,7,0)","v":140.26},{"$f":"AVERAGE(C21:G21)+R21","v":156.96800000000002},152.56959999999998,151.56752,149.77502399999997,151.7380288,154.03363455999997,153.44676147199999,null,null,null,1.51,0.44,0.66,null,169.9,150.03,154.49,135.43,137.23999999999998,155.45800000000003,152.56959999999998,151.56752,149.77502399999997,151.7380288,154.03363455999997]
["DELTA","CassCornIrrigated",{"$f":"VLOOKUP($B22,'FSA19'!$E$5:$K$290,3,0)","v":211.75},{"$f":"VLOOKUP($B22,'FSA19'!$E$5:$K$290,4,0)","v":207.71},{"$f":"VLOOKUP($B22,'FSA19'!$E$5:$K$290,5,0)","v":206},{"$f":"VLOOKUP($B22,'FSA19'!$E$5:$K$290,6,0)","v":194.12},{"$f":"VLOOKUP($B22,'FSA19'!$E$5:$K$290,7,0)","v":216.61},{"$f":"VLOOKUP(B22,'FSA 18'!$E$5:$BN$482,62,0)+R22","v":155.06},197.96,196.01,194.012,193.99040000000002,189.46647999999999,196.34777599999998,null,null,null,2.06,0.52,0.64,null,199.39,197.41,197.76,187.94,212.49,153,197.96,196.01,194.012,193.99040000000002,189.46647999999999]
["DICKINSON","CassCornNonirrigated",{"$f":"VLOOKUP($B23,'FSA19'!$E$5:$K$290,3,0)","v":155.15},{"$f":"VLOOKUP($B23,'FSA19'!$E$5:$K$290,4,0)","v":151.28},{"$f":"VLOOKUP($B23,'FSA19'!$E$5:$K$290,5,0)","v":155.41999999999999},{"$f":"VLOOKUP($B23,'FSA19'!$E$5:$K$290,6,0)","v":124.35},{"$f":"VLOOKUP($B23,'FSA19'!$E$5:$K$290,7,0)","v":157.53},{"$f":"VLOOKUP(B23,'FSA 18'!$E$5:$BN$482,62,0)+R23","v":148.06},149.38799999999998,149.00959999999998,147.72752,152.40302399999999,151.3776288,152.04115456,null,null,null,2.06,0.52,0.64,null,142.79000000000002,140.97999999999999,147.17999999999998,118.16999999999999,153.41,146,149.38799999999998,149.00959999999998,147.72752,152.40302399999999,151.3776288]
["EATON","CharlevoixCornAll",{"$f":"VLOOKUP($B24,'FSA19'!$E$5:$K$290,3,0)","v":116.49},{"$f":"VLOOKUP($B24,'FSA19'!$E$5:$K$290,4,0)","v":101.03},{"$f":"VLOOKUP($B24,'FSA19'!$E$5:$K$290,5,0)","v":106.83},{"$f":"VLOOKUP($B24,'FSA19'!$E$5:$K$290,6,0)","v":105.68},{"$f":"VLOOKUP($B24,'FSA19'!$E$5:$K$290,7,0)","v":116.3},{"$f":"VLOOKUP(B24,'FSA 18'!$E$5:$BN$482,62,0)+R24","v":111.95},109.30800000000002,110.9636,111.79032000000002,113.012384,112.35486080000001,112.43583296000001,null,null,null,0.95,0.3,0.35,null,110.78999999999999,96.28,103.03,102.83000000000001,114.39999999999999,111,109.30800000000002,110.9636,111.79032000000002,113.012384,112.35486080000001]
["EMMET","CheboyganCornAll",{"$f":"VLOOKUP($B25,'FSA19'!$E$5:$K$290,3,0)","v":112.79},{"$f":"VLOOKUP($B25,'FSA19'!$E$5:$K$290,4,0)","v":138.5},{"$f":"VLOOKUP($B25,'FSA19'!$E$5:$K$290,5,0)","v":100.9},{"$f":"VLOOKUP($B25,'FSA19'!$E$5:$K$290,6,0)","v":97},{"$f":"VLOOKUP($B25,'FSA19'!$E$5:$K$290,7,0)","v":131},{"$f":"VLOOKUP(B25,'FSA 18'!$E$5:$BN$482,62,0)+R25","v":118.36},118.512,114.51439999999998,117.23728,121.28473599999998,119.34168319999999,119.53801984,null,null,null,1.36,0.34,0.73,null,104.63000000000001,131.69999999999999,95.460000000000008,92.92,128.28,117,118.512,114.51439999999998,117.23728,121.28473599999998,119.34168319999999]
["GENESEE","ChippewaCornAll",{"$f":"VLOOKUP($B26,'FSA19'!$E$5:$K$290,3,0)","v":119},{"$f":"VLOOKUP($B26,'FSA19'!$E$5:$K$290,4,0)","v":69.599999999999994},{"$f":"VLOOKUP($B26,'FSA19'!$E$5:$K$290,5,0)","v":132},{"$f":"VLOOKUP($B26,'FSA19'!$E$5:$K$290,6,0)","v":884},{"$f":"VLOOKUP($B26,'FSA19'!$E$5:$K$290,7,0)","v":84},{"$f":"VLOOKUP(B26,'FSA 18'!$E$5:$BN$482,62,0)+R26","v":111.98},257.29599999999999,294.83520000000004,327.40224000000001,216.08268800000002,242.49922560000002,268.60307072000006,null,null,null,0.98,0.27,0.65,null,113.12,64.699999999999989,128.08000000000001,881.06,82.04,111,257.29599999999999,294.83520000000004,327.40224000000001,216.08268800000002,242.49922560000002]
["GLADWIN","ClareCornAll",{"$f":"VLOOKUP($B27,'FSA19'!$E$5:$K$290,3,0)","v":115.14},{"$f":"VLOOKUP($B27,'FSA19'!$E$5:$K$290,4,0)","v":135.46},{"$f":"VLOOKUP($B27,'FSA19'!$E$5:$K$290,5,0)","v":133.37},{"$f":"VLOOKUP($B27,'FSA19'!$E$5:$K$290,6,0)","v":121.67},{"$f":"VLOOKUP($B27,'FSA19'!$E$5:$K$290,7,0)","v":134.29},{"$f":"VLOOKUP(B27,'FSA 18'!$E$5:$BN$482,62,0)+R27","v":107.61},128.09000000000003,126.61600000000001,125.26520000000001,125.98424000000001,124.32308800000001,127.66570560000001,null,null,null,1.61,0.39,0.62,null,105.48,127.41000000000001,126.93,116.84,131.07,106,128.09000000000003,126.61600000000001,125.26520000000001,125.98424000000001,124.32308800000001]
["GOGEBIC","ClintonCornIrrigated",{"$f":"VLOOKUP($B28,'FSA19'!$E$5:$K$290,3,0)","v":204.15},{"$f":"VLOOKUP($B28,'FSA19'!$E$5:$K$290,4,0)","v":216.29},{"$f":"VLOOKUP($B28,'FSA19'!$E$5:$K$290,5,0)","v":216.14},{"$f":"VLOOKUP($B28,'FSA19'!$E$5:$K$290,6,0)","v":184.98},{"$f":"VLOOKUP($B28,'FSA19'!$E$5:$K$290,7,0)","v":192.17},{"$f":"AVERAGE(C28:G28)+R28","v":204.66599999999997},204.76919999999996,202.46503999999996,199.73004799999995,202.68005759999997,204.78206911999993,204.80528294399994,null,null,null,1.92,0.47,1.04,null,192.63,206.69,208.45999999999998,179.22,188.32999999999998,202.74599999999998,204.76919999999996,202.46503999999996,199.73004799999995,202.68005759999997,204.78206911999993]
["GRAND TRAVERSE","ClintonCornNonirrigated",{"$f":"VLOOKUP($B29,'FSA19'!$E$5:$K$290,3,0)","v":155.38999999999999},{"$f":"VLOOKUP($B29,'FSA19'!$E$5:$K$290,4,0)","v":168},{"$f":"VLOOKUP($B29,'FSA19'!$E$5:$K$290,5,0)","v":179.81},{"$f":"VLOOKUP($B29,'FSA19'!$E$5:$K$290,6,0)","v":159.46},{"$f":"VLOOKUP($B29,'FSA19'!$E$5:$K$290,7,0)","v":154.06},{"$f":"AVERAGE(C29:G29)+R29","v":165.26399999999998},167.23879999999997,167.08655999999996,164.54187199999998,165.55824639999997,167.85789567999996,168.37667481599996,null,null,null,1.92,0.47,1.04,null,143.86999999999998,158.4,172.13,153.70000000000002,150.22,163.34399999999999,167.23879999999997,167.08655999999996,164.54187199999998,165.55824639999997,167.85789567999996]
["GRATIOT","DeltaCornAll",{"$f":"VLOOKUP($B30,'FSA19'!$E$5:$K$290,3,0)","v":126.7},{"$f":"VLOOKUP($B30,'FSA19'!$E$5:$K$290,4,0)","v":53.95},{"$f":"VLOOKUP($B30,'FSA19'!$E$5:$K$290,5,0)","v":138.9},{"$f":"VLOOKUP($B30,'FSA19'!$E$5:$K$290,6,0)","v":118.6},{"$f":"VLOOKUP($B30,'FSA19'!$E$5:$K$290,7,0)","v":55.18},{"$f":"VLOOKUP(B30,'FSA 18'!$E$5:$BN$482,62,0)+R30","v":152.91},104.81800000000001,114.99160000000001,110.20992000000001,108.531904,119.20228480000002,112.46074176,null,null,null,0.91,0.28000000000000003,0.67,null,121.24000000000001,49.400000000000006,135.26000000000002,115.86999999999999,53.36,152,104.81800000000001,114.99160000000001,110.20992000000001,108.531904,119.20228480000002]
["HILLSDALE","DickinsonCornAll",{"$f":"VLOOKUP($B31,'FSA19'!$E$5:$K$290,3,0)","v":116.62},{"$f":"VLOOKUP($B31,'FSA19'!$E$5:$K$290,4,0)","v":56},{"$f":"VLOOKUP($B31,'FSA19'!$E$5:$K$290,5,0)","v":170.29},{"$f":"VLOOKUP($B31,'FSA19'!$E$5:$K$290,6,0)","v":66.099999999999994},{"$f":"VLOOKUP($B31,'FSA19'!$E$5:$K$290,7,0)","v":80.84},{"$f":"VLOOKUP(B31,'FSA 18'!$E$5:$BN$482,62,0)+R31","v":159.08000000000001},107.54200000000002,117.85040000000002,107.36248000000001,115.614976,122.56997120000001,115.26796544000001,null,null,null,1.08,null,0.56000000000000005,null,110.14,50.6,165.97,62.859999999999992,78.680000000000007,158,107.54200000000002,117.85040000000002,107.36248000000001,115.614976,122.56997120000001]
["HOUGHTON","EatonCornAll",{"$f":"VLOOKUP($B32,'FSA19'!$E$5:$K$290,3,0)","v":187.02},{"$f":"VLOOKUP($B32,'FSA19'!$E$5:$K$290,4,0)","v":177.62},{"$f":"VLOOKUP($B32,'FSA19'!$E$5:$K$290,5,0)","v":171.02},{"$f":"VLOOKUP($B32,'FSA19'!$E$5:$K$290,6,0)","v":149.97},{"$f":"VLOOKUP($B32,'FSA19'!$E$5:$K$290,7,0)","v":178.21},{"$f":"VLOOKUP(B32,'FSA 18'!$E$5:$BN$482,62,0)+R32","v":150.08000000000001},167.46000000000004,165.42800000000003,164.30960000000002,167.17752000000004,164.97102400000006,167.94922880000004,null,null,null,2.08,0.47,0.79,null,174.54000000000002,167.22,162.70000000000002,143.72999999999999,174.05,148,167.46000000000004,165.42800000000003,164.30960000000002,167.17752000000004,164.97102400000006]
["HURON","EmmetCornAll",{"$f":"VLOOKUP($B33,'FSA19'!$E$5:$K$290,3,0)","v":85.56},{"$f":"VLOOKUP($B33,'FSA19'!$E$5:$K$290,4,0)","v":97.6},{"$f":"VLOOKUP($B33,'FSA19'!$E$5:$K$290,5,0)","v":117.04},{"$f":"VLOOKUP($B33,'FSA19'!$E$5:$K$290,6,0)","v":110.48},{"$f":"VLOOKUP($B33,'FSA19'!$E$5:$K$290,7,0)","v":122.52},{"$f":"VLOOKUP(B33,'FSA 18'!$E$5:$BN$482,62,0)+R33","v":112},112.928,115.99360000000001,115.78432000000001,116.84518399999999,115.7102208,116.45226496000001,null,null,null,1,0.28000000000000003,0.79,null,79.56,92.6,113.04,107.48,120.52,111,112.928,115.99360000000001,115.78432000000001,116.84518399999999,115.7102208]
["INGHAM","GeneseeCornAll",{"$f":"VLOOKUP($B34,'FSA19'!$E$5:$K$290,3,0)","v":157.91},{"$f":"VLOOKUP($B34,'FSA19'!$E$5:$K$290,4,0)","v":148.1},{"$f":"VLOOKUP($B34,'FSA19'!$E$5:$K$290,5,0)","v":180.95},{"$f":"VLOOKUP($B34,'FSA19'!$E$5:$K$290,6,0)","v":156.33000000000001},{"$f":"VLOOKUP($B34,'FSA19'!$E$5:$K$290,7,0)","v":171.63},{"$f":"VLOOKUP(B34,'FSA 18'!$E$5:$BN$482,62,0)+R34","v":145.51},162.01399999999998,164.79679999999999,161.56616,162.61339199999998,160.81007039999997,163.87008447999997,null,null,null,1.51,0.39,0.7,null,148.85,140.54999999999998,174.91,151.80000000000001,168.60999999999999,144,162.01399999999998,164.79679999999999,161.56616,162.61339199999998,160.81007039999997]
["IONIA","GladwinCornAll",{"$f":"VLOOKUP($B35,'FSA19'!$E$5:$K$290,3,0)","v":122.06},{"$f":"VLOOKUP($B35,'FSA19'!$E$5:$K$290,4,0)","v":140.86000000000001},{"$f":"VLOOKUP($B35,'FSA19'!$E$5:$K$290,5,0)","v":153.09},{"$f":"VLOOKUP($B35,'FSA19'!$E$5:$K$290,6,0)","v":150.30000000000001},{"$f":"VLOOKUP($B35,'FSA19'!$E$5:$K$290,7,0)","v":146.08000000000001},{"$f":"VLOOKUP(B35,'FSA 18'!$E$5:$BN$482,62,0)+R35","v":159.06},151.93800000000002,154.15359999999998,154.36632,155.17958399999998,156.99950079999999,156.58740095999997,null,null,null,2.06,0.51,0.85,null,109.7,130.56,144.85,144.12,141.96,157,151.93800000000002,154.15359999999998,154.36632,155.17958399999998,156.99950079999999]
["IOSCO","Grand TraverseCornAll",{"$f":"VLOOKUP($B36,'FSA19'!$E$5:$K$290,3,0)","v":85.83},{"$f":"VLOOKUP($B36,'FSA19'!$E$5:$K$290,4,0)","v":71.150000000000006},{"$f":"VLOOKUP($B36,'FSA19'!$E$5:$K$290,5,0)","v":106.54},{"$f":"VLOOKUP($B36,'FSA19'!$E$5:$K$290,6,0)","v":80.989999999999995},{"$f":"VLOOKUP($B36,'FSA19'!$E$5:$K$290,7,0)","v":129.5},{"$f":"VLOOKUP(B36,'FSA 18'!$E$5:$BN$482,62,0)+R36","v":84.69},95.263999999999996,100.0868,98.79616,102.35739199999999,96.928870399999994,99.376644479999996,null,null,null,0.69,0.27,0.51,null,81.69,67.7,103.78,78.92,128.12,84,95.263999999999996,100.0868,98.79616,102.35739199999999,96.928870399999994]
["IRON","GratiotCornIrrigated",{"$f":"VLOOKUP($B37,'FSA19'!$E$5:$K$290,3,0)","v":173.36},{"$f":"VLOOKUP($B37,'FSA19'!$E$5:$K$290,4,0)","v":165.62},{"$f":"VLOOKUP($B37,'FSA19'!$E$5:$K$290,5,0)","v":179.4},{"$f":"VLOOKUP($B37,'FSA19'!$E$5:$K$290,6,0)","v":184.6},{"$f":"VLOOKUP($B37,'FSA19'!$E$5:$K$290,7,0)","v":181.74},{"$f":"AVERAGE(C37:G37)+R37","v":178.72400000000002},179.79680000000002,182.63216,183.27859200000003,183.0143104,183.26917248000001,184.17820697600004,null,null,null,1.78,0.43,1,null,162.68,156.72,172.28,179.26,178.18,176.94400000000002,179.79680000000002,182.63216,183.27859200000003,183.0143104,183.26917248000001]
["ISABELLA","GratiotCornNonirrigated",{"$f":"VLOOKUP($B38,'FSA19'!$E$5:$K$290,3,0)","v":158.22999999999999},{"$f":"VLOOKUP($B38,'FSA19'!$E$5:$K$290,4,0)","v":161.22},{"$f":"VLOOKUP($B38,'FSA19'!$E$5:$K$290,5,0)","v":178.93},{"$f":"VLOOKUP($B38,'FSA19'!$E$5:$K$290,6,0)","v":174.34},{"$f":"VLOOKUP($B38,'FSA19'!$E$5:$K$290,7,0)","v":159.75},{"$f":"AVERAGE(C38:G38)+R38","v":168.274},170.28280000000001,172.09536,170.728432,170.00611839999999,172.05734207999998,172.81401049600001,null,null,null,1.78,0.43,1,null,147.54999999999998,152.32,171.81,169,156.19,166.494,170.28280000000001,172.09536,170.728432,170.00611839999999,172.05734207999998]
["JACKSON","HillsdaleCornIrrigated",{"$f":"VLOOKUP($B39,'FSA19'!$E$5:$K$290,3,0)","v":212.98},{"$f":"VLOOKUP($B39,'FSA19'!$E$5:$K$290,4,0)","v":191.6},{"$f":"VLOOKUP($B39,'FSA19'!$E$5:$K$290,5,0)","v":186.64},{"$f":"VLOOKUP($B39,'FSA19'!$E$5:$K$290,6,0)","v":189.19},{"$f":"VLOOKUP($B39,'FSA19'!$E$5:$K$290,7,0)","v":196.89},{"$f":"AVERAGE(C39:G39)+R39","v":197.18},194.02,194.50400000000002,196.07679999999999,197.45416000000003,197.566992,197.64439039999999,null,null,null,1.72,0.47,0.94,null,202.66,183,179.76,184.03,193.45,195.46,194.02,194.50400000000002,196.07679999999999,197.45416000000003,197.566992]
["KALAMAZOO","HillsdaleCornNonirrigated",{"$f":"VLOOKUP($B40,'FSA19'!$E$5:$K$290,3,0)","v":186.59},{"$f":"VLOOKUP($B40,'FSA19'!$E$5:$K$290,4,0)","v":154.07},{"$f":"VLOOKUP($B40,'FSA19'!$E$5:$K$290,5,0)","v":160.69},{"$f":"VLOOKUP($B40,'FSA19'!$E$5:$K$290,6,0)","v":168.04},{"$f":"VLOOKUP($B40,'FSA19'!$E$5:$K$290,7,0)","v":165.34},{"$f":"AVERAGE(C40:G40)+R40","v":168.666},165.0812,167.28344000000001,168.60212800000002,168.71455359999999,169.38946432,169.53415718400001,null,null,null,1.72,0.47,0.94,null,176.27,145.47,153.81,162.88,161.9,166.946,165.0812,167.28344000000001,168.60212800000002,168.71455359999999,169.38946432]
["KALKASKA","HoughtonCornAll",{"$f":"VLOOKUP($B41,'FSA19'!$E$5:$K$290,3,0)","v":120},{"$f":"VLOOKUP($B41,'FSA19'!$E$5:$K$290,4,0)","v":52.8},{"$f":"VLOOKUP($B41,'FSA19'!$E$5:$K$290,5,0)","v":132},{"$f":"VLOOKUP($B41,'FSA19'!$E$5:$K$290,6,0)","v":87},{"$f":"VLOOKUP($B41,'FSA19'!$E$5:$K$290,7,0)","v":58.4},{"$f":"VLOOKUP(B41,'FSA 18'!$E$5:$BN$482,62,0)+R41","v":112.07},89.523999999999987,96.868799999999993,89.842559999999992,90.41107199999999,96.813286399999996,93.761943679999973,null,null,null,1.07,null,0.61,null,113.58,47.449999999999996,127.72,83.79,56.26,111,89.523999999999987,96.868799999999993,89.842559999999992,90.41107199999999,96.813286399999996]
["KENT","HuronCornIrrigated",{"$f":"VLOOKUP($B42,'FSA19'!$E$5:$K$290,3,0)","v":215.44},{"$f":"VLOOKUP($B42,'FSA19'!$E$5:$K$290,4,0)","v":205.7},{"$f":"VLOOKUP($B42,'FSA19'!$E$5:$K$290,5,0)","v":228.16},{"$f":"VLOOKUP($B42,'FSA19'!$E$5:$K$290,6,0)","v":236.83},{"$f":"VLOOKUP($B42,'FSA19'!$E$5:$K$290,7,0)","v":202.15},{"$f":"AVERAGE(C42:G42)+R42","v":219.916},220.81120000000001,223.83344000000002,222.96812799999998,220.19575359999999,223.80490432000002,224.58268518400001,null,null,null,2.2599999999999998,0.65,1.3,null,201.88,194.39999999999998,219.12,230.05,197.63,217.65600000000001,220.81120000000001,223.83344000000002,222.96812799999998,220.19575359999999,223.80490432000002]
["KEWEENAW","HuronCornNonirrigated",{"$f":"VLOOKUP($B43,'FSA19'!$E$5:$K$290,3,0)","v":190.68},{"$f":"VLOOKUP($B43,'FSA19'!$E$5:$K$290,4,0)","v":181.17},{"$f":"VLOOKUP($B43,'FSA19'!$E$5:$K$290,5,0)","v":206.26},{"$f":"VLOOKUP($B43,'FSA19'!$E$5:$K$290,6,0)","v":170.63},{"$f":"VLOOKUP($B43,'FSA19'!$E$5:$K$290,7,0)","v":198.98},{"$f":"AVERAGE(C43:G43)+R43","v":191.804},192.02879999999999,194.20056,191.78867199999999,196.02040639999998,195.42848767999999,196.15338521599998,null,null,null,2.2599999999999998,0.65,1.3,null,177.12,169.86999999999998,197.22,163.85,194.45999999999998,189.54400000000001,192.02879999999999,194.20056,191.78867199999999,196.02040639999998,195.42848767999999]
["LAKE","InghamCornAll",{"$f":"VLOOKUP($B44,'FSA19'!$E$5:$K$290,3,0)","v":179.59},{"$f":"VLOOKUP($B44,'FSA19'!$E$5:$K$290,4,0)","v":179.52},{"$f":"VLOOKUP($B44,'FSA19'!$E$5:$K$290,5,0)","v":178.42},{"$f":"VLOOKUP($B44,'FSA19'!$E$5:$K$290,6,0)","v":160.84},{"$f":"VLOOKUP($B44,'FSA19'!$E$5:$K$290,7,0)","v":164.74},{"$f":"VLOOKUP(B44,'FSA 18'!$E$5:$BN$482,62,0)+R44","v":137.02000000000001},166.12800000000001,163.4496,160.45552000000004,160.37862400000003,159.50634880000004,164.00361856000004,null,null,null,2.02,0.5,1.05,null,167.47,169.42000000000002,170.33999999999997,154.78,160.70000000000002,135,166.12800000000001,163.4496,160.45552000000004,160.37862400000003,159.50634880000004]
["LAPEER","IoniaCornIrrigated",{"$f":"VLOOKUP($B45,'FSA19'!$E$5:$K$290,3,0)","v":176.29},{"$f":"VLOOKUP($B45,'FSA19'!$E$5:$K$290,4,0)","v":154.53},{"$f":"VLOOKUP($B45,'FSA19'!$E$5:$K$290,5,0)","v":228.17},{"$f":"VLOOKUP($B45,'FSA19'!$E$5:$K$290,6,0)","v":218.63},{"$f":"VLOOKUP($B45,'FSA19'!$E$5:$K$290,7,0)","v":203.56},{"$f":"AVERAGE(C45:G45)+R45","v":198.46600000000001},202.90119999999996,212.57543999999996,209.45652799999996,207.62183359999997,208.43420031999997,210.42784038399998,null,null,null,2.23,0.54,0.96,null,162.91,143.38,219.25,211.94,199.1,196.23600000000002,202.90119999999996,212.57543999999996,209.45652799999996,207.62183359999997,208.43420031999997]
["LEELANAU","IoniaCornNonirrigated",{"$f":"VLOOKUP($B46,'FSA19'!$E$5:$K$290,3,0)","v":176.78},{"$f":"VLOOKUP($B46,'FSA19'!$E$5:$K$290,4,0)","v":171.49},{"$f":"VLOOKUP($B46,'FSA19'!$E$5:$K$290,5,0)","v":190.63},{"$f":"VLOOKUP($B46,'FSA19'!$E$5:$K$290,6,0)","v":177.39},{"$f":"VLOOKUP($B46,'FSA19'!$E$5:$K$290,7,0)","v":169.59},{"$f":"AVERAGE(C46:G46)+R46","v":179.40599999999998},179.93119999999999,181.61943999999997,179.81732799999997,180.30279359999997,182.44535231999996,183.05322278399996,null,null,null,2.23,0.54,0.96,null,163.4,160.34,181.71,170.7,165.13,177.17599999999999,179.93119999999999,181.61943999999997,179.81732799999997,180.30279359999997,182.44535231999996]
["LENAWEE","IoscoCornAll",{"$f":"VLOOKUP($B47,'FSA19'!$E$5:$K$290,3,0)","v":132.4},{"$f":"VLOOKUP($B47,'FSA19'!$E$5:$K$290,4,0)","v":127.58},{"$f":"VLOOKUP($B47,'FSA19'!$E$5:$K$290,5,0)","v":148.41999999999999},{"$f":"VLOOKUP($B47,'FSA19'!$E$5:$K$290,6,0)","v":139.16999999999999},{"$f":"VLOOKUP($B47,'FSA19'!$E$5:$K$290,7,0)","v":169.6},{"$f":"VLOOKUP(B47,'FSA 18'!$E$5:$BN$482,62,0)+R47","v":158.72},150.41800000000001,154.98560000000001,156.29872,159.72446400000001,157.74935680000002,157.55522815999998,null,null,null,1.72,0.43,0.95,null,122.08000000000001,118.98,141.54,134.01,166.16,157,150.41800000000001,154.98560000000001,156.29872,159.72446400000001,157.74935680000002]
["LIVINGSTON","IronCornAll",{"$f":"VLOOKUP($B48,'FSA19'!$E$5:$K$290,3,0)","v":120},{"$f":"VLOOKUP($B48,'FSA19'!$E$5:$K$290,4,0)","v":69.599999999999994},{"$f":"VLOOKUP($B48,'FSA19'!$E$5:$K$290,5,0)","v":132},{"$f":"VLOOKUP($B48,'FSA19'!$E$5:$K$290,6,0)","v":87},{"$f":"VLOOKUP($B48,'FSA19'!$E$5:$K$290,7,0)","v":84},{"$f":"VLOOKUP(B48,'FSA 18'!$E$5:$BN$482,62,0)+R48","v":112},97.92,103.58399999999999,97.900800000000004,100.08096,103.29715200000001,101.5565824,null,null,null,1,null,0.64,null,114,64.599999999999994,128,84,82,111,97.92,103.58399999999999,97.900800000000004,100.08096,103.29715200000001]
["LUCE","IsabellaCornIrrigated",{"$f":"VLOOKUP($B49,'FSA19'!$E$5:$K$290,3,0)","v":174.28},{"$f":"VLOOKUP($B49,'FSA19'!$E$5:$K$290,4,0)","v":148.91999999999999},{"$f":"VLOOKUP($B49,'FSA19'!$E$5:$K$290,5,0)","v":148.4},{"$f":"VLOOKUP($B49,'FSA19'!$E$5:$K$290,6,0)","v":158.88999999999999},{"$f":"VLOOKUP($B49,'FSA19'!$E$5:$K$290,7,0)","v":175.57},{"$f":"AVERAGE(C49:G49)+R49","v":163.322},161.13040000000001,163.57248000000001,166.606976,168.15037120000002,166.66644544000002,167.33533452800003,null,null,null,2.11,0.53,0.64,null,161.62,138.36999999999998,139.96,152.55999999999997,171.35,161.21199999999999,161.13040000000001,163.57248000000001,166.606976,168.15037120000002,166.66644544000002]
["MACKINAC","IsabellaCornNonirrigated",{"$f":"VLOOKUP($B50,'FSA19'!$E$5:$K$290,3,0)","v":152.25},{"$f":"VLOOKUP($B50,'FSA19'!$E$5:$K$290,4,0)","v":159},{"$f":"VLOOKUP($B50,'FSA19'!$E$5:$K$290,5,0)","v":161.72999999999999},{"$f":"VLOOKUP($B50,'FSA19'!$E$5:$K$290,6,0)","v":161.19999999999999},{"$f":"VLOOKUP($B50,'FSA19'!$E$5:$K$290,7,0)","v":157.35},{"$f":"AVERAGE(C50:G50)+R50","v":160.41600000000003},162.04920000000001,162.65904000000003,162.84484800000001,163.17381760000001,164.33858112000001,165.12309734400003,null,null,null,2.11,0.53,0.64,null,139.59,148.44999999999999,153.29,154.86999999999998,153.13,158.30600000000001,162.04920000000001,162.65904000000003,162.84484800000001,163.17381760000001,164.33858112000001]
["MACOMB","JacksonCornIrrigated",{"$f":"VLOOKUP($B51,'FSA19'!$E$5:$K$290,3,0)","v":198.77},{"$f":"VLOOKUP($B51,'FSA19'!$E$5:$K$290,4,0)","v":194.38},{"$f":"VLOOKUP($B51,'FSA19'!$E$5:$K$290,5,0)","v":196.55},{"$f":"VLOOKUP($B51,'FSA19'!$E$5:$K$290,6,0)","v":202.37},{"$f":"VLOOKUP($B51,'FSA19'!$E$5:$K$290,7,0)","v":226.13},{"$f":"AVERAGE(C51:G51)+R51","v":205.07000000000002},206.33,208.72000000000003,211.15400000000002,212.91080000000005,210.26696000000004,211.30635200000006,null,null,null,1.43,0.42,0.73,null,190.19,187.23,190.83,198.08,223.26999999999998,203.64000000000001,206.33,208.72000000000003,211.15400000000002,212.91080000000005,210.26696000000004]
["MANISTEE","JacksonCornNonirrigated",{"$f":"VLOOKUP($B52,'FSA19'!$E$5:$K$290,3,0)","v":173.96},{"$f":"VLOOKUP($B52,'FSA19'!$E$5:$K$290,4,0)","v":164.4},{"$f":"VLOOKUP($B52,'FSA19'!$E$5:$K$290,5,0)","v":151.04},{"$f":"VLOOKUP($B52,'FSA19'!$E$5:$K$290,6,0)","v":119.91},{"$f":"VLOOKUP($B52,'FSA19'!$E$5:$K$290,7,0)","v":128.87},{"$f":"AVERAGE(C52:G52)+R52","v":149.066},144.08720000000002,140.02464000000001,137.82156800000001,141.40388160000001,143.91065792000003,142.87958950400002,null,null,null,1.43,0.42,0.73,null,165.38,157.25,145.32,115.61999999999999,126.01,147.636,144.08720000000002,140.02464000000001,137.82156800000001,141.40388160000001,143.91065792000003]
["MARQUETTE","KalamazooCornIrrigated",{"$f":"VLOOKUP($B53,'FSA19'!$E$5:$K$290,3,0)","v":222.36},{"$f":"VLOOKUP($B53,'FSA19'!$E$5:$K$290,4,0)","v":209.5},{"$f":"VLOOKUP($B53,'FSA19'!$E$5:$K$290,5,0)","v":207.49},{"$f":"VLOOKUP($B53,'FSA19'!$E$5:$K$290,6,0)","v":210.62},{"$f":"VLOOKUP($B53,'FSA19'!$E$5:$K$290,7,0)","v":214.25},{"$f":"VLOOKUP(B53,'FSA 18'!$E$5:$BN$482,62,0)+R53","v":155.06},201.44400000000002,199.83280000000002,198.30136000000002,195.83763200000001,192.1551584,199.57419007999999,null,null,null,2.06,0.52,0.65,null,210,199.2,199.25,204.44,210.13,153,201.44400000000002,199.83280000000002,198.30136000000002,195.83763200000001,192.1551584]
["MASON","KalamazooCornNonirrigated",{"$f":"VLOOKUP($B54,'FSA19'!$E$5:$K$290,3,0)","v":185.13},{"$f":"VLOOKUP($B54,'FSA19'!$E$5:$K$290,4,0)","v":156.62},{"$f":"VLOOKUP($B54,'FSA19'!$E$5:$K$290,5,0)","v":166.25},{"$f":"VLOOKUP($B54,'FSA19'!$E$5:$K$290,6,0)","v":158.31},{"$f":"VLOOKUP($B54,'FSA19'!$E$5:$K$290,7,0)","v":146.31},{"$f":"VLOOKUP(B54,'FSA 18'!$E$5:$BN$482,62,0)+R54","v":148.06},157.16999999999999,157.28,155.48599999999999,154.9212,156.64344,158.360128,null,null,null,2.06,0.52,0.65,null,172.76999999999998,146.32,158.01,152.13,142.19,146,157.16999999999999,157.28,155.48599999999999,154.9212,156.64344]
["MECOSTA","KalkaskaCornAll",{"$f":"VLOOKUP($B55,'FSA19'!$E$5:$K$290,3,0)","v":88.15},{"$f":"VLOOKUP($B55,'FSA19'!$E$5:$K$290,4,0)","v":100.86},{"$f":"VLOOKUP($B55,'FSA19'!$E$5:$K$290,5,0)","v":95.92},{"$f":"VLOOKUP($B55,'FSA19'!$E$5:$K$290,6,0)","v":68},{"$f":"VLOOKUP($B55,'FSA19'!$E$5:$K$290,7,0)","v":129},{"$f":"VLOOKUP(B55,'FSA 18'!$E$5:$BN$482,62,0)+R55","v":111.91},102.04799999999999,102.2856,103.55871999999999,110.670464,107.00455679999999,106.02346815999999,null,null,null,0.91,0.28000000000000003,0.25,null,82.690000000000012,96.31,92.28,65.27,127.18,111,102.04799999999999,102.2856,103.55871999999999,110.670464,107.00455679999999]
["MENOMINEE","KentCornIrrigated",{"$f":"VLOOKUP($B56,'FSA19'!$E$5:$K$290,3,0)","v":204.2},{"$f":"VLOOKUP($B56,'FSA19'!$E$5:$K$290,4,0)","v":164.53},{"$f":"VLOOKUP($B56,'FSA19'!$E$5:$K$290,5,0)","v":176.39},{"$f":"VLOOKUP($B56,'FSA19'!$E$5:$K$290,6,0)","v":194.95},{"$f":"VLOOKUP($B56,'FSA19'!$E$5:$K$290,7,0)","v":199.42},{"$f":"AVERAGE(C56:G56)+R56","v":189.86799999999997},187.00159999999997,191.49591999999998,194.51710399999996,194.43052479999997,193.43262975999997,194.14555571199995,null,null,null,1.97,0.56999999999999995,0.83,null,192.38,154.68,168.51,189.04,195.48,187.89799999999997,187.00159999999997,191.49591999999998,194.51710399999996,194.43052479999997,193.43262975999997]
["MIDLAND","KentCornNonirrigated",{"$f":"VLOOKUP($B57,'FSA19'!$E$5:$K$290,3,0)","v":158.34},{"$f":"VLOOKUP($B57,'FSA19'!$E$5:$K$290,4,0)","v":145.06},{"$f":"VLOOKUP($B57,'FSA19'!$E$5:$K$290,5,0)","v":169.65},{"$f":"VLOOKUP($B57,'FSA19'!$E$5:$K$290,6,0)","v":166.86},{"$f":"VLOOKUP($B57,'FSA19'!$E$5:$K$290,7,0)","v":152.41999999999999},{"$f":"AVERAGE(C57:G57)+R57","v":160.43599999999998},160.8552,164.01424,162.88708799999998,162.09250559999998,164.02700671999997,164.74520806399997,null,null,null,1.97,0.56999999999999995,0.83,null,146.52000000000001,135.21,161.77000000000001,160.95000000000002,148.47999999999999,158.46599999999998,160.8552,164.01424,162.88708799999998,162.09250559999998,164.02700671999997]
["MISSAUKEE","LakeCornAll",{"$f":"VLOOKUP($B58,'FSA19'!$E$5:$K$290,3,0)","v":80.989999999999995},{"$f":"VLOOKUP($B58,'FSA19'!$E$5:$K$290,4,0)","v":69.599999999999994},{"$f":"VLOOKUP($B58,'FSA19'!$E$5:$K$290,5,0)","v":87.69},{"$f":"VLOOKUP($B58,'FSA19'!$E$5:$K$290,6,0)","v":152.08000000000001},{"$f":"VLOOKUP($B58,'FSA19'!$E$5:$K$290,7,0)","v":140},{"$f":"VLOOKUP(B58,'FSA 18'!$E$5:$BN$482,62,0)+R58","v":108.66},113.26599999999999,121.99919999999997,128.86104,124.21724799999998,121.06069759999998,123.54083711999998,null,null,null,1.66,null,0.72,null,71.03,61.3,81.05,147.10000000000002,136.68,107,113.26599999999999,121.99919999999997,128.86104,124.21724799999998,121.06069759999998]
["MONROE","LapeerCornAll",{"$f":"VLOOKUP($B59,'FSA19'!$E$5:$K$290,3,0)","v":162.28},{"$f":"VLOOKUP($B59,'FSA19'!$E$5:$K$290,4,0)","v":153.56},{"$f":"VLOOKUP($B59,'FSA19'!$E$5:$K$290,5,0)","v":186.23},{"$f":"VLOOKUP($B59,'FSA19'!$E$5:$K$290,6,0)","v":176.26},{"$f":"VLOOKUP($B59,'FSA19'!$E$5:$K$290,7,0)","v":185.12},{"$f":"VLOOKUP(B59,'FSA 18'!$E$5:$BN$482,62,0)+R59","v":174.91},177.12599999999998,181.83919999999998,180.96104,181.90124799999998,181.25749759999999,182.52699712,null,null,null,1.91,0.52,0.9,null,150.82,144.01,178.59,170.53,181.3,173,177.12599999999998,181.83919999999998,180.96104,181.90124799999998,181.25749759999999]
["MONTCALM","LeelanauCornAll",{"$f":"VLOOKUP($B60,'FSA19'!$E$5:$K$290,3,0)","v":126.2},{"$f":"VLOOKUP($B60,'FSA19'!$E$5:$K$290,4,0)","v":66.95},{"$f":"VLOOKUP($B60,'FSA19'!$E$5:$K$290,5,0)","v":79.12},{"$f":"VLOOKUP($B60,'FSA19'!$E$5:$K$290,6,0)","v":64.81},{"$f":"VLOOKUP($B60,'FSA19'!$E$5:$K$290,7,0)","v":114.09},{"$f":"VLOOKUP(B60,'FSA 18'!$E$5:$BN$482,62,0)+R60","v":95.35},84.414000000000001,87.90679999999999,89.664159999999981,94.634991999999983,90.743990399999973,89.822788479999986,null,null,null,0.35,null,0.34,null,124.10000000000001,65.2,77.72,63.760000000000005,113.39,95,84.414000000000001,87.90679999999999,89.664159999999981,94.634991999999983,90.743990399999973]
["MONTMORENCY","LenaweeCornIrrigated",{"$f":"VLOOKUP($B61,'FSA19'!$E$5:$K$290,3,0)","v":216.81},{"$f":"VLOOKUP($B61,'FSA19'!$E$5:$K$290,4,0)","v":218.91},{"$f":"VLOOKUP($B61,'FSA19'!$E$5:$K$290,5,0)","v":199.99},{"$f":"VLOOKUP($B61,'FSA19'!$E$5:$K$290,6,0)","v":200.58},{"$f":"VLOOKUP($B61,'FSA19'!$E$5:$K$290,7,0)","v":226.68},{"$f":"AVERAGE(C61:G61)+R61","v":214.404},213.92280000000002,212.92536000000001,215.51243199999999,218.49891840000001,216.86270208000002,217.35444249600002,null,null,null,1.81,0.4,1.03,null,205.95,209.85999999999999,192.75,195.15,223.06,212.59399999999999,213.92280000000002,212.92536000000001,215.51243199999999,218.49891840000001,216.86270208000002]
["MUSKEGON","LenaweeCornNonirrigated",{"$f":"VLOOKUP($B62,'FSA19'!$E$5:$K$290,3,0)","v":198.73},{"$f":"VLOOKUP($B62,'FSA19'!$E$5:$K$290,4,0)","v":178.1},{"$f":"VLOOKUP($B62,'FSA19'!$E$5:$K$290,5,0)","v":175.94},{"$f":"VLOOKUP($B62,'FSA19'!$E$5:$K$290,6,0)","v":179.98},{"$f":"VLOOKUP($B62,'FSA19'!$E$5:$K$290,7,0)","v":183.62},{"$f":"AVERAGE(C62:G62)+R62","v":185.084},182.35479999999998,183.20576,184.65891199999999,185.59469440000001,185.98963327999999,186.170759936,null,null,null,1.81,0.4,1.03,null,187.87,169.04999999999998,168.7,174.54999999999998,180,183.274,182.35479999999998,183.20576,184.65891199999999,185.59469440000001,185.98963327999999]
["NEWAYGO","LivingstonCornAll",{"$f":"VLOOKUP($B63,'FSA19'!$E$5:$K$290,3,0)","v":174.07},{"$f":"VLOOKUP($B63,'FSA19'!$E$5:$K$290,4,0)","v":160.13},{"$f":"VLOOKUP($B63,'FSA19'!$E$5:$K$290,5,0)","v":179.39},{"$f":"VLOOKUP($B63,'FSA19'!$E$5:$K$290,6,0)","v":151.27000000000001},{"$f":"VLOOKUP($B63,'FSA19'!$E$5:$K$290,7,0)","v":160.22},{"$f":"VLOOKUP(B63,'FSA 18'!$E$5:$BN$482,62,0)+R63","v":137.77000000000001},159.52600000000001,159.40520000000001,155.40824000000003,156.23588800000002,155.43906560000005,158.97287872000001,null,null,null,1.77,0.55000000000000004,0.8,null,163.44999999999999,151.28,172.30999999999997,145.96,156.68,136,159.52600000000001,159.40520000000001,155.40824000000003,156.23588800000002,155.43906560000005]
["OAKLAND","LuceCornAll",{"$f":"VLOOKUP($B64,'FSA19'!$E$5:$K$290,3,0)","v":120},{"$f":"VLOOKUP($B64,'FSA19'!$E$5:$K$290,4,0)","v":56},{"$f":"VLOOKUP($B64,'FSA19'!$E$5:$K$290,5,0)","v":132},{"$f":"VLOOKUP($B64,'FSA19'!$E$5:$K$290,6,0)","v":87},{"$f":"VLOOKUP($B64,'FSA19'!$E$5:$K$290,7,0)","v":61.6},{"$f":"VLOOKUP(B64,'FSA 18'!$E$5:$BN$482,62,0)+R64","v":111.98},90.696000000000012,97.635200000000012,90.762240000000006,91.514688000000007,97.497625600000021,94.601150720000021,null,null,null,0.98,0.28000000000000003,0.64,null,114.12,51.1,128.08000000000001,84.06,59.64,111,90.696000000000012,97.635200000000012,90.762240000000006,91.514688000000007,97.497625600000021]
["OCEANA","MackinacCornAll",{"$f":"VLOOKUP($B65,'FSA19'!$E$5:$K$290,3,0)","v":120},{"$f":"VLOOKUP($B65,'FSA19'!$E$5:$K$290,4,0)","v":56},{"$f":"VLOOKUP($B65,'FSA19'!$E$5:$K$290,5,0)","v":132},{"$f":"VLOOKUP($B65,'FSA19'!$E$5:$K$290,6,0)","v":87},{"$f":"VLOOKUP($B65,'FSA19'!$E$5:$K$290,7,0)","v":61.6},{"$f":"VLOOKUP(B65,'FSA 18'!$E$5:$BN$482,62,0)+R65","v":112.01},90.732000000000014,97.678400000000011,90.814080000000018,91.576896000000019,97.572275200000021,94.684730240000036,null,null,null,1.01,null,0.7,null,113.94,50.95,127.96,83.97,59.58,111,90.732000000000014,97.678400000000011,90.814080000000018,91.576896000000019,97.572275200000021]
["OGEMAW","MacombCornAll",{"$f":"VLOOKUP($B66,'FSA19'!$E$5:$K$290,3,0)","v":168.89},{"$f":"VLOOKUP($B66,'FSA19'!$E$5:$K$290,4,0)","v":165.96},{"$f":"VLOOKUP($B66,'FSA19'!$E$5:$K$290,5,0)","v":165.88},{"$f":"VLOOKUP($B66,'FSA19'!$E$5:$K$290,6,0)","v":184.18},{"$f":"VLOOKUP($B66,'FSA19'!$E$5:$K$290,7,0)","v":181.4},{"$f":"VLOOKUP(B66,'FSA 18'!$E$5:$BN$482,62,0)+R66","v":171.94},175.81199999999998,177.78240000000002,180.16288,179.35945600000002,178.95134719999999,180.35361664000001,null,null,null,1.94,0.38,0.75,null,157.25,156.26000000000002,158.12,178.36,177.52,170,175.81199999999998,177.78240000000002,180.16288,179.35945600000002,178.95134719999999]
["ONTONAGON","ManisteeCornAll",{"$f":"VLOOKUP($B67,'FSA19'!$E$5:$K$290,3,0)","v":110.58},{"$f":"VLOOKUP($B67,'FSA19'!$E$5:$K$290,4,0)","v":95.99},{"$f":"VLOOKUP($B67,'FSA19'!$E$5:$K$290,5,0)","v":137.35},{"$f":"VLOOKUP($B67,'FSA19'!$E$5:$K$290,6,0)","v":150.59},{"$f":"VLOOKUP($B67,'FSA19'!$E$5:$K$290,7,0)","v":120.78},{"$f":"AVERAGE(C67:G67)+R67","v":124.11799999999999},126.82559999999999,132.99271999999999,132.121264,128.42751680000001,129.95702016000001,131.12482419200001,null,null,null,1.06,null,0.3,null,104.22,90.69,133.10999999999999,147.41,118.66,123.05799999999999,{"$f":"I67","v":126.82559999999999},{"$f":"J67","v":132.99271999999999},{"$f":"K67","v":132.121264},{"$f":"L67","v":128.42751680000001},{"$f":"M67","v":129.95702016000001}]
["OSCEOLA","MarquetteCornAll",{"$f":"VLOOKUP($B68,'FSA19'!$E$5:$K$290,3,0)","v":120},{"$f":"VLOOKUP($B68,'FSA19'!$E$5:$K$290,4,0)","v":52.8},{"$f":"VLOOKUP($B68,'FSA19'!$E$5:$K$290,5,0)","v":132},{"$f":"VLOOKUP($B68,'FSA19'!$E$5:$K$290,6,0)","v":87},{"$f":"VLOOKUP($B68,'FSA19'!$E$5:$K$290,7,0)","v":58.4},{"$f":"VLOOKUP(B68,'FSA 18'!$E$5:$BN$482,62,0)+R68","v":111.92},{"$f":"AVERAGE(D68:H68)+$R68","v":89.344000000000008},{"$f":"AVERAGE(E68:I68)+$R68","v":96.652799999999999},{"$f":"AVERAGE(F68:J68)+$R68","v":89.583359999999999},{"$f":"AVERAGE(G68:K68)+$R68","v":90.100032000000013},{"$f":"AVERAGE(H68:L68)+$R68","v":96.440038400000006},{"$f":"AVERAGE(I68:M68)+$R68","v":93.344046079999998},null,null,null,0.92,null,null,null,{"$f":"C68-($R68*6)","v":114.48},{"$f":"D68-($R68*5)","v":48.199999999999996},{"$f":"E68-($R68*4)","v":128.32},{"$f":"F68-($R68*3)","v":84.24},{"$f":"G68-($R68*2)","v":56.559999999999995},{"$f":"H68-($R68*1)","v":111},89.344000000000008,96.652799999999999,89.583359999999999,90.100032000000013,96.440038400000006]
["OSCODA","MasonCornIrrigated",{"$f":"VLOOKUP($B69,'FSA19'!$E$5:$K$290,3,0)","v":182.62},{"$f":"VLOOKUP($B69,'FSA19'!$E$5:$K$290,4,0)","v":123.9},{"$f":"VLOOKUP($B69,'FSA19'!$E$5:$K$290,5,0)","v":180.99},{"$f":"VLOOKUP($B69,'FSA19'!$E$5:$K$290,6,0)","v":184.94},{"$f":"VLOOKUP($B69,'FSA19'!$E$5:$K$290,7,0)","v":199.5},{"$f":"AVERAGE(C69:G69)+R69","v":176.10000000000002},174.79599999999999,184.9752,185.77224000000001,185.93868799999998,183.2264256,184.65171072000001,null,null,null,1.71,0.51,0.63,null,172.36,115.35000000000001,174.15,179.81,196.08,174.39000000000001,174.79599999999999,184.9752,185.77224000000001,185.93868799999998,183.2264256]
["OTSEGO","MasonCornNonirrigated",{"$f":"VLOOKUP($B70,'FSA19'!$E$5:$K$290,3,0)","v":123.81},{"$f":"VLOOKUP($B70,'FSA19'!$E$5:$K$290,4,0)","v":102.43},{"$f":"VLOOKUP($B70,'FSA19'!$E$5:$K$290,5,0)","v":143.13},{"$f":"VLOOKUP($B70,'FSA19'!$E$5:$K$290,6,0)","v":150.66999999999999},{"$f":"VLOOKUP($B70,'FSA19'!$E$5:$K$290,7,0)","v":170.85},{"$f":"AVERAGE(C70:G70)+R70","v":139.88800000000001},143.10360000000003,151.23832000000002,152.85998400000003,153.29798080000003,149.78757696000005,151.76749235200003,null,null,null,1.71,0.51,0.63,null,113.55,93.88000000000001,136.29,145.54,167.43,138.178,143.10360000000003,151.23832000000002,152.85998400000003,153.29798080000003,149.78757696000005]
["OTTAWA","MecostaCornIrrigated",{"$f":"VLOOKUP($B71,'FSA19'!$E$5:$K$290,3,0)","v":166.95},{"$f":"VLOOKUP($B71,'FSA19'!$E$5:$K$290,4,0)","v":159.1},{"$f":"VLOOKUP($B71,'FSA19'!$E$5:$K$290,5,0)","v":173.85},{"$f":"VLOOKUP($B71,'FSA19'!$E$5:$K$290,6,0)","v":176.06},{"$f":"VLOOKUP($B71,'FSA19'!$E$5:$K$290,7,0)","v":190.09},{"$f":"VLOOKUP(B71,'FSA 18'!$E$5:$BN$482,62,0)+R71","v":154.88},172.67599999999999,175.3912,175.69943999999998,175.62732799999998,172.73479359999999,176.30575231999995,null,null,null,1.88,0.27,0.56000000000000005,null,155.66999999999999,149.69999999999999,166.32999999999998,170.42000000000002,186.33,153,172.67599999999999,175.3912,175.69943999999998,175.62732799999998,172.73479359999999]
["PRESQUE ISLE","MecostaCornNonirrigated",{"$f":"VLOOKUP($B72,'FSA19'!$E$5:$K$290,3,0)","v":121.11},{"$f":"VLOOKUP($B72,'FSA19'!$E$5:$K$290,4,0)","v":113.34},{"$f":"VLOOKUP($B72,'FSA19'!$E$5:$K$290,5,0)","v":120.67},{"$f":"VLOOKUP($B72,'FSA19'!$E$5:$K$290,6,0)","v":135.56},{"$f":"VLOOKUP($B72,'FSA19'!$E$5:$K$290,7,0)","v":128.34},{"$f":"VLOOKUP(B72,'FSA 18'!$E$5:$BN$482,62,0)+R72","v":116.88},124.83799999999999,127.13759999999999,128.43111999999999,127.00534399999999,126.73841279999999,128.71009536,null,null,null,1.88,0.27,0.56000000000000005,null,109.83,103.94,113.15,129.92000000000002,124.58,115,124.83799999999999,127.13759999999999,128.43111999999999,127.00534399999999,126.73841279999999]
["ROSCOMMON","MenomineeCornAll",{"$f":"VLOOKUP($B73,'FSA19'!$E$5:$K$290,3,0)","v":142.66},{"$f":"VLOOKUP($B73,'FSA19'!$E$5:$K$290,4,0)","v":61.85},{"$f":"VLOOKUP($B73,'FSA19'!$E$5:$K$290,5,0)","v":146.96},{"$f":"VLOOKUP($B73,'FSA19'!$E$5:$K$290,6,0)","v":131.94},{"$f":"VLOOKUP($B73,'FSA19'!$E$5:$K$290,7,0)","v":65.38},{"$f":"VLOOKUP(B73,'FSA 18'!$E$5:$BN$482,62,0)+R73","v":151.08000000000001},112.52200000000001,122.6564,117.79567999999999,114.96681599999999,124.88417919999999,119.64501504,null,null,null,1.08,0.28000000000000003,0.72,null,136.18,56.45,142.64000000000001,128.69999999999999,63.22,150,112.52200000000001,122.6564,117.79567999999999,114.96681599999999,124.88417919999999]
["SAGINAW","MidlandCornIrrigated",{"$f":"VLOOKUP($B74,'FSA19'!$E$5:$K$290,3,0)","v":189.84},{"$f":"VLOOKUP($B74,'FSA19'!$E$5:$K$290,4,0)","v":186.84},{"$f":"VLOOKUP($B74,'FSA19'!$E$5:$K$290,5,0)","v":184.15},{"$f":"VLOOKUP($B74,'FSA19'!$E$5:$K$290,6,0)","v":186.58},{"$f":"VLOOKUP($B74,'FSA19'!$E$5:$K$290,7,0)","v":174.84},{"$f":"AVERAGE(C74:G74)+R74","v":186.55},185.892,185.70240000000004,186.01288000000002,185.89945599999999,188.11134719999998,188.42361664000001,null,null,null,2.1,0.44,1.04,null,177.24,176.34,175.75,180.28,170.64000000000001,184.45000000000002,185.892,185.70240000000004,186.01288000000002,185.89945599999999,188.11134719999998]
["SANILAC","MidlandCornNonirrigated",{"$f":"VLOOKUP($B75,'FSA19'!$E$5:$K$290,3,0)","v":163.54},{"$f":"VLOOKUP($B75,'FSA19'!$E$5:$K$290,4,0)","v":174.14},{"$f":"VLOOKUP($B75,'FSA19'!$E$5:$K$290,5,0)","v":170.97},{"$f":"VLOOKUP($B75,'FSA19'!$E$5:$K$290,6,0)","v":169.14},{"$f":"VLOOKUP($B75,'FSA19'!$E$5:$K$290,7,0)","v":159.51},169.55999999999997,170.76399999999998,170.08879999999999,169.91255999999998,170.06707199999997,172.17848639999997,172.70218367999999,null,null,null,2.1,0.44,1.04,null,150.94,163.63999999999999,162.57,162.83999999999997,155.31,167.45999999999998,170.76399999999998,170.08879999999999,169.91255999999998,170.06707199999997,172.17848639999997]
["SCHOOLCRAFT","MissaukeeCornIrrigated",{"$f":"VLOOKUP($B76,'FSA19'!$E$5:$K$290,3,0)","v":165.78},{"$f":"VLOOKUP($B76,'FSA19'!$E$5:$K$290,4,0)","v":92.4},{"$f":"VLOOKUP($B76,'FSA19'!$E$5:$K$290,5,0)","v":174.11},{"$f":"VLOOKUP($B76,'FSA19'!$E$5:$K$290,6,0)","v":179.23},{"$f":"VLOOKUP($B76,'FSA19'!$E$5:$K$290,7,0)","v":198.02},163.60799999999998,163.17359999999996,177.32831999999996,177.97198399999996,177.72038079999996,173.66045695999995,175.67094835199995,null,null,null,1.7,0.3,0.25,null,155.58000000000001,83.9,167.31,174.13,194.62,161.90799999999999,163.17359999999996,177.32831999999996,177.97198399999996,177.72038079999996,173.66045695999995]
["SHIAWASSEE","MissaukeeCornNonirrigated",{"$f":"VLOOKUP($B77,'FSA19'!$E$5:$K$290,3,0)","v":112.29},{"$f":"VLOOKUP($B77,'FSA19'!$E$5:$K$290,4,0)","v":127.69},{"$f":"VLOOKUP($B77,'FSA19'!$E$5:$K$290,5,0)","v":156.22},{"$f":"VLOOKUP($B77,'FSA19'!$E$5:$K$290,6,0)","v":137.03},{"$f":"VLOOKUP($B77,'FSA19'!$E$5:$K$290,7,0)","v":154.44999999999999},139.23599999999999,144.62519999999995,148.01223999999996,146.37068799999997,148.23882559999996,146.99659071999994,148.54870886399996,null,null,null,1.7,0.3,0.25,null,102.09,119.19,149.41999999999999,131.93,151.04999999999998,137.536,144.62519999999995,148.01223999999996,146.37068799999997,148.23882559999996,146.99659071999994]
["St. Clair","MonroeCornIrrigated",{"$f":"VLOOKUP($B78,'FSA19'!$E$5:$K$290,3,0)","v":192.09},{"$f":"VLOOKUP($B78,'FSA19'!$E$5:$K$290,4,0)","v":216.94},{"$f":"VLOOKUP($B78,'FSA19'!$E$5:$K$290,5,0)","v":175.19},{"$f":"VLOOKUP($B78,'FSA19'!$E$5:$K$290,6,0)","v":209.14},{"$f":"VLOOKUP($B78,'FSA19'!$E$5:$K$290,7,0)","v":221.52},204.73599999999999,207.26519999999996,205.33023999999997,211.35828799999996,211.80194559999995,209.85833471999996,210.88280166399994,null,null,null,1.76,0.46,0.99,null,181.53,208.14,168.15,203.85999999999999,218,202.976,207.26519999999996,205.33023999999997,211.35828799999996,211.80194559999995,209.85833471999996]
["ST. JOSEPH","MonroeCornNonirrigated",{"$f":"VLOOKUP($B79,'FSA19'!$E$5:$K$290,3,0)","v":168.57},{"$f":"VLOOKUP($B79,'FSA19'!$E$5:$K$290,4,0)","v":186.45},{"$f":"VLOOKUP($B79,'FSA19'!$E$5:$K$290,5,0)","v":151.78},{"$f":"VLOOKUP($B79,'FSA19'!$E$5:$K$290,6,0)","v":179.58},{"$f":"VLOOKUP($B79,'FSA19'!$E$5:$K$290,7,0)","v":194.82},178,179.88600000000002,178.57319999999999,183.93184000000002,184.80220799999998,182.79864959999998,183.75837951999998,null,null,null,1.76,0.46,0.99,null,158.01,177.64999999999998,144.74,174.3,191.29999999999998,176.24,179.88600000000002,178.57319999999999,183.93184000000002,184.80220799999998,182.79864959999998]
["TUSCOLA","MontcalmCornIrrigated",{"$f":"VLOOKUP($B80,'FSA19'!$E$5:$K$290,3,0)","v":189.41},{"$f":"VLOOKUP($B80,'FSA19'!$E$5:$K$290,4,0)","v":172.04},{"$f":"VLOOKUP($B80,'FSA19'!$E$5:$K$290,5,0)","v":183.82},{"$f":"VLOOKUP($B80,'FSA19'!$E$5:$K$290,6,0)","v":197.07},{"$f":"VLOOKUP($B80,'FSA19'!$E$5:$K$290,7,0)","v":188.14},{"$f":"VLOOKUP(B80,'FSA 18'!$E$5:$BN$482,62,0)+R80","v":154.88},181.07,182.876,182.68719999999996,179.81063999999998,178.144768,182.79772159999999,null,null,null,1.88,0.37,0.51,null,178.13,162.63999999999999,176.29999999999998,191.43,184.38,153,181.07,182.876,182.68719999999996,179.81063999999998,178.144768]
["VAN BUREN","MontcalmCornNonirrigated",{"$f":"VLOOKUP($B81,'FSA19'!$E$5:$K$290,3,0)","v":122.46},{"$f":"VLOOKUP($B81,'FSA19'!$E$5:$K$290,4,0)","v":139.32},{"$f":"VLOOKUP($B81,'FSA19'!$E$5:$K$290,5,0)","v":153.41},{"$f":"VLOOKUP($B81,'FSA19'!$E$5:$K$290,6,0)","v":155.59},{"$f":"VLOOKUP($B81,'FSA19'!$E$5:$K$290,7,0)","v":135.88},{"$f":"VLOOKUP(B81,'FSA 18'!$E$5:$BN$482,62,0)+R81","v":132.88},145.29599999999999,146.49119999999999,145.10743999999997,143.01092799999998,144.4371136,146.74853631999997,null,null,null,1.88,0.37,0.51,null,111.17999999999999,129.91999999999999,145.88999999999999,149.95000000000002,132.12,131,145.29599999999999,146.49119999999999,145.10743999999997,143.01092799999998,144.4371136]
["WASHTENAW","MontmorencyCornAll",{"$f":"VLOOKUP($B82,'FSA19'!$E$5:$K$290,3,0)","v":111.08},{"$f":"VLOOKUP($B82,'FSA19'!$E$5:$K$290,4,0)","v":113.15},{"$f":"VLOOKUP($B82,'FSA19'!$E$5:$K$290,5,0)","v":131.28},{"$f":"VLOOKUP($B82,'FSA19'!$E$5:$K$290,6,0)","v":81.510000000000005},{"$f":"VLOOKUP($B82,'FSA19'!$E$5:$K$290,7,0)","v":143.13999999999999},{"$f":"VLOOKUP(B82,'FSA 18'!$E$5:$BN$482,62,0)+R82","v":75.37},110.26000000000002,109.68200000000002,105.36240000000001,110.13288,103.53145600000001,109.16374720000002,null,null,null,1.37,0.4,0.82,null,102.86,106.30000000000001,125.8,77.400000000000006,140.39999999999998,74,110.26000000000002,109.68200000000002,105.36240000000001,110.13288,103.53145600000001]
["WAYNE","MuskegonCornIrrigated",{"$f":"VLOOKUP($B83,'FSA19'!$E$5:$K$290,3,0)","v":151.04},{"$f":"VLOOKUP($B83,'FSA19'!$E$5:$K$290,4,0)","v":153.16999999999999},{"$f":"VLOOKUP($B83,'FSA19'!$E$5:$K$290,5,0)","v":155.30000000000001},{"$f":"VLOOKUP($B83,'FSA19'!$E$5:$K$290,6,0)","v":186.13},{"$f":"VLOOKUP($B83,'FSA19'!$E$5:$K$290,7,0)","v":170.59},{"$f":"AVERAGE(C83:G83)+R83","v":165.01600000000002},167.81120000000004,170.73944000000003,173.82732800000005,171.36679360000002,171.52215232000006,172.82338278400005,null,null,null,1.77,0.5,0.66,null,140.41999999999999,144.32,148.22,180.82,167.05,163.24600000000001,167.81120000000004,170.73944000000003,173.82732800000005,171.36679360000002,171.52215232000006]
["WEXFORD","MuskegonCornNonirrigated",{"$f":"VLOOKUP($B84,'FSA19'!$E$5:$K$290,3,0)","v":120.69},{"$f":"VLOOKUP($B84,'FSA19'!$E$5:$K$290,4,0)","v":118.35},{"$f":"VLOOKUP($B84,'FSA19'!$E$5:$K$290,5,0)","v":141.82},{"$f":"VLOOKUP($B84,'FSA19'!$E$5:$K$290,6,0)","v":158.59},{"$f":"VLOOKUP($B84,'FSA19'!$E$5:$K$290,7,0)","v":142.76},{"$f":"AVERAGE(C84:G84)+R84","v":138.21200000000002},141.71639999999999,146.38968,147.30361600000001,145.04633920000001,145.50360704000002,146.96192844800004,null,null,null,1.77,0.5,0.66,null,110.07,109.5,134.73999999999998,153.28,139.22,136.44200000000001,141.71639999999999,146.38968,147.30361600000001,145.04633920000001,145.50360704000002]
[null,"NewaygoCornIrrigated",{"$f":"VLOOKUP($B85,'FSA19'!$E$5:$K$290,3,0)","v":169.75},{"$f":"VLOOKUP($B85,'FSA19'!$E$5:$K$290,4,0)","v":156.69999999999999},{"$f":"VLOOKUP($B85,'FSA19'!$E$5:$K$290,5,0)","v":173.5},{"$f":"VLOOKUP($B85,'FSA19'!$E$5:$K$290,6,0)","v":197},{"$f":"VLOOKUP($B85,'FSA19'!$E$5:$K$290,7,0)","v":187.83},{"$f":"AVERAGE(C85:G85)+R85","v":178.596},180.36520000000002,185.09824,187.417888,185.50146560000002,185.03575871999999,186.32371046399999,null,null,null,1.64,0.34,0.8,null,159.91,148.5,166.94,192.08,184.55,176.95600000000002,180.36520000000002,185.09824,187.417888,185.50146560000002,185.03575871999999]
[null,"NewaygoCornNonirrigated",{"$f":"VLOOKUP($B86,'FSA19'!$E$5:$K$290,3,0)","v":114.84},{"$f":"VLOOKUP($B86,'FSA19'!$E$5:$K$290,4,0)","v":111.8},{"$f":"VLOOKUP($B86,'FSA19'!$E$5:$K$290,5,0)","v":127},{"$f":"VLOOKUP($B86,'FSA19'!$E$5:$K$290,6,0)","v":160.91},{"$f":"VLOOKUP($B86,'FSA19'!$E$5:$K$290,7,0)","v":135.97},{"$f":"AVERAGE(C86:G86)+R86","v":131.74399999999997},135.12479999999999,139.78976,142.34771199999997,138.63525439999995,139.16830527999997,140.65316633599994,null,null,null,1.64,0.34,0.8,null,105,103.6,120.44,155.99,132.69,130.10399999999998,135.12479999999999,139.78976,142.34771199999997,138.63525439999995,139.16830527999997]
[null,"OaklandCornAll",{"$f":"VLOOKUP($B87,'FSA19'!$E$5:$K$290,3,0)","v":156.4},{"$f":"VLOOKUP($B87,'FSA19'!$E$5:$K$290,4,0)","v":135.81},{"$f":"VLOOKUP($B87,'FSA19'!$E$5:$K$290,5,0)","v":173.85},{"$f":"VLOOKUP($B87,'FSA19'!$E$5:$K$290,6,0)","v":153.29},{"$f":"VLOOKUP($B87,'FSA19'!$E$5:$K$290,7,0)","v":147.43},{"$f":"VLOOKUP(B87,'FSA 18'!$E$5:$BN$482,62,0)+R87","v":153.6},154.39599999999999,158.11319999999998,154.96583999999999,155.30100799999997,156.87520959999998,157.53025151999998,null,null,null,1.6,0.38,0.82,null,146.80000000000001,127.81,167.45,148.48999999999998,144.23000000000002,152,154.39599999999999,158.11319999999998,154.96583999999999,155.30100799999997,156.87520959999998]
[null,"OceanaCornIrrigated",{"$f":"VLOOKUP($B88,'FSA19'!$E$5:$K$290,3,0)","v":149.9},{"$f":"VLOOKUP($B88,'FSA19'!$E$5:$K$290,4,0)","v":136.16999999999999},{"$f":"VLOOKUP($B88,'FSA19'!$E$5:$K$290,5,0)","v":147.28},{"$f":"VLOOKUP($B88,'FSA19'!$E$5:$K$290,6,0)","v":166.44},{"$f":"VLOOKUP($B88,'FSA19'!$E$5:$K$290,7,0)","v":164.65},{"$f":"AVERAGE(C88:G88)+R88","v":154.50799999999998},155.42959999999999,159.28151999999997,161.68182400000001,160.73018880000001,159.94622655999999,161.03387187199999,null,null,null,1.62,0.37,0.74,null,140.18,128.07,140.80000000000001,161.57999999999998,161.41,152.88799999999998,155.42959999999999,159.28151999999997,161.68182400000001,160.73018880000001,159.94622655999999]
[null,"OceanaCornNonirrigated",{"$f":"VLOOKUP($B89,'FSA19'!$E$5:$K$290,3,0)","v":115.44},{"$f":"VLOOKUP($B89,'FSA19'!$E$5:$K$290,4,0)","v":91.45},{"$f":"VLOOKUP($B89,'FSA19'!$E$5:$K$290,5,0)","v":107.54},{"$f":"VLOOKUP($B89,'FSA19'!$E$5:$K$290,6,0)","v":133.28},{"$f":"VLOOKUP($B89,'FSA19'!$E$5:$K$290,7,0)","v":138.65},{"$f":"AVERAGE(C89:G89)+R89","v":118.89200000000001},119.58240000000001,125.20888000000002,128.74265600000001,127.83518720000002,125.67222464000001,127.02826956800001,null,null,null,1.62,0.37,0.74,null,105.72,83.35,101.06,128.41999999999999,135.41,117.27200000000001,119.58240000000001,125.20888000000002,128.74265600000001,127.83518720000002,125.67222464000001]
[null,"OgemawCornAll",{"$f":"VLOOKUP($B90,'FSA19'!$E$5:$K$290,3,0)","v":123.92},{"$f":"VLOOKUP($B90,'FSA19'!$E$5:$K$290,4,0)","v":117.08},{"$f":"VLOOKUP($B90,'FSA19'!$E$5:$K$290,5,0)","v":148.85},{"$f":"VLOOKUP($B90,'FSA19'!$E$5:$K$290,6,0)","v":145.16},{"$f":"VLOOKUP($B90,'FSA19'!$E$5:$K$290,7,0)","v":152.5},{"$f":"VLOOKUP(B90,'FSA 18'!$E$5:$BN$482,62,0)+R90","v":158.74},146.20600000000002,152.03120000000001,152.66744,154.16892799999999,154.50271360000002,153.65525632000001,null,null,null,1.74,0.49,1.17,null,113.48,108.38,141.88999999999999,139.94,149.02000000000001,157,146.20600000000002,152.03120000000001,152.66744,154.16892799999999,154.50271360000002]
[null,"OntonagonCornAll",{"$f":"VLOOKUP($B91,'FSA19'!$E$5:$K$290,3,0)","v":120},{"$f":"VLOOKUP($B91,'FSA19'!$E$5:$K$290,4,0)","v":52.8},{"$f":"VLOOKUP($B91,'FSA19'!$E$5:$K$290,5,0)","v":132},{"$f":"VLOOKUP($B91,'FSA19'!$E$5:$K$290,6,0)","v":87},{"$f":"VLOOKUP($B91,'FSA19'!$E$5:$K$290,7,0)","v":58.4},{"$f":"VLOOKUP(B91,'FSA 18'!$E$5:$BN$482,62,0)+R91","v":111.99},89.427999999999997,96.753599999999992,89.704319999999996,90.245183999999995,96.614220799999998,93.53906495999999,null,null,null,0.99,null,0.68,null,114.06,47.849999999999994,128.04,84.03,56.42,111,89.427999999999997,96.753599999999992,89.704319999999996,90.245183999999995,96.614220799999998]
[null,"OsceolaCornAll",{"$f":"VLOOKUP($B92,'FSA19'!$E$5:$K$290,3,0)","v":116},{"$f":"VLOOKUP($B92,'FSA19'!$E$5:$K$290,4,0)","v":130.58000000000001},{"$f":"VLOOKUP($B92,'FSA19'!$E$5:$K$290,5,0)","v":135.86000000000001},{"$f":"VLOOKUP($B92,'FSA19'!$E$5:$K$290,6,0)","v":127.2},{"$f":"VLOOKUP($B92,'FSA19'!$E$5:$K$290,7,0)","v":163.03},{"$f":"VLOOKUP(B92,'FSA 18'!$E$5:$BN$482,62,0)+R92","v":70.680000000000007},127.15000000000003,126.46400000000003,124.58480000000003,124.06176000000004,116.26811200000003,125.38573440000003,null,null,null,1.68,0.28999999999999998,0.51,null,105.92,122.18,129.14000000000001,122.16,159.66999999999999,69,127.15000000000003,126.46400000000003,124.58480000000003,124.06176000000004,116.26811200000003]
[null,"OscodaCornAll",{"$f":"VLOOKUP($B93,'FSA19'!$E$5:$K$290,3,0)","v":120},{"$f":"VLOOKUP($B93,'FSA19'!$E$5:$K$290,4,0)","v":102},{"$f":"VLOOKUP($B93,'FSA19'!$E$5:$K$290,5,0)","v":124},{"$f":"VLOOKUP($B93,'FSA19'!$E$5:$K$290,6,0)","v":117},{"$f":"VLOOKUP($B93,'FSA19'!$E$5:$K$290,7,0)","v":131},{"$f":"VLOOKUP(B93,'FSA 18'!$E$5:$BN$482,62,0)+R93","v":118.39},119.86799999999999,123.44160000000001,123.32992,124.59590399999999,123.31508479999999,124.30010176,null,null,null,1.39,null,0.59,null,111.66,95.05,118.44,112.83,128.22,117,119.86799999999999,123.44160000000001,123.32992,124.59590399999999,123.31508479999999]
[null,"OtsegoCornAll",{"$f":"VLOOKUP($B94,'FSA19'!$E$5:$K$290,3,0)","v":82.18},{"$f":"VLOOKUP($B94,'FSA19'!$E$5:$K$290,4,0)","v":109.15},{"$f":"VLOOKUP($B94,'FSA19'!$E$5:$K$290,5,0)","v":107.2},{"$f":"VLOOKUP($B94,'FSA19'!$E$5:$K$290,6,0)","v":79.290000000000006},{"$f":"VLOOKUP($B94,'FSA19'!$E$5:$K$290,7,0)","v":134.26},{"$f":"VLOOKUP(B94,'FSA 18'!$E$5:$BN$482,62,0)+R94","v":94.02},105.80400000000002,105.13479999999998,104.72176,109.80811199999999,104.91773439999999,107.09728128,null,null,null,1.02,0.26,0.47,null,76.06,104.05000000000001,103.12,76.23,132.22,93,105.80400000000002,105.13479999999998,104.72176,109.80811199999999,104.91773439999999]
[null,"OttawaCornIrrigated",{"$f":"VLOOKUP($B95,'FSA19'!$E$5:$K$290,3,0)","v":171.16},{"$f":"VLOOKUP($B95,'FSA19'!$E$5:$K$290,4,0)","v":186.05},{"$f":"VLOOKUP($B95,'FSA19'!$E$5:$K$290,5,0)","v":184.47},{"$f":"VLOOKUP($B95,'FSA19'!$E$5:$K$290,6,0)","v":200.67},{"$f":"VLOOKUP($B95,'FSA19'!$E$5:$K$290,7,0)","v":188.9},{"$f":"AVERAGE(C95:G95)+R95","v":188.1},191.48799999999997,192.57559999999998,194.19671999999997,192.90206399999997,193.7024768,194.82297215999998,null,null,null,1.85,0.56000000000000005,0.82,null,160.06,176.8,177.07,195.11999999999998,185.20000000000002,186.25,191.48799999999997,192.57559999999998,194.19671999999997,192.90206399999997,193.7024768]
[null,"OttawaCornNonirrigated",{"$f":"VLOOKUP($B96,'FSA19'!$E$5:$K$290,3,0)","v":142.69},{"$f":"VLOOKUP($B96,'FSA19'!$E$5:$K$290,4,0)","v":167.84},{"$f":"VLOOKUP($B96,'FSA19'!$E$5:$K$290,5,0)","v":163.35},{"$f":"VLOOKUP($B96,'FSA19'!$E$5:$K$290,6,0)","v":184.31},{"$f":"VLOOKUP($B96,'FSA19'!$E$5:$K$290,7,0)","v":168.44},{"$f":"AVERAGE(C96:G96)+R96","v":167.17600000000002},172.07320000000001,172.91983999999999,174.833808,172.93856959999999,173.83828352,175.17074022400001,null,null,null,1.85,0.56000000000000005,0.82,null,131.59,158.59,155.94999999999999,178.76,164.74,165.32600000000002,172.07320000000001,172.91983999999999,174.833808,172.93856959999999,173.83828352]
[null,"Presque IsleCornAll",{"$f":"VLOOKUP($B97,'FSA19'!$E$5:$K$290,3,0)","v":104.7},{"$f":"VLOOKUP($B97,'FSA19'!$E$5:$K$290,4,0)","v":101.02},{"$f":"VLOOKUP($B97,'FSA19'!$E$5:$K$290,5,0)","v":115.26},{"$f":"VLOOKUP($B97,'FSA19'!$E$5:$K$290,6,0)","v":76.760000000000005},{"$f":"VLOOKUP($B97,'FSA19'!$E$5:$K$290,7,0)","v":126.21},{"$f":"VLOOKUP(B97,'FSA 18'!$E$5:$BN$482,62,0)+R97","v":112.44},107.77800000000001,109.1296,107.90351999999999,114.13222399999998,111.71666879999999,111.57200255999997,null,null,null,1.44,0.32,0.56999999999999995,null,96.06,93.82,109.5,72.44,123.33,111,107.77800000000001,109.1296,107.90351999999999,114.13222399999998,111.71666879999999]
[null,"RoscommonCornAll",{"$f":"VLOOKUP($B98,'FSA19'!$E$5:$K$290,3,0)","v":120},{"$f":"VLOOKUP($B98,'FSA19'!$E$5:$K$290,4,0)","v":102},{"$f":"VLOOKUP($B98,'FSA19'!$E$5:$K$290,5,0)","v":124},{"$f":"VLOOKUP($B98,'FSA19'!$E$5:$K$290,6,0)","v":117},{"$f":"VLOOKUP($B98,'FSA19'!$E$5:$K$290,7,0)","v":131},{"$f":"VLOOKUP(B98,'FSA 18'!$E$5:$BN$482,62,0)+R98","v":118.39},119.86799999999999,123.44160000000001,123.32992,124.59590399999999,123.31508479999999,124.30010176,null,null,null,1.39,null,0.6,null,111.66,95.05,118.44,112.83,128.22,117,119.86799999999999,123.44160000000001,123.32992,124.59590399999999,123.31508479999999]
[null,"SaginawCornAll",{"$f":"VLOOKUP($B99,'FSA19'!$E$5:$K$290,3,0)","v":169.75},{"$f":"VLOOKUP($B99,'FSA19'!$E$5:$K$290,4,0)","v":174.15},{"$f":"VLOOKUP($B99,'FSA19'!$E$5:$K$290,5,0)","v":184.75},{"$f":"VLOOKUP($B99,'FSA19'!$E$5:$K$290,6,0)","v":180.27},{"$f":"VLOOKUP($B99,'FSA19'!$E$5:$K$290,7,0)","v":170.15},{"$f":"VLOOKUP(B99,'FSA 18'!$E$5:$BN$482,62,0)+R99","v":173.88},178.51999999999998,179.39399999999998,178.32279999999997,177.93335999999996,179.49003199999999,180.61203839999996,null,null,null,1.88,0.43,0.9,null,158.47,164.75,177.23,174.63000000000002,166.39000000000001,172,178.51999999999998,179.39399999999998,178.32279999999997,177.93335999999996,179.49003199999999]
[null,"St. ClairCornAll",{"$f":"VLOOKUP($B100,'FSA19'!$E$5:$K$290,3,0)","v":167.17},{"$f":"VLOOKUP($B100,'FSA19'!$E$5:$K$290,4,0)","v":167.31},{"$f":"VLOOKUP($B100,'FSA19'!$E$5:$K$290,5,0)","v":169.24},{"$f":"VLOOKUP($B100,'FSA19'!$E$5:$K$290,6,0)","v":170.49},{"$f":"VLOOKUP($B100,'FSA19'!$E$5:$K$290,7,0)","v":168.16},{"$f":"VLOOKUP(B100,'FSA 18'!$E$5:$BN$482,62,0)+R100","v":177.85},172.46,173.49,174.34,175.11,176.5,176.23000000000002,null,null,null,1.85,0.46,0.95,null,156.07,158.06,161.84,164.94,164.46,176,172.46,173.49,174.34,175.11,176.5]
[null,"St. JosephCornIrrigated",{"$f":"VLOOKUP($B101,'FSA19'!$E$5:$K$290,3,0)","v":194.5},{"$f":"VLOOKUP($B101,'FSA19'!$E$5:$K$290,4,0)","v":187.75},{"$f":"VLOOKUP($B101,'FSA19'!$E$5:$K$290,5,0)","v":174},{"$f":"VLOOKUP($B101,'FSA19'!$E$5:$K$290,6,0)","v":153.25},{"$f":"VLOOKUP($B101,'FSA19'!$E$5:$K$290,7,0)","v":146.5},{"$f":"AVERAGE(C101:G101)+R101","v":172.75},168.4,164.53,162.636,164.51319999999998,168.11583999999999,167.18900800000003,null,null,null,1.55,0.48,0.57999999999999996,null,185.2,180,167.8,148.6,143.4,171.2,168.4,164.53,162.636,164.51319999999998,168.11583999999999]
[null,"St. JosephCornNonirrigated",{"$f":"VLOOKUP($B102,'FSA19'!$E$5:$K$290,3,0)","v":138.94},{"$f":"VLOOKUP($B102,'FSA19'!$E$5:$K$290,4,0)","v":134.44999999999999},{"$f":"VLOOKUP($B102,'FSA19'!$E$5:$K$290,5,0)","v":123.96},{"$f":"VLOOKUP($B102,'FSA19'!$E$5:$K$290,6,0)","v":107.47},{"$f":"VLOOKUP($B102,'FSA19'!$E$5:$K$290,7,0)","v":103.98},{"$f":"AVERAGE(C102:G102)+R102","v":123.30999999999999},120.18399999999998,117.3308,116.00495999999998,117.711952,120.45834239999999,119.88801088,null,null,null,1.55,0.48,0.57999999999999996,null,129.63999999999999,126.69999999999999,117.75999999999999,102.82,100.88000000000001,121.75999999999999,120.18399999999998,117.3308,116.00495999999998,117.711952,120.45834239999999]
[null,"SanilacCornAll",{"$f":"VLOOKUP($B103,'FSA19'!$E$5:$K$290,3,0)","v":188.83},{"$f":"VLOOKUP($B103,'FSA19'!$E$5:$K$290,4,0)","v":176.75},{"$f":"VLOOKUP($B103,'FSA19'!$E$5:$K$290,5,0)","v":198.57},{"$f":"VLOOKUP($B103,'FSA19'!$E$5:$K$290,6,0)","v":196.47},{"$f":"VLOOKUP($B103,'FSA19'!$E$5:$K$290,7,0)","v":196.75},{"$f":"VLOOKUP(B103,'FSA 18'!$E$5:$BN$482,62,0)+R103","v":170.27},190.03200000000001,192.6884,191.51208000000003,190.52049600000004,189.27459520000005,193.07551424000005,null,null,null,2.27,0.59,1.08,null,175.21,165.4,189.48999999999998,189.66,192.21,168,190.03200000000001,192.6884,191.51208000000003,190.52049600000004,189.27459520000005]
[null,"SchoolcraftCornAll",{"$f":"VLOOKUP($B104,'FSA19'!$E$5:$K$290,3,0)","v":120},{"$f":"VLOOKUP($B104,'FSA19'!$E$5:$K$290,4,0)","v":56},{"$f":"VLOOKUP($B104,'FSA19'!$E$5:$K$290,5,0)","v":132},{"$f":"VLOOKUP($B104,'FSA19'!$E$5:$K$290,6,0)","v":87},{"$f":"VLOOKUP($B104,'FSA19'!$E$5:$K$290,7,0)","v":61.6},{"$f":"VLOOKUP(B104,'FSA 18'!$E$5:$BN$482,62,0)+R104","v":112.08},90.816000000000003,97.779199999999989,90.935040000000001,91.722048000000001,97.746457600000014,94.87974912,null,null,null,1.08,0.28000000000000003,0.71,null,113.52,50.6,127.68,83.76,59.44,111,90.816000000000003,97.779199999999989,90.935040000000001,91.722048000000001,97.746457600000014]
[null,"ShiawasseeCornAll",{"$f":"VLOOKUP($B105,'FSA19'!$E$5:$K$290,3,0)","v":163.86},{"$f":"VLOOKUP($B105,'FSA19'!$E$5:$K$290,4,0)","v":154.97999999999999},{"$f":"VLOOKUP($B105,'FSA19'!$E$5:$K$290,5,0)","v":180.86},{"$f":"VLOOKUP($B105,'FSA19'!$E$5:$K$290,6,0)","v":157.91},{"$f":"VLOOKUP($B105,'FSA19'!$E$5:$K$290,7,0)","v":157.81},{"$f":"VLOOKUP(B105,'FSA 18'!$E$5:$BN$482,62,0)+R105","v":152.93},162.828,164.39760000000001,161.10512000000003,161.74414400000001,162.53097280000003,164.45116736000003,null,null,null,1.93,0.45,0.82,null,152.28,145.32999999999998,173.14000000000001,152.12,153.94999999999999,151,162.828,164.39760000000001,161.10512000000003,161.74414400000001,162.53097280000003]
[null,"TuscolaCornIrrigated",{"$f":"VLOOKUP($B106,'FSA19'!$E$5:$K$290,3,0)","v":187.17},{"$f":"VLOOKUP($B106,'FSA19'!$E$5:$K$290,4,0)","v":190.69},{"$f":"VLOOKUP($B106,'FSA19'!$E$5:$K$290,5,0)","v":212.35},{"$f":"VLOOKUP($B106,'FSA19'!$E$5:$K$290,6,0)","v":191.67},{"$f":"VLOOKUP($B106,'FSA19'!$E$5:$K$290,7,0)","v":184.9},{"$f":"AVERAGE(C106:G106)+R106","v":195.39599999999999},197.04119999999998,198.31143999999998,195.503728,196.27047359999997,198.54456831999997,199.17428198399998,null,null,null,2.04,0.49,0.96,null,174.92999999999998,180.49,204.19,185.54999999999998,180.82,193.35599999999999,197.04119999999998,198.31143999999998,195.503728,196.27047359999997,198.54456831999997]
[null,"TuscolaCornNonirrigated",{"$f":"VLOOKUP($B107,'FSA19'!$E$5:$K$290,3,0)","v":167.21},{"$f":"VLOOKUP($B107,'FSA19'!$E$5:$K$290,4,0)","v":187.83},{"$f":"VLOOKUP($B107,'FSA19'!$E$5:$K$290,5,0)","v":196.95},{"$f":"VLOOKUP($B107,'FSA19'!$E$5:$K$290,6,0)","v":184.94},{"$f":"VLOOKUP($B107,'FSA19'!$E$5:$K$290,7,0)","v":173.99},{"$f":"AVERAGE(C107:G107)+R107","v":184.22400000000002},187.6268,187.58616000000001,185.713392,185.86807039999999,188.24368447999998,189.04762137599997,null,null,null,2.04,0.49,0.96,null,154.97,177.63000000000002,188.79,178.82,169.91,182.18400000000003,187.6268,187.58616000000001,185.713392,185.86807039999999,188.24368447999998]
[null,"Van BurenCornIrrigated",{"$f":"VLOOKUP($B108,'FSA19'!$E$5:$K$290,3,0)","v":225.88},{"$f":"VLOOKUP($B108,'FSA19'!$E$5:$K$290,4,0)","v":227.45},{"$f":"VLOOKUP($B108,'FSA19'!$E$5:$K$290,5,0)","v":205.41},{"$f":"VLOOKUP($B108,'FSA19'!$E$5:$K$290,6,0)","v":224.89},{"$f":"VLOOKUP($B108,'FSA19'!$E$5:$K$290,7,0)","v":206.18},{"$f":"VLOOKUP(B108,'FSA 18'!$E$5:$BN$482,62,0)+R108","v":208.06},216.458,214.25960000000001,216.02952000000002,214.25742400000001,215.8729088,217.43549055999998,null,null,null,2.06,0.48,0.5,null,213.51999999999998,217.14999999999998,197.17,218.70999999999998,202.06,206,216.458,214.25960000000001,216.02952000000002,214.25742400000001,215.8729088]
[null,"Van BurenCornNonirrigated",{"$f":"VLOOKUP($B109,'FSA19'!$E$5:$K$290,3,0)","v":171.9},{"$f":"VLOOKUP($B109,'FSA19'!$E$5:$K$290,4,0)","v":170.56},{"$f":"VLOOKUP($B109,'FSA19'!$E$5:$K$290,5,0)","v":166.65},{"$f":"VLOOKUP($B109,'FSA19'!$E$5:$K$290,6,0)","v":158.08000000000001},{"$f":"VLOOKUP($B109,'FSA19'!$E$5:$K$290,7,0)","v":160.21},{"$f":"VLOOKUP(B109,'FSA 18'!$E$5:$BN$482,62,0)+R109","v":143.06},161.77200000000005,160.01440000000002,158.68728000000002,158.80873600000001,158.52848320000004,161.62217984,null,null,null,2.06,0.48,0.5,null,159.54000000000002,160.26,158.41,151.9,156.09,141,161.77200000000005,160.01440000000002,158.68728000000002,158.80873600000001,158.52848320000004]
[null,"WashtenawCornIrrigated",{"$f":"VLOOKUP($B110,'FSA19'!$E$5:$K$290,3,0)","v":200.54},{"$f":"VLOOKUP($B110,'FSA19'!$E$5:$K$290,4,0)","v":183.19},{"$f":"VLOOKUP($B110,'FSA19'!$E$5:$K$290,5,0)","v":208.47},{"$f":"VLOOKUP($B110,'FSA19'!$E$5:$K$290,6,0)","v":212.65},{"$f":"VLOOKUP($B110,'FSA19'!$E$5:$K$290,7,0)","v":223.08},{"$f":"AVERAGE(C110:G110)+R110","v":207.20600000000002},208.53919999999999,213.60904000000002,214.63684800000004,215.03421760000003,213.42506112000004,214.66887334400005,null,null,null,1.62,0.45,0.8,null,190.82,175.09,201.99,207.79,219.84,205.58600000000001,208.53919999999999,213.60904000000002,214.63684800000004,215.03421760000003,213.42506112000004]
[null,"WashtenawCornNonirrigated",{"$f":"VLOOKUP($B111,'FSA19'!$E$5:$K$290,3,0)","v":176.04},{"$f":"VLOOKUP($B111,'FSA19'!$E$5:$K$290,4,0)","v":168.58},{"$f":"VLOOKUP($B111,'FSA19'!$E$5:$K$290,5,0)","v":161.41},{"$f":"VLOOKUP($B111,'FSA19'!$E$5:$K$290,6,0)","v":140.85},{"$f":"VLOOKUP($B111,'FSA19'!$E$5:$K$290,7,0)","v":152.19999999999999},{"$f":"AVERAGE(C111:G111)+R111","v":161.43599999999998},158.51519999999999,156.50224,155.52068800000001,158.45482559999999,159.70579072000004,159.35974886400001,null,null,null,1.62,0.45,0.8,null,166.32,160.48000000000002,154.93,135.98999999999998,148.95999999999998,159.81599999999997,158.51519999999999,156.50224,155.52068800000001,158.45482559999999,159.70579072000004]
[null,"WayneCornAll",{"$f":"VLOOKUP($B112,'FSA19'!$E$5:$K$290,3,0)","v":111.6},{"$f":"VLOOKUP($B112,'FSA19'!$E$5:$K$290,4,0)","v":146.88999999999999},{"$f":"VLOOKUP($B112,'FSA19'!$E$5:$K$290,5,0)","v":108},{"$f":"VLOOKUP($B112,'FSA19'!$E$5:$K$290,6,0)","v":112.39},{"$f":"VLOOKUP($B112,'FSA19'!$E$5:$K$290,7,0)","v":140.6},{"$f":"VLOOKUP(B112,'FSA 18'!$E$5:$BN$482,62,0)+R112","v":118.33},126.572,122.50840000000001,125.41007999999999,128.014096,125.49691519999999,126.93029823999998,null,null,null,1.33,0.27,0.63,null,103.61999999999999,140.23999999999998,102.68,108.4,137.94,117,126.572,122.50840000000001,125.41007999999999,128.014096,125.49691519999999]
[null,"WexfordCornIrrigated",{"$f":"VLOOKUP($B113,'FSA19'!$E$5:$K$290,3,0)","v":115.56},{"$f":"VLOOKUP($B113,'FSA19'!$E$5:$K$290,4,0)","v":132.30000000000001},{"$f":"VLOOKUP($B113,'FSA19'!$E$5:$K$290,5,0)","v":168.04},{"$f":"VLOOKUP($B113,'FSA19'!$E$5:$K$290,6,0)","v":118.78},{"$f":"VLOOKUP($B113,'FSA19'!$E$5:$K$290,7,0)","v":185.52},{"$f":"AVERAGE(C113:G113)+R113","v":145.13},151.04400000000001,154.7928,152.14336000000003,158.81603199999998,153.47523839999999,155.14428608,null,null,null,1.0900000000000001,0.3,0.34,null,109.02,126.85000000000001,163.67999999999998,115.51,183.34,144.04,151.04400000000001,154.7928,152.14336000000003,158.81603199999998,153.47523839999999]
[null,"WexfordCornNonirrigated",{"$f":"VLOOKUP($B114,'FSA19'!$E$5:$K$290,3,0)","v":100.25},{"$f":"VLOOKUP($B114,'FSA19'!$E$5:$K$290,4,0)","v":114.32},{"$f":"VLOOKUP($B114,'FSA19'!$E$5:$K$290,5,0)","v":144.09},{"$f":"VLOOKUP($B114,'FSA19'!$E$5:$K$290,6,0)","v":102.31},{"$f":"VLOOKUP($B114,'FSA19'!$E$5:$K$290,7,0)","v":158.80000000000001},{"$f":"AVERAGE(C114:G114)+R114","v":125.044},130.00280000000001,133.13936000000001,130.94923199999999,136.67707840000003,132.25249408000002,133.69419289600003,null,null,null,1.0900000000000001,0.3,0.34,null,93.71,108.86999999999999,139.72999999999999,99.04,156.62,123.95399999999999,130.00280000000001,133.13936000000001,130.94923199999999,136.67707840000003,132.25249408000002]
[null,"AlconaSoybeansAll",{"$f":"VLOOKUP($B115,'FSA19'!$E$5:$K$290,3,0)","v":29.17},{"$f":"VLOOKUP($B115,'FSA19'!$E$5:$K$290,4,0)","v":23.2},{"$f":"VLOOKUP($B115,'FSA19'!$E$5:$K$290,5,0)","v":35.93},{"$f":"VLOOKUP($B115,'FSA19'!$E$5:$K$290,6,0)","v":40},{"$f":"VLOOKUP($B115,'FSA19'!$E$5:$K$290,7,0)","v":37},{"$f":"VLOOKUP(B115,'FSA 18'!$E$5:$BN$482,62,0)+S115","v":35.35},{"$f":"AVERAGE(D115:H115)+$S115","v":34.646000000000001},36.935200000000002,37.136240000000001,36.563488,36.476185600000008,36.701422720000004,null,null,null,1.02,0.35,0.86,null,{"$f":"C115-($S115*6)","v":27.07},{"$f":"D115-($S115*5)","v":21.45},{"$f":"E115-($S115*4)","v":34.53},{"$f":"F115-($S115*3)","v":38.950000000000003},{"$f":"G115-($S115*2)","v":36.299999999999997},{"$f":"H115-($S115*1)","v":35},34.646000000000001,36.935200000000002,37.136240000000001,36.563488,36.476185600000008]
[null,"AlleganSoybeansIrrigated",{"$f":"VLOOKUP($B116,'FSA19'!$E$5:$K$290,3,0)","v":56.25},{"$f":"VLOOKUP($B116,'FSA19'!$E$5:$K$290,4,0)","v":51.61},{"$f":"VLOOKUP($B116,'FSA19'!$E$5:$K$290,5,0)","v":57.93},{"$f":"VLOOKUP($B116,'FSA19'!$E$5:$K$290,6,0)","v":61.69},{"$f":"VLOOKUP($B116,'FSA19'!$E$5:$K$290,7,0)","v":57.21},{"$f":"AVERAGE(C116:G116)+S116","v":57.488},{"$f":"AVERAGE(D116:H116)+$S116","v":57.735599999999998},{"$f":"AVERAGE(E116:I116)+$S116","v":58.960720000000002},{"$f":"AVERAGE(F116:J116)+$S116","v":59.166863999999997},{"$f":"AVERAGE(G116:K116)+$S116","v":58.662236800000002},{"$f":"AVERAGE(H116:L116)+$S116","v":58.952684159999997},{"$f":"AVERAGE(I116:M116)+$S116","v":59.245620991999999},null,null,null,2.15,0.55000000000000004,0.82,null,{"$f":"C116-($S116*6)","v":52.95},{"$f":"D116-($S116*5)","v":48.86},{"$f":"E116-($S116*4)","v":55.73},{"$f":"F116-($S116*3)","v":60.04},{"$f":"G116-($S116*2)","v":56.11},{"$f":"H116-($S116*1)","v":56.938000000000002},57.735599999999998,58.960720000000002,59.166863999999997,58.662236800000002,58.952684159999997]
[null,"AlleganSoybeansNonirrigated",{"$f":"VLOOKUP($B117,'FSA19'!$E$5:$K$290,3,0)","v":50.36},{"$f":"VLOOKUP($B117,'FSA19'!$E$5:$K$290,4,0)","v":44.18},{"$f":"VLOOKUP($B117,'FSA19'!$E$5:$K$290,5,0)","v":47.18},{"$f":"VLOOKUP($B117,'FSA19'!$E$5:$K$290,6,0)","v":53.64},{"$f":"VLOOKUP($B117,'FSA19'!$E$5:$K$290,7,0)","v":48.63},{"$f":"AVERAGE(C117:G117)+S117","v":49.347999999999999},49.145600000000002,50.138719999999999,50.730463999999998,50.148556800000001,50.452268159999988,50.673121791999996,null,null,null,2.15,0.55000000000000004,0.82,null,47.06,41.43,44.98,51.99,47.53,48.798000000000002,49.145600000000002,50.138719999999999,50.730463999999998,50.148556800000001,50.452268159999988]
[null,"AlpenaSoybeansAll",{"$f":"VLOOKUP($B118,'FSA19'!$E$5:$K$290,3,0)","v":24.34},{"$f":"VLOOKUP($B118,'FSA19'!$E$5:$K$290,4,0)","v":24.82},{"$f":"VLOOKUP($B118,'FSA19'!$E$5:$K$290,5,0)","v":38.26},{"$f":"VLOOKUP($B118,'FSA19'!$E$5:$K$290,6,0)","v":27.99},{"$f":"VLOOKUP($B118,'FSA19'!$E$5:$K$290,7,0)","v":34.590000000000003},{"$f":"VLOOKUP(B118,'FSA 18'!$E$5:$BN$482,62,0)+S118","v":37.270000000000003},32.856000000000002,34.463200000000008,33.70384,34.846608000000003,34.897929600000005,34.423515520000002,null,null,null,1.2,0.27,0.64,null,22.72,23.47,37.18,27.18,34.050000000000004,37,32.856000000000002,34.463200000000008,33.70384,34.846608000000003,34.897929600000005]
[null,"AntrimSoybeansAll",{"$f":"VLOOKUP($B119,'FSA19'!$E$5:$K$290,3,0)","v":28.8},{"$f":"VLOOKUP($B119,'FSA19'!$E$5:$K$290,4,0)","v":45.2},{"$f":"VLOOKUP($B119,'FSA19'!$E$5:$K$290,5,0)","v":36},{"$f":"VLOOKUP($B119,'FSA19'!$E$5:$K$290,6,0)","v":36},{"$f":"VLOOKUP($B119,'FSA19'!$E$5:$K$290,7,0)","v":37},{"$f":"VLOOKUP(B119,'FSA 18'!$E$5:$BN$482,62,0)+S119","v":37.33},38.635999999999996,37.323199999999993,37.58784,37.905407999999994,38.086489599999993,38.237787519999991,null,null,null,1.07,0.33,0.25,null,26.82,43.550000000000004,34.68,35.01,36.340000000000003,37,38.635999999999996,37.323199999999993,37.58784,37.905407999999994,38.086489599999993]
[null,"ArenacSoybeansAll",{"$f":"VLOOKUP($B120,'FSA19'!$E$5:$K$290,3,0)","v":41.78},{"$f":"VLOOKUP($B120,'FSA19'!$E$5:$K$290,4,0)","v":39.299999999999997},{"$f":"VLOOKUP($B120,'FSA19'!$E$5:$K$290,5,0)","v":49.44},{"$f":"VLOOKUP($B120,'FSA19'!$E$5:$K$290,6,0)","v":47.12},{"$f":"VLOOKUP($B120,'FSA19'!$E$5:$K$290,7,0)","v":42.65},{"$f":"VLOOKUP(B120,'FSA 18'!$E$5:$BN$482,62,0)+S120","v":46.53},45.537999999999997,46.785600000000002,46.254720000000006,46.081664000000004,46.767996799999999,46.815596159999998,null,null,null,1.81,0.53,0.88,null,38.6,36.65,47.32,45.529999999999994,41.589999999999996,46,45.537999999999997,46.785600000000002,46.254720000000006,46.081664000000004,46.767996799999999]
[null,"BarrySoybeansIrrigated",{"$f":"VLOOKUP($B121,'FSA19'!$E$5:$K$290,3,0)","v":53.33},{"$f":"VLOOKUP($B121,'FSA19'!$E$5:$K$290,4,0)","v":46.1},{"$f":"VLOOKUP($B121,'FSA19'!$E$5:$K$290,5,0)","v":55.54},{"$f":"VLOOKUP($B121,'FSA19'!$E$5:$K$290,6,0)","v":62.75},{"$f":"VLOOKUP($B121,'FSA19'!$E$5:$K$290,7,0)","v":57.34},{"$f":"AVERAGE(C121:G121)+S121","v":55.532000000000004},55.9724,57.946880000000007,58.428256000000012,57.563907200000017,57.608688640000011,58.024026368000008,null,null,null,1.95,0.52,0.86,null,50.21,43.5,53.46,61.19,56.300000000000004,55.012,55.9724,57.946880000000007,58.428256000000012,57.563907200000017,57.608688640000011]
[null,"BarrySoybeansNonirrigated",{"$f":"VLOOKUP($B122,'FSA19'!$E$5:$K$290,3,0)","v":50.5},{"$f":"VLOOKUP($B122,'FSA19'!$E$5:$K$290,4,0)","v":44.92},{"$f":"VLOOKUP($B122,'FSA19'!$E$5:$K$290,5,0)","v":48.21},{"$f":"VLOOKUP($B122,'FSA19'!$E$5:$K$290,6,0)","v":50.8},{"$f":"VLOOKUP($B122,'FSA19'!$E$5:$K$290,7,0)","v":44.44},48.294000000000004,47.852800000000009,48.439360000000001,48.485232000000003,48.022278400000005,48.738734080000008,48.827680896000011,null,null,null,1.95,0.52,0.86,null,47.38,42.32,46.13,49.239999999999995,43.4,47.774000000000001,47.852800000000009,48.439360000000001,48.485232000000003,48.022278400000005,48.738734080000008]
[null,"BaySoybeansIrrigated",{"$f":"VLOOKUP($B123,'FSA19'!$E$5:$K$290,3,0)","v":51.59},{"$f":"VLOOKUP($B123,'FSA19'!$E$5:$K$290,4,0)","v":55.65},{"$f":"VLOOKUP($B123,'FSA19'!$E$5:$K$290,5,0)","v":61.7},{"$f":"VLOOKUP($B123,'FSA19'!$E$5:$K$290,6,0)","v":62.59},{"$f":"VLOOKUP($B123,'FSA19'!$E$5:$K$290,7,0)","v":40.479999999999997},54.962000000000003,55.636400000000002,55.633680000000005,54.420416000000003,52.786499200000002,55.247799039999997,55.304958847999998,null,null,null,1.93,0.56000000000000005,0.98,null,48.230000000000004,52.85,59.46,60.910000000000004,39.36,54.402000000000001,55.636400000000002,55.633680000000005,54.420416000000003,52.786499200000002,55.247799039999997]
[null,"BaySoybeansNonirrigated",{"$f":"VLOOKUP($B124,'FSA19'!$E$5:$K$290,3,0)","v":47.17},{"$f":"VLOOKUP($B124,'FSA19'!$E$5:$K$290,4,0)","v":51.45},{"$f":"VLOOKUP($B124,'FSA19'!$E$5:$K$290,5,0)","v":57.18},{"$f":"VLOOKUP($B124,'FSA19'!$E$5:$K$290,6,0)","v":57.63},{"$f":"VLOOKUP($B124,'FSA19'!$E$5:$K$290,7,0)","v":48.48},52.942000000000007,54.096400000000003,54.625680000000003,54.114816000000005,53.411779199999998,54.398135040000014,54.689362048000007,null,null,null,1.93,0.56000000000000005,0.98,null,43.81,48.650000000000006,54.94,55.95,47.36,52.382000000000005,54.096400000000003,54.625680000000003,54.114816000000005,53.411779199999998,54.398135040000014]
[null,"BerrienSoybeansIrrigated",{"$f":"VLOOKUP($B125,'FSA19'!$E$5:$K$290,3,0)","v":55.31},{"$f":"VLOOKUP($B125,'FSA19'!$E$5:$K$290,4,0)","v":56.55},{"$f":"VLOOKUP($B125,'FSA19'!$E$5:$K$290,5,0)","v":60.27},{"$f":"VLOOKUP($B125,'FSA19'!$E$5:$K$290,6,0)","v":68.34},{"$f":"VLOOKUP($B125,'FSA19'!$E$5:$K$290,7,0)","v":56.06},59.835999999999999,60.741199999999999,61.579440000000005,61.841328000000004,60.541593600000006,61.437912320000002,61.758294784,null,null,null,2.2200000000000002,0.53,0.77,null,52.13,53.9,58.150000000000006,66.75,55,59.305999999999997,60.741199999999999,61.579440000000005,61.841328000000004,60.541593600000006,61.437912320000002]
[null,"BerrienSoybeansNonirrigated",{"$f":"VLOOKUP($B126,'FSA19'!$E$5:$K$290,3,0)","v":44.87},{"$f":"VLOOKUP($B126,'FSA19'!$E$5:$K$290,4,0)","v":44.03},{"$f":"VLOOKUP($B126,'FSA19'!$E$5:$K$290,5,0)","v":51.32},{"$f":"VLOOKUP($B126,'FSA19'!$E$5:$K$290,6,0)","v":52.67},{"$f":"VLOOKUP($B126,'FSA19'!$E$5:$K$290,7,0)","v":42.21},47.55,48.085999999999999,48.897200000000005,48.412640000000003,47.561168000000002,48.631401600000004,48.847681920000007,null,null,null,2.2200000000000002,0.53,0.77,null,41.69,41.38,49.2,51.08,41.15,47.019999999999996,48.085999999999999,48.897200000000005,48.412640000000003,47.561168000000002,48.631401600000004]
[null,"BranchSoybeansIrrigated",{"$f":"VLOOKUP($B127,'FSA19'!$E$5:$K$290,3,0)","v":51.41},{"$f":"VLOOKUP($B127,'FSA19'!$E$5:$K$290,4,0)","v":50.09},{"$f":"VLOOKUP($B127,'FSA19'!$E$5:$K$290,5,0)","v":55.91},{"$f":"VLOOKUP($B127,'FSA19'!$E$5:$K$290,6,0)","v":58.56},{"$f":"VLOOKUP($B127,'FSA19'!$E$5:$K$290,7,0)","v":52.38},{"$f":"VLOOKUP(B127,'FSA 18'!$E$5:$BN$482,62,0)+S127","v":50.48},53.963999999999999,54.738799999999991,54.504559999999991,53.693472,53.956166399999994,54.65139967999999,null,null,null,1.81,0.48,0.65,null,48.529999999999994,47.690000000000005,53.989999999999995,57.120000000000005,51.42,50,53.963999999999999,54.738799999999991,54.504559999999991,53.693472,53.956166399999994]
[null,"BranchSoybeansNonirrigated",{"$f":"VLOOKUP($B128,'FSA19'!$E$5:$K$290,3,0)","v":48.13},{"$f":"VLOOKUP($B128,'FSA19'!$E$5:$K$290,4,0)","v":42.02},{"$f":"VLOOKUP($B128,'FSA19'!$E$5:$K$290,5,0)","v":47.12},{"$f":"VLOOKUP($B128,'FSA19'!$E$5:$K$290,6,0)","v":52.7},{"$f":"VLOOKUP($B128,'FSA19'!$E$5:$K$290,7,0)","v":40.24},{"$f":"VLOOKUP(B128,'FSA 18'!$E$5:$BN$482,62,0)+S128","v":46.48},46.192,47.026399999999995,47.007679999999993,45.869215999999994,46.995059199999993,47.098071039999994,null,null,null,1.81,0.48,0.65,null,45.25,39.620000000000005,45.199999999999996,51.260000000000005,39.28,46,46.192,47.026399999999995,47.007679999999993,45.869215999999994,46.995059199999993]
[null,"CalhounSoybeansIrrigated",{"$f":"VLOOKUP($B129,'FSA19'!$E$5:$K$290,3,0)","v":57.75},{"$f":"VLOOKUP($B129,'FSA19'!$E$5:$K$290,4,0)","v":44.78},{"$f":"VLOOKUP($B129,'FSA19'!$E$5:$K$290,5,0)","v":55.33},{"$f":"VLOOKUP($B129,'FSA19'!$E$5:$K$290,6,0)","v":62.76},{"$f":"VLOOKUP($B129,'FSA19'!$E$5:$K$290,7,0)","v":53.84},{"$f":"AVERAGE(C129:G129)+S129","v":55.332000000000008},54.848400000000005,56.862080000000006,57.168496000000005,56.050195200000005,56.492234240000002,56.724281088000012,null,null,null,1.51,0.44,0.66,null,55.11,42.58,53.57,61.44,52.96,54.89200000000001,54.848400000000005,56.862080000000006,57.168496000000005,56.050195200000005,56.492234240000002]
[null,"CalhounSoybeansNonirrigated",{"$f":"VLOOKUP($B130,'FSA19'!$E$5:$K$290,3,0)","v":52.83},{"$f":"VLOOKUP($B130,'FSA19'!$E$5:$K$290,4,0)","v":42.19},{"$f":"VLOOKUP($B130,'FSA19'!$E$5:$K$290,5,0)","v":46.86},{"$f":"VLOOKUP($B130,'FSA19'!$E$5:$K$290,6,0)","v":48.51},{"$f":"VLOOKUP($B130,'FSA19'!$E$5:$K$290,7,0)","v":33.049999999999997},{"$f":"AVERAGE(C130:G130)+S130","v":45.128},43.587599999999995,43.86712,43.268543999999999,42.220252799999997,44.054303359999992,43.839564031999998,null,null,null,1.51,0.44,0.66,null,50.19,39.989999999999995,45.1,47.19,32.169999999999995,44.688000000000002,43.587599999999995,43.86712,43.268543999999999,42.220252799999997,44.054303359999992]
[null,"CassSoybeansIrrigated",{"$f":"VLOOKUP($B131,'FSA19'!$E$5:$K$290,3,0)","v":55.41},{"$f":"VLOOKUP($B131,'FSA19'!$E$5:$K$290,4,0)","v":60.23},{"$f":"VLOOKUP($B131,'FSA19'!$E$5:$K$290,5,0)","v":61.27},{"$f":"VLOOKUP($B131,'FSA19'!$E$5:$K$290,6,0)","v":65.790000000000006},{"$f":"VLOOKUP($B131,'FSA19'!$E$5:$K$290,7,0)","v":57.88},{"$f":"VLOOKUP(B131,'FSA 18'!$E$5:$BN$482,62,0)+S131","v":50.52},59.658000000000001,59.543600000000005,59.19832000000001,57.879984,57.879980799999998,59.351976960000002,null,null,null,2.06,0.52,0.64,null,52.29,57.629999999999995,59.190000000000005,64.23,56.84,50,{"$f":"I131","v":59.658000000000001},{"$f":"J131","v":59.543600000000005},{"$f":"K131","v":59.19832000000001},{"$f":"L131","v":57.879984},{"$f":"M131","v":57.879980799999998}]
[null,"CassSoybeansNonirrigated",{"$f":"VLOOKUP($B132,'FSA19'!$E$5:$K$290,3,0)","v":40.74},{"$f":"VLOOKUP($B132,'FSA19'!$E$5:$K$290,4,0)","v":42.82},{"$f":"VLOOKUP($B132,'FSA19'!$E$5:$K$290,5,0)","v":46.19},{"$f":"VLOOKUP($B132,'FSA19'!$E$5:$K$290,6,0)","v":43.58},{"$f":"VLOOKUP($B132,'FSA19'!$E$5:$K$290,7,0)","v":42.37},{"$f":"VLOOKUP(B132,'FSA 18'!$E$5:$BN$482,62,0)+S132","v":49.52},45.416000000000004,45.935200000000002,45.884240000000005,46.345088000000011,47.140105600000005,46.664126720000006,null,null,null,2.06,0.52,0.64,null,37.620000000000005,40.22,44.11,42.019999999999996,41.33,49,45.416000000000004,45.935200000000002,45.884240000000005,46.345088000000011,47.140105600000005]
[null,"CharlevoixSoybeansAll",{"$f":"VLOOKUP($B133,'FSA19'!$E$5:$K$290,3,0)","v":40.799999999999997},{"$f":"VLOOKUP($B133,'FSA19'!$E$5:$K$290,4,0)","v":47.2},{"$f":"VLOOKUP($B133,'FSA19'!$E$5:$K$290,5,0)","v":47.2},{"$f":"VLOOKUP($B133,'FSA19'!$E$5:$K$290,6,0)","v":44},{"$f":"VLOOKUP($B133,'FSA19'!$E$5:$K$290,7,0)","v":40.799999999999997},{"$f":"VLOOKUP(B133,'FSA 18'!$E$5:$BN$482,62,0)+S133","v":37.299999999999997},43.599999999999994,42.879999999999995,42.015999999999991,41.619199999999992,41.783039999999993,42.679647999999986,null,null,null,0.95,0.3,0.35,null,39,45.7,46,43.1,40.199999999999996,37,43.599999999999994,42.879999999999995,42.015999999999991,41.619199999999992,41.783039999999993]
[null,"CheboyganSoybeansAll",{"$f":"VLOOKUP($B134,'FSA19'!$E$5:$K$290,3,0)","v":39.200000000000003},{"$f":"VLOOKUP($B134,'FSA19'!$E$5:$K$290,4,0)","v":45.6},{"$f":"VLOOKUP($B134,'FSA19'!$E$5:$K$290,5,0)","v":45.6},{"$f":"VLOOKUP($B134,'FSA19'!$E$5:$K$290,6,0)","v":44.8},{"$f":"VLOOKUP($B134,'FSA19'!$E$5:$K$290,7,0)","v":40.799999999999997},{"$f":"VLOOKUP(B134,'FSA 18'!$E$5:$BN$482,62,0)+S134","v":37.340000000000003},43.168000000000006,42.681600000000003,42.097920000000002,41.557504000000002,41.70900480000001,42.582805760000007,null,null,null,1.36,0.34,0.73,null,37.160000000000004,43.9,44.24,43.779999999999994,40.119999999999997,37,43.168000000000006,42.681600000000003,42.097920000000002,41.557504000000002,41.70900480000001]
[null,"ChippewaSoybeansAll",{"$f":"VLOOKUP($B135,'FSA19'!$E$5:$K$290,3,0)","v":28},{"$f":"VLOOKUP($B135,'FSA19'!$E$5:$K$290,4,0)","v":25.6},{"$f":"VLOOKUP($B135,'FSA19'!$E$5:$K$290,5,0)","v":36},{"$f":"VLOOKUP($B135,'FSA19'!$E$5:$K$290,6,0)","v":35},{"$f":"VLOOKUP($B135,'FSA19'!$E$5:$K$290,7,0)","v":37},{"$f":"VLOOKUP(B135,'FSA 18'!$E$5:$BN$482,62,0)+S135","v":37.270000000000003},34.444000000000003,36.212800000000001,36.255360000000003,36.506432000000004,36.407718400000007,36.235262080000005,null,null,null,0.98,0.27,0.65,null,26.38,24.25,34.92,34.19,36.46,37,34.444000000000003,36.212800000000001,36.255360000000003,36.506432000000004,36.407718400000007]
[null,"ClareSoybeansAll",{"$f":"VLOOKUP($B136,'FSA19'!$E$5:$K$290,3,0)","v":30.32},{"$f":"VLOOKUP($B136,'FSA19'!$E$5:$K$290,4,0)","v":29.51},{"$f":"VLOOKUP($B136,'FSA19'!$E$5:$K$290,5,0)","v":33.28},{"$f":"VLOOKUP($B136,'FSA19'!$E$5:$K$290,6,0)","v":39.47},{"$f":"VLOOKUP($B136,'FSA19'!$E$5:$K$290,7,0)","v":34.130000000000003},{"$f":"VLOOKUP(B136,'FSA 18'!$E$5:$BN$482,62,0)+S136","v":34.39},34.546000000000006,35.553199999999997,36.007840000000002,35.315408000000005,35.552489600000001,35.784987520000001,null,null,null,1.61,0.39,0.62,null,27.98,27.560000000000002,31.720000000000002,38.299999999999997,33.35,34,34.546000000000006,35.553199999999997,36.007840000000002,35.315408000000005,35.552489600000001]
[null,"ClintonSoybeansIrrigated",{"$f":"VLOOKUP($B137,'FSA19'!$E$5:$K$290,3,0)","v":38.99},{"$f":"VLOOKUP($B137,'FSA19'!$E$5:$K$290,4,0)","v":52.5},{"$f":"VLOOKUP($B137,'FSA19'!$E$5:$K$290,5,0)","v":61.84},{"$f":"VLOOKUP($B137,'FSA19'!$E$5:$K$290,6,0)","v":64.38},{"$f":"VLOOKUP($B137,'FSA19'!$E$5:$K$290,7,0)","v":51.05},{"$f":"AVERAGE(C137:G137)+S137","v":54.221999999999994},57.268399999999993,58.222079999999991,57.498495999999996,56.122195199999993,57.136634239999985,57.719561087999992,null,null,null,1.92,0.47,1.04,null,36.17,50.15,59.96,62.97,50.11,53.751999999999995,57.268399999999993,58.222079999999991,57.498495999999996,56.122195199999993,57.136634239999985]
[null,"ClintonSoybeansNonirrigated",{"$f":"VLOOKUP($B138,'FSA19'!$E$5:$K$290,3,0)","v":45.1},{"$f":"VLOOKUP($B138,'FSA19'!$E$5:$K$290,4,0)","v":47.15},{"$f":"VLOOKUP($B138,'FSA19'!$E$5:$K$290,5,0)","v":54.32},{"$f":"VLOOKUP($B138,'FSA19'!$E$5:$K$290,6,0)","v":56.36},{"$f":"VLOOKUP($B138,'FSA19'!$E$5:$K$290,7,0)","v":41.27},{"$f":"AVERAGE(C138:G138)+S138","v":49.31},50.152000000000001,50.752400000000009,50.038879999999999,48.774656000000007,50.275587200000004,50.468704640000006,null,null,null,1.92,0.47,1.04,null,42.28,44.8,52.44,54.95,40.330000000000005,48.84,50.152000000000001,50.752400000000009,50.038879999999999,48.774656000000007,50.275587200000004]
[null,"DeltaSoybeansAll",{"$f":"VLOOKUP($B139,'FSA19'!$E$5:$K$290,3,0)","v":28},{"$f":"VLOOKUP($B139,'FSA19'!$E$5:$K$290,4,0)","v":24},{"$f":"VLOOKUP($B139,'FSA19'!$E$5:$K$290,5,0)","v":36},{"$f":"VLOOKUP($B139,'FSA19'!$E$5:$K$290,6,0)","v":35},{"$f":"VLOOKUP($B139,'FSA19'!$E$5:$K$290,7,0)","v":37},{"$f":"VLOOKUP(B139,'FSA 18'!$E$5:$BN$482,62,0)+S139","v":37.28},34.136000000000003,36.163200000000003,36.195840000000004,36.435008000000003,36.322009600000001,36.13041152000001,null,null,null,0.91,0.28000000000000003,0.67,null,26.32,22.6,34.880000000000003,34.159999999999997,36.44,37,34.136000000000003,36.163200000000003,36.195840000000004,36.435008000000003,36.322009600000001]
[null,"EatonSoybeansIrrigated",{"$f":"VLOOKUP($B140,'FSA19'!$E$5:$K$290,3,0)","v":39.82},{"$f":"VLOOKUP($B140,'FSA19'!$E$5:$K$290,4,0)","v":36.44},{"$f":"VLOOKUP($B140,'FSA19'!$E$5:$K$290,5,0)","v":47.77},{"$f":"VLOOKUP($B140,'FSA19'!$E$5:$K$290,6,0)","v":50.14},{"$f":"VLOOKUP($B140,'FSA19'!$E$5:$K$290,7,0)","v":52.17},{"$f":"AVERAGE(C140:G140)+S140","v":45.738000000000007},46.921600000000005,49.017919999999997,49.267504000000002,49.093004800000003,48.477605760000003,49.025526912000004,null,null,null,2.08,0.47,0.79,null,37,34.089999999999996,45.89,48.730000000000004,51.230000000000004,45.268000000000008,46.921600000000005,49.017919999999997,49.267504000000002,49.093004800000003,48.477605760000003]
[null,"EatonSoybeansNonirrigated",{"$f":"VLOOKUP($B141,'FSA19'!$E$5:$K$290,3,0)","v":52.7},{"$f":"VLOOKUP($B141,'FSA19'!$E$5:$K$290,4,0)","v":46.25},{"$f":"VLOOKUP($B141,'FSA19'!$E$5:$K$290,5,0)","v":48.56},{"$f":"VLOOKUP($B141,'FSA19'!$E$5:$K$290,6,0)","v":52.58},{"$f":"VLOOKUP($B141,'FSA19'!$E$5:$K$290,7,0)","v":43.39},{"$f":"AVERAGE(C141:G141)+S141","v":49.16599999999999},48.459199999999996,48.901039999999995,48.969247999999993,48.247097599999996,49.218517119999987,49.229020543999987,null,null,null,2.08,0.47,0.79,null,49.88,43.9,46.68,51.17,42.45,48.695999999999991,48.459199999999996,48.901039999999995,48.969247999999993,48.247097599999996,49.218517119999987]
[null,"EmmetSoybeansAll",{"$f":"VLOOKUP($B142,'FSA19'!$E$5:$K$290,3,0)","v":38.4},{"$f":"VLOOKUP($B142,'FSA19'!$E$5:$K$290,4,0)","v":44.8},{"$f":"VLOOKUP($B142,'FSA19'!$E$5:$K$290,5,0)","v":44.8},{"$f":"VLOOKUP($B142,'FSA19'!$E$5:$K$290,6,0)","v":41.6},{"$f":"VLOOKUP($B142,'FSA19'!$E$5:$K$290,7,0)","v":40.799999999999997},{"$f":"VLOOKUP(B142,'FSA 18'!$E$5:$BN$482,62,0)+S142","v":37.28},42.136000000000003,41.603200000000001,40.963839999999998,40.836608000000005,40.843929600000003,41.556715520000004,null,null,null,1,0.28000000000000003,0.79,null,36.72,43.4,43.68,40.76,40.239999999999995,37,42.136000000000003,41.603200000000001,40.963839999999998,40.836608000000005,40.843929600000003]
[null,"GeneseeSoybeansAll",{"$f":"VLOOKUP($B143,'FSA19'!$E$5:$K$290,3,0)","v":43},{"$f":"VLOOKUP($B143,'FSA19'!$E$5:$K$290,4,0)","v":40.69},{"$f":"VLOOKUP($B143,'FSA19'!$E$5:$K$290,5,0)","v":49.65},{"$f":"VLOOKUP($B143,'FSA19'!$E$5:$K$290,6,0)","v":44.58},{"$f":"VLOOKUP($B143,'FSA19'!$E$5:$K$290,7,0)","v":41.41},{"$f":"VLOOKUP(B143,'FSA 18'!$E$5:$BN$482,62,0)+S143","v":44.39},44.534000000000006,45.302799999999991,44.433359999999993,44.404032000000001,45.002838400000002,45.125406079999998,null,null,null,1.51,0.39,0.7,null,40.659999999999997,38.739999999999995,48.089999999999996,43.41,40.629999999999995,44,44.534000000000006,45.302799999999991,44.433359999999993,44.404032000000001,45.002838400000002]
[null,"GladwinSoybeansAll",{"$f":"VLOOKUP($B144,'FSA19'!$E$5:$K$290,3,0)","v":39.75},{"$f":"VLOOKUP($B144,'FSA19'!$E$5:$K$290,4,0)","v":38.79},{"$f":"VLOOKUP($B144,'FSA19'!$E$5:$K$290,5,0)","v":44.11},{"$f":"VLOOKUP($B144,'FSA19'!$E$5:$K$290,6,0)","v":44.01},{"$f":"VLOOKUP($B144,'FSA19'!$E$5:$K$290,7,0)","v":39.659999999999997},{"$f":"VLOOKUP(B144,'FSA 18'!$E$5:$BN$482,62,0)+S144","v":41.51},42.125999999999998,42.793199999999999,42.52984,42.233808000000003,42.748569599999996,42.996283519999999,null,null,null,2.06,0.51,0.85,null,36.69,36.24,42.07,42.48,38.639999999999993,41,42.125999999999998,42.793199999999999,42.52984,42.233808000000003,42.748569599999996]
[null,"Grand TraverseSoybeansAll",{"$f":"VLOOKUP($B145,'FSA19'!$E$5:$K$290,3,0)","v":26.69},{"$f":"VLOOKUP($B145,'FSA19'!$E$5:$K$290,4,0)","v":19.48},{"$f":"VLOOKUP($B145,'FSA19'!$E$5:$K$290,5,0)","v":27.09},{"$f":"VLOOKUP($B145,'FSA19'!$E$5:$K$290,6,0)","v":30.48},{"$f":"VLOOKUP($B145,'FSA19'!$E$5:$K$290,7,0)","v":34.869999999999997},{"$f":"VLOOKUP(B145,'FSA 18'!$E$5:$BN$482,62,0)+S145","v":40.270000000000003},30.707999999999998,32.953600000000002,34.12632,34.855584,34.852700800000001,33.769240960000005,null,null,null,0.69,0.27,0.51,null,25.07,18.13,26.009999999999998,29.67,34.33,40,30.707999999999998,32.953600000000002,34.12632,34.855584,34.852700800000001]
[null,"GratiotSoybeansIrrigated",{"$f":"VLOOKUP($B146,'FSA19'!$E$5:$K$290,3,0)","v":44.73},{"$f":"VLOOKUP($B146,'FSA19'!$E$5:$K$290,4,0)","v":40.99},{"$f":"VLOOKUP($B146,'FSA19'!$E$5:$K$290,5,0)","v":54.07},{"$f":"VLOOKUP($B146,'FSA19'!$E$5:$K$290,6,0)","v":58.31},{"$f":"VLOOKUP($B146,'FSA19'!$E$5:$K$290,7,0)","v":49.19},{"$f":"AVERAGE(C146:G146)+S146","v":49.887999999999998},50.919600000000003,52.905520000000003,52.672623999999999,51.5451488,52.016178559999993,52.441814272000002,null,null,null,1.78,0.43,1,null,42.15,38.840000000000003,52.35,57.02,48.33,49.457999999999998,50.919600000000003,52.905520000000003,52.672623999999999,51.5451488,52.016178559999993]
[null,"GratiotSoybeansNonirrigated",{"$f":"VLOOKUP($B147,'FSA19'!$E$5:$K$290,3,0)","v":46.39},{"$f":"VLOOKUP($B147,'FSA19'!$E$5:$K$290,4,0)","v":46},{"$f":"VLOOKUP($B147,'FSA19'!$E$5:$K$290,5,0)","v":55.36},{"$f":"VLOOKUP($B147,'FSA19'!$E$5:$K$290,6,0)","v":56.31},{"$f":"VLOOKUP($B147,'FSA19'!$E$5:$K$290,7,0)","v":43.35},49.911999999999999,50.616400000000006,51.539680000000004,50.775615999999999,49.668739199999997,50.932487040000005,51.136584448000001,null,null,null,1.78,0.43,1,null,43.81,43.85,53.64,55.02,42.49,49.481999999999999,50.616400000000006,51.539680000000004,50.775615999999999,49.668739199999997,50.932487040000005]
[null,"HillsdaleSoybeansIrrigated",{"$f":"VLOOKUP($B148,'FSA19'!$E$5:$K$290,3,0)","v":62.84},{"$f":"VLOOKUP($B148,'FSA19'!$E$5:$K$290,4,0)","v":49.07},{"$f":"VLOOKUP($B148,'FSA19'!$E$5:$K$290,5,0)","v":54.99},{"$f":"VLOOKUP($B148,'FSA19'!$E$5:$K$290,6,0)","v":58.31},{"$f":"VLOOKUP($B148,'FSA19'!$E$5:$K$290,7,0)","v":50.8},55.671999999999997,54.238399999999999,55.272080000000003,55.328496000000001,54.732195199999992,55.518634239999997,55.487961087999992,null,null,null,1.72,0.47,0.94,null,60.02,46.72,53.11,56.900000000000006,49.86,55.201999999999998,54.238399999999999,55.272080000000003,55.328496000000001,54.732195199999992,55.518634239999997]
[null,"HillsdaleSoybeansNonirrigated",{"$f":"VLOOKUP($B149,'FSA19'!$E$5:$K$290,3,0)","v":52.11},{"$f":"VLOOKUP($B149,'FSA19'!$E$5:$K$290,4,0)","v":41},{"$f":"VLOOKUP($B149,'FSA19'!$E$5:$K$290,5,0)","v":47.44},{"$f":"VLOOKUP($B149,'FSA19'!$E$5:$K$290,6,0)","v":56.31},{"$f":"VLOOKUP($B149,'FSA19'!$E$5:$K$290,7,0)","v":44.32},48.706000000000003,48.025199999999998,49.430239999999998,49.828288000000001,48.5319456,49.37433472,49.508001663999998,null,null,null,1.72,0.47,0.94,null,49.29,38.65,45.559999999999995,54.900000000000006,43.38,48.236000000000004,48.025199999999998,49.430239999999998,49.828288000000001,48.5319456,49.37433472]
[null,"HuronSoybeansIrrigated",{"$f":"VLOOKUP($B150,'FSA19'!$E$5:$K$290,3,0)","v":50.35},{"$f":"VLOOKUP($B150,'FSA19'!$E$5:$K$290,4,0)","v":40.57},{"$f":"VLOOKUP($B150,'FSA19'!$E$5:$K$290,5,0)","v":56.15},{"$f":"VLOOKUP($B150,'FSA19'!$E$5:$K$290,6,0)","v":54.41},{"$f":"VLOOKUP($B150,'FSA19'!$E$5:$K$290,7,0)","v":48.32},50.609999999999992,50.661999999999992,52.680399999999999,51.986479999999993,51.501775999999992,52.138131199999997,52.443757439999992,null,null,null,2.2599999999999998,0.65,1.3,null,46.45,37.32,53.55,52.459999999999994,47.02,49.959999999999994,50.661999999999992,52.680399999999999,51.986479999999993,51.501775999999992,52.138131199999997]
[null,"HuronSoybeansNonirrigated",{"$f":"VLOOKUP($B151,'FSA19'!$E$5:$K$290,3,0)","v":51.2},{"$f":"VLOOKUP($B151,'FSA19'!$E$5:$K$290,4,0)","v":43.4},{"$f":"VLOOKUP($B151,'FSA19'!$E$5:$K$290,5,0)","v":55.92},{"$f":"VLOOKUP($B151,'FSA19'!$E$5:$K$290,6,0)","v":58.49},{"$f":"VLOOKUP($B151,'FSA19'!$E$5:$K$290,7,0)","v":54.66},53.383999999999993,53.820799999999998,55.904959999999996,55.901951999999994,55.384342399999987,55.529210879999994,55.95825305599999,null,null,null,2.2599999999999998,0.65,1.3,null,47.300000000000004,40.15,53.32,56.54,53.36,52.733999999999995,53.820799999999998,55.904959999999996,55.901951999999994,55.384342399999987,55.529210879999994]
[null,"InghamSoybeansIrrigated",{"$f":"VLOOKUP($B152,'FSA19'!$E$5:$K$290,3,0)","v":58.76},{"$f":"VLOOKUP($B152,'FSA19'!$E$5:$K$290,4,0)","v":39.21},{"$f":"VLOOKUP($B152,'FSA19'!$E$5:$K$290,5,0)","v":60.84},{"$f":"VLOOKUP($B152,'FSA19'!$E$5:$K$290,6,0)","v":46.27},{"$f":"VLOOKUP($B152,'FSA19'!$E$5:$K$290,7,0)","v":40.01},49.518000000000001,47.669600000000003,49.361519999999999,47.065823999999999,47.224988799999998,48.667986560000003,48.497983872000006,null,null,null,2.02,0.5,1.05,null,55.76,36.71,58.84,44.77,39.01,49.018000000000001,47.669600000000003,49.361519999999999,47.065823999999999,47.224988799999998,48.667986560000003]
[null,"InghamSoybeansNonirrigated",{"$f":"VLOOKUP($B153,'FSA19'!$E$5:$K$290,3,0)","v":50.95},{"$f":"VLOOKUP($B153,'FSA19'!$E$5:$K$290,4,0)","v":49.44},{"$f":"VLOOKUP($B153,'FSA19'!$E$5:$K$290,5,0)","v":52.66},{"$f":"VLOOKUP($B153,'FSA19'!$E$5:$K$290,6,0)","v":54.49},{"$f":"VLOOKUP($B153,'FSA19'!$E$5:$K$290,7,0)","v":48.46},51.7,51.85,52.332000000000008,52.266399999999997,51.821679999999994,52.494016000000002,52.652819199999996,null,null,null,2.02,0.5,1.05,null,47.95,46.94,50.66,52.99,47.46,51.2,51.85,52.332000000000008,52.266399999999997,51.821679999999994,52.494016000000002]
[null,"IoniaSoybeansIrrigated",{"$f":"VLOOKUP($B154,'FSA19'!$E$5:$K$290,3,0)","v":47.92},{"$f":"VLOOKUP($B154,'FSA19'!$E$5:$K$290,4,0)","v":44.48},{"$f":"VLOOKUP($B154,'FSA19'!$E$5:$K$290,5,0)","v":62.62},{"$f":"VLOOKUP($B154,'FSA19'!$E$5:$K$290,6,0)","v":61.66},{"$f":"VLOOKUP($B154,'FSA19'!$E$5:$K$290,7,0)","v":57.48},55.372000000000007,56.862399999999994,59.338879999999996,58.682656000000001,58.087187199999995,58.208624639999996,58.775949568000001,null,null,null,2.23,0.54,0.96,null,44.68,41.779999999999994,60.459999999999994,60.04,56.4,54.832000000000008,56.862399999999994,59.338879999999996,58.682656000000001,58.087187199999995,58.208624639999996]
[null,"IoniaSoybeansNonirrigated",{"$f":"VLOOKUP($B155,'FSA19'!$E$5:$K$290,3,0)","v":50.76},{"$f":"VLOOKUP($B155,'FSA19'!$E$5:$K$290,4,0)","v":46.26},{"$f":"VLOOKUP($B155,'FSA19'!$E$5:$K$290,5,0)","v":56.22},{"$f":"VLOOKUP($B155,'FSA19'!$E$5:$K$290,6,0)","v":57.88},{"$f":"VLOOKUP($B155,'FSA19'!$E$5:$K$290,7,0)","v":44.58},51.68,51.863999999999997,52.9848,52.337760000000003,51.229312,52.559174399999996,52.73500928,null,null,null,2.23,0.54,0.96,null,47.519999999999996,43.559999999999995,54.06,56.260000000000005,43.5,51.14,51.863999999999997,52.9848,52.337760000000003,51.229312,52.559174399999996]
[null,"IoscoSoybeansAll",{"$f":"VLOOKUP($B156,'FSA19'!$E$5:$K$290,3,0)","v":34.82},{"$f":"VLOOKUP($B156,'FSA19'!$E$5:$K$290,4,0)","v":32.92},{"$f":"VLOOKUP($B156,'FSA19'!$E$5:$K$290,5,0)","v":40.130000000000003},{"$f":"VLOOKUP($B156,'FSA19'!$E$5:$K$290,6,0)","v":42.47},{"$f":"VLOOKUP($B156,'FSA19'!$E$5:$K$290,7,0)","v":36.96},{"$f":"VLOOKUP(B156,'FSA 18'!$E$5:$BN$482,62,0)+S156","v":46.43},40.212000000000003,41.670400000000001,41.978479999999998,41.880175999999999,42.8642112,42.151053440000005,null,null,null,1.72,0.43,0.95,null,32.24,30.770000000000003,38.410000000000004,41.18,36.1,46,40.212000000000003,41.670400000000001,41.978479999999998,41.880175999999999,42.8642112]
[null,"IsabellaSoybeansIrrigated",{"$f":"VLOOKUP($B157,'FSA19'!$E$5:$K$290,3,0)","v":48.04},{"$f":"VLOOKUP($B157,'FSA19'!$E$5:$K$290,4,0)","v":37.700000000000003},{"$f":"VLOOKUP($B157,'FSA19'!$E$5:$K$290,5,0)","v":48.04},{"$f":"VLOOKUP($B157,'FSA19'!$E$5:$K$290,6,0)","v":53.35},{"$f":"VLOOKUP($B157,'FSA19'!$E$5:$K$290,7,0)","v":45.89},{"$f":"AVERAGE(C157:G157)+S157","v":47.134},46.952800000000011,48.803360000000005,48.956032000000008,48.077238400000006,48.514686080000004,48.790823295999999,null,null,null,2.11,0.53,0.64,null,44.86,35.050000000000004,45.92,51.76,44.83,46.603999999999999,46.952800000000011,48.803360000000005,48.956032000000008,48.077238400000006,48.514686080000004]
[null,"IsabellaSoybeansNonirrigated",{"$f":"VLOOKUP($B158,'FSA19'!$E$5:$K$290,3,0)","v":45.93},{"$f":"VLOOKUP($B158,'FSA19'!$E$5:$K$290,4,0)","v":40.04},{"$f":"VLOOKUP($B158,'FSA19'!$E$5:$K$290,5,0)","v":47.4},{"$f":"VLOOKUP($B158,'FSA19'!$E$5:$K$290,6,0)","v":50.14},{"$f":"VLOOKUP($B158,'FSA19'!$E$5:$K$290,7,0)","v":39.770000000000003},{"$f":"AVERAGE(C158:G158)+S158","v":45.186},45.037199999999999,46.036640000000006,45.763967999999998,44.888761600000002,45.912513920000002,46.057816704000004,null,null,null,2.11,0.53,0.64,null,42.75,37.39,45.28,48.55,38.71,44.655999999999999,45.037199999999999,46.036640000000006,45.763967999999998,44.888761600000002,45.912513920000002]
[null,"JacksonSoybeansIrrigated",{"$f":"VLOOKUP($B159,'FSA19'!$E$5:$K$290,3,0)","v":49.58},{"$f":"VLOOKUP($B159,'FSA19'!$E$5:$K$290,4,0)","v":56.86},{"$f":"VLOOKUP($B159,'FSA19'!$E$5:$K$290,5,0)","v":55.55},{"$f":"VLOOKUP($B159,'FSA19'!$E$5:$K$290,6,0)","v":51.77},{"$f":"VLOOKUP($B159,'FSA19'!$E$5:$K$290,7,0)","v":58.31},{"$f":"AVERAGE(C159:G159)+S159","v":54.83400000000001},55.884800000000006,55.68976,55.717712000000006,56.507254400000008,56.146705280000013,56.40924633600001,null,null,null,1.43,0.42,0.73,null,47.059999999999995,54.76,53.87,50.510000000000005,57.47,54.414000000000009,55.884800000000006,55.68976,55.717712000000006,56.507254400000008,56.146705280000013]
[null,"JacksonSoybeansNonirrigated",{"$f":"VLOOKUP($B160,'FSA19'!$E$5:$K$290,3,0)","v":50.01},{"$f":"VLOOKUP($B160,'FSA19'!$E$5:$K$290,4,0)","v":42.11},{"$f":"VLOOKUP($B160,'FSA19'!$E$5:$K$290,5,0)","v":42.84},{"$f":"VLOOKUP($B160,'FSA19'!$E$5:$K$290,6,0)","v":47.34},{"$f":"VLOOKUP($B160,'FSA19'!$E$5:$K$290,7,0)","v":33.83},{"$f":"AVERAGE(C160:G160)+S160","v":43.646000000000001},42.373200000000004,42.425840000000001,42.343007999999998,41.343609600000001,42.846331520000007,42.686397824000004,null,null,null,1.43,0.42,0.73,null,47.489999999999995,40.01,41.160000000000004,46.080000000000005,32.989999999999995,43.225999999999999,42.373200000000004,42.425840000000001,42.343007999999998,41.343609600000001,42.846331520000007]
[null,"KalamazooSoybeansIrrigated",{"$f":"VLOOKUP($B161,'FSA19'!$E$5:$K$290,3,0)","v":60.92},{"$f":"VLOOKUP($B161,'FSA19'!$E$5:$K$290,4,0)","v":61.73},{"$f":"VLOOKUP($B161,'FSA19'!$E$5:$K$290,5,0)","v":64.650000000000006},{"$f":"VLOOKUP($B161,'FSA19'!$E$5:$K$290,6,0)","v":64.61},{"$f":"VLOOKUP($B161,'FSA19'!$E$5:$K$290,7,0)","v":55.4},{"$f":"VLOOKUP(B161,'FSA 18'!$E$5:$BN$482,62,0)+S161","v":50.52},59.902000000000008,59.5364,58.513680000000008,57.294416000000012,57.67329920000001,59.103959040000014,null,null,null,2.06,0.52,0.65,null,57.800000000000004,59.129999999999995,62.570000000000007,63.05,54.36,50,59.902000000000008,59.5364,58.513680000000008,57.294416000000012,57.67329920000001]
[null,"KalamazooSoybeansNonirrigated",{"$f":"VLOOKUP($B162,'FSA19'!$E$5:$K$290,3,0)","v":51.64},{"$f":"VLOOKUP($B162,'FSA19'!$E$5:$K$290,4,0)","v":43.43},{"$f":"VLOOKUP($B162,'FSA19'!$E$5:$K$290,5,0)","v":47.7},{"$f":"VLOOKUP($B162,'FSA19'!$E$5:$K$290,6,0)","v":49.98},{"$f":"VLOOKUP($B162,'FSA19'!$E$5:$K$290,7,0)","v":37.25},{"$f":"VLOOKUP(B162,'FSA 18'!$E$5:$BN$482,62,0)+S162","v":46.52},45.496000000000002,45.909200000000006,45.551040000000008,44.665248000000005,46.148297600000014,46.073957120000003,null,null,null,2.06,0.52,0.65,null,48.52,40.83,45.620000000000005,48.419999999999995,36.21,46,45.496000000000002,45.909200000000006,45.551040000000008,44.665248000000005,46.148297600000014]
[null,"KalkaskaSoybeansAll",{"$f":"VLOOKUP($B163,'FSA19'!$E$5:$K$290,3,0)","v":28},{"$f":"VLOOKUP($B163,'FSA19'!$E$5:$K$290,4,0)","v":36},{"$f":"VLOOKUP($B163,'FSA19'!$E$5:$K$290,5,0)","v":36},{"$f":"VLOOKUP($B163,'FSA19'!$E$5:$K$290,6,0)","v":36},{"$f":"VLOOKUP($B163,'FSA19'!$E$5:$K$290,7,0)","v":37},{"$f":"VLOOKUP(B163,'FSA 18'!$E$5:$BN$482,62,0)+S163","v":37.28},36.736000000000004,36.883200000000002,37.059840000000001,37.271808000000007,37.326169600000007,37.335403520000007,null,null,null,0.91,0.28000000000000003,0.25,null,26.32,34.6,34.880000000000003,35.159999999999997,36.44,37,36.736000000000004,36.883200000000002,37.059840000000001,37.271808000000007,37.326169600000007]
[null,"KentSoybeansIrrigated",{"$f":"VLOOKUP($B164,'FSA19'!$E$5:$K$290,3,0)","v":45.28},{"$f":"VLOOKUP($B164,'FSA19'!$E$5:$K$290,4,0)","v":42.58},{"$f":"VLOOKUP($B164,'FSA19'!$E$5:$K$290,5,0)","v":63.96},{"$f":"VLOOKUP($B164,'FSA19'!$E$5:$K$290,6,0)","v":58.59},{"$f":"VLOOKUP($B164,'FSA19'!$E$5:$K$290,7,0)","v":46.06},{"$f":"AVERAGE(C164:G164)+S164","v":51.864000000000004},53.180799999999998,55.300960000000003,53.569152000000003,52.564982400000005,53.865978880000007,54.266374656000004,null,null,null,1.97,0.56999999999999995,0.83,null,41.86,39.729999999999997,61.68,56.88,44.92,51.294000000000004,53.180799999999998,55.300960000000003,53.569152000000003,52.564982400000005,53.865978880000007]
[null,"KentSoybeansNonirrigated",{"$f":"VLOOKUP($B165,'FSA19'!$E$5:$K$290,3,0)","v":43.21},{"$f":"VLOOKUP($B165,'FSA19'!$E$5:$K$290,4,0)","v":39.590000000000003},{"$f":"VLOOKUP($B165,'FSA19'!$E$5:$K$290,5,0)","v":49.74},{"$f":"VLOOKUP($B165,'FSA19'!$E$5:$K$290,6,0)","v":52.91},{"$f":"VLOOKUP($B165,'FSA19'!$E$5:$K$290,7,0)","v":41.13},{"$f":"AVERAGE(C165:G165)+S165","v":45.886000000000003},46.421199999999999,47.787439999999997,47.396927999999996,46.294313600000002,47.32717632,47.615411584000007,null,null,null,1.97,0.56999999999999995,0.83,null,39.79,36.74,47.46,51.199999999999996,39.99,45.316000000000003,46.421199999999999,47.787439999999997,47.396927999999996,46.294313600000002,47.32717632]
[null,"LapeerSoybeansAll",{"$f":"VLOOKUP($B166,'FSA19'!$E$5:$K$290,3,0)","v":46.53},{"$f":"VLOOKUP($B166,'FSA19'!$E$5:$K$290,4,0)","v":38.81},{"$f":"VLOOKUP($B166,'FSA19'!$E$5:$K$290,5,0)","v":50.84},{"$f":"VLOOKUP($B166,'FSA19'!$E$5:$K$290,6,0)","v":52.54},{"$f":"VLOOKUP($B166,'FSA19'!$E$5:$K$290,7,0)","v":40.840000000000003},{"$f":"VLOOKUP(B166,'FSA 18'!$E$5:$BN$482,62,0)+S166","v":44.52},46.030000000000008,47.474000000000004,46.800800000000002,45.652960000000014,46.615552000000008,47.034662400000009,null,null,null,1.91,0.52,0.9,null,43.410000000000004,36.21,48.760000000000005,50.98,39.800000000000004,44,46.030000000000008,47.474000000000004,46.800800000000002,45.652960000000014,46.615552000000008]
[null,"LeelanauSoybeansAll",{"$f":"VLOOKUP($B167,'FSA19'!$E$5:$K$290,3,0)","v":42.4},{"$f":"VLOOKUP($B167,'FSA19'!$E$5:$K$290,4,0)","v":48.8},{"$f":"VLOOKUP($B167,'FSA19'!$E$5:$K$290,5,0)","v":48.8},{"$f":"VLOOKUP($B167,'FSA19'!$E$5:$K$290,6,0)","v":44},{"$f":"VLOOKUP($B167,'FSA19'!$E$5:$K$290,7,0)","v":45.1},{"$f":"VLOOKUP(B167,'FSA 18'!$E$5:$BN$482,62,0)+S167","v":{"$error":"#VALUE!"}},{"$error":"#VALUE!"},{"$error":"#VALUE!"},{"$error":"#VALUE!"},{"$error":"#VALUE!"},{"$error":"#VALUE!"},{"$error":"#VALUE!"},null,null,null,0.35,0,0.34,null,42.4,48.8,48.8,44,45.1,{"$error":"#VALUE!"},{"$error":"#VALUE!"},{"$error":"#VALUE!"},{"$error":"#VALUE!"},{"$error":"#VALUE!"},{"$error":"#VALUE!"}]
[null,"LenaweeSoybeansIrrigated",{"$f":"VLOOKUP($B168,'FSA19'!$E$5:$K$290,3,0)","v":54.96},{"$f":"VLOOKUP($B168,'FSA19'!$E$5:$K$290,4,0)","v":56.29},{"$f":"VLOOKUP($B168,'FSA19'!$E$5:$K$290,5,0)","v":57.46},{"$f":"VLOOKUP($B168,'FSA19'!$E$5:$K$290,6,0)","v":61.46},{"$f":"VLOOKUP($B168,'FSA19'!$E$5:$K$290,7,0)","v":55.74},{"$f":"AVERAGE(C168:G168)+S168","v":57.582000000000001},58.106400000000008,58.46967999999999,58.671616000000007,58.113939200000004,58.588727040000002,58.790072447999997,null,null,null,1.81,0.4,1.03,null,52.56,54.29,55.86,60.26,54.940000000000005,57.182000000000002,58.106400000000008,58.46967999999999,58.671616000000007,58.113939200000004,58.588727040000002]
[null,"LenaweeSoybeansNonirrigated",{"$f":"VLOOKUP($B169,'FSA19'!$E$5:$K$290,3,0)","v":56.78},{"$f":"VLOOKUP($B169,'FSA19'!$E$5:$K$290,4,0)","v":50.4},{"$f":"VLOOKUP($B169,'FSA19'!$E$5:$K$290,5,0)","v":51.83},{"$f":"VLOOKUP($B169,'FSA19'!$E$5:$K$290,6,0)","v":58.96},{"$f":"VLOOKUP($B169,'FSA19'!$E$5:$K$290,7,0)","v":49.53},{"$f":"AVERAGE(C169:G169)+S169","v":53.9},53.323999999999998,53.908799999999992,54.324559999999998,53.397472,54.170966399999998,54.225159679999997,null,null,null,1.81,0.4,1.03,null,54.38,48.4,50.23,57.76,48.730000000000004,53.5,53.323999999999998,53.908799999999992,54.324559999999998,53.397472,54.170966399999998]
[null,"LivingstonSoybeansAll",{"$f":"VLOOKUP($B170,'FSA19'!$E$5:$K$290,3,0)","v":51.74},{"$f":"VLOOKUP($B170,'FSA19'!$E$5:$K$290,4,0)","v":46.89},{"$f":"VLOOKUP($B170,'FSA19'!$E$5:$K$290,5,0)","v":48.28},{"$f":"VLOOKUP($B170,'FSA19'!$E$5:$K$290,6,0)","v":51.46},{"$f":"VLOOKUP($B170,'FSA19'!$E$5:$K$290,7,0)","v":39.549999999999997},{"$f":"VLOOKUP(B170,'FSA 18'!$E$5:$BN$482,62,0)+S170","v":46.55},47.096000000000004,47.137200000000007,46.908639999999998,45.998367999999999,47.2880416,47.435649920000003,null,null,null,1.77,0.55000000000000004,0.8,null,48.440000000000005,44.14,46.08,49.81,38.449999999999996,46,47.096000000000004,47.137200000000007,46.908639999999998,45.998367999999999,47.2880416]
[null,"LuceSoybeansAll",{"$f":"VLOOKUP($B171,'FSA19'!$E$5:$K$290,3,0)","v":28},{"$f":"VLOOKUP($B171,'FSA19'!$E$5:$K$290,4,0)","v":25.6},{"$f":"VLOOKUP($B171,'FSA19'!$E$5:$K$290,5,0)","v":36},{"$f":"VLOOKUP($B171,'FSA19'!$E$5:$K$290,6,0)","v":35},{"$f":"VLOOKUP($B171,'FSA19'!$E$5:$K$290,7,0)","v":37},{"$f":"VLOOKUP(B171,'FSA 18'!$E$5:$BN$482,62,0)+S171","v":37.28},34.456000000000003,36.227199999999996,36.272639999999996,36.527168000000003,36.432601600000005,36.263121919999996,null,null,null,0.98,0.28000000000000003,0.64,null,26.32,24.200000000000003,34.880000000000003,34.159999999999997,36.44,37,34.456000000000003,36.227199999999996,36.272639999999996,36.527168000000003,36.432601600000005]
[null,"MacombSoybeansAll",{"$f":"VLOOKUP($B172,'FSA19'!$E$5:$K$290,3,0)","v":42.18},{"$f":"VLOOKUP($B172,'FSA19'!$E$5:$K$290,4,0)","v":42.18},{"$f":"VLOOKUP($B172,'FSA19'!$E$5:$K$290,5,0)","v":43.19},{"$f":"VLOOKUP($B172,'FSA19'!$E$5:$K$290,6,0)","v":51.82},{"$f":"VLOOKUP($B172,'FSA19'!$E$5:$K$290,7,0)","v":42.24},{"$f":"VLOOKUP(B172,'FSA 18'!$E$5:$BN$482,62,0)+S172","v":47.38},45.742000000000004,46.454400000000007,47.10728000000001,46.164736000000012,46.94968320000001,46.863619840000005,null,null,null,1.94,0.38,0.75,null,39.9,40.28,41.669999999999995,50.68,41.480000000000004,47,45.742000000000004,46.454400000000007,47.10728000000001,46.164736000000012,46.94968320000001]
[null,"MasonSoybeansAll",{"$f":"VLOOKUP($B173,'FSA19'!$E$5:$K$290,3,0)","v":39.24},{"$f":"VLOOKUP($B173,'FSA19'!$E$5:$K$290,4,0)","v":36.520000000000003},{"$f":"VLOOKUP($B173,'FSA19'!$E$5:$K$290,5,0)","v":45.88},{"$f":"VLOOKUP($B173,'FSA19'!$E$5:$K$290,6,0)","v":47.41},{"$f":"VLOOKUP($B173,'FSA19'!$E$5:$K$290,7,0)","v":47.31},{"$f":"VLOOKUP(B173,'FSA 18'!$E$5:$BN$482,62,0)+S173","v":46.51},45.235999999999997,46.979199999999992,47.199039999999989,47.156847999999989,47.12621759999999,47.249461119999992,null,null,null,1.71,0.51,0.63,null,36.18,33.970000000000006,43.84,45.879999999999995,46.29,46,45.235999999999997,46.979199999999992,47.199039999999989,47.156847999999989,47.12621759999999]
[null,"MecostaSoybeansIrrigated",{"$f":"VLOOKUP($B174,'FSA19'!$E$5:$K$290,3,0)","v":32},{"$f":"VLOOKUP($B174,'FSA19'!$E$5:$K$290,4,0)","v":44.22},{"$f":"VLOOKUP($B174,'FSA19'!$E$5:$K$290,5,0)","v":46},{"$f":"VLOOKUP($B174,'FSA19'!$E$5:$K$290,6,0)","v":51},{"$f":"VLOOKUP($B174,'FSA19'!$E$5:$K$290,7,0)","v":55.54},{"$f":"AVERAGE(C174:G174)+S174","v":46.021999999999998},48.8264,49.747680000000003,50.497216000000002,50.396659200000002,49.36799104,50.037189248000004,null,null,null,1.88,0.27,0.56000000000000005,null,30.38,42.87,44.92,50.19,55,45.751999999999995,48.8264,49.747680000000003,50.497216000000002,50.396659200000002,49.36799104]
[null,"MecostaSoybeansNonirrigated",{"$f":"VLOOKUP($B175,'FSA19'!$E$5:$K$290,3,0)","v":25.6},{"$f":"VLOOKUP($B175,'FSA19'!$E$5:$K$290,4,0)","v":26.81},{"$f":"VLOOKUP($B175,'FSA19'!$E$5:$K$290,5,0)","v":32.57},{"$f":"VLOOKUP($B175,'FSA19'!$E$5:$K$290,6,0)","v":36.299999999999997},{"$f":"VLOOKUP($B175,'FSA19'!$E$5:$K$290,7,0)","v":33.32},{"$f":"AVERAGE(C175:G175)+S175","v":31.189999999999998},32.308,33.407600000000002,33.575120000000005,33.030144,32.972172800000003,33.328607360000007,null,null,null,1.88,0.27,0.56000000000000005,null,23.98,25.459999999999997,31.490000000000002,35.489999999999995,32.78,30.919999999999998,32.308,33.407600000000002,33.575120000000005,33.030144,32.972172800000003]
[null,"MenomineeSoybeansAll",{"$f":"VLOOKUP($B176,'FSA19'!$E$5:$K$290,3,0)","v":24.81},{"$f":"VLOOKUP($B176,'FSA19'!$E$5:$K$290,4,0)","v":19.2},{"$f":"VLOOKUP($B176,'FSA19'!$E$5:$K$290,5,0)","v":27.57},{"$f":"VLOOKUP($B176,'FSA19'!$E$5:$K$290,6,0)","v":22.13},{"$f":"VLOOKUP($B176,'FSA19'!$E$5:$K$290,7,0)","v":24.18},{"$f":"VLOOKUP(B176,'FSA 18'!$E$5:$BN$482,62,0)+S176","v":38.28},26.552,28.022399999999998,28.112880000000001,29.309456000000001,30.335347200000001,28.74641664,null,null,null,1.08,0.28000000000000003,0.72,null,23.13,17.8,26.45,21.29,23.62,38,26.552,28.022399999999998,28.112880000000001,29.309456000000001,30.335347200000001]
[null,"MidlandSoybeansAll",{"$f":"VLOOKUP($B177,'FSA19'!$E$5:$K$290,3,0)","v":48.2},{"$f":"VLOOKUP($B177,'FSA19'!$E$5:$K$290,4,0)","v":45.19},{"$f":"VLOOKUP($B177,'FSA19'!$E$5:$K$290,5,0)","v":50.86},{"$f":"VLOOKUP($B177,'FSA19'!$E$5:$K$290,6,0)","v":50.13},{"$f":"VLOOKUP($B177,'FSA19'!$E$5:$K$290,7,0)","v":40.93},{"$f":"VLOOKUP(B177,'FSA 18'!$E$5:$BN$482,62,0)+S177","v":50.44},47.95,48.501999999999995,48.0304,47.610479999999995,48.946575999999993,48.647891199999989,null,null,null,2.1,0.44,1.04,null,45.56,42.989999999999995,49.1,48.81,40.049999999999997,50,47.95,48.501999999999995,48.0304,47.610479999999995,48.946575999999993]
[null,"MissaukeeSoybeansAll",{"$f":"VLOOKUP($B178,'FSA19'!$E$5:$K$290,3,0)","v":28},{"$f":"VLOOKUP($B178,'FSA19'!$E$5:$K$290,4,0)","v":36},{"$f":"VLOOKUP($B178,'FSA19'!$E$5:$K$290,5,0)","v":36},{"$f":"VLOOKUP($B178,'FSA19'!$E$5:$K$290,6,0)","v":36},{"$f":"VLOOKUP($B178,'FSA19'!$E$5:$K$290,7,0)","v":37},{"$f":"VLOOKUP(B178,'FSA 18'!$E$5:$BN$482,62,0)+S178","v":37.299999999999997},36.76,36.911999999999999,37.0944,37.313279999999999,37.375935999999996,37.391123199999996,null,null,null,1.7,0.3,0.25,null,26.2,34.5,34.799999999999997,35.1,36.4,37,36.76,36.911999999999999,37.0944,37.313279999999999,37.375935999999996]
[null,"MonroeSoybeansAll",{"$f":"VLOOKUP($B179,'FSA19'!$E$5:$K$290,3,0)","v":52.98},{"$f":"VLOOKUP($B179,'FSA19'!$E$5:$K$290,4,0)","v":52.18},{"$f":"VLOOKUP($B179,'FSA19'!$E$5:$K$290,5,0)","v":47.59},{"$f":"VLOOKUP($B179,'FSA19'!$E$5:$K$290,6,0)","v":54.09},{"$f":"VLOOKUP($B179,'FSA19'!$E$5:$K$290,7,0)","v":50.27},{"$f":"VLOOKUP(B179,'FSA 18'!$E$5:$BN$482,62,0)+S179","v":45.46},50.378000000000007,50.017600000000009,50.50312000000001,49.785744000000008,49.688892800000005,50.534671360000011,null,null,null,1.76,0.46,0.99,null,50.22,49.88,45.75,52.71,49.35,45,50.378000000000007,50.017600000000009,50.50312000000001,49.785744000000008,49.688892800000005]
[null,"MontcalmSoybeansIrrigated",{"$f":"VLOOKUP($B180,'FSA19'!$E$5:$K$290,3,0)","v":46.92},{"$f":"VLOOKUP($B180,'FSA19'!$E$5:$K$290,4,0)","v":44.61},{"$f":"VLOOKUP($B180,'FSA19'!$E$5:$K$290,5,0)","v":49.61},{"$f":"VLOOKUP($B180,'FSA19'!$E$5:$K$290,6,0)","v":62.53},{"$f":"VLOOKUP($B180,'FSA19'!$E$5:$K$290,7,0)","v":51.05},{"$f":"AVERAGE(C180:G180)+S180","v":51.313999999999993},{"$f":"AVERAGE(D180:H180)+$S180","v":52.192800000000005},{"$f":"AVERAGE(E180:I180)+$S180","v":53.709359999999997},{"$f":"AVERAGE(F180:J180)+$S180","v":54.529231999999993},{"$f":"AVERAGE(G180:K180)+$S180","v":52.929078399999995},{"$f":"AVERAGE(H180:L180)+$S180","v":53.30489407999999},{"$f":"AVERAGE(I180:M180)+$S180","v":53.703072895999995},null,null,null,1.88,0.37,0.51,null,{"$f":"C180-($S180*6)","v":44.7},{"$f":"D180-($S180*5)","v":42.76},{"$f":"E180-($S180*4)","v":48.13},{"$f":"F180-($S180*3)","v":61.42},{"$f":"G180-($S180*2)","v":50.309999999999995},{"$f":"H180-($S180*1)","v":50.943999999999996},52.192800000000005,53.709359999999997,54.529231999999993,52.929078399999995,53.30489407999999]
[null,"MontcalmSoybeansNonirrigated",{"$f":"VLOOKUP($B181,'FSA19'!$E$5:$K$290,3,0)","v":34.26},{"$f":"VLOOKUP($B181,'FSA19'!$E$5:$K$290,4,0)","v":38.44},{"$f":"VLOOKUP($B181,'FSA19'!$E$5:$K$290,5,0)","v":44.69},{"$f":"VLOOKUP($B181,'FSA19'!$E$5:$K$290,6,0)","v":51.05},{"$f":"VLOOKUP($B181,'FSA19'!$E$5:$K$290,7,0)","v":34.24},{"$f":"AVERAGE(C181:G181)+S181","v":40.905999999999999},42.235199999999999,42.994239999999998,42.655087999999992,40.976105599999997,42.32332671999999,42.60679206399999,null,null,null,1.88,0.37,0.51,null,32.04,36.589999999999996,43.21,49.94,33.5,40.536000000000001,42.235199999999999,42.994239999999998,42.655087999999992,40.976105599999997,42.32332671999999]
[null,"MontmorencySoybeansAll",{"$f":"VLOOKUP($B182,'FSA19'!$E$5:$K$290,3,0)","v":29.37},{"$f":"VLOOKUP($B182,'FSA19'!$E$5:$K$290,4,0)","v":27.2},{"$f":"VLOOKUP($B182,'FSA19'!$E$5:$K$290,5,0)","v":36},{"$f":"VLOOKUP($B182,'FSA19'!$E$5:$K$290,6,0)","v":29.75},{"$f":"VLOOKUP($B182,'FSA19'!$E$5:$K$290,7,0)","v":41.8},{"$f":"VLOOKUP(B182,'FSA 18'!$E$5:$BN$482,62,0)+S182","v":37.4},34.83,36.355999999999995,36.427199999999992,37.76263999999999,36.955167999999993,36.866201599999989,null,null,null,1.37,0.4,0.82,null,26.97,25.2,34.4,28.55,41,37,34.83,36.355999999999995,36.427199999999992,37.76263999999999,36.955167999999993]
[null,"MuskegonSoybeansAll",{"$f":"VLOOKUP($B183,'FSA19'!$E$5:$K$290,3,0)","v":43.27},{"$f":"VLOOKUP($B183,'FSA19'!$E$5:$K$290,4,0)","v":41.05},{"$f":"VLOOKUP($B183,'FSA19'!$E$5:$K$290,5,0)","v":48.07},{"$f":"VLOOKUP($B183,'FSA19'!$E$5:$K$290,6,0)","v":52.51},{"$f":"VLOOKUP($B183,'FSA19'!$E$5:$K$290,7,0)","v":46.73},{"$f":"VLOOKUP(B183,'FSA 18'!$E$5:$BN$482,62,0)+S183","v":42.5},46.671999999999997,47.796399999999998,47.741680000000002,46.788015999999999,46.799619200000002,47.659543040000003,null,null,null,1.77,0.5,0.66,null,40.270000000000003,38.549999999999997,46.07,51.01,45.73,42,46.671999999999997,47.796399999999998,47.741680000000002,46.788015999999999,46.799619200000002]
[null,"NewaygoSoybeansAll",{"$f":"VLOOKUP($B184,'FSA19'!$E$5:$K$290,3,0)","v":40.14},{"$f":"VLOOKUP($B184,'FSA19'!$E$5:$K$290,4,0)","v":29.16},{"$f":"VLOOKUP($B184,'FSA19'!$E$5:$K$290,5,0)","v":40.700000000000003},{"$f":"VLOOKUP($B184,'FSA19'!$E$5:$K$290,6,0)","v":46.55},{"$f":"VLOOKUP($B184,'FSA19'!$E$5:$K$290,7,0)","v":34.409999999999997},{"$f":"VLOOKUP(B184,'FSA 18'!$E$5:$BN$482,62,0)+S184","v":39.340000000000003},38.372,40.214400000000005,40.117280000000008,38.830736000000009,39.714883200000003,39.789859840000005,null,null,null,1.64,0.34,0.8,null,38.1,27.46,39.340000000000003,45.529999999999994,33.729999999999997,39,38.372,40.214400000000005,40.117280000000008,38.830736000000009,39.714883200000003]
[null,"OaklandSoybeansAll",{"$f":"VLOOKUP($B185,'FSA19'!$E$5:$K$290,3,0)","v":40.22},{"$f":"VLOOKUP($B185,'FSA19'!$E$5:$K$290,4,0)","v":36.880000000000003},{"$f":"VLOOKUP($B185,'FSA19'!$E$5:$K$290,5,0)","v":39.15},{"$f":"VLOOKUP($B185,'FSA19'!$E$5:$K$290,6,0)","v":34.89},{"$f":"VLOOKUP($B185,'FSA19'!$E$5:$K$290,7,0)","v":33.07},{"$f":"VLOOKUP(B185,'FSA 18'!$E$5:$BN$482,62,0)+S185","v":44.38},38.054000000000002,38.288800000000002,38.116560000000007,38.761872000000004,39.900246400000007,39.004295680000006,null,null,null,1.6,0.38,0.82,null,37.94,34.980000000000004,37.629999999999995,33.75,32.31,44,38.054000000000002,38.288800000000002,38.116560000000007,38.761872000000004,39.900246400000007]
[null,"OceanaSoybeansIrrigated",{"$f":"VLOOKUP($B186,'FSA19'!$E$5:$K$290,3,0)","v":45.46},{"$f":"VLOOKUP($B186,'FSA19'!$E$5:$K$290,4,0)","v":46.15},{"$f":"VLOOKUP($B186,'FSA19'!$E$5:$K$290,5,0)","v":42.3},{"$f":"VLOOKUP($B186,'FSA19'!$E$5:$K$290,6,0)","v":47.5},{"$f":"VLOOKUP($B186,'FSA19'!$E$5:$K$290,7,0)","v":46.82},{"$f":"AVERAGE(C186:G186)+S186","v":46.015999999999998},46.127199999999995,46.122639999999997,46.887167999999988,46.764601599999999,46.753521919999997,46.901026303999991,null,null,null,1.62,0.37,0.74,null,43.24,44.3,40.82,46.39,46.08,45.646000000000001,46.127199999999995,46.122639999999997,46.887167999999988,46.764601599999999,46.753521919999997]
[null,"OceanaSoybeansNonirrigated",{"$f":"VLOOKUP($B187,'FSA19'!$E$5:$K$290,3,0)","v":37.85},{"$f":"VLOOKUP($B187,'FSA19'!$E$5:$K$290,4,0)","v":31.51},{"$f":"VLOOKUP($B187,'FSA19'!$E$5:$K$290,5,0)","v":32.619999999999997},{"$f":"VLOOKUP($B187,'FSA19'!$E$5:$K$290,6,0)","v":44.93},{"$f":"VLOOKUP($B187,'FSA19'!$E$5:$K$290,7,0)","v":38.97},{"$f":"AVERAGE(C187:G187)+S187","v":37.545999999999999},37.485199999999999,38.680239999999998,39.892287999999994,38.884745599999988,38.867694719999989,39.132033663999984,null,null,null,1.62,0.37,0.74,null,35.630000000000003,29.66,31.139999999999997,43.82,38.229999999999997,37.176000000000002,37.485199999999999,38.680239999999998,39.892287999999994,38.884745599999988,38.867694719999989]
[null,"OgemawSoybeansAll",{"$f":"VLOOKUP($B188,'FSA19'!$E$5:$K$290,3,0)","v":30.62},{"$f":"VLOOKUP($B188,'FSA19'!$E$5:$K$290,4,0)","v":33.03},{"$f":"VLOOKUP($B188,'FSA19'!$E$5:$K$290,5,0)","v":39.94},{"$f":"VLOOKUP($B188,'FSA19'!$E$5:$K$290,6,0)","v":45.27},{"$f":"VLOOKUP($B188,'FSA19'!$E$5:$K$290,7,0)","v":43.66},{"$f":"VLOOKUP(B188,'FSA 18'!$E$5:$BN$482,62,0)+S188","v":40.49},40.968000000000004,42.555600000000005,43.078720000000011,42.640464000000009,42.436556800000005,42.825868160000006,null,null,null,1.74,0.49,1.17,null,27.68,30.580000000000002,37.979999999999997,43.800000000000004,42.68,40,40.968000000000004,42.555600000000005,43.078720000000011,42.640464000000009,42.436556800000005]
[null,"OsceolaSoybeansAll",{"$f":"VLOOKUP($B189,'FSA19'!$E$5:$K$290,3,0)","v":23.78},{"$f":"VLOOKUP($B189,'FSA19'!$E$5:$K$290,4,0)","v":26.19},{"$f":"VLOOKUP($B189,'FSA19'!$E$5:$K$290,5,0)","v":40.92},{"$f":"VLOOKUP($B189,'FSA19'!$E$5:$K$290,6,0)","v":38.82},{"$f":"VLOOKUP($B189,'FSA19'!$E$5:$K$290,7,0)","v":33.47},{"$f":"VLOOKUP(B189,'FSA 18'!$E$5:$BN$482,62,0)+S189","v":30.29},34.228000000000002,35.835599999999999,34.818719999999999,34.018463999999994,34.128156799999999,34.895788159999995,null,null,null,1.68,0.28999999999999998,0.51,null,22.040000000000003,24.740000000000002,39.760000000000005,37.950000000000003,32.89,30,34.228000000000002,35.835599999999999,34.818719999999999,34.018463999999994,34.128156799999999]
[null,"OtsegoSoybeansAll",{"$f":"VLOOKUP($B190,'FSA19'!$E$5:$K$290,3,0)","v":28},{"$f":"VLOOKUP($B190,'FSA19'!$E$5:$K$290,4,0)","v":28},{"$f":"VLOOKUP($B190,'FSA19'!$E$5:$K$290,5,0)","v":29},{"$f":"VLOOKUP($B190,'FSA19'!$E$5:$K$290,6,0)","v":25},{"$f":"VLOOKUP($B190,'FSA19'!$E$5:$K$290,7,0)","v":27.5},{"$f":"VLOOKUP(B190,'FSA 18'!$E$5:$BN$482,62,0)+S190","v":37.26},29.611999999999998,29.9344,30.121280000000002,31.145535999999996,31.874643200000001,30.79757184,null,null,null,1.02,0.26,0.47,null,26.44,26.7,27.96,24.22,26.98,37,29.611999999999998,29.9344,30.121280000000002,31.145535999999996,31.874643200000001]
[null,"OttawaSoybeansIrrigated",{"$f":"VLOOKUP($B191,'FSA19'!$E$5:$K$290,3,0)","v":48.18},{"$f":"VLOOKUP($B191,'FSA19'!$E$5:$K$290,4,0)","v":55.31},{"$f":"VLOOKUP($B191,'FSA19'!$E$5:$K$290,5,0)","v":49.28},{"$f":"VLOOKUP($B191,'FSA19'!$E$5:$K$290,6,0)","v":65.349999999999994},{"$f":"VLOOKUP($B191,'FSA19'!$E$5:$K$290,7,0)","v":51.18},{"$f":"AVERAGE(C191:G191)+S191","v":54.42},55.668000000000006,55.73960000000001,57.03152,55.367824000000006,56.205388800000001,56.562466560000004,null,null,null,1.85,0.56000000000000005,0.82,null,44.82,52.510000000000005,47.04,63.669999999999995,50.06,53.86,55.668000000000006,55.73960000000001,57.03152,55.367824000000006,56.205388800000001]
[null,"OttawaSoybeansNonirrigated",{"$f":"VLOOKUP($B192,'FSA19'!$E$5:$K$290,3,0)","v":45.13},{"$f":"VLOOKUP($B192,'FSA19'!$E$5:$K$290,4,0)","v":51.2},{"$f":"VLOOKUP($B192,'FSA19'!$E$5:$K$290,5,0)","v":51.21},{"$f":"VLOOKUP($B192,'FSA19'!$E$5:$K$290,6,0)","v":62.19},{"$f":"VLOOKUP($B192,'FSA19'!$E$5:$K$290,7,0)","v":47.24},{"$f":"AVERAGE(C192:G192)+S192","v":51.954000000000008},53.318799999999996,53.742560000000005,54.249072000000012,52.660886400000017,53.745063680000008,54.103276416000007,null,null,null,1.85,0.56000000000000005,0.82,null,41.77,48.400000000000006,48.97,60.51,46.120000000000005,51.394000000000005,53.318799999999996,53.742560000000005,54.249072000000012,52.660886400000017,53.745063680000008]
[null,"Presque IsleSoybeansAll",{"$f":"VLOOKUP($B193,'FSA19'!$E$5:$K$290,3,0)","v":21.55},{"$f":"VLOOKUP($B193,'FSA19'!$E$5:$K$290,4,0)","v":22.49},{"$f":"VLOOKUP($B193,'FSA19'!$E$5:$K$290,5,0)","v":30.76},{"$f":"VLOOKUP($B193,'FSA19'!$E$5:$K$290,6,0)","v":19.2},{"$f":"VLOOKUP($B193,'FSA19'!$E$5:$K$290,7,0)","v":37},{"$f":"VLOOKUP(B193,'FSA 18'!$E$5:$BN$482,62,0)+S193","v":21.32},26.474000000000004,27.270800000000005,26.572960000000002,28.047552000000003,26.257062400000002,27.244474880000002,null,null,null,1.44,0.32,0.56999999999999995,null,19.630000000000003,20.889999999999997,29.48,18.239999999999998,36.36,21,26.474000000000004,27.270800000000005,26.572960000000002,28.047552000000003,26.257062400000002]
[null,"SaginawSoybeansIrrigated",{"$f":"VLOOKUP($B194,'FSA19'!$E$5:$K$290,3,0)","v":55.14},{"$f":"VLOOKUP($B194,'FSA19'!$E$5:$K$290,4,0)","v":52.64},{"$f":"VLOOKUP($B194,'FSA19'!$E$5:$K$290,5,0)","v":62.24},{"$f":"VLOOKUP($B194,'FSA19'!$E$5:$K$290,6,0)","v":56.74},{"$f":"VLOOKUP($B194,'FSA19'!$E$5:$K$290,7,0)","v":55.01},{"$f":"AVERAGE(C194:G194)+S194","v":56.784000000000006},57.1128,58.007359999999998,57.160831999999999,57.2449984,57.691998079999998,57.873597696000004,null,null,null,1.88,0.43,0.9,null,52.56,50.49,60.52,55.45,54.15,56.354000000000006,57.1128,58.007359999999998,57.160831999999999,57.2449984,57.691998079999998]
[null,"SaginawSoybeansNonirrigated",{"$f":"VLOOKUP($B195,'FSA19'!$E$5:$K$290,3,0)","v":48.5},{"$f":"VLOOKUP($B195,'FSA19'!$E$5:$K$290,4,0)","v":47.19},{"$f":"VLOOKUP($B195,'FSA19'!$E$5:$K$290,5,0)","v":53.82},{"$f":"VLOOKUP($B195,'FSA19'!$E$5:$K$290,6,0)","v":55.81},{"$f":"VLOOKUP($B195,'FSA19'!$E$5:$K$290,7,0)","v":45.49},{"$f":"AVERAGE(C195:G195)+S195","v":50.591999999999999},51.010399999999997,51.774479999999997,51.365375999999998,50.476451199999993,51.473741439999991,51.65008972799999,null,null,null,1.88,0.43,0.9,null,45.92,45.04,52.1,54.52,44.63,50.161999999999999,{"$f":"I195","v":51.010399999999997},{"$f":"J195","v":51.774479999999997},{"$f":"K195","v":51.365375999999998},{"$f":"L195","v":50.476451199999993},{"$f":"M195","v":51.473741439999991}]
[null,"St. ClairSoybeansAll",{"$f":"VLOOKUP($B196,'FSA19'!$E$5:$K$290,3,0)","v":45.81},{"$f":"VLOOKUP($B196,'FSA19'!$E$5:$K$290,4,0)","v":41.11},{"$f":"VLOOKUP($B196,'FSA19'!$E$5:$K$290,5,0)","v":44.42},{"$f":"VLOOKUP($B196,'FSA19'!$E$5:$K$290,6,0)","v":49.94},{"$f":"VLOOKUP($B196,'FSA19'!$E$5:$K$290,7,0)","v":39.299999999999997},{"$f":"VLOOKUP(B196,'FSA 18'!$E$5:$BN$482,62,0)+S196","v":45.46},44.506,45.185200000000002,45.338239999999999,44.417888000000005,45.441465600000001,45.437758720000012,null,null,null,1.85,0.46,0.95,null,43.050000000000004,38.81,42.58,48.559999999999995,38.379999999999995,45,44.506,45.185200000000002,45.338239999999999,44.417888000000005,45.441465600000001]
[null,"St. JosephSoybeansIrrigated",{"$f":"VLOOKUP($B197,'FSA19'!$E$5:$K$290,3,0)","v":48.59},{"$f":"VLOOKUP($B197,'FSA19'!$E$5:$K$290,4,0)","v":52.41},{"$f":"VLOOKUP($B197,'FSA19'!$E$5:$K$290,5,0)","v":58.04},{"$f":"VLOOKUP($B197,'FSA19'!$E$5:$K$290,6,0)","v":55.96},{"$f":"VLOOKUP($B197,'FSA19'!$E$5:$K$290,7,0)","v":49.28},{"$f":"VLOOKUP(B197,'FSA 18'!$E$5:$BN$482,62,0)+S197","v":53.48},54.314,54.694800000000001,54.025759999999991,53.638911999999998,54.510694399999991,54.716833279999996,null,null,null,1.55,0.48,0.57999999999999996,null,45.71,50.01,56.12,54.52,48.32,53,54.314,54.694800000000001,54.025759999999991,53.638911999999998,54.510694399999991]
[null,"St. JosephSoybeansNonirrigated",{"$f":"VLOOKUP($B198,'FSA19'!$E$5:$K$290,3,0)","v":38.67},{"$f":"VLOOKUP($B198,'FSA19'!$E$5:$K$290,4,0)","v":37.22},{"$f":"VLOOKUP($B198,'FSA19'!$E$5:$K$290,5,0)","v":43.5},{"$f":"VLOOKUP($B198,'FSA19'!$E$5:$K$290,6,0)","v":43.51},{"$f":"VLOOKUP($B198,'FSA19'!$E$5:$K$290,7,0)","v":31.83},{"$f":"VLOOKUP(B198,'FSA 18'!$E$5:$BN$482,62,0)+S198","v":47.48},41.187999999999995,41.981599999999993,41.677919999999993,41.311503999999992,43.207804799999991,42.353365759999988,null,null,null,1.55,0.48,0.57999999999999996,null,35.79,34.82,41.58,42.07,30.869999999999997,47,41.187999999999995,41.981599999999993,41.677919999999993,41.311503999999992,43.207804799999991]
[null,"SanilacSoybeansAll",{"$f":"VLOOKUP($B199,'FSA19'!$E$5:$K$290,3,0)","v":52.09},{"$f":"VLOOKUP($B199,'FSA19'!$E$5:$K$290,4,0)","v":42.91},{"$f":"VLOOKUP($B199,'FSA19'!$E$5:$K$290,5,0)","v":54.27},{"$f":"VLOOKUP($B199,'FSA19'!$E$5:$K$290,6,0)","v":58.18},{"$f":"VLOOKUP($B199,'FSA19'!$E$5:$K$290,7,0)","v":48.23},{"$f":"VLOOKUP(B199,'FSA 18'!$E$5:$BN$482,62,0)+S199","v":51.59},51.626000000000005,53.369200000000006,53.189040000000006,52.190848000000003,52.983017600000011,53.261621120000015,null,null,null,2.27,0.59,1.08,null,48.550000000000004,39.959999999999994,51.910000000000004,56.41,47.05,51,51.626000000000005,53.369200000000006,53.189040000000006,52.190848000000003,52.983017600000011]
[null,"SchoolcraftSoybeansAll",{"$f":"VLOOKUP($B200,'FSA19'!$E$5:$K$290,3,0)","v":41.6},{"$f":"VLOOKUP($B200,'FSA19'!$E$5:$K$290,4,0)","v":48},{"$f":"VLOOKUP($B200,'FSA19'!$E$5:$K$290,5,0)","v":48},{"$f":"VLOOKUP($B200,'FSA19'!$E$5:$K$290,6,0)","v":44},{"$f":"VLOOKUP($B200,'FSA19'!$E$5:$K$290,7,0)","v":40.799999999999997},{"$f":"VLOOKUP(B200,'FSA 18'!$E$5:$BN$482,62,0)+S200","v":37.28},43.896000000000001,43.075200000000002,42.090240000000001,41.708287999999996,41.889945600000004,42.811934719999996,null,null,null,1.08,0.28000000000000003,0.71,null,39.92,46.6,46.88,43.16,40.239999999999995,37,43.896000000000001,43.075200000000002,42.090240000000001,41.708287999999996,41.889945600000004]
[null,"ShiawasseeSoybeansIrrigated",{"$f":"VLOOKUP($B201,'FSA19'!$E$5:$K$290,3,0)","v":45.35},{"$f":"VLOOKUP($B201,'FSA19'!$E$5:$K$290,4,0)","v":46},{"$f":"VLOOKUP($B201,'FSA19'!$E$5:$K$290,5,0)","v":53.48},{"$f":"VLOOKUP($B201,'FSA19'!$E$5:$K$290,6,0)","v":53.75},{"$f":"VLOOKUP($B201,'FSA19'!$E$5:$K$290,7,0)","v":38.64},{"$f":"AVERAGE(C201:G201)+S201","v":47.893999999999998},48.402800000000006,48.88336000000001,47.964032000000003,46.806838400000004,48.440206080000003,48.549447296000011,null,null,null,1.93,0.45,0.82,null,42.65,43.75,51.68,52.4,37.74,47.443999999999996,48.402800000000006,48.88336000000001,47.964032000000003,46.806838400000004,48.440206080000003]
[null,"ShiawasseeSoybeansNonirrigated",{"$f":"VLOOKUP($B202,'FSA19'!$E$5:$K$290,3,0)","v":47.64},{"$f":"VLOOKUP($B202,'FSA19'!$E$5:$K$290,4,0)","v":43.73},{"$f":"VLOOKUP($B202,'FSA19'!$E$5:$K$290,5,0)","v":52.72},{"$f":"VLOOKUP($B202,'FSA19'!$E$5:$K$290,6,0)","v":51.91},{"$f":"VLOOKUP($B202,'FSA19'!$E$5:$K$290,7,0)","v":40.78},47.806000000000004,47.839200000000005,48.661040000000007,47.84924800000001,47.03709760000001,48.288517120000016,48.385020544000014,null,null,null,1.93,0.45,0.82,null,44.94,41.48,50.92,50.559999999999995,39.880000000000003,47.356000000000002,47.839200000000005,48.661040000000007,47.84924800000001,47.03709760000001,48.288517120000016]
[null,"TuscolaSoybeansIrrigated",{"$f":"VLOOKUP($B203,'FSA19'!$E$5:$K$290,3,0)","v":43.46},{"$f":"VLOOKUP($B203,'FSA19'!$E$5:$K$290,4,0)","v":41.72},{"$f":"VLOOKUP($B203,'FSA19'!$E$5:$K$290,5,0)","v":49.28},{"$f":"VLOOKUP($B203,'FSA19'!$E$5:$K$290,6,0)","v":60.85},{"$f":"VLOOKUP($B203,'FSA19'!$E$5:$K$290,7,0)","v":41.88},47.928000000000004,48.821599999999997,50.24192,50.434304000000004,48.351164799999999,49.645397760000002,49.988877312000007,null,null,null,2.04,0.49,0.96,null,40.520000000000003,39.269999999999996,47.32,59.38,40.900000000000006,47.438000000000002,48.821599999999997,50.24192,50.434304000000004,48.351164799999999,49.645397760000002]
[null,"TuscolaSoybeansNonirrigated",{"$f":"VLOOKUP($B204,'FSA19'!$E$5:$K$290,3,0)","v":47.74},{"$f":"VLOOKUP($B204,'FSA19'!$E$5:$K$290,4,0)","v":48.68},{"$f":"VLOOKUP($B204,'FSA19'!$E$5:$K$290,5,0)","v":56.28},{"$f":"VLOOKUP($B204,'FSA19'!$E$5:$K$290,6,0)","v":57.42},{"$f":"VLOOKUP($B204,'FSA19'!$E$5:$K$290,7,0)","v":46.25},51.764000000000003,52.568800000000003,53.346560000000004,52.759872000000001,51.827846400000013,52.943415680000001,53.179298815999999,null,null,null,2.04,0.49,0.96,null,44.800000000000004,46.23,54.32,55.95,45.27,51.274000000000001,52.568800000000003,53.346560000000004,52.759872000000001,51.827846400000013,52.943415680000001]
[null,"Van BurenSoybeansIrrigated",{"$f":"VLOOKUP($B205,'FSA19'!$E$5:$K$290,3,0)","v":58.5},{"$f":"VLOOKUP($B205,'FSA19'!$E$5:$K$290,4,0)","v":62.47},{"$f":"VLOOKUP($B205,'FSA19'!$E$5:$K$290,5,0)","v":63.73},{"$f":"VLOOKUP($B205,'FSA19'!$E$5:$K$290,6,0)","v":65.599999999999994},{"$f":"VLOOKUP($B205,'FSA19'!$E$5:$K$290,7,0)","v":51.48},60.835999999999991,61.303199999999997,61.069839999999992,60.537807999999984,59.525369599999991,61.134443519999991,61.194132223999986,null,null,null,2.06,0.48,0.5,null,55.62,60.07,61.809999999999995,64.16,50.519999999999996,60.355999999999995,61.303199999999997,61.069839999999992,60.537807999999984,59.525369599999991,61.134443519999991]
[null,"Van BurenSoybeansNonirrigated",{"$f":"VLOOKUP($B206,'FSA19'!$E$5:$K$290,3,0)","v":45.79},{"$f":"VLOOKUP($B206,'FSA19'!$E$5:$K$290,4,0)","v":42.31},{"$f":"VLOOKUP($B206,'FSA19'!$E$5:$K$290,5,0)","v":47.1},{"$f":"VLOOKUP($B206,'FSA19'!$E$5:$K$290,6,0)","v":46.65},{"$f":"VLOOKUP($B206,'FSA19'!$E$5:$K$290,7,0)","v":38.83},44.616,44.381199999999993,44.795439999999985,44.334527999999992,43.871433599999989,44.87972031999999,44.932464383999985,null,null,null,2.06,0.48,0.5,null,42.91,39.910000000000004,45.18,45.21,37.869999999999997,44.136000000000003,44.381199999999993,44.795439999999985,44.334527999999992,43.871433599999989,44.87972031999999]
[null,"WashtenawSoybeansIrrigated",{"$f":"VLOOKUP($B207,'FSA19'!$E$5:$K$290,3,0)","v":57.07},{"$f":"VLOOKUP($B207,'FSA19'!$E$5:$K$290,4,0)","v":48.84},{"$f":"VLOOKUP($B207,'FSA19'!$E$5:$K$290,5,0)","v":46.64},{"$f":"VLOOKUP($B207,'FSA19'!$E$5:$K$290,6,0)","v":60.03},{"$f":"VLOOKUP($B207,'FSA19'!$E$5:$K$290,7,0)","v":65.650000000000006},56.096000000000004,55.901199999999996,57.313440000000007,59.448127999999997,59.331753600000006,58.068104320000003,58.462525184000008,null,null,null,1.62,0.45,0.8,null,54.37,46.59,44.84,58.68,64.75,55.646000000000001,55.901199999999996,57.313440000000007,59.448127999999997,59.331753600000006,58.068104320000003]
[null,"WashtenawSoybeansNonirrigated",{"$f":"VLOOKUP($B208,'FSA19'!$E$5:$K$290,3,0)","v":52.9},{"$f":"VLOOKUP($B208,'FSA19'!$E$5:$K$290,4,0)","v":45.4},{"$f":"VLOOKUP($B208,'FSA19'!$E$5:$K$290,5,0)","v":47.1},{"$f":"VLOOKUP($B208,'FSA19'!$E$5:$K$290,6,0)","v":50.31},{"$f":"VLOOKUP($B208,'FSA19'!$E$5:$K$290,7,0)","v":38.72},47.336000000000006,46.223200000000006,46.387840000000011,46.245408000000005,45.432489600000004,46.774987520000003,46.662785024000009,null,null,null,1.62,0.45,0.8,null,50.199999999999996,43.15,45.300000000000004,48.96,37.82,46.886000000000003,46.223200000000006,46.387840000000011,46.245408000000005,45.432489600000004,46.774987520000003]
[null,"WayneSoybeansAll",{"$f":"VLOOKUP($B209,'FSA19'!$E$5:$K$290,3,0)","v":42.98},{"$f":"VLOOKUP($B209,'FSA19'!$E$5:$K$290,4,0)","v":35.700000000000003},{"$f":"VLOOKUP($B209,'FSA19'!$E$5:$K$290,5,0)","v":38.799999999999997},{"$f":"VLOOKUP($B209,'FSA19'!$E$5:$K$290,6,0)","v":32.24},{"$f":"VLOOKUP($B209,'FSA19'!$E$5:$K$290,7,0)","v":26.54},{"$f":"VLOOKUP(B209,'FSA 18'!$E$5:$BN$482,62,0)+S209","v":38.270000000000003},34.580000000000005,34.356000000000002,33.467200000000005,33.712640000000007,35.147168000000008,34.522601600000009,null,null,null,1.33,0.27,0.63,null,41.36,34.35,37.72,31.430000000000003,26,38,34.580000000000005,34.356000000000002,33.467200000000005,33.712640000000007,35.147168000000008]
[null,"WexfordSoybeansAll",{"$f":"VLOOKUP($B210,'FSA19'!$E$5:$K$290,3,0)","v":28},{"$f":"VLOOKUP($B210,'FSA19'!$E$5:$K$290,4,0)","v":36},{"$f":"VLOOKUP($B210,'FSA19'!$E$5:$K$290,5,0)","v":36},{"$f":"VLOOKUP($B210,'FSA19'!$E$5:$K$290,6,0)","v":36},{"$f":"VLOOKUP($B210,'FSA19'!$E$5:$K$290,7,0)","v":37},{"$f":"VLOOKUP(B210,'FSA 18'!$E$5:$BN$482,62,0)+S210","v":37.299999999999997},36.76,36.911999999999999,37.0944,37.313279999999999,37.375935999999996,37.391123199999996,null,null,null,1.0900000000000001,0.3,0.34,null,26.2,34.5,34.799999999999997,35.1,36.4,{"$f":"H210-($R210*1)","v":36.209999999999994},36.76,36.911999999999999,37.0944,37.313279999999999,37.375935999999996]
[null,"AlconaWheatAll",{"$f":"VLOOKUP($B211,'FSA19'!$E$5:$K$290,3,0)","v":49.74},{"$f":"VLOOKUP($B211,'FSA19'!$E$5:$K$290,4,0)","v":49.57},{"$f":"VLOOKUP($B211,'FSA19'!$E$5:$K$290,5,0)","v":80.760000000000005},{"$f":"VLOOKUP($B211,'FSA19'!$E$5:$K$290,6,0)","v":76.12},{"$f":"VLOOKUP($B211,'FSA19'!$E$5:$K$290,7,0)","v":46.98},{"$f":"VLOOKUP(B211,'FSA 18'!$E$5:$BN$482,62,0)+T211","v":45.86},{"$f":"AVERAGE(D211:H211)+$T211","v":60.718000000000004},62.947599999999994,59.385119999999993,56.038143999999996,57.849772800000004,60.247727359999999,null,null,null,1.02,0.35,0.86,null,{"$f":"C211-($T211*6)","v":44.58},{"$f":"D211-($T211*5)","v":45.27},{"$f":"E211-($T211*4)","v":77.320000000000007},{"$f":"F211-($T211*3)","v":73.540000000000006},{"$f":"G211-($T211*2)","v":45.26},{"$f":"H211-($T211*1)","v":45},60.718000000000004,62.947599999999994,59.385119999999993,56.038143999999996,57.849772800000004]
[null,"AlgerWheatAll",{"$f":"VLOOKUP($B212,'FSA19'!$E$5:$K$290,3,0)","v":41},{"$f":"VLOOKUP($B212,'FSA19'!$E$5:$K$290,4,0)","v":47},{"$f":"VLOOKUP($B212,'FSA19'!$E$5:$K$290,5,0)","v":51},{"$f":"VLOOKUP($B212,'FSA19'!$E$5:$K$290,6,0)","v":55.2},{"$f":"VLOOKUP($B212,'FSA19'!$E$5:$K$290,7,0)","v":53.6},{"$f":"VLOOKUP(B212,'FSA 18'!$E$5:$BN$482,62,0)+T212","v":40.67},{"$f":"AVERAGE(D212:H212)*(1+'2019-20 Farm Bill Calculator'!$J$35)","v":49.493999999999993},{"$f":"AVERAGE(E212:I212)*(1+'2019-20 Farm Bill Calculator'!$J$35)","v":49.992800000000003},{"$f":"AVERAGE(F212:J212)*(1+'2019-20 Farm Bill Calculator'!$J$35)","v":49.791360000000012},{"$f":"AVERAGE(G212:K212)*(1+'2019-20 Farm Bill Calculator'!$J$35)","v":48.709631999999999},{"$f":"AVERAGE(H212:L212)*(1+'2019-20 Farm Bill Calculator'!$J$35)","v":47.731558399999997},{"$f":"AVERAGE(I212:M212)*(1+'2019-20 Farm Bill Calculator'!$J$35)","v":49.143870079999999},null,null,null,1.04,null,0.67,null,{"$f":"C212-($T212*6)","v":36.979999999999997},{"$f":"D212-($T212*5)","v":43.65},{"$f":"E212-($T212*4)","v":48.32},{"$f":"F212-($T212*3)","v":53.190000000000005},{"$f":"G212-($T212*2)","v":52.26},40,49.493999999999993,49.992800000000003,49.791360000000012,48.709631999999999,47.731558399999997]
[null,"AlleganWheatAll",{"$f":"VLOOKUP($B213,'FSA19'!$E$5:$K$290,3,0)","v":71.05},{"$f":"VLOOKUP($B213,'FSA19'!$E$5:$K$290,4,0)","v":65.66},{"$f":"VLOOKUP($B213,'FSA19'!$E$5:$K$290,5,0)","v":55.66},{"$f":"VLOOKUP($B213,'FSA19'!$E$5:$K$290,6,0)","v":68.67},{"$f":"VLOOKUP($B213,'FSA19'!$E$5:$K$290,7,0)","v":64.38},{"$f":"VLOOKUP(B213,'FSA 18'!$E$5:$BN$482,62,0)+T213","v":70.819999999999993},{"$f":"AVERAGE(D213:H213)*(1+'2019-20 Farm Bill Calculator'!$J$35)","v":65.037999999999997},{"$f":"AVERAGE(E213:I213)*(1+'2019-20 Farm Bill Calculator'!$J$35)","v":64.913600000000002},{"$f":"AVERAGE(F213:J213)*(1+'2019-20 Farm Bill Calculator'!$J$35)","v":66.764319999999998},{"$f":"AVERAGE(G213:K213)*(1+'2019-20 Farm Bill Calculator'!$J$35)","v":66.383184},{"$f":"AVERAGE(H213:L213)*(1+'2019-20 Farm Bill Calculator'!$J$35)","v":66.783820800000015},{"$f":"AVERAGE(I213:M213)*(1+'2019-20 Farm Bill Calculator'!$J$35)","v":65.976584959999997},null,null,null,2.15,0.55000000000000004,0.82,null,66.13,61.559999999999995,52.379999999999995,66.210000000000008,62.739999999999995,70,65.037999999999997,64.913600000000002,66.764319999999998,66.383184,66.783820800000015]
[null,"AlpenaWheatAll",{"$f":"VLOOKUP($B214,'FSA19'!$E$5:$K$290,3,0)","v":53.99},{"$f":"VLOOKUP($B214,'FSA19'!$E$5:$K$290,4,0)","v":48.52},{"$f":"VLOOKUP($B214,'FSA19'!$E$5:$K$290,5,0)","v":59.23},{"$f":"VLOOKUP($B214,'FSA19'!$E$5:$K$290,6,0)","v":46.13},{"$f":"VLOOKUP($B214,'FSA19'!$E$5:$K$290,7,0)","v":61.83},{"$f":"VLOOKUP(B214,'FSA 18'!$E$5:$BN$482,62,0)+T214","v":40.64},{"$f":"AVERAGE(D214:H214)*(1+'2019-20 Farm Bill Calculator'!$J$35)","v":51.269999999999996},{"$f":"AVERAGE(E214:I214)*(1+'2019-20 Farm Bill Calculator'!$J$35)","v":51.819999999999993},{"$f":"AVERAGE(F214:J214)*(1+'2019-20 Farm Bill Calculator'!$J$35)","v":50.338000000000001},{"$f":"AVERAGE(G214:K214)*(1+'2019-20 Farm Bill Calculator'!$J$35)","v":51.179600000000001},{"$f":"AVERAGE(H214:L214)*(1+'2019-20 Farm Bill Calculator'!$J$35)","v":49.049519999999994},{"$f":"AVERAGE(I214:M214)*(1+'2019-20 Farm Bill Calculator'!$J$35)","v":50.731423999999997},null,null,null,1.2,0.27,0.64,null,50.150000000000006,45.32,56.669999999999995,44.21,60.55,40,51.269999999999996,51.819999999999993,50.338000000000001,51.179600000000001,49.049519999999994]
[null,"AntrimWheatAll",{"$f":"VLOOKUP($B215,'FSA19'!$E$5:$K$290,3,0)","v":49.55},{"$f":"VLOOKUP($B215,'FSA19'!$E$5:$K$290,4,0)","v":74},{"$f":"VLOOKUP($B215,'FSA19'!$E$5:$K$290,5,0)","v":51},{"$f":"VLOOKUP($B215,'FSA19'!$E$5:$K$290,6,0)","v":55},{"$f":"VLOOKUP($B215,'FSA19'!$E$5:$K$290,7,0)","v":52},{"$f":"AVERAGE(C215:G215)+T215","v":56.56},{"$f":"AVERAGE(D215:H215)*(1+'2019-20 Farm Bill Calculator'!$J$35)","v":57.712000000000003},{"$f":"AVERAGE(E215:I215)*(1+'2019-20 Farm Bill Calculator'!$J$35)","v":54.4544},{"$f":"AVERAGE(F215:J215)*(1+'2019-20 Farm Bill Calculator'!$J$35)","v":55.14528},{"$f":"AVERAGE(G215:K215)*(1+'2019-20 Farm Bill Calculator'!$J$35)","v":55.174335999999997},{"$f":"AVERAGE(H215:L215)*(1+'2019-20 Farm Bill Calculator'!$J$35)","v":55.809203199999999},{"$f":"AVERAGE(I215:M215)*(1+'2019-20 Farm Bill Calculator'!$J$35)","v":55.659043840000002},null,null,null,1.07,0.33,0.25,null,48.05,72.75,50,54.25,51.5,56.31,57.712000000000003,54.4544,55.14528,55.174335999999997,55.809203199999999]
[null,"ArenacWheatAll",{"$f":"VLOOKUP($B216,'FSA19'!$E$5:$K$290,3,0)","v":64.12},{"$f":"VLOOKUP($B216,'FSA19'!$E$5:$K$290,4,0)","v":81.13},{"$f":"VLOOKUP($B216,'FSA19'!$E$5:$K$290,5,0)","v":88.51},{"$f":"VLOOKUP($B216,'FSA19'!$E$5:$K$290,6,0)","v":83.65},{"$f":"VLOOKUP($B216,'FSA19'!$E$5:$K$290,7,0)","v":67.290000000000006},{"$f":"VLOOKUP(B216,'FSA 18'!$E$5:$BN$482,62,0)+T216","v":66.88},{"$f":"AVERAGE(D216:H216)*(1+'2019-20 Farm Bill Calculator'!$J$35)","v":77.49199999999999},{"$f":"AVERAGE(E216:I216)*(1+'2019-20 Farm Bill Calculator'!$J$35)","v":76.764399999999995},{"$f":"AVERAGE(F216:J216)*(1+'2019-20 Farm Bill Calculator'!$J$35)","v":74.41528000000001},{"$f":"AVERAGE(G216:K216)*(1+'2019-20 Farm Bill Calculator'!$J$35)","v":72.568336000000002},{"$f":"AVERAGE(H216:L216)*(1+'2019-20 Farm Bill Calculator'!$J$35)","v":73.62400319999999},{"$f":"AVERAGE(I216:M216)*(1+'2019-20 Farm Bill Calculator'!$J$35)","v":74.972803839999997},null,null,null,1.81,0.53,0.88,null,58.84,76.72999999999999,84.990000000000009,81.010000000000005,65.53,66,77.49199999999999,76.764399999999995,74.41528000000001,72.568336000000002,73.62400319999999]
[null,"BarryWheatAll",{"$f":"VLOOKUP($B217,'FSA19'!$E$5:$K$290,3,0)","v":74.98},{"$f":"VLOOKUP($B217,'FSA19'!$E$5:$K$290,4,0)","v":75.63},{"$f":"VLOOKUP($B217,'FSA19'!$E$5:$K$290,5,0)","v":69.989999999999995},{"$f":"VLOOKUP($B217,'FSA19'!$E$5:$K$290,6,0)","v":90.51},{"$f":"VLOOKUP($B217,'FSA19'!$E$5:$K$290,7,0)","v":65},{"$f":"VLOOKUP(B217,'FSA 18'!$E$5:$BN$482,62,0)+T217","v":66.86},{"$f":"AVERAGE(D217:H217)*(1+'2019-20 Farm Bill Calculator'!$J$35)","v":73.597999999999999},{"$f":"AVERAGE(E217:I217)*(1+'2019-20 Farm Bill Calculator'!$J$35)","v":73.191600000000008},{"$f":"AVERAGE(F217:J217)*(1+'2019-20 Farm Bill Calculator'!$J$35)","v":73.831919999999997},{"$f":"AVERAGE(G217:K217)*(1+'2019-20 Farm Bill Calculator'!$J$35)","v":70.496304000000009},{"$f":"AVERAGE(H217:L217)*(1+'2019-20 Farm Bill Calculator'!$J$35)","v":71.595564800000005},{"$f":"AVERAGE(I217:M217)*(1+'2019-20 Farm Bill Calculator'!$J$35)","v":72.542677760000018},null,null,null,1.95,0.52,0.86,null,69.820000000000007,71.33,66.55,87.93,63.28,66,73.597999999999999,73.191600000000008,73.831919999999997,70.496304000000009,71.595564800000005]
[null,"BayWheatAll",{"$f":"VLOOKUP($B218,'FSA19'!$E$5:$K$290,3,0)","v":83.05},{"$f":"VLOOKUP($B218,'FSA19'!$E$5:$K$290,4,0)","v":83.4},{"$f":"VLOOKUP($B218,'FSA19'!$E$5:$K$290,5,0)","v":98.06},{"$f":"VLOOKUP($B218,'FSA19'!$E$5:$K$290,6,0)","v":96.72},{"$f":"VLOOKUP($B218,'FSA19'!$E$5:$K$290,7,0)","v":82.71},{"$f":"VLOOKUP(B218,'FSA 18'!$E$5:$BN$482,62,0)+T218","v":84.98},{"$f":"AVERAGE(D218:H218)*(1+'2019-20 Farm Bill Calculator'!$J$35)","v":89.174000000000007},{"$f":"AVERAGE(E218:I218)*(1+'2019-20 Farm Bill Calculator'!$J$35)","v":90.328800000000001},{"$f":"AVERAGE(F218:J218)*(1+'2019-20 Farm Bill Calculator'!$J$35)","v":88.782560000000018},{"$f":"AVERAGE(G218:K218)*(1+'2019-20 Farm Bill Calculator'!$J$35)","v":87.19507200000001},{"$f":"AVERAGE(H218:L218)*(1+'2019-20 Farm Bill Calculator'!$J$35)","v":88.092086399999999},{"$f":"AVERAGE(I218:M218)*(1+'2019-20 Farm Bill Calculator'!$J$35)","v":88.714503680000007},null,null,null,1.93,0.56000000000000005,0.98,null,77.17,78.5,94.14,93.78,80.75,84,89.174000000000007,90.328800000000001,88.782560000000018,87.19507200000001,88.092086399999999]
[null,"BerrienWheatAll",{"$f":"VLOOKUP($B219,'FSA19'!$E$5:$K$290,3,0)","v":71.45},{"$f":"VLOOKUP($B219,'FSA19'!$E$5:$K$290,4,0)","v":76.319999999999993},{"$f":"VLOOKUP($B219,'FSA19'!$E$5:$K$290,5,0)","v":74.959999999999994},{"$f":"VLOOKUP($B219,'FSA19'!$E$5:$K$290,6,0)","v":85.24},{"$f":"VLOOKUP($B219,'FSA19'!$E$5:$K$290,7,0)","v":67.38},{"$f":"VLOOKUP(B219,'FSA 18'!$E$5:$BN$482,62,0)+T219","v":66.77},{"$f":"AVERAGE(D219:H219)*(1+'2019-20 Farm Bill Calculator'!$J$35)","v":74.133999999999986},{"$f":"AVERAGE(E219:I219)*(1+'2019-20 Farm Bill Calculator'!$J$35)","v":73.696799999999982},{"$f":"AVERAGE(F219:J219)*(1+'2019-20 Farm Bill Calculator'!$J$35)","v":73.444159999999997},{"$f":"AVERAGE(G219:K219)*(1+'2019-20 Farm Bill Calculator'!$J$35)","v":71.084991999999986},{"$f":"AVERAGE(H219:L219)*(1+'2019-20 Farm Bill Calculator'!$J$35)","v":71.825990399999995},{"$f":"AVERAGE(I219:M219)*(1+'2019-20 Farm Bill Calculator'!$J$35)","v":72.83718847999998},null,null,null,2.2200000000000002,0.53,0.77,null,66.83,72.47,71.88,82.929999999999993,65.839999999999989,66,74.133999999999986,73.696799999999982,73.444159999999997,71.084991999999986,71.825990399999995]
[null,"BranchWheatAll",{"$f":"VLOOKUP($B220,'FSA19'!$E$5:$K$290,3,0)","v":62.37},{"$f":"VLOOKUP($B220,'FSA19'!$E$5:$K$290,4,0)","v":62.75},{"$f":"VLOOKUP($B220,'FSA19'!$E$5:$K$290,5,0)","v":63.56},{"$f":"VLOOKUP($B220,'FSA19'!$E$5:$K$290,6,0)","v":79.349999999999994},{"$f":"VLOOKUP($B220,'FSA19'!$E$5:$K$290,7,0)","v":78.069999999999993},{"$f":"VLOOKUP(B220,'FSA 18'!$E$5:$BN$482,62,0)+T220","v":60.65},{"$f":"AVERAGE(D220:H220)*(1+'2019-20 Farm Bill Calculator'!$J$35)","v":68.876000000000005},{"$f":"AVERAGE(E220:I220)*(1+'2019-20 Farm Bill Calculator'!$J$35)","v":70.101199999999992},{"$f":"AVERAGE(F220:J220)*(1+'2019-20 Farm Bill Calculator'!$J$35)","v":71.409440000000004},{"$f":"AVERAGE(G220:K220)*(1+'2019-20 Farm Bill Calculator'!$J$35)","v":69.821328000000008},{"$f":"AVERAGE(H220:L220)*(1+'2019-20 Farm Bill Calculator'!$J$35)","v":68.171593600000008},{"$f":"AVERAGE(I220:M220)*(1+'2019-20 Farm Bill Calculator'!$J$35)","v":69.675912319999995},null,null,null,1.81,0.48,0.65,null,58.47,59.5,60.96,77.399999999999991,76.77,60,68.876000000000005,70.101199999999992,71.409440000000004,69.821328000000008,68.171593600000008]
[null,"CalhounWheatAll",{"$f":"VLOOKUP($B221,'FSA19'!$E$5:$K$290,3,0)","v":65.180000000000007},{"$f":"VLOOKUP($B221,'FSA19'!$E$5:$K$290,4,0)","v":64.650000000000006},{"$f":"VLOOKUP($B221,'FSA19'!$E$5:$K$290,5,0)","v":57.03},{"$f":"VLOOKUP($B221,'FSA19'!$E$5:$K$290,6,0)","v":75.680000000000007},{"$f":"VLOOKUP($B221,'FSA19'!$E$5:$K$290,7,0)","v":68.319999999999993},{"$f":"VLOOKUP(B221,'FSA 18'!$E$5:$BN$482,62,0)+T221","v":60.66},{"$f":"AVERAGE(D221:H221)*(1+'2019-20 Farm Bill Calculator'!$J$35)","v":65.268000000000001},{"$f":"AVERAGE(E221:I221)*(1+'2019-20 Farm Bill Calculator'!$J$35)","v":65.391599999999997},{"$f":"AVERAGE(F221:J221)*(1+'2019-20 Farm Bill Calculator'!$J$35)","v":67.063919999999996},{"$f":"AVERAGE(G221:K221)*(1+'2019-20 Farm Bill Calculator'!$J$35)","v":65.340703999999988},{"$f":"AVERAGE(H221:L221)*(1+'2019-20 Farm Bill Calculator'!$J$35)","v":64.744844799999981},{"$f":"AVERAGE(I221:M221)*(1+'2019-20 Farm Bill Calculator'!$J$35)","v":65.561813759999993},null,null,null,1.51,0.44,0.66,null,61.220000000000006,61.350000000000009,54.39,73.7,67,60,65.268000000000001,65.391599999999997,67.063919999999996,65.340703999999988,64.744844799999981]
[null,"CassWheatAll",{"$f":"VLOOKUP($B222,'FSA19'!$E$5:$K$290,3,0)","v":57.06},{"$f":"VLOOKUP($B222,'FSA19'!$E$5:$K$290,4,0)","v":55.85},{"$f":"VLOOKUP($B222,'FSA19'!$E$5:$K$290,5,0)","v":66.739999999999995},{"$f":"VLOOKUP($B222,'FSA19'!$E$5:$K$290,6,0)","v":54.63},{"$f":"VLOOKUP($B222,'FSA19'!$E$5:$K$290,7,0)","v":65.92},{"$f":"VLOOKUP(B222,'FSA 18'!$E$5:$BN$482,62,0)+T222","v":62.64},{"$f":"AVERAGE(D222:H222)*(1+'2019-20 Farm Bill Calculator'!$J$35)","v":61.155999999999992},{"$f":"AVERAGE(E222:I222)*(1+'2019-20 Farm Bill Calculator'!$J$35)","v":62.217200000000005},{"$f":"AVERAGE(F222:J222)*(1+'2019-20 Farm Bill Calculator'!$J$35)","v":61.312640000000002},{"$f":"AVERAGE(G222:K222)*(1+'2019-20 Farm Bill Calculator'!$J$35)","v":62.649167999999996},{"$f":"AVERAGE(H222:L222)*(1+'2019-20 Farm Bill Calculator'!$J$35)","v":61.995001599999988},{"$f":"AVERAGE(I222:M222)*(1+'2019-20 Farm Bill Calculator'!$J$35)","v":61.866001919999995},null,null,null,2.06,0.52,0.64,null,53.22,52.65,64.179999999999993,52.71,64.64,62,61.155999999999992,62.217200000000005,61.312640000000002,62.649167999999996,61.995001599999988]
[null,"CharlevoixWheatAll",{"$f":"VLOOKUP($B223,'FSA19'!$E$5:$K$290,3,0)","v":41},{"$f":"VLOOKUP($B223,'FSA19'!$E$5:$K$290,4,0)","v":54},{"$f":"VLOOKUP($B223,'FSA19'!$E$5:$K$290,5,0)","v":51},{"$f":"VLOOKUP($B223,'FSA19'!$E$5:$K$290,6,0)","v":55.2},{"$f":"VLOOKUP($B223,'FSA19'!$E$5:$K$290,7,0)","v":55.2},{"$f":"VLOOKUP(B223,'FSA 18'!$E$5:$BN$482,62,0)+T223","v":40.35},{"$f":"AVERAGE(D223:H223)*(1+'2019-20 Farm Bill Calculator'!$J$35)","v":51.149999999999991},{"$f":"AVERAGE(E223:I223)*(1+'2019-20 Farm Bill Calculator'!$J$35)","v":50.58},{"$f":"AVERAGE(F223:J223)*(1+'2019-20 Farm Bill Calculator'!$J$35)","v":50.495999999999995},{"$f":"AVERAGE(G223:K223)*(1+'2019-20 Farm Bill Calculator'!$J$35)","v":49.555199999999992},{"$f":"AVERAGE(H223:L223)*(1+'2019-20 Farm Bill Calculator'!$J$35)","v":48.426239999999993},{"$f":"AVERAGE(I223:M223)*(1+'2019-20 Farm Bill Calculator'!$J$35)","v":50.041487999999994},null,null,null,0.95,0.3,0.35,null,38.9,52.25,49.6,54.150000000000006,54.5,40,51.149999999999991,50.58,50.495999999999995,49.555199999999992,48.426239999999993]
[null,"CheboyganWheatAll",{"$f":"VLOOKUP($B224,'FSA19'!$E$5:$K$290,3,0)","v":55},{"$f":"VLOOKUP($B224,'FSA19'!$E$5:$K$290,4,0)","v":52},{"$f":"VLOOKUP($B224,'FSA19'!$E$5:$K$290,5,0)","v":78},{"$f":"VLOOKUP($B224,'FSA19'!$E$5:$K$290,6,0)","v":79.599999999999994},{"$f":"VLOOKUP($B224,'FSA19'!$E$5:$K$290,7,0)","v":52},{"$f":"VLOOKUP(B224,'FSA 18'!$E$5:$BN$482,62,0)+T224","v":47.73},{"$f":"AVERAGE(D224:H224)*(1+'2019-20 Farm Bill Calculator'!$J$35)","v":61.866000000000007},{"$f":"AVERAGE(E224:I224)*(1+'2019-20 Farm Bill Calculator'!$J$35)","v":63.839199999999991},{"$f":"AVERAGE(F224:J224)*(1+'2019-20 Farm Bill Calculator'!$J$35)","v":61.007039999999996},{"$f":"AVERAGE(G224:K224)*(1+'2019-20 Farm Bill Calculator'!$J$35)","v":57.288448000000002},{"$f":"AVERAGE(H224:L224)*(1+'2019-20 Farm Bill Calculator'!$J$35)","v":58.346137599999999},{"$f":"AVERAGE(I224:M224)*(1+'2019-20 Farm Bill Calculator'!$J$35)","v":60.469365119999999},null,null,null,1.36,0.34,0.73,null,50.62,48.35,75.08,77.41,50.54,47,61.866000000000007,63.839199999999991,61.007039999999996,57.288448000000002,58.346137599999999]
[null,"ChippewaWheatAll",{"$f":"VLOOKUP($B225,'FSA19'!$E$5:$K$290,3,0)","v":41},{"$f":"VLOOKUP($B225,'FSA19'!$E$5:$K$290,4,0)","v":47},{"$f":"VLOOKUP($B225,'FSA19'!$E$5:$K$290,5,0)","v":51},{"$f":"VLOOKUP($B225,'FSA19'!$E$5:$K$290,6,0)","v":55},{"$f":"VLOOKUP($B225,'FSA19'!$E$5:$K$290,7,0)","v":52},{"$f":"VLOOKUP(B225,'FSA 18'!$E$5:$BN$482,62,0)+T225","v":40.65},{"$f":"AVERAGE(D225:H225)*(1+'2019-20 Farm Bill Calculator'!$J$35)","v":49.13},{"$f":"AVERAGE(E225:I225)*(1+'2019-20 Farm Bill Calculator'!$J$35)","v":49.555999999999997},{"$f":"AVERAGE(F225:J225)*(1+'2019-20 Farm Bill Calculator'!$J$35)","v":49.267200000000003},{"$f":"AVERAGE(G225:K225)*(1+'2019-20 Farm Bill Calculator'!$J$35)","v":48.120640000000002},{"$f":"AVERAGE(H225:L225)*(1+'2019-20 Farm Bill Calculator'!$J$35)","v":47.344768000000002},{"$f":"AVERAGE(I225:M225)*(1+'2019-20 Farm Bill Calculator'!$J$35)","v":48.683721599999998},null,null,null,0.98,0.27,0.65,null,37.1,43.75,48.4,53.05,50.7,40,49.13,49.555999999999997,49.267200000000003,48.120640000000002,47.344768000000002]
[null,"ClareWheatAll",{"$f":"VLOOKUP($B226,'FSA19'!$E$5:$K$290,3,0)","v":59.74},{"$f":"VLOOKUP($B226,'FSA19'!$E$5:$K$290,4,0)","v":59.67},{"$f":"VLOOKUP($B226,'FSA19'!$E$5:$K$290,5,0)","v":67.89},{"$f":"VLOOKUP($B226,'FSA19'!$E$5:$K$290,6,0)","v":71.8},{"$f":"VLOOKUP($B226,'FSA19'!$E$5:$K$290,7,0)","v":47.8},{"$f":"VLOOKUP(B226,'FSA 18'!$E$5:$BN$482,62,0)+T226","v":55.62},{"$f":"AVERAGE(D226:H226)*(1+'2019-20 Farm Bill Calculator'!$J$35)","v":60.556000000000004},{"$f":"AVERAGE(E226:I226)*(1+'2019-20 Farm Bill Calculator'!$J$35)","v":60.733199999999997},{"$f":"AVERAGE(F226:J226)*(1+'2019-20 Farm Bill Calculator'!$J$35)","v":59.301840000000006},{"$f":"AVERAGE(G226:K226)*(1+'2019-20 Farm Bill Calculator'!$J$35)","v":56.802208000000007},{"$f":"AVERAGE(H226:L226)*(1+'2019-20 Farm Bill Calculator'!$J$35)","v":58.602649599999992},{"$f":"AVERAGE(I226:M226)*(1+'2019-20 Farm Bill Calculator'!$J$35)","v":59.199179519999994},null,null,null,1.61,0.39,0.62,null,56.02,56.57,65.41,69.94,46.559999999999995,55,60.556000000000004,60.733199999999997,59.301840000000006,56.802208000000007,58.602649599999992]
[null,"ClintonWheatAll",{"$f":"VLOOKUP($B227,'FSA19'!$E$5:$K$290,3,0)","v":83.34},{"$f":"VLOOKUP($B227,'FSA19'!$E$5:$K$290,4,0)","v":83.32},{"$f":"VLOOKUP($B227,'FSA19'!$E$5:$K$290,5,0)","v":92.54},{"$f":"VLOOKUP($B227,'FSA19'!$E$5:$K$290,6,0)","v":94.97},{"$f":"VLOOKUP($B227,'FSA19'!$E$5:$K$290,7,0)","v":75.430000000000007},{"$f":"VLOOKUP(B227,'FSA 18'!$E$5:$BN$482,62,0)+T227","v":84.04},{"$f":"AVERAGE(D227:H227)*(1+'2019-20 Farm Bill Calculator'!$J$35)","v":86.060000000000016},{"$f":"AVERAGE(E227:I227)*(1+'2019-20 Farm Bill Calculator'!$J$35)","v":86.608000000000004},{"$f":"AVERAGE(F227:J227)*(1+'2019-20 Farm Bill Calculator'!$J$35)","v":85.421599999999998},{"$f":"AVERAGE(G227:K227)*(1+'2019-20 Farm Bill Calculator'!$J$35)","v":83.511920000000003},{"$f":"AVERAGE(H227:L227)*(1+'2019-20 Farm Bill Calculator'!$J$35)","v":85.128304},{"$f":"AVERAGE(I227:M227)*(1+'2019-20 Farm Bill Calculator'!$J$35)","v":85.345964800000019},null,null,null,1.92,0.47,1.04,null,77.100000000000009,78.11999999999999,88.38000000000001,91.85,73.350000000000009,83,86.060000000000016,86.608000000000004,85.421599999999998,83.511920000000003,85.128304]
[null,"DeltaWheatAll",{"$f":"VLOOKUP($B228,'FSA19'!$E$5:$K$290,3,0)","v":41},{"$f":"VLOOKUP($B228,'FSA19'!$E$5:$K$290,4,0)","v":47},{"$f":"VLOOKUP($B228,'FSA19'!$E$5:$K$290,5,0)","v":51},{"$f":"VLOOKUP($B228,'FSA19'!$E$5:$K$290,6,0)","v":55},{"$f":"VLOOKUP($B228,'FSA19'!$E$5:$K$290,7,0)","v":52},{"$f":"VLOOKUP(B228,'FSA 18'!$E$5:$BN$482,62,0)+T228","v":40.67},{"$f":"AVERAGE(D228:H228)*(1+'2019-20 Farm Bill Calculator'!$J$35)","v":49.134},{"$f":"AVERAGE(E228:I228)*(1+'2019-20 Farm Bill Calculator'!$J$35)","v":49.560800000000008},{"$f":"AVERAGE(F228:J228)*(1+'2019-20 Farm Bill Calculator'!$J$35)","v":49.272960000000005},{"$f":"AVERAGE(G228:K228)*(1+'2019-20 Farm Bill Calculator'!$J$35)","v":48.127552000000001},{"$f":"AVERAGE(H228:L228)*(1+'2019-20 Farm Bill Calculator'!$J$35)","v":47.353062400000006},{"$f":"AVERAGE(I228:M228)*(1+'2019-20 Farm Bill Calculator'!$J$35)","v":48.689674880000005},null,null,null,0.91,0.28000000000000003,0.67,null,36.979999999999997,43.65,48.32,52.99,50.66,40,49.134,49.560800000000008,49.272960000000005,48.127552000000001,47.353062400000006]
[null,"DickinsonWheatAll",{"$f":"VLOOKUP($B229,'FSA19'!$E$5:$K$290,3,0)","v":41},{"$f":"VLOOKUP($B229,'FSA19'!$E$5:$K$290,4,0)","v":47},{"$f":"VLOOKUP($B229,'FSA19'!$E$5:$K$290,5,0)","v":51},{"$f":"VLOOKUP($B229,'FSA19'!$E$5:$K$290,6,0)","v":55.2},{"$f":"VLOOKUP($B229,'FSA19'!$E$5:$K$290,7,0)","v":53.6},{"$f":"VLOOKUP(B229,'FSA 18'!$E$5:$BN$482,62,0)+T229","v":{"$error":"#VALUE!"}},{"$f":"AVERAGE(D229:H229)*(1+'2019-20 Farm Bill Calculator'!$J$35)","v":{"$error":"#VALUE!"}},{"$f":"AVERAGE(E229:I229)*(1+'2019-20 Farm Bill Calculator'!$J$35)","v":{"$error":"#VALUE!"}},{"$f":"AVERAGE(F229:J229)*(1+'2019-20 Farm Bill Calculator'!$J$35)","v":{"$error":"#VALUE!"}},{"$f":"AVERAGE(G229:K229)*(1+'2019-20 Farm Bill Calculator'!$J$35)","v":{"$error":"#VALUE!"}},{"$f":"AVERAGE(H229:L229)*(1+'2019-20 Farm Bill Calculator'!$J$35)","v":{"$error":"#VALUE!"}},{"$f":"AVERAGE(I229:M229)*(1+'2019-20 Farm Bill Calculator'!$J$35)","v":{"$error":"#VALUE!"}},null,null,null,1.08,null,0.56000000000000005,null,37.64,44.2,48.76,53.52,52.480000000000004,{"$error":"#VALUE!"},{"$error":"#VALUE!"},{"$error":"#VALUE!"},{"$error":"#VALUE!"},{"$error":"#VALUE!"},{"$error":"#VALUE!"}]
[null,"EatonWheatAll",{"$f":"VLOOKUP($B230,'FSA19'!$E$5:$K$290,3,0)","v":79.08},{"$f":"VLOOKUP($B230,'FSA19'!$E$5:$K$290,4,0)","v":78.27},{"$f":"VLOOKUP($B230,'FSA19'!$E$5:$K$290,5,0)","v":73.69},{"$f":"VLOOKUP($B230,'FSA19'!$E$5:$K$290,6,0)","v":84.15},{"$f":"VLOOKUP($B230,'FSA19'!$E$5:$K$290,7,0)","v":74.62},{"$f":"VLOOKUP(B230,'FSA 18'!$E$5:$BN$482,62,0)+T230","v":67.790000000000006},{"$f":"AVERAGE(D230:H230)*(1+'2019-20 Farm Bill Calculator'!$J$35)","v":75.704000000000008},{"$f":"AVERAGE(E230:I230)*(1+'2019-20 Farm Bill Calculator'!$J$35)","v":75.190799999999996},{"$f":"AVERAGE(F230:J230)*(1+'2019-20 Farm Bill Calculator'!$J$35)","v":75.490960000000001},{"$f":"AVERAGE(G230:K230)*(1+'2019-20 Farm Bill Calculator'!$J$35)","v":73.759152},{"$f":"AVERAGE(H230:L230)*(1+'2019-20 Farm Bill Calculator'!$J$35)","v":73.586982400000011},{"$f":"AVERAGE(I230:M230)*(1+'2019-20 Farm Bill Calculator'!$J$35)","v":74.746378879999995},null,null,null,2.08,0.47,0.79,null,74.34,74.319999999999993,70.53,81.78,73.040000000000006,67,75.704000000000008,75.190799999999996,75.490960000000001,73.759152,73.586982400000011]
[null,"EmmetWheatAll",{"$f":"VLOOKUP($B231,'FSA19'!$E$5:$K$290,3,0)","v":41},{"$f":"VLOOKUP($B231,'FSA19'!$E$5:$K$290,4,0)","v":52},{"$f":"VLOOKUP($B231,'FSA19'!$E$5:$K$290,5,0)","v":49.6},{"$f":"VLOOKUP($B231,'FSA19'!$E$5:$K$290,6,0)","v":55.2},{"$f":"VLOOKUP($B231,'FSA19'!$E$5:$K$290,7,0)","v":55.2},{"$f":"VLOOKUP(B231,'FSA 18'!$E$5:$BN$482,62,0)+T231","v":40.79},{"$f":"AVERAGE(D231:H231)*(1+'2019-20 Farm Bill Calculator'!$J$35)","v":50.558},{"$f":"AVERAGE(E231:I231)*(1+'2019-20 Farm Bill Calculator'!$J$35)","v":50.269599999999997},{"$f":"AVERAGE(F231:J231)*(1+'2019-20 Farm Bill Calculator'!$J$35)","v":50.40352},{"$f":"AVERAGE(G231:K231)*(1+'2019-20 Farm Bill Calculator'!$J$35)","v":49.444223999999998},{"$f":"AVERAGE(H231:L231)*(1+'2019-20 Farm Bill Calculator'!$J$35)","v":48.2930688},{"$f":"AVERAGE(I231:M231)*(1+'2019-20 Farm Bill Calculator'!$J$35)","v":49.793682559999993},null,null,null,1,0.28000000000000003,0.79,null,36.26,48.05,46.44,52.830000000000005,53.620000000000005,40,50.558,50.269599999999997,50.40352,49.444223999999998,48.2930688]
[null,"GeneseeWheatAll",{"$f":"VLOOKUP($B232,'FSA19'!$E$5:$K$290,3,0)","v":63.81},{"$f":"VLOOKUP($B232,'FSA19'!$E$5:$K$290,4,0)","v":55.93},{"$f":"VLOOKUP($B232,'FSA19'!$E$5:$K$290,5,0)","v":80.48},{"$f":"VLOOKUP($B232,'FSA19'!$E$5:$K$290,6,0)","v":82.47},{"$f":"VLOOKUP($B232,'FSA19'!$E$5:$K$290,7,0)","v":69.86},{"$f":"VLOOKUP(B232,'FSA 18'!$E$5:$BN$482,62,0)+T232","v":77.7},{"$f":"AVERAGE(D232:H232)*(1+'2019-20 Farm Bill Calculator'!$J$35)","v":73.287999999999997},{"$f":"AVERAGE(E232:I232)*(1+'2019-20 Farm Bill Calculator'!$J$35)","v":76.759600000000006},{"$f":"AVERAGE(F232:J232)*(1+'2019-20 Farm Bill Calculator'!$J$35)","v":76.015519999999995},{"$f":"AVERAGE(G232:K232)*(1+'2019-20 Farm Bill Calculator'!$J$35)","v":74.724624000000006},{"$f":"AVERAGE(H232:L232)*(1+'2019-20 Farm Bill Calculator'!$J$35)","v":75.697548800000007},{"$f":"AVERAGE(I232:M232)*(1+'2019-20 Farm Bill Calculator'!$J$35)","v":75.297058559999996},null,null,null,1.51,0.39,0.7,null,59.61,52.43,77.680000000000007,80.37,68.459999999999994,77,73.287999999999997,76.759600000000006,76.015519999999995,74.724624000000006,75.697548800000007]
[null,"GladwinWheatAll",{"$f":"VLOOKUP($B233,'FSA19'!$E$5:$K$290,3,0)","v":75.290000000000006},{"$f":"VLOOKUP($B233,'FSA19'!$E$5:$K$290,4,0)","v":71.92},{"$f":"VLOOKUP($B233,'FSA19'!$E$5:$K$290,5,0)","v":91.45},{"$f":"VLOOKUP($B233,'FSA19'!$E$5:$K$290,6,0)","v":82.95},{"$f":"VLOOKUP($B233,'FSA19'!$E$5:$K$290,7,0)","v":60.48},{"$f":"VLOOKUP(B233,'FSA 18'!$E$5:$BN$482,62,0)+T233","v":74.849999999999994},{"$f":"AVERAGE(D233:H233)*(1+'2019-20 Farm Bill Calculator'!$J$35)","v":76.33},{"$f":"AVERAGE(E233:I233)*(1+'2019-20 Farm Bill Calculator'!$J$35)","v":77.212000000000003},{"$f":"AVERAGE(F233:J233)*(1+'2019-20 Farm Bill Calculator'!$J$35)","v":74.364400000000003},{"$f":"AVERAGE(G233:K233)*(1+'2019-20 Farm Bill Calculator'!$J$35)","v":72.647279999999995},{"$f":"AVERAGE(H233:L233)*(1+'2019-20 Farm Bill Calculator'!$J$35)","v":75.080736000000002},{"$f":"AVERAGE(I233:M233)*(1+'2019-20 Farm Bill Calculator'!$J$35)","v":75.126883199999995},null,null,null,2.06,0.51,0.85,null,70.190000000000012,67.67,88.05,80.400000000000006,58.779999999999994,74,76.33,77.212000000000003,74.364400000000003,72.647279999999995,75.080736000000002]
[null,"Grand TraverseWheatAll",{"$f":"VLOOKUP($B234,'FSA19'!$E$5:$K$290,3,0)","v":41.91},{"$f":"VLOOKUP($B234,'FSA19'!$E$5:$K$290,4,0)","v":37.200000000000003},{"$f":"VLOOKUP($B234,'FSA19'!$E$5:$K$290,5,0)","v":44.95},{"$f":"VLOOKUP($B234,'FSA19'!$E$5:$K$290,6,0)","v":46.67},{"$f":"VLOOKUP($B234,'FSA19'!$E$5:$K$290,7,0)","v":54.78},{"$f":"VLOOKUP(B234,'FSA 18'!$E$5:$BN$482,62,0)+T234","v":37.51},{"$f":"AVERAGE(D234:H234)*(1+'2019-20 Farm Bill Calculator'!$J$35)","v":44.221999999999994},{"$f":"AVERAGE(E234:I234)*(1+'2019-20 Farm Bill Calculator'!$J$35)","v":45.626400000000004},{"$f":"AVERAGE(F234:J234)*(1+'2019-20 Farm Bill Calculator'!$J$35)","v":45.761679999999998},{"$f":"AVERAGE(G234:K234)*(1+'2019-20 Farm Bill Calculator'!$J$35)","v":45.580016000000001},{"$f":"AVERAGE(H234:L234)*(1+'2019-20 Farm Bill Calculator'!$J$35)","v":43.740019199999999},{"$f":"AVERAGE(I234:M234)*(1+'2019-20 Farm Bill Calculator'!$J$35)","v":44.986023039999999},null,null,null,0.69,0.27,0.51,null,38.849999999999994,34.650000000000006,42.910000000000004,45.14,53.76,37,44.221999999999994,45.626400000000004,45.761679999999998,45.580016000000001,43.740019199999999]
[null,"GratiotWheatAll",{"$f":"VLOOKUP($B235,'FSA19'!$E$5:$K$290,3,0)","v":74.599999999999994},{"$f":"VLOOKUP($B235,'FSA19'!$E$5:$K$290,4,0)","v":82.61},{"$f":"VLOOKUP($B235,'FSA19'!$E$5:$K$290,5,0)","v":90.98},{"$f":"VLOOKUP($B235,'FSA19'!$E$5:$K$290,6,0)","v":89.06},{"$f":"VLOOKUP($B235,'FSA19'!$E$5:$K$290,7,0)","v":77.319999999999993},{"$f":"VLOOKUP(B235,'FSA 18'!$E$5:$BN$482,62,0)+T235","v":86},{"$f":"AVERAGE(D235:H235)*(1+'2019-20 Farm Bill Calculator'!$J$35)","v":85.193999999999988},{"$f":"AVERAGE(E235:I235)*(1+'2019-20 Farm Bill Calculator'!$J$35)","v":85.710799999999992},{"$f":"AVERAGE(F235:J235)*(1+'2019-20 Farm Bill Calculator'!$J$35)","v":84.656959999999998},{"$f":"AVERAGE(G235:K235)*(1+'2019-20 Farm Bill Calculator'!$J$35)","v":83.776352000000003},{"$f":"AVERAGE(H235:L235)*(1+'2019-20 Farm Bill Calculator'!$J$35)","v":85.067622399999976},{"$f":"AVERAGE(I235:M235)*(1+'2019-20 Farm Bill Calculator'!$J$35)","v":84.881146879999989},null,null,null,1.78,0.43,1,null,68.599999999999994,77.61,86.98,86.06,75.319999999999993,85,85.193999999999988,85.710799999999992,84.656959999999998,83.776352000000003,85.067622399999976]
[null,"HillsdaleWheatAll",{"$f":"VLOOKUP($B236,'FSA19'!$E$5:$K$290,3,0)","v":73.98},{"$f":"VLOOKUP($B236,'FSA19'!$E$5:$K$290,4,0)","v":72.67},{"$f":"VLOOKUP($B236,'FSA19'!$E$5:$K$290,5,0)","v":71.56},{"$f":"VLOOKUP($B236,'FSA19'!$E$5:$K$290,6,0)","v":85.96},{"$f":"VLOOKUP($B236,'FSA19'!$E$5:$K$290,7,0)","v":83.28},{"$f":"VLOOKUP(B236,'FSA 18'!$E$5:$BN$482,62,0)+T236","v":70.94},{"$f":"AVERAGE(D236:H236)*(1+'2019-20 Farm Bill Calculator'!$J$35)","v":76.882000000000005},{"$f":"AVERAGE(E236:I236)*(1+'2019-20 Farm Bill Calculator'!$J$35)","v":77.724400000000003},{"$f":"AVERAGE(F236:J236)*(1+'2019-20 Farm Bill Calculator'!$J$35)","v":78.957279999999997},{"$f":"AVERAGE(G236:K236)*(1+'2019-20 Farm Bill Calculator'!$J$35)","v":77.556736000000001},{"$f":"AVERAGE(H236:L236)*(1+'2019-20 Farm Bill Calculator'!$J$35)","v":76.412083200000012},{"$f":"AVERAGE(I236:M236)*(1+'2019-20 Farm Bill Calculator'!$J$35)","v":77.506499839999989},null,null,null,1.72,0.47,0.94,null,68.34,67.97,67.8,83.14,81.400000000000006,70,76.882000000000005,77.724400000000003,78.957279999999997,77.556736000000001,76.412083200000012]
[null,"HoughtonWheatAll",{"$f":"VLOOKUP($B237,'FSA19'!$E$5:$K$290,3,0)","v":41},{"$f":"VLOOKUP($B237,'FSA19'!$E$5:$K$290,4,0)","v":47},{"$f":"VLOOKUP($B237,'FSA19'!$E$5:$K$290,5,0)","v":51},{"$f":"VLOOKUP($B237,'FSA19'!$E$5:$K$290,6,0)","v":55.2},{"$f":"VLOOKUP($B237,'FSA19'!$E$5:$K$290,7,0)","v":53.6},{"$f":"VLOOKUP(B237,'FSA 18'!$E$5:$BN$482,62,0)+T237","v":40.61},{"$f":"AVERAGE(D237:H237)*(1+'2019-20 Farm Bill Calculator'!$J$35)","v":49.481999999999992},{"$f":"AVERAGE(E237:I237)*(1+'2019-20 Farm Bill Calculator'!$J$35)","v":49.978400000000008},{"$f":"AVERAGE(F237:J237)*(1+'2019-20 Farm Bill Calculator'!$J$35)","v":49.774080000000005},{"$f":"AVERAGE(G237:K237)*(1+'2019-20 Farm Bill Calculator'!$J$35)","v":48.688896000000007},{"$f":"AVERAGE(H237:L237)*(1+'2019-20 Farm Bill Calculator'!$J$35)","v":47.706675199999999},{"$f":"AVERAGE(I237:M237)*(1+'2019-20 Farm Bill Calculator'!$J$35)","v":49.126010239999999},null,null,null,1.07,null,0.61,null,37.340000000000003,43.95,48.56,53.370000000000005,52.38,40,49.481999999999992,49.978400000000008,49.774080000000005,48.688896000000007,47.706675199999999]
[null,"HuronWheatAll",{"$f":"VLOOKUP($B238,'FSA19'!$E$5:$K$290,3,0)","v":97.02},{"$f":"VLOOKUP($B238,'FSA19'!$E$5:$K$290,4,0)","v":83.33},{"$f":"VLOOKUP($B238,'FSA19'!$E$5:$K$290,5,0)","v":112.68},{"$f":"VLOOKUP($B238,'FSA19'!$E$5:$K$290,6,0)","v":109.14},{"$f":"VLOOKUP($B238,'FSA19'!$E$5:$K$290,7,0)","v":97.36},{"$f":"VLOOKUP(B238,'FSA 18'!$E$5:$BN$482,62,0)+T238","v":84.3},{"$f":"AVERAGE(D238:H238)*(1+'2019-20 Farm Bill Calculator'!$J$35)","v":97.361999999999995},{"$f":"AVERAGE(E238:I238)*(1+'2019-20 Farm Bill Calculator'!$J$35)","v":100.16839999999999},{"$f":"AVERAGE(F238:J238)*(1+'2019-20 Farm Bill Calculator'!$J$35)","v":97.666080000000008},{"$f":"AVERAGE(G238:K238)*(1+'2019-20 Farm Bill Calculator'!$J$35)","v":95.371296000000001},{"$f":"AVERAGE(H238:L238)*(1+'2019-20 Farm Bill Calculator'!$J$35)","v":94.973555199999993},{"$f":"AVERAGE(I238:M238)*(1+'2019-20 Farm Bill Calculator'!$J$35)","v":97.108266239999992},null,null,null,2.2599999999999998,0.65,1.3,null,89.22,76.83,107.48,105.24,94.76,83,97.361999999999995,100.16839999999999,97.666080000000008,95.371296000000001,94.973555199999993]
[null,"InghamWheatAll",{"$f":"VLOOKUP($B239,'FSA19'!$E$5:$K$290,3,0)","v":83.68},{"$f":"VLOOKUP($B239,'FSA19'!$E$5:$K$290,4,0)","v":84.86},{"$f":"VLOOKUP($B239,'FSA19'!$E$5:$K$290,5,0)","v":76.56},{"$f":"VLOOKUP($B239,'FSA19'!$E$5:$K$290,6,0)","v":97.29},{"$f":"VLOOKUP($B239,'FSA19'!$E$5:$K$290,7,0)","v":72.91},{"$f":"VLOOKUP(B239,'FSA 18'!$E$5:$BN$482,62,0)+T239","v":76.05},{"$f":"AVERAGE(D239:H239)*(1+'2019-20 Farm Bill Calculator'!$J$35)","v":81.534000000000006},{"$f":"AVERAGE(E239:I239)*(1+'2019-20 Farm Bill Calculator'!$J$35)","v":80.868799999999993},{"$f":"AVERAGE(F239:J239)*(1+'2019-20 Farm Bill Calculator'!$J$35)","v":81.730559999999997},{"$f":"AVERAGE(G239:K239)*(1+'2019-20 Farm Bill Calculator'!$J$35)","v":78.618671999999989},{"$f":"AVERAGE(H239:L239)*(1+'2019-20 Farm Bill Calculator'!$J$35)","v":79.760406399999994},{"$f":"AVERAGE(I239:M239)*(1+'2019-20 Farm Bill Calculator'!$J$35)","v":80.502487679999987},null,null,null,2.02,0.5,1.05,null,77.38000000000001,79.61,72.36,94.14,70.81,75,81.534000000000006,80.868799999999993,81.730559999999997,78.618671999999989,79.760406399999994]
[null,"IoniaWheatAll",{"$f":"VLOOKUP($B240,'FSA19'!$E$5:$K$290,3,0)","v":82.7},{"$f":"VLOOKUP($B240,'FSA19'!$E$5:$K$290,4,0)","v":79.569999999999993},{"$f":"VLOOKUP($B240,'FSA19'!$E$5:$K$290,5,0)","v":86},{"$f":"VLOOKUP($B240,'FSA19'!$E$5:$K$290,6,0)","v":96.14},{"$f":"VLOOKUP($B240,'FSA19'!$E$5:$K$290,7,0)","v":78.349999999999994},{"$f":"VLOOKUP(B240,'FSA 18'!$E$5:$BN$482,62,0)+T240","v":86.96},{"$f":"AVERAGE(D240:H240)*(1+'2019-20 Farm Bill Calculator'!$J$35)","v":85.403999999999982},{"$f":"AVERAGE(E240:I240)*(1+'2019-20 Farm Bill Calculator'!$J$35)","v":86.570799999999991},{"$f":"AVERAGE(F240:J240)*(1+'2019-20 Farm Bill Calculator'!$J$35)","v":86.684960000000004},{"$f":"AVERAGE(G240:K240)*(1+'2019-20 Farm Bill Calculator'!$J$35)","v":84.793952000000004},{"$f":"AVERAGE(H240:L240)*(1+'2019-20 Farm Bill Calculator'!$J$35)","v":86.082742400000001},{"$f":"AVERAGE(I240:M240)*(1+'2019-20 Farm Bill Calculator'!$J$35)","v":85.907290879999977},null,null,null,2.23,0.54,0.96,null,76.94,74.77,82.16,93.26,76.429999999999993,86,85.403999999999982,86.570799999999991,86.684960000000004,84.793952000000004,86.082742400000001]
[null,"IoscoWheatAll",{"$f":"VLOOKUP($B241,'FSA19'!$E$5:$K$290,3,0)","v":68.61},{"$f":"VLOOKUP($B241,'FSA19'!$E$5:$K$290,4,0)","v":71.62},{"$f":"VLOOKUP($B241,'FSA19'!$E$5:$K$290,5,0)","v":91.54},{"$f":"VLOOKUP($B241,'FSA19'!$E$5:$K$290,6,0)","v":85.62},{"$f":"VLOOKUP($B241,'FSA19'!$E$5:$K$290,7,0)","v":74.59},{"$f":"VLOOKUP(B241,'FSA 18'!$E$5:$BN$482,62,0)+T241","v":60.95},{"$f":"AVERAGE(D241:H241)*(1+'2019-20 Farm Bill Calculator'!$J$35)","v":76.864000000000004},{"$f":"AVERAGE(E241:I241)*(1+'2019-20 Farm Bill Calculator'!$J$35)","v":77.912800000000018},{"$f":"AVERAGE(F241:J241)*(1+'2019-20 Farm Bill Calculator'!$J$35)","v":75.187359999999998},{"$f":"AVERAGE(G241:K241)*(1+'2019-20 Farm Bill Calculator'!$J$35)","v":73.100832000000011},{"$f":"AVERAGE(H241:L241)*(1+'2019-20 Farm Bill Calculator'!$J$35)","v":72.802998400000007},{"$f":"AVERAGE(I241:M241)*(1+'2019-20 Farm Bill Calculator'!$J$35)","v":75.173598080000005},null,null,null,1.72,0.43,0.95,null,62.91,66.87,87.740000000000009,82.77000000000001,72.69,60,76.864000000000004,77.912800000000018,75.187359999999998,73.100832000000011,72.802998400000007]
[null,"IronWheatAll",{"$f":"VLOOKUP($B242,'FSA19'!$E$5:$K$290,3,0)","v":41},{"$f":"VLOOKUP($B242,'FSA19'!$E$5:$K$290,4,0)","v":47},{"$f":"VLOOKUP($B242,'FSA19'!$E$5:$K$290,5,0)","v":51},{"$f":"VLOOKUP($B242,'FSA19'!$E$5:$K$290,6,0)","v":55.2},{"$f":"VLOOKUP($B242,'FSA19'!$E$5:$K$290,7,0)","v":53.6},{"$f":"VLOOKUP(B242,'FSA 18'!$E$5:$BN$482,62,0)+T242","v":40.64},{"$f":"AVERAGE(D242:H242)*(1+'2019-20 Farm Bill Calculator'!$J$35)","v":49.488},{"$f":"AVERAGE(E242:I242)*(1+'2019-20 Farm Bill Calculator'!$J$35)","v":49.985599999999998},{"$f":"AVERAGE(F242:J242)*(1+'2019-20 Farm Bill Calculator'!$J$35)","v":49.782719999999998},{"$f":"AVERAGE(G242:K242)*(1+'2019-20 Farm Bill Calculator'!$J$35)","v":48.699264000000007},{"$f":"AVERAGE(H242:L242)*(1+'2019-20 Farm Bill Calculator'!$J$35)","v":47.719116800000002},{"$f":"AVERAGE(I242:M242)*(1+'2019-20 Farm Bill Calculator'!$J$35)","v":49.134940159999999},null,null,null,1,null,0.64,null,37.159999999999997,43.8,48.44,53.28,52.32,40,49.488,49.985599999999998,49.782719999999998,48.699264000000007,47.719116800000002]
[null,"IsabellaWheatAll",{"$f":"VLOOKUP($B243,'FSA19'!$E$5:$K$290,3,0)","v":70.69},{"$f":"VLOOKUP($B243,'FSA19'!$E$5:$K$290,4,0)","v":63.55},{"$f":"VLOOKUP($B243,'FSA19'!$E$5:$K$290,5,0)","v":86.02},{"$f":"VLOOKUP($B243,'FSA19'!$E$5:$K$290,6,0)","v":80.02},{"$f":"VLOOKUP($B243,'FSA19'!$E$5:$K$290,7,0)","v":74.73},{"$f":"VLOOKUP(B243,'FSA 18'!$E$5:$BN$482,62,0)+T243","v":69.64},{"$f":"AVERAGE(D243:H243)*(1+'2019-20 Farm Bill Calculator'!$J$35)","v":74.792000000000002},{"$f":"AVERAGE(E243:I243)*(1+'2019-20 Farm Bill Calculator'!$J$35)","v":77.040400000000005},{"$f":"AVERAGE(F243:J243)*(1+'2019-20 Farm Bill Calculator'!$J$35)","v":75.244479999999996},{"$f":"AVERAGE(G243:K243)*(1+'2019-20 Farm Bill Calculator'!$J$35)","v":74.289376000000004},{"$f":"AVERAGE(H243:L243)*(1+'2019-20 Farm Bill Calculator'!$J$35)","v":74.201251200000002},{"$f":"AVERAGE(I243:M243)*(1+'2019-20 Farm Bill Calculator'!$J$35)","v":75.113501440000007},null,null,null,2.11,0.53,0.64,null,66.849999999999994,60.349999999999994,83.46,78.099999999999994,73.45,69,74.792000000000002,77.040400000000005,75.244479999999996,74.289376000000004,74.201251200000002]
[null,"JacksonWheatAll",{"$f":"VLOOKUP($B244,'FSA19'!$E$5:$K$290,3,0)","v":63.44},{"$f":"VLOOKUP($B244,'FSA19'!$E$5:$K$290,4,0)","v":64.39},{"$f":"VLOOKUP($B244,'FSA19'!$E$5:$K$290,5,0)","v":73.72},{"$f":"VLOOKUP($B244,'FSA19'!$E$5:$K$290,6,0)","v":80.47},{"$f":"VLOOKUP($B244,'FSA19'!$E$5:$K$290,7,0)","v":74.849999999999994},{"$f":"VLOOKUP(B244,'FSA 18'!$E$5:$BN$482,62,0)+T244","v":70.73},{"$f":"AVERAGE(D244:H244)*(1+'2019-20 Farm Bill Calculator'!$J$35)","v":72.832000000000008},{"$f":"AVERAGE(E244:I244)*(1+'2019-20 Farm Bill Calculator'!$J$35)","v":74.520399999999995},{"$f":"AVERAGE(F244:J244)*(1+'2019-20 Farm Bill Calculator'!$J$35)","v":74.680480000000003},{"$f":"AVERAGE(G244:K244)*(1+'2019-20 Farm Bill Calculator'!$J$35)","v":73.522575999999987},{"$f":"AVERAGE(H244:L244)*(1+'2019-20 Farm Bill Calculator'!$J$35)","v":73.257091199999991},{"$f":"AVERAGE(I244:M244)*(1+'2019-20 Farm Bill Calculator'!$J$35)","v":73.762509439999988},null,null,null,1.43,0.42,0.73,null,59.059999999999995,60.74,70.8,78.28,73.39,70,72.832000000000008,74.520399999999995,74.680480000000003,73.522575999999987,73.257091199999991]
[null,"KalamazooWheatAll",{"$f":"VLOOKUP($B245,'FSA19'!$E$5:$K$290,3,0)","v":77.19},{"$f":"VLOOKUP($B245,'FSA19'!$E$5:$K$290,4,0)","v":70.260000000000005},{"$f":"VLOOKUP($B245,'FSA19'!$E$5:$K$290,5,0)","v":72.459999999999994},{"$f":"VLOOKUP($B245,'FSA19'!$E$5:$K$290,6,0)","v":73.2},{"$f":"VLOOKUP($B245,'FSA19'!$E$5:$K$290,7,0)","v":70.88},{"$f":"VLOOKUP(B245,'FSA 18'!$E$5:$BN$482,62,0)+T245","v":65.650000000000006},{"$f":"AVERAGE(D245:H245)*(1+'2019-20 Farm Bill Calculator'!$J$35)","v":70.490000000000009},{"$f":"AVERAGE(E245:I245)*(1+'2019-20 Farm Bill Calculator'!$J$35)","v":70.536000000000001},{"$f":"AVERAGE(F245:J245)*(1+'2019-20 Farm Bill Calculator'!$J$35)","v":70.151200000000003},{"$f":"AVERAGE(G245:K245)*(1+'2019-20 Farm Bill Calculator'!$J$35)","v":69.541440000000009},{"$f":"AVERAGE(H245:L245)*(1+'2019-20 Farm Bill Calculator'!$J$35)","v":69.273728000000006},{"$f":"AVERAGE(I245:M245)*(1+'2019-20 Farm Bill Calculator'!$J$35)","v":69.998473600000011},null,null,null,2.06,0.52,0.65,null,73.289999999999992,67.010000000000005,69.86,71.25,69.58,65,70.490000000000009,70.536000000000001,70.151200000000003,69.541440000000009,69.273728000000006]
[null,"KalkaskaWheatAll",{"$f":"VLOOKUP($B246,'FSA19'!$E$5:$K$290,3,0)","v":63.89},{"$f":"VLOOKUP($B246,'FSA19'!$E$5:$K$290,4,0)","v":62.44},{"$f":"VLOOKUP($B246,'FSA19'!$E$5:$K$290,5,0)","v":72.099999999999994},{"$f":"VLOOKUP($B246,'FSA19'!$E$5:$K$290,6,0)","v":67.540000000000006},{"$f":"VLOOKUP($B246,'FSA19'!$E$5:$K$290,7,0)","v":52},{"$f":"AVERAGE(C246:G246)+T246","v":63.844000000000008},{"$f":"AVERAGE(D246:H246)*(1+'2019-20 Farm Bill Calculator'!$J$35)","v":63.584799999999994},{"$f":"AVERAGE(E246:I246)*(1+'2019-20 Farm Bill Calculator'!$J$35)","v":63.813759999999988},{"$f":"AVERAGE(F246:J246)*(1+'2019-20 Farm Bill Calculator'!$J$35)","v":62.156511999999999},{"$f":"AVERAGE(G246:K246)*(1+'2019-20 Farm Bill Calculator'!$J$35)","v":61.079814399999997},{"$f":"AVERAGE(H246:L246)*(1+'2019-20 Farm Bill Calculator'!$J$35)","v":62.89577727999999},{"$f":"AVERAGE(I246:M246)*(1+'2019-20 Farm Bill Calculator'!$J$35)","v":62.706132735999994},null,null,null,0.91,0.28000000000000003,0.25,null,62.39,61.19,71.099999999999994,66.790000000000006,51.5,63.594000000000008,63.584799999999994,63.813759999999988,62.156511999999999,61.079814399999997,62.89577727999999]
[null,"KentWheatAll",{"$f":"VLOOKUP($B247,'FSA19'!$E$5:$K$290,3,0)","v":72.239999999999995},{"$f":"VLOOKUP($B247,'FSA19'!$E$5:$K$290,4,0)","v":64.12},{"$f":"VLOOKUP($B247,'FSA19'!$E$5:$K$290,5,0)","v":66.88},{"$f":"VLOOKUP($B247,'FSA19'!$E$5:$K$290,6,0)","v":82.47},{"$f":"VLOOKUP($B247,'FSA19'!$E$5:$K$290,7,0)","v":59.12},{"$f":"VLOOKUP(B247,'FSA 18'!$E$5:$BN$482,62,0)+T247","v":68.83},{"$f":"AVERAGE(D247:H247)*(1+'2019-20 Farm Bill Calculator'!$J$35)","v":68.283999999999992},{"$f":"AVERAGE(E247:I247)*(1+'2019-20 Farm Bill Calculator'!$J$35)","v":69.116799999999998},{"$f":"AVERAGE(F247:J247)*(1+'2019-20 Farm Bill Calculator'!$J$35)","v":69.564160000000001},{"$f":"AVERAGE(G247:K247)*(1+'2019-20 Farm Bill Calculator'!$J$35)","v":66.982991999999996},{"$f":"AVERAGE(H247:L247)*(1+'2019-20 Farm Bill Calculator'!$J$35)","v":68.5555904},{"$f":"AVERAGE(I247:M247)*(1+'2019-20 Farm Bill Calculator'!$J$35)","v":68.50070848},null,null,null,1.97,0.56999999999999995,0.83,null,67.259999999999991,59.970000000000006,63.559999999999995,79.98,57.46,68,68.283999999999992,69.116799999999998,69.564160000000001,66.982991999999996,68.5555904]
[null,"LakeWheatAll",{"$f":"VLOOKUP($B248,'FSA19'!$E$5:$K$290,3,0)","v":63},{"$f":"VLOOKUP($B248,'FSA19'!$E$5:$K$290,4,0)","v":51},{"$f":"VLOOKUP($B248,'FSA19'!$E$5:$K$290,5,0)","v":66},{"$f":"VLOOKUP($B248,'FSA19'!$E$5:$K$290,6,0)","v":77.8},{"$f":"VLOOKUP($B248,'FSA19'!$E$5:$K$290,7,0)","v":65},{"$f":"VLOOKUP(B248,'FSA 18'!$E$5:$BN$482,62,0)+T248","v":66.72},{"$f":"AVERAGE(D248:H248)*(1+'2019-20 Farm Bill Calculator'!$J$35)","v":65.304000000000002},{"$f":"AVERAGE(E248:I248)*(1+'2019-20 Farm Bill Calculator'!$J$35)","v":68.164799999999985},{"$f":"AVERAGE(F248:J248)*(1+'2019-20 Farm Bill Calculator'!$J$35)","v":68.597759999999994},{"$f":"AVERAGE(G248:K248)*(1+'2019-20 Farm Bill Calculator'!$J$35)","v":66.757311999999999},{"$f":"AVERAGE(H248:L248)*(1+'2019-20 Farm Bill Calculator'!$J$35)","v":67.108774400000001},{"$f":"AVERAGE(I248:M248)*(1+'2019-20 Farm Bill Calculator'!$J$35)","v":67.186529280000002},null,null,null,1.66,null,0.72,null,58.68,47.4,63.12,75.64,63.56,66,65.304000000000002,68.164799999999985,68.597759999999994,66.757311999999999,67.108774400000001]
[null,"LapeerWheatAll",{"$f":"VLOOKUP($B249,'FSA19'!$E$5:$K$290,3,0)","v":69.28},{"$f":"VLOOKUP($B249,'FSA19'!$E$5:$K$290,4,0)","v":67.680000000000007},{"$f":"VLOOKUP($B249,'FSA19'!$E$5:$K$290,5,0)","v":78.459999999999994},{"$f":"VLOOKUP($B249,'FSA19'!$E$5:$K$290,6,0)","v":90.23},{"$f":"VLOOKUP($B249,'FSA19'!$E$5:$K$290,7,0)","v":74.72},{"$f":"VLOOKUP(B249,'FSA 18'!$E$5:$BN$482,62,0)+T249","v":69.900000000000006},{"$f":"AVERAGE(D249:H249)*(1+'2019-20 Farm Bill Calculator'!$J$35)","v":76.198000000000008},{"$f":"AVERAGE(E249:I249)*(1+'2019-20 Farm Bill Calculator'!$J$35)","v":77.901600000000002},{"$f":"AVERAGE(F249:J249)*(1+'2019-20 Farm Bill Calculator'!$J$35)","v":77.789920000000009},{"$f":"AVERAGE(G249:K249)*(1+'2019-20 Farm Bill Calculator'!$J$35)","v":75.301904000000007},{"$f":"AVERAGE(H249:L249)*(1+'2019-20 Farm Bill Calculator'!$J$35)","v":75.418284800000009},{"$f":"AVERAGE(I249:M249)*(1+'2019-20 Farm Bill Calculator'!$J$35)","v":76.521941760000004},null,null,null,1.91,0.52,0.9,null,63.88,63.180000000000007,74.86,87.53,72.92,69,76.198000000000008,77.901600000000002,77.789920000000009,75.301904000000007,75.418284800000009]
[null,"LeelanauWheatAll",{"$f":"VLOOKUP($B250,'FSA19'!$E$5:$K$290,3,0)","v":41},{"$f":"VLOOKUP($B250,'FSA19'!$E$5:$K$290,4,0)","v":36},{"$f":"VLOOKUP($B250,'FSA19'!$E$5:$K$290,5,0)","v":51},{"$f":"VLOOKUP($B250,'FSA19'!$E$5:$K$290,6,0)","v":55},{"$f":"VLOOKUP($B250,'FSA19'!$E$5:$K$290,7,0)","v":52},{"$f":"VLOOKUP(B250,'FSA 18'!$E$5:$BN$482,62,0)+T250","v":40.340000000000003},{"$f":"AVERAGE(D250:H250)*(1+'2019-20 Farm Bill Calculator'!$J$35)","v":46.868000000000002},{"$f":"AVERAGE(E250:I250)*(1+'2019-20 Farm Bill Calculator'!$J$35)","v":49.041600000000003},{"$f":"AVERAGE(F250:J250)*(1+'2019-20 Farm Bill Calculator'!$J$35)","v":48.649919999999995},{"$f":"AVERAGE(G250:K250)*(1+'2019-20 Farm Bill Calculator'!$J$35)","v":47.379903999999996},{"$f":"AVERAGE(H250:L250)*(1+'2019-20 Farm Bill Calculator'!$J$35)","v":46.4558848},{"$f":"AVERAGE(I250:M250)*(1+'2019-20 Farm Bill Calculator'!$J$35)","v":47.67906176000001},null,null,null,0.35,null,0.34,null,38.96,34.299999999999997,49.64,53.98,51.32,40,46.868000000000002,49.041600000000003,48.649919999999995,47.379903999999996,46.4558848]
[null,"LenaweeWheatAll",{"$f":"VLOOKUP($B251,'FSA19'!$E$5:$K$290,3,0)","v":89.52},{"$f":"VLOOKUP($B251,'FSA19'!$E$5:$K$290,4,0)","v":81.5},{"$f":"VLOOKUP($B251,'FSA19'!$E$5:$K$290,5,0)","v":64.36},{"$f":"VLOOKUP($B251,'FSA19'!$E$5:$K$290,6,0)","v":98.97},{"$f":"VLOOKUP($B251,'FSA19'!$E$5:$K$290,7,0)","v":86.67},{"$f":"VLOOKUP(B251,'FSA 18'!$E$5:$BN$482,62,0)+T251","v":81.03},{"$f":"AVERAGE(D251:H251)*(1+'2019-20 Farm Bill Calculator'!$J$35)","v":82.506},{"$f":"AVERAGE(E251:I251)*(1+'2019-20 Farm Bill Calculator'!$J$35)","v":82.707199999999986},{"$f":"AVERAGE(F251:J251)*(1+'2019-20 Farm Bill Calculator'!$J$35)","v":86.376639999999981},{"$f":"AVERAGE(G251:K251)*(1+'2019-20 Farm Bill Calculator'!$J$35)","v":83.857967999999985},{"$f":"AVERAGE(H251:L251)*(1+'2019-20 Farm Bill Calculator'!$J$35)","v":83.295561599999985},{"$f":"AVERAGE(I251:M251)*(1+'2019-20 Farm Bill Calculator'!$J$35)","v":83.748673919999987},null,null,null,1.81,0.4,1.03,null,83.34,76.349999999999994,60.24,95.88,84.61,80,82.506,82.707199999999986,86.376639999999981,83.857967999999985,83.295561599999985]
[null,"LivingstonWheatAll",{"$f":"VLOOKUP($B252,'FSA19'!$E$5:$K$290,3,0)","v":64},{"$f":"VLOOKUP($B252,'FSA19'!$E$5:$K$290,4,0)","v":69.430000000000007},{"$f":"VLOOKUP($B252,'FSA19'!$E$5:$K$290,5,0)","v":76.97},{"$f":"VLOOKUP($B252,'FSA19'!$E$5:$K$290,6,0)","v":82.59},{"$f":"VLOOKUP($B252,'FSA19'!$E$5:$K$290,7,0)","v":78.3},{"$f":"VLOOKUP(B252,'FSA 18'!$E$5:$BN$482,62,0)+T252","v":80.8},{"$f":"AVERAGE(D252:H252)*(1+'2019-20 Farm Bill Calculator'!$J$35)","v":77.618000000000009},{"$f":"AVERAGE(E252:I252)*(1+'2019-20 Farm Bill Calculator'!$J$35)","v":79.255600000000001},{"$f":"AVERAGE(F252:J252)*(1+'2019-20 Farm Bill Calculator'!$J$35)","v":79.712720000000004},{"$f":"AVERAGE(G252:K252)*(1+'2019-20 Farm Bill Calculator'!$J$35)","v":79.137264000000002},{"$f":"AVERAGE(H252:L252)*(1+'2019-20 Farm Bill Calculator'!$J$35)","v":79.304716800000008},{"$f":"AVERAGE(I252:M252)*(1+'2019-20 Farm Bill Calculator'!$J$35)","v":79.005660160000005},null,null,null,1.77,0.55000000000000004,0.8,null,59.2,65.430000000000007,73.77,80.19,76.7,80,77.618000000000009,79.255600000000001,79.712720000000004,79.137264000000002,79.304716800000008]
[null,"LuceWheatAll",{"$f":"VLOOKUP($B253,'FSA19'!$E$5:$K$290,3,0)","v":41},{"$f":"VLOOKUP($B253,'FSA19'!$E$5:$K$290,4,0)","v":47},{"$f":"VLOOKUP($B253,'FSA19'!$E$5:$K$290,5,0)","v":51},{"$f":"VLOOKUP($B253,'FSA19'!$E$5:$K$290,6,0)","v":55.2},{"$f":"VLOOKUP($B253,'FSA19'!$E$5:$K$290,7,0)","v":53.6},{"$f":"VLOOKUP(B253,'FSA 18'!$E$5:$BN$482,62,0)+T253","v":40.64},{"$f":"AVERAGE(D253:H253)*(1+'2019-20 Farm Bill Calculator'!$J$35)","v":49.488},{"$f":"AVERAGE(E253:I253)*(1+'2019-20 Farm Bill Calculator'!$J$35)","v":49.985599999999998},{"$f":"AVERAGE(F253:J253)*(1+'2019-20 Farm Bill Calculator'!$J$35)","v":49.782719999999998},{"$f":"AVERAGE(G253:K253)*(1+'2019-20 Farm Bill Calculator'!$J$35)","v":48.699264000000007},{"$f":"AVERAGE(H253:L253)*(1+'2019-20 Farm Bill Calculator'!$J$35)","v":47.719116800000002},{"$f":"AVERAGE(I253:M253)*(1+'2019-20 Farm Bill Calculator'!$J$35)","v":49.134940159999999},null,null,null,0.98,0.28000000000000003,0.64,null,37.159999999999997,43.8,48.44,53.28,52.32,40,49.488,49.985599999999998,49.782719999999998,48.699264000000007,47.719116800000002]
[null,"MackinacWheatAll",{"$f":"VLOOKUP($B254,'FSA19'!$E$5:$K$290,3,0)","v":41},{"$f":"VLOOKUP($B254,'FSA19'!$E$5:$K$290,4,0)","v":47},{"$f":"VLOOKUP($B254,'FSA19'!$E$5:$K$290,5,0)","v":51},{"$f":"VLOOKUP($B254,'FSA19'!$E$5:$K$290,6,0)","v":55},{"$f":"VLOOKUP($B254,'FSA19'!$E$5:$K$290,7,0)","v":52},{"$f":"VLOOKUP(B254,'FSA 18'!$E$5:$BN$482,62,0)+T254","v":40.700000000000003},{"$f":"AVERAGE(D254:H254)*(1+'2019-20 Farm Bill Calculator'!$J$35)","v":49.14},{"$f":"AVERAGE(E254:I254)*(1+'2019-20 Farm Bill Calculator'!$J$35)","v":49.567999999999998},{"$f":"AVERAGE(F254:J254)*(1+'2019-20 Farm Bill Calculator'!$J$35)","v":49.28159999999999},{"$f":"AVERAGE(G254:K254)*(1+'2019-20 Farm Bill Calculator'!$J$35)","v":48.137920000000001},{"$f":"AVERAGE(H254:L254)*(1+'2019-20 Farm Bill Calculator'!$J$35)","v":47.365504000000001},{"$f":"AVERAGE(I254:M254)*(1+'2019-20 Farm Bill Calculator'!$J$35)","v":48.698604799999998},null,null,null,1.01,null,0.7,null,36.799999999999997,43.5,48.2,52.9,50.6,40,49.14,49.567999999999998,49.28159999999999,48.137920000000001,47.365504000000001]
[null,"MacombWheatAll",{"$f":"VLOOKUP($B255,'FSA19'!$E$5:$K$290,3,0)","v":64.260000000000005},{"$f":"VLOOKUP($B255,'FSA19'!$E$5:$K$290,4,0)","v":56.18},{"$f":"VLOOKUP($B255,'FSA19'!$E$5:$K$290,5,0)","v":69.78},{"$f":"VLOOKUP($B255,'FSA19'!$E$5:$K$290,6,0)","v":84.24},{"$f":"VLOOKUP($B255,'FSA19'!$E$5:$K$290,7,0)","v":68.040000000000006},{"$f":"VLOOKUP(B255,'FSA 18'!$E$5:$BN$482,62,0)+T255","v":75.75},{"$f":"AVERAGE(D255:H255)*(1+'2019-20 Farm Bill Calculator'!$J$35)","v":70.798000000000002},{"$f":"AVERAGE(E255:I255)*(1+'2019-20 Farm Bill Calculator'!$J$35)","v":73.721599999999995},{"$f":"AVERAGE(F255:J255)*(1+'2019-20 Farm Bill Calculator'!$J$35)","v":74.509919999999994},{"$f":"AVERAGE(G255:K255)*(1+'2019-20 Farm Bill Calculator'!$J$35)","v":72.563904000000008},{"$f":"AVERAGE(H255:L255)*(1+'2019-20 Farm Bill Calculator'!$J$35)","v":73.468684800000005},{"$f":"AVERAGE(I255:M255)*(1+'2019-20 Farm Bill Calculator'!$J$35)","v":73.012421760000009},null,null,null,1.94,0.38,0.75,null,59.760000000000005,52.43,66.78,81.99,66.540000000000006,75,70.798000000000002,73.721599999999995,74.509919999999994,72.563904000000008,73.468684800000005]
[null,"ManisteeWheatAll",{"$f":"VLOOKUP($B256,'FSA19'!$E$5:$K$290,3,0)","v":41},{"$f":"VLOOKUP($B256,'FSA19'!$E$5:$K$290,4,0)","v":49},{"$f":"VLOOKUP($B256,'FSA19'!$E$5:$K$290,5,0)","v":51},{"$f":"VLOOKUP($B256,'FSA19'!$E$5:$K$290,6,0)","v":55},{"$f":"VLOOKUP($B256,'FSA19'!$E$5:$K$290,7,0)","v":52},{"$f":"VLOOKUP(B256,'FSA 18'!$E$5:$BN$482,62,0)+T256","v":40.299999999999997},{"$f":"AVERAGE(D256:H256)*(1+'2019-20 Farm Bill Calculator'!$J$35)","v":49.46},{"$f":"AVERAGE(E256:I256)*(1+'2019-20 Farm Bill Calculator'!$J$35)","v":49.552000000000007},{"$f":"AVERAGE(F256:J256)*(1+'2019-20 Farm Bill Calculator'!$J$35)","v":49.2624},{"$f":"AVERAGE(G256:K256)*(1+'2019-20 Farm Bill Calculator'!$J$35)","v":48.114880000000007},{"$f":"AVERAGE(H256:L256)*(1+'2019-20 Farm Bill Calculator'!$J$35)","v":47.337856000000002},{"$f":"AVERAGE(I256:M256)*(1+'2019-20 Farm Bill Calculator'!$J$35)","v":48.745427200000009},null,null,null,1.06,null,0.3,null,39.200000000000003,47.5,49.8,54.1,51.4,40,49.46,49.552000000000007,49.2624,48.114880000000007,47.337856000000002]
[null,"MasonWheatAll",{"$f":"VLOOKUP($B257,'FSA19'!$E$5:$K$290,3,0)","v":65.47},{"$f":"VLOOKUP($B257,'FSA19'!$E$5:$K$290,4,0)","v":49.83},{"$f":"VLOOKUP($B257,'FSA19'!$E$5:$K$290,5,0)","v":58.98},{"$f":"VLOOKUP($B257,'FSA19'!$E$5:$K$290,6,0)","v":72.56},{"$f":"VLOOKUP($B257,'FSA19'!$E$5:$K$290,7,0)","v":57.86},{"$f":"VLOOKUP(B257,'FSA 18'!$E$5:$BN$482,62,0)+T257","v":63.63},{"$f":"AVERAGE(D257:H257)*(1+'2019-20 Farm Bill Calculator'!$J$35)","v":60.572000000000003},{"$f":"AVERAGE(E257:I257)*(1+'2019-20 Farm Bill Calculator'!$J$35)","v":62.720399999999998},{"$f":"AVERAGE(F257:J257)*(1+'2019-20 Farm Bill Calculator'!$J$35)","v":63.46848},{"$f":"AVERAGE(G257:K257)*(1+'2019-20 Farm Bill Calculator'!$J$35)","v":61.650176000000002},{"$f":"AVERAGE(H257:L257)*(1+'2019-20 Farm Bill Calculator'!$J$35)","v":62.408211199999997},{"$f":"AVERAGE(I257:M257)*(1+'2019-20 Farm Bill Calculator'!$J$35)","v":62.16385343999999},null,null,null,1.71,0.51,0.63,null,61.69,46.68,56.459999999999994,70.67,56.6,63,60.572000000000003,62.720399999999998,63.46848,61.650176000000002,62.408211199999997]
[null,"MecostaWheatAll",{"$f":"VLOOKUP($B258,'FSA19'!$E$5:$K$290,3,0)","v":55.61},{"$f":"VLOOKUP($B258,'FSA19'!$E$5:$K$290,4,0)","v":40.4},{"$f":"VLOOKUP($B258,'FSA19'!$E$5:$K$290,5,0)","v":75.13},{"$f":"VLOOKUP($B258,'FSA19'!$E$5:$K$290,6,0)","v":77.12},{"$f":"VLOOKUP($B258,'FSA19'!$E$5:$K$290,7,0)","v":60.23},{"$f":"VLOOKUP(B258,'FSA 18'!$E$5:$BN$482,62,0)+T258","v":57.56},{"$f":"AVERAGE(D258:H258)*(1+'2019-20 Farm Bill Calculator'!$J$35)","v":62.088000000000001},{"$f":"AVERAGE(E258:I258)*(1+'2019-20 Farm Bill Calculator'!$J$35)","v":66.425600000000003},{"$f":"AVERAGE(F258:J258)*(1+'2019-20 Farm Bill Calculator'!$J$35)","v":64.684719999999999},{"$f":"AVERAGE(G258:K258)*(1+'2019-20 Farm Bill Calculator'!$J$35)","v":62.197663999999996},{"$f":"AVERAGE(H258:L258)*(1+'2019-20 Farm Bill Calculator'!$J$35)","v":62.591196799999999},{"$f":"AVERAGE(I258:M258)*(1+'2019-20 Farm Bill Calculator'!$J$35)","v":63.597436159999994},null,null,null,1.88,0.27,0.56000000000000005,null,52.25,37.6,72.89,75.44,59.11,57,62.088000000000001,66.425600000000003,64.684719999999999,62.197663999999996,62.591196799999999]
[null,"MenomineeWheatAll",{"$f":"VLOOKUP($B259,'FSA19'!$E$5:$K$290,3,0)","v":41},{"$f":"VLOOKUP($B259,'FSA19'!$E$5:$K$290,4,0)","v":47},{"$f":"VLOOKUP($B259,'FSA19'!$E$5:$K$290,5,0)","v":51},{"$f":"VLOOKUP($B259,'FSA19'!$E$5:$K$290,6,0)","v":55.2},{"$f":"VLOOKUP($B259,'FSA19'!$E$5:$K$290,7,0)","v":53.6},{"$f":"VLOOKUP(B259,'FSA 18'!$E$5:$BN$482,62,0)+T259","v":40.72},{"$f":"AVERAGE(D259:H259)*(1+'2019-20 Farm Bill Calculator'!$J$35)","v":49.503999999999998},{"$f":"AVERAGE(E259:I259)*(1+'2019-20 Farm Bill Calculator'!$J$35)","v":50.004800000000003},{"$f":"AVERAGE(F259:J259)*(1+'2019-20 Farm Bill Calculator'!$J$35)","v":49.805759999999999},{"$f":"AVERAGE(G259:K259)*(1+'2019-20 Farm Bill Calculator'!$J$35)","v":48.726911999999999},{"$f":"AVERAGE(H259:L259)*(1+'2019-20 Farm Bill Calculator'!$J$35)","v":47.752294399999997},{"$f":"AVERAGE(I259:M259)*(1+'2019-20 Farm Bill Calculator'!$J$35)","v":49.158753279999999},null,null,null,1.08,0.28000000000000003,0.72,null,36.68,43.4,48.12,53.040000000000006,52.160000000000004,40,{"$f":"I259","v":49.503999999999998},{"$f":"J259","v":50.004800000000003},{"$f":"K259","v":49.805759999999999},{"$f":"L259","v":48.726911999999999},{"$f":"M259","v":47.752294399999997}]
[null,"MidlandWheatAll",{"$f":"VLOOKUP($B260,'FSA19'!$E$5:$K$290,3,0)","v":70.87},{"$f":"VLOOKUP($B260,'FSA19'!$E$5:$K$290,4,0)","v":81.290000000000006},{"$f":"VLOOKUP($B260,'FSA19'!$E$5:$K$290,5,0)","v":95.94},{"$f":"VLOOKUP($B260,'FSA19'!$E$5:$K$290,6,0)","v":86.42},{"$f":"VLOOKUP($B260,'FSA19'!$E$5:$K$290,7,0)","v":69.569999999999993},{"$f":"VLOOKUP(B260,'FSA 18'!$E$5:$BN$482,62,0)+T260","v":77.040000000000006},{"$f":"AVERAGE(D260:H260)*(1+'2019-20 Farm Bill Calculator'!$J$35)","v":82.052000000000007},{"$f":"AVERAGE(E260:I260)*(1+'2019-20 Farm Bill Calculator'!$J$35)","v":82.204400000000007},{"$f":"AVERAGE(F260:J260)*(1+'2019-20 Farm Bill Calculator'!$J$35)","v":79.457280000000011},{"$f":"AVERAGE(G260:K260)*(1+'2019-20 Farm Bill Calculator'!$J$35)","v":78.064736000000011},{"$f":"AVERAGE(H260:L260)*(1+'2019-20 Farm Bill Calculator'!$J$35)","v":79.763683200000017},{"$f":"AVERAGE(I260:M260)*(1+'2019-20 Farm Bill Calculator'!$J$35)","v":80.308419839999999},null,null,null,2.1,0.44,1.04,null,64.63000000000001,76.09,91.78,83.3,67.489999999999995,76,82.052000000000007,82.204400000000007,79.457280000000011,78.064736000000011,79.763683200000017]
[null,"MissaukeeWheatAll",{"$f":"VLOOKUP($B261,'FSA19'!$E$5:$K$290,3,0)","v":73.56},{"$f":"VLOOKUP($B261,'FSA19'!$E$5:$K$290,4,0)","v":77.510000000000005},{"$f":"VLOOKUP($B261,'FSA19'!$E$5:$K$290,5,0)","v":53.16},{"$f":"VLOOKUP($B261,'FSA19'!$E$5:$K$290,6,0)","v":56.62},{"$f":"VLOOKUP($B261,'FSA19'!$E$5:$K$290,7,0)","v":53.08},{"$f":"AVERAGE(C261:G261)+T261","v":63.035999999999987},{"$f":"AVERAGE(D261:H261)*(1+'2019-20 Farm Bill Calculator'!$J$35)","v":60.681200000000004},{"$f":"AVERAGE(E261:I261)*(1+'2019-20 Farm Bill Calculator'!$J$35)","v":57.315440000000002},{"$f":"AVERAGE(F261:J261)*(1+'2019-20 Farm Bill Calculator'!$J$35)","v":58.146528000000004},{"$f":"AVERAGE(G261:K261)*(1+'2019-20 Farm Bill Calculator'!$J$35)","v":58.451833600000001},{"$f":"AVERAGE(H261:L261)*(1+'2019-20 Farm Bill Calculator'!$J$35)","v":59.526200320000001},{"$f":"AVERAGE(I261:M261)*(1+'2019-20 Farm Bill Calculator'!$J$35)","v":58.824240383999992},null,null,null,1.7,0.3,0.25,null,72.06,76.260000000000005,52.16,55.87,52.58,62.785999999999987,60.681200000000004,57.315440000000002,58.146528000000004,58.451833600000001,59.526200320000001]
[null,"MonroeWheatAll",{"$f":"VLOOKUP($B262,'FSA19'!$E$5:$K$290,3,0)","v":84.38},{"$f":"VLOOKUP($B262,'FSA19'!$E$5:$K$290,4,0)","v":84.89},{"$f":"VLOOKUP($B262,'FSA19'!$E$5:$K$290,5,0)","v":65.569999999999993},{"$f":"VLOOKUP($B262,'FSA19'!$E$5:$K$290,6,0)","v":89.18},{"$f":"VLOOKUP($B262,'FSA19'!$E$5:$K$290,7,0)","v":86.62},{"$f":"VLOOKUP(B262,'FSA 18'!$E$5:$BN$482,62,0)+T262","v":73.989999999999995},{"$f":"AVERAGE(D262:H262)*(1+'2019-20 Farm Bill Calculator'!$J$35)","v":80.05},{"$f":"AVERAGE(E262:I262)*(1+'2019-20 Farm Bill Calculator'!$J$35)","v":79.082000000000008},{"$f":"AVERAGE(F262:J262)*(1+'2019-20 Farm Bill Calculator'!$J$35)","v":81.784400000000005},{"$f":"AVERAGE(G262:K262)*(1+'2019-20 Farm Bill Calculator'!$J$35)","v":80.30528000000001},{"$f":"AVERAGE(H262:L262)*(1+'2019-20 Farm Bill Calculator'!$J$35)","v":79.042336000000006},{"$f":"AVERAGE(I262:M262)*(1+'2019-20 Farm Bill Calculator'!$J$35)","v":80.0528032},null,null,null,1.76,0.46,0.99,null,78.44,79.94,61.609999999999992,86.210000000000008,84.64,73,80.05,79.082000000000008,81.784400000000005,80.30528000000001,79.042336000000006]
[null,"MontcalmWheatAll",{"$f":"(C264+C265)/2","v":70.365000000000009},{"$f":"(D264+D265)/2","v":69.28},{"$f":"(E264+E265)/2","v":82.5},{"$f":"(F264+F265)/2","v":78.13},{"$f":"(G264+G265)/2","v":68.884999999999991},{"$f":"AVERAGE(C263:G263)+T263","v":74.341999999999999},{"$f":"AVERAGE(D263:H263)*(1+'2019-20 Farm Bill Calculator'!$J$35)","v":74.627399999999994},{"$f":"AVERAGE(E263:I263)*(1+'2019-20 Farm Bill Calculator'!$J$35)","v":75.696879999999993},{"$f":"AVERAGE(F263:J263)*(1+'2019-20 Farm Bill Calculator'!$J$35)","v":74.336255999999977},{"$f":"AVERAGE(G263:K263)*(1+'2019-20 Farm Bill Calculator'!$J$35)","v":73.577507199999985},{"$f":"AVERAGE(H263:L263)*(1+'2019-20 Farm Bill Calculator'!$J$35)","v":74.516008639999995},{"$f":"AVERAGE(I263:M263)*(1+'2019-20 Farm Bill Calculator'!$J$35)","v":74.550810368},null,null,null,1.88,0.37,0.51,null,67.305000000000007,66.73,80.459999999999994,76.599999999999994,67.864999999999995,73.831999999999994,74.627399999999994,75.696879999999993,74.336255999999977,73.577507199999985,74.516008639999995]
[null,"MontcalmWheatIrrigated",{"$f":"VLOOKUP($B264,'FSA19'!$E$5:$K$290,3,0)","v":72.42},{"$f":"VLOOKUP($B264,'FSA19'!$E$5:$K$290,4,0)","v":70.22},{"$f":"VLOOKUP($B264,'FSA19'!$E$5:$K$290,5,0)","v":86.14},{"$f":"VLOOKUP($B264,'FSA19'!$E$5:$K$290,6,0)","v":79.260000000000005},{"$f":"VLOOKUP($B264,'FSA19'!$E$5:$K$290,7,0)","v":73.02},{"$f":"VLOOKUP(B264,'FSA 18'!$E$5:$BN$482,62,0)+T264","v":71.510000000000005},{"$f":"AVERAGE(D264:H264)*(1+'2019-20 Farm Bill Calculator'!$J$35)","v":76.03},{"$f":"AVERAGE(E264:I264)*(1+'2019-20 Farm Bill Calculator'!$J$35)","v":77.192000000000007},{"$f":"AVERAGE(F264:J264)*(1+'2019-20 Farm Bill Calculator'!$J$35)","v":75.402400000000014},{"$f":"AVERAGE(G264:K264)*(1+'2019-20 Farm Bill Calculator'!$J$35)","v":74.630880000000005},{"$f":"AVERAGE(H264:L264)*(1+'2019-20 Farm Bill Calculator'!$J$35)","v":74.953056000000004},{"$f":"AVERAGE(I264:M264)*(1+'2019-20 Farm Bill Calculator'!$J$35)","v":75.641667200000001},null,null,null,1.88,0.37,0.51,null,69.36,67.67,84.1,77.73,72,71,76.03,77.192000000000007,75.402400000000014,74.630880000000005,74.953056000000004]
[null,"MontcalmWheatNonirrigated",{"$f":"VLOOKUP($B265,'FSA19'!$E$5:$K$290,3,0)","v":68.31},{"$f":"VLOOKUP($B265,'FSA19'!$E$5:$K$290,4,0)","v":68.34},{"$f":"VLOOKUP($B265,'FSA19'!$E$5:$K$290,5,0)","v":78.86},{"$f":"VLOOKUP($B265,'FSA19'!$E$5:$K$290,6,0)","v":77},{"$f":"VLOOKUP($B265,'FSA19'!$E$5:$K$290,7,0)","v":64.75},{"$f":"VLOOKUP(B265,'FSA 18'!$E$5:$BN$482,62,0)+T265","v":71.510000000000005},{"$f":"AVERAGE(D265:H265)*(1+'2019-20 Farm Bill Calculator'!$J$35)","v":72.091999999999999},{"$f":"AVERAGE(E265:I265)*(1+'2019-20 Farm Bill Calculator'!$J$35)","v":72.842399999999998},{"$f":"AVERAGE(F265:J265)*(1+'2019-20 Farm Bill Calculator'!$J$35)","v":71.63888},{"$f":"AVERAGE(G265:K265)*(1+'2019-20 Farm Bill Calculator'!$J$35)","v":70.566655999999995},{"$f":"AVERAGE(H265:L265)*(1+'2019-20 Farm Bill Calculator'!$J$35)","v":71.729987200000011},{"$f":"AVERAGE(I265:M265)*(1+'2019-20 Farm Bill Calculator'!$J$35)","v":71.773984640000009},null,null,null,1.88,0.37,0.51,null,65.25,65.790000000000006,76.819999999999993,75.47,63.73,71,72.091999999999999,72.842399999999998,71.63888,70.566655999999995,71.729987200000011]
[null,"MontmorencyWheatAll",{"$f":"VLOOKUP($B266,'FSA19'!$E$5:$K$290,3,0)","v":59.08},{"$f":"VLOOKUP($B266,'FSA19'!$E$5:$K$290,4,0)","v":55.4},{"$f":"VLOOKUP($B266,'FSA19'!$E$5:$K$290,5,0)","v":80.72},{"$f":"VLOOKUP($B266,'FSA19'!$E$5:$K$290,6,0)","v":60.74},{"$f":"VLOOKUP($B266,'FSA19'!$E$5:$K$290,7,0)","v":58.86},{"$f":"VLOOKUP(B266,'FSA 18'!$E$5:$BN$482,62,0)+T266","v":47.82},{"$f":"AVERAGE(D266:H266)*(1+'2019-20 Farm Bill Calculator'!$J$35)","v":60.708000000000006},{"$f":"AVERAGE(E266:I266)*(1+'2019-20 Farm Bill Calculator'!$J$35)","v":61.769600000000004},{"$f":"AVERAGE(F266:J266)*(1+'2019-20 Farm Bill Calculator'!$J$35)","v":57.979520000000001},{"$f":"AVERAGE(G266:K266)*(1+'2019-20 Farm Bill Calculator'!$J$35)","v":57.427423999999995},{"$f":"AVERAGE(H266:L266)*(1+'2019-20 Farm Bill Calculator'!$J$35)","v":57.140908799999998},{"$f":"AVERAGE(I266:M266)*(1+'2019-20 Farm Bill Calculator'!$J$35)","v":59.005090559999999},null,null,null,1.37,0.4,0.82,null,54.16,51.3,77.44,58.28,57.22,47,60.708000000000006,61.769600000000004,57.979520000000001,57.427423999999995,57.140908799999998]
[null,"MuskegonWheatAll",{"$f":"VLOOKUP($B267,'FSA19'!$E$5:$K$290,3,0)","v":53.8},{"$f":"VLOOKUP($B267,'FSA19'!$E$5:$K$290,4,0)","v":42.09},{"$f":"VLOOKUP($B267,'FSA19'!$E$5:$K$290,5,0)","v":52.11},{"$f":"VLOOKUP($B267,'FSA19'!$E$5:$K$290,6,0)","v":62.83},{"$f":"VLOOKUP($B267,'FSA19'!$E$5:$K$290,7,0)","v":62.95},{"$f":"VLOOKUP(B267,'FSA 18'!$E$5:$BN$482,62,0)+T267","v":70.66},{"$f":"AVERAGE(D267:H267)*(1+'2019-20 Farm Bill Calculator'!$J$35)","v":58.128},{"$f":"AVERAGE(E267:I267)*(1+'2019-20 Farm Bill Calculator'!$J$35)","v":61.335599999999999},{"$f":"AVERAGE(F267:J267)*(1+'2019-20 Farm Bill Calculator'!$J$35)","v":63.180719999999994},{"$f":"AVERAGE(G267:K267)*(1+'2019-20 Farm Bill Calculator'!$J$35)","v":63.250864},{"$f":"AVERAGE(H267:L267)*(1+'2019-20 Farm Bill Calculator'!$J$35)","v":63.311036799999997},{"$f":"AVERAGE(I267:M267)*(1+'2019-20 Farm Bill Calculator'!$J$35)","v":61.841244159999995},null,null,null,1.77,0.5,0.66,null,49.839999999999996,38.790000000000006,49.47,60.85,61.63,70,58.128,61.335599999999999,63.180719999999994,63.250864,63.311036799999997]
[null,"NewaygoWheatAll",{"$f":"VLOOKUP($B268,'FSA19'!$E$5:$K$290,3,0)","v":52.73},{"$f":"VLOOKUP($B268,'FSA19'!$E$5:$K$290,4,0)","v":55.34},{"$f":"VLOOKUP($B268,'FSA19'!$E$5:$K$290,5,0)","v":62.45},{"$f":"VLOOKUP($B268,'FSA19'!$E$5:$K$290,6,0)","v":68.66},{"$f":"VLOOKUP($B268,'FSA19'!$E$5:$K$290,7,0)","v":71.900000000000006},{"$f":"VLOOKUP(B268,'FSA 18'!$E$5:$BN$482,62,0)+T268","v":69.8},{"$f":"AVERAGE(D268:H268)*(1+'2019-20 Farm Bill Calculator'!$J$35)","v":65.63000000000001},{"$f":"AVERAGE(E268:I268)*(1+'2019-20 Farm Bill Calculator'!$J$35)","v":67.688000000000002},{"$f":"AVERAGE(F268:J268)*(1+'2019-20 Farm Bill Calculator'!$J$35)","v":68.735600000000005},{"$f":"AVERAGE(G268:K268)*(1+'2019-20 Farm Bill Calculator'!$J$35)","v":68.750720000000001},{"$f":"AVERAGE(H268:L268)*(1+'2019-20 Farm Bill Calculator'!$J$35)","v":68.120864000000012},{"$f":"AVERAGE(I268:M268)*(1+'2019-20 Farm Bill Calculator'!$J$35)","v":67.785036800000015},null,null,null,1.64,0.34,0.8,null,47.929999999999993,51.34,59.25,66.259999999999991,70.300000000000011,69,65.63000000000001,67.688000000000002,68.735600000000005,68.750720000000001,68.120864000000012]
[null,"OaklandWheatAll",{"$f":"VLOOKUP($B269,'FSA19'!$E$5:$K$290,3,0)","v":73.67},{"$f":"VLOOKUP($B269,'FSA19'!$E$5:$K$290,4,0)","v":54.37},{"$f":"VLOOKUP($B269,'FSA19'!$E$5:$K$290,5,0)","v":41.6},{"$f":"VLOOKUP($B269,'FSA19'!$E$5:$K$290,6,0)","v":73.400000000000006},{"$f":"VLOOKUP($B269,'FSA19'!$E$5:$K$290,7,0)","v":68.099999999999994},{"$f":"VLOOKUP(B269,'FSA 18'!$E$5:$BN$482,62,0)+T269","v":75.819999999999993},{"$f":"AVERAGE(D269:H269)*(1+'2019-20 Farm Bill Calculator'!$J$35)","v":62.657999999999994},{"$f":"AVERAGE(E269:I269)*(1+'2019-20 Farm Bill Calculator'!$J$35)","v":64.315599999999989},{"$f":"AVERAGE(F269:J269)*(1+'2019-20 Farm Bill Calculator'!$J$35)","v":68.858719999999991},{"$f":"AVERAGE(G269:K269)*(1+'2019-20 Farm Bill Calculator'!$J$35)","v":67.950463999999997},{"$f":"AVERAGE(H269:L269)*(1+'2019-20 Farm Bill Calculator'!$J$35)","v":67.9205568},{"$f":"AVERAGE(I269:M269)*(1+'2019-20 Farm Bill Calculator'!$J$35)","v":66.340668159999993},null,null,null,1.6,0.38,0.82,null,68.75,50.269999999999996,38.32,70.940000000000012,66.459999999999994,75,62.657999999999994,64.315599999999989,68.858719999999991,67.950463999999997,67.9205568]
[null,"OceanaWheatAll",{"$f":"VLOOKUP($B270,'FSA19'!$E$5:$K$290,3,0)","v":66.180000000000007},{"$f":"VLOOKUP($B270,'FSA19'!$E$5:$K$290,4,0)","v":61.25},{"$f":"VLOOKUP($B270,'FSA19'!$E$5:$K$290,5,0)","v":65.12},{"$f":"VLOOKUP($B270,'FSA19'!$E$5:$K$290,6,0)","v":62.29},{"$f":"VLOOKUP($B270,'FSA19'!$E$5:$K$290,7,0)","v":75.06},{"$f":"VLOOKUP(B270,'FSA 18'!$E$5:$BN$482,62,0)+T270","v":66.739999999999995},{"$f":"AVERAGE(D270:H270)*(1+'2019-20 Farm Bill Calculator'!$J$35)","v":66.092000000000013},{"$f":"AVERAGE(E270:I270)*(1+'2019-20 Farm Bill Calculator'!$J$35)","v":67.060400000000001},{"$f":"AVERAGE(F270:J270)*(1+'2019-20 Farm Bill Calculator'!$J$35)","v":67.448480000000004},{"$f":"AVERAGE(G270:K270)*(1+'2019-20 Farm Bill Calculator'!$J$35)","v":68.480176},{"$f":"AVERAGE(H270:L270)*(1+'2019-20 Farm Bill Calculator'!$J$35)","v":67.164211199999997},{"$f":"AVERAGE(I270:M270)*(1+'2019-20 Farm Bill Calculator'!$J$35)","v":67.249053439999997},null,null,null,1.62,0.37,0.74,null,61.740000000000009,57.55,62.160000000000004,60.07,73.58,66,66.092000000000013,67.060400000000001,67.448480000000004,68.480176,67.164211199999997]
[null,"OgemawWheatAll",{"$f":"VLOOKUP($B271,'FSA19'!$E$5:$K$290,3,0)","v":65.42},{"$f":"VLOOKUP($B271,'FSA19'!$E$5:$K$290,4,0)","v":68.03},{"$f":"VLOOKUP($B271,'FSA19'!$E$5:$K$290,5,0)","v":93.52},{"$f":"VLOOKUP($B271,'FSA19'!$E$5:$K$290,6,0)","v":81.5},{"$f":"VLOOKUP($B271,'FSA19'!$E$5:$K$290,7,0)","v":60.58},{"$f":"VLOOKUP(B271,'FSA 18'!$E$5:$BN$482,62,0)+T271","v":66.17},{"$f":"AVERAGE(D271:H271)*(1+'2019-20 Farm Bill Calculator'!$J$35)","v":73.960000000000008},{"$f":"AVERAGE(E271:I271)*(1+'2019-20 Farm Bill Calculator'!$J$35)","v":75.146000000000001},{"$f":"AVERAGE(F271:J271)*(1+'2019-20 Farm Bill Calculator'!$J$35)","v":71.47120000000001},{"$f":"AVERAGE(G271:K271)*(1+'2019-20 Farm Bill Calculator'!$J$35)","v":69.465440000000001},{"$f":"AVERAGE(H271:L271)*(1+'2019-20 Farm Bill Calculator'!$J$35)","v":71.242528000000007},{"$f":"AVERAGE(I271:M271)*(1+'2019-20 Farm Bill Calculator'!$J$35)","v":72.2570336},null,null,null,1.74,0.49,1.17,null,58.400000000000006,62.18,88.84,77.989999999999995,58.239999999999995,65,73.960000000000008,75.146000000000001,71.47120000000001,69.465440000000001,71.242528000000007]
[null,"OntonagonWheatAll",{"$f":"VLOOKUP($B272,'FSA19'!$E$5:$K$290,3,0)","v":41},{"$f":"VLOOKUP($B272,'FSA19'!$E$5:$K$290,4,0)","v":47},{"$f":"VLOOKUP($B272,'FSA19'!$E$5:$K$290,5,0)","v":51},{"$f":"VLOOKUP($B272,'FSA19'!$E$5:$K$290,6,0)","v":55},{"$f":"VLOOKUP($B272,'FSA19'!$E$5:$K$290,7,0)","v":52},{"$f":"VLOOKUP(B272,'FSA 18'!$E$5:$BN$482,62,0)+T272","v":40.68},{"$f":"AVERAGE(D272:H272)*(1+'2019-20 Farm Bill Calculator'!$J$35)","v":49.136000000000003},{"$f":"AVERAGE(E272:I272)*(1+'2019-20 Farm Bill Calculator'!$J$35)","v":49.563200000000002},{"$f":"AVERAGE(F272:J272)*(1+'2019-20 Farm Bill Calculator'!$J$35)","v":49.275840000000002},{"$f":"AVERAGE(G272:K272)*(1+'2019-20 Farm Bill Calculator'!$J$35)","v":48.131007999999994},{"$f":"AVERAGE(H272:L272)*(1+'2019-20 Farm Bill Calculator'!$J$35)","v":47.357209599999997},{"$f":"AVERAGE(I272:M272)*(1+'2019-20 Farm Bill Calculator'!$J$35)","v":48.692651519999998},null,null,null,0.99,null,0.68,null,36.92,43.6,48.28,52.96,50.64,40,49.136000000000003,49.563200000000002,49.275840000000002,48.131007999999994,47.357209599999997]
[null,"OsceolaWheatAll",{"$f":"VLOOKUP($B273,'FSA19'!$E$5:$K$290,3,0)","v":41.74},{"$f":"VLOOKUP($B273,'FSA19'!$E$5:$K$290,4,0)","v":48.47},{"$f":"VLOOKUP($B273,'FSA19'!$E$5:$K$290,5,0)","v":73.88},{"$f":"VLOOKUP($B273,'FSA19'!$E$5:$K$290,6,0)","v":50.27},{"$f":"VLOOKUP($B273,'FSA19'!$E$5:$K$290,7,0)","v":69},{"$f":"AVERAGE(C273:G273)+T273","v":57.182000000000002},{"$f":"AVERAGE(D273:H273)*(1+'2019-20 Farm Bill Calculator'!$J$35)","v":59.760400000000004},{"$f":"AVERAGE(E273:I273)*(1+'2019-20 Farm Bill Calculator'!$J$35)","v":62.018479999999997},{"$f":"AVERAGE(F273:J273)*(1+'2019-20 Farm Bill Calculator'!$J$35)","v":59.646176000000004},{"$f":"AVERAGE(G273:K273)*(1+'2019-20 Farm Bill Calculator'!$J$35)","v":61.52141120000001},{"$f":"AVERAGE(H273:L273)*(1+'2019-20 Farm Bill Calculator'!$J$35)","v":60.025693439999998},{"$f":"AVERAGE(I273:M273)*(1+'2019-20 Farm Bill Calculator'!$J$35)","v":60.594432128000008},null,null,null,1.68,0.28999999999999998,0.51,null,38.68,45.92,71.839999999999989,48.74,67.98,56.672000000000004,59.760400000000004,62.018479999999997,59.646176000000004,61.52141120000001,60.025693439999998]
[null,"OscodaWheatAll",{"$f":"VLOOKUP($B274,'FSA19'!$E$5:$K$290,3,0)","v":55},{"$f":"VLOOKUP($B274,'FSA19'!$E$5:$K$290,4,0)","v":52},{"$f":"VLOOKUP($B274,'FSA19'!$E$5:$K$290,5,0)","v":78},{"$f":"VLOOKUP($B274,'FSA19'!$E$5:$K$290,6,0)","v":61},{"$f":"VLOOKUP($B274,'FSA19'!$E$5:$K$290,7,0)","v":52},{"$f":"VLOOKUP(B274,'FSA 18'!$E$5:$BN$482,62,0)+T274","v":47.59},{"$f":"AVERAGE(D274:H274)*(1+'2019-20 Farm Bill Calculator'!$J$35)","v":58.118000000000009},{"$f":"AVERAGE(E274:I274)*(1+'2019-20 Farm Bill Calculator'!$J$35)","v":59.341600000000007},{"$f":"AVERAGE(F274:J274)*(1+'2019-20 Farm Bill Calculator'!$J$35)","v":55.60992000000001},{"$f":"AVERAGE(G274:K274)*(1+'2019-20 Farm Bill Calculator'!$J$35)","v":54.531904000000011},{"$f":"AVERAGE(H274:L274)*(1+'2019-20 Farm Bill Calculator'!$J$35)","v":55.038284800000007},{"$f":"AVERAGE(I274:M274)*(1+'2019-20 Farm Bill Calculator'!$J$35)","v":56.527941760000012},null,null,null,1.39,null,0.59,null,51.46,49.05,75.64,59.23,50.82,47,58.118000000000009,59.341600000000007,55.60992000000001,54.531904000000011,55.038284800000007]
[null,"OtsegoWheatAll",{"$f":"VLOOKUP($B275,'FSA19'!$E$5:$K$290,3,0)","v":51.6},{"$f":"VLOOKUP($B275,'FSA19'!$E$5:$K$290,4,0)","v":56},{"$f":"VLOOKUP($B275,'FSA19'!$E$5:$K$290,5,0)","v":78},{"$f":"VLOOKUP($B275,'FSA19'!$E$5:$K$290,6,0)","v":73},{"$f":"VLOOKUP($B275,'FSA19'!$E$5:$K$290,7,0)","v":45.5},{"$f":"AVERAGE(C275:G275)+T275","v":61.290000000000006},{"$f":"AVERAGE(D275:H275)*(1+'2019-20 Farm Bill Calculator'!$J$35)","v":62.758000000000003},{"$f":"AVERAGE(E275:I275)*(1+'2019-20 Farm Bill Calculator'!$J$35)","v":64.1096},{"$f":"AVERAGE(F275:J275)*(1+'2019-20 Farm Bill Calculator'!$J$35)","v":61.331519999999998},{"$f":"AVERAGE(G275:K275)*(1+'2019-20 Farm Bill Calculator'!$J$35)","v":58.997824000000001},{"$f":"AVERAGE(H275:L275)*(1+'2019-20 Farm Bill Calculator'!$J$35)","v":61.697388799999999},{"$f":"AVERAGE(I275:M275)*(1+'2019-20 Farm Bill Calculator'!$J$35)","v":61.778866560000004},null,null,null,1.02,0.26,0.47,null,48.78,53.65,76.12,71.59,44.56,{"$f":"H275-($T275*1)","v":60.820000000000007},62.758000000000003,64.1096,61.331519999999998,58.997824000000001,61.697388799999999]
[null,"OttawaWheatAll",{"$f":"VLOOKUP($B276,'FSA19'!$E$5:$K$290,3,0)","v":77.239999999999995},{"$f":"VLOOKUP($B276,'FSA19'!$E$5:$K$290,4,0)","v":68.17},{"$f":"VLOOKUP($B276,'FSA19'!$E$5:$K$290,5,0)","v":72.44},{"$f":"VLOOKUP($B276,'FSA19'!$E$5:$K$290,6,0)","v":88.68},{"$f":"VLOOKUP($B276,'FSA19'!$E$5:$K$290,7,0)","v":56.48},{"$f":"VLOOKUP(B276,'FSA 18'!$E$5:$BN$482,62,0)+T276","v":74.819999999999993},{"$f":"AVERAGE(D276:H276)*(1+'2019-20 Farm Bill Calculator'!$J$35)","v":72.118000000000009},{"$f":"AVERAGE(E276:I276)*(1+'2019-20 Farm Bill Calculator'!$J$35)","v":72.907599999999988},{"$f":"AVERAGE(F276:J276)*(1+'2019-20 Farm Bill Calculator'!$J$35)","v":73.00112},{"$f":"AVERAGE(G276:K276)*(1+'2019-20 Farm Bill Calculator'!$J$35)","v":69.865344000000007},{"$f":"AVERAGE(H276:L276)*(1+'2019-20 Farm Bill Calculator'!$J$35)","v":72.542412799999994},{"$f":"AVERAGE(I276:M276)*(1+'2019-20 Farm Bill Calculator'!$J$35)","v":72.08689536},null,null,null,1.85,0.56000000000000005,0.82,null,{"$f":"C276-($T276*6)","v":72.319999999999993},{"$f":"D276-($T276*5)","v":64.070000000000007},{"$f":"E276-($T276*4)","v":69.16},{"$f":"F276-($T276*3)","v":86.220000000000013},{"$f":"G276-($T276*2)","v":54.839999999999996},74,72.118000000000009,72.907599999999988,73.00112,69.865344000000007,72.542412799999994]
[null,"Presque IsleWheatAll",{"$f":"VLOOKUP($B277,'FSA19'!$E$5:$K$290,3,0)","v":57.34},{"$f":"VLOOKUP($B277,'FSA19'!$E$5:$K$290,4,0)","v":49.55},{"$f":"VLOOKUP($B277,'FSA19'!$E$5:$K$290,5,0)","v":67.8},{"$f":"VLOOKUP($B277,'FSA19'!$E$5:$K$290,6,0)","v":44.03},{"$f":"VLOOKUP($B277,'FSA19'!$E$5:$K$290,7,0)","v":57.04},{"$f":"VLOOKUP(B277,'FSA 18'!$E$5:$BN$482,62,0)+T277","v":28.57},{"$f":"AVERAGE(D277:H277)*(1+'2019-20 Farm Bill Calculator'!$J$35)","v":49.397999999999996},{"$f":"AVERAGE(E277:I277)*(1+'2019-20 Farm Bill Calculator'!$J$35)","v":49.367599999999996},{"$f":"AVERAGE(F277:J277)*(1+'2019-20 Farm Bill Calculator'!$J$35)","v":45.68112},{"$f":"AVERAGE(G277:K277)*(1+'2019-20 Farm Bill Calculator'!$J$35)","v":46.011343999999994},{"$f":"AVERAGE(H277:L277)*(1+'2019-20 Farm Bill Calculator'!$J$35)","v":43.805612799999992},{"$f":"AVERAGE(I277:M277)*(1+'2019-20 Farm Bill Calculator'!$J$35)","v":46.852735359999997},null,null,null,1.44,0.32,0.56999999999999995,null,53.92,{"$f":"D277-($T277*5)","v":46.699999999999996},65.52,42.32,55.9,28,49.397999999999996,49.367599999999996,45.68112,46.011343999999994,43.805612799999992]
[null,"RoscommonWheatAll",{"$f":"VLOOKUP($B278,'FSA19'!$E$5:$K$290,3,0)","v":55},{"$f":"VLOOKUP($B278,'FSA19'!$E$5:$K$290,4,0)","v":52},{"$f":"VLOOKUP($B278,'FSA19'!$E$5:$K$290,5,0)","v":78},{"$f":"VLOOKUP($B278,'FSA19'!$E$5:$K$290,6,0)","v":61},{"$f":"VLOOKUP($B278,'FSA19'!$E$5:$K$290,7,0)","v":52},{"$f":"VLOOKUP(B278,'FSA 18'!$E$5:$BN$482,62,0)+T278","v":47.6},{"$f":"AVERAGE(D278:H278)*(1+'2019-20 Farm Bill Calculator'!$J$35)","v":58.120000000000005},{"$f":"AVERAGE(E278:I278)*(1+'2019-20 Farm Bill Calculator'!$J$35)","v":59.344000000000008},{"$f":"AVERAGE(F278:J278)*(1+'2019-20 Farm Bill Calculator'!$J$35)","v":55.612800000000007},{"$f":"AVERAGE(G278:K278)*(1+'2019-20 Farm Bill Calculator'!$J$35)","v":54.535360000000004},{"$f":"AVERAGE(H278:L278)*(1+'2019-20 Farm Bill Calculator'!$J$35)","v":55.042432000000005},{"$f":"AVERAGE(I278:M278)*(1+'2019-20 Farm Bill Calculator'!$J$35)","v":56.530918400000004},null,null,null,1.39,null,0.6,null,51.4,49,75.599999999999994,59.2,50.8,47,58.120000000000005,59.344000000000008,55.612800000000007,54.535360000000004,55.042432000000005]
[null,"SaginawWheatAll",{"$f":"VLOOKUP($B279,'FSA19'!$E$5:$K$290,3,0)","v":78.95},{"$f":"VLOOKUP($B279,'FSA19'!$E$5:$K$290,4,0)","v":75.11},{"$f":"VLOOKUP($B279,'FSA19'!$E$5:$K$290,5,0)","v":91.57},{"$f":"VLOOKUP($B279,'FSA19'!$E$5:$K$290,6,0)","v":95.29},{"$f":"VLOOKUP($B279,'FSA19'!$E$5:$K$290,7,0)","v":77.2},{"$f":"VLOOKUP(B279,'FSA 18'!$E$5:$BN$482,62,0)+T279","v":80.900000000000006},{"$f":"AVERAGE(D279:H279)*(1+'2019-20 Farm Bill Calculator'!$J$35)","v":84.01400000000001},{"$f":"AVERAGE(E279:I279)*(1+'2019-20 Farm Bill Calculator'!$J$35)","v":85.794800000000009},{"$f":"AVERAGE(F279:J279)*(1+'2019-20 Farm Bill Calculator'!$J$35)","v":84.639759999999995},{"$f":"AVERAGE(G279:K279)*(1+'2019-20 Farm Bill Calculator'!$J$35)","v":82.509712000000007},{"$f":"AVERAGE(H279:L279)*(1+'2019-20 Farm Bill Calculator'!$J$35)","v":83.571654400000014},{"$f":"AVERAGE(I279:M279)*(1+'2019-20 Farm Bill Calculator'!$J$35)","v":84.105985279999999},null,null,null,1.88,0.43,0.9,null,73.55,70.61,87.97,92.59,75.400000000000006,80,84.01400000000001,85.794800000000009,84.639759999999995,82.509712000000007,83.571654400000014]
[null,"St. ClairWheatAll",{"$f":"VLOOKUP($B280,'FSA19'!$E$5:$K$290,3,0)","v":78.03},{"$f":"VLOOKUP($B280,'FSA19'!$E$5:$K$290,4,0)","v":72.150000000000006},{"$f":"VLOOKUP($B280,'FSA19'!$E$5:$K$290,5,0)","v":68.099999999999994},{"$f":"VLOOKUP($B280,'FSA19'!$E$5:$K$290,6,0)","v":77.150000000000006},{"$f":"VLOOKUP($B280,'FSA19'!$E$5:$K$290,7,0)","v":68.349999999999994},{"$f":"VLOOKUP(B280,'FSA 18'!$E$5:$BN$482,62,0)+T280","v":87.95},{"$f":"AVERAGE(D280:H280)*(1+'2019-20 Farm Bill Calculator'!$J$35)","v":74.739999999999995},{"$f":"AVERAGE(E280:I280)*(1+'2019-20 Farm Bill Calculator'!$J$35)","v":75.25800000000001},{"$f":"AVERAGE(F280:J280)*(1+'2019-20 Farm Bill Calculator'!$J$35)","v":76.689599999999999},{"$f":"AVERAGE(G280:K280)*(1+'2019-20 Farm Bill Calculator'!$J$35)","v":76.597520000000003},{"$f":"AVERAGE(H280:L280)*(1+'2019-20 Farm Bill Calculator'!$J$35)","v":78.24702400000001},{"$f":"AVERAGE(I280:M280)*(1+'2019-20 Farm Bill Calculator'!$J$35)","v":76.306428800000006},null,null,null,1.85,0.46,0.95,null,72.33,67.400000000000006,64.3,74.300000000000011,66.449999999999989,87,74.739999999999995,75.25800000000001,76.689599999999999,76.597520000000003,78.24702400000001]
[null,"St. JosephWheatAll",{"$f":"VLOOKUP($B281,'FSA19'!$E$5:$K$290,3,0)","v":68.02},{"$f":"VLOOKUP($B281,'FSA19'!$E$5:$K$290,4,0)","v":70.650000000000006},{"$f":"VLOOKUP($B281,'FSA19'!$E$5:$K$290,5,0)","v":78.680000000000007},{"$f":"VLOOKUP($B281,'FSA19'!$E$5:$K$290,6,0)","v":83.61},{"$f":"VLOOKUP($B281,'FSA19'!$E$5:$K$290,7,0)","v":85.24},{"$f":"AVERAGE(C281:G281)+T281","v":77.820000000000007},{"$f":"AVERAGE(D281:H281)*(1+'2019-20 Farm Bill Calculator'!$J$35)","v":79.2},{"$f":"AVERAGE(E281:I281)*(1+'2019-20 Farm Bill Calculator'!$J$35)","v":80.91},{"$f":"AVERAGE(F281:J281)*(1+'2019-20 Farm Bill Calculator'!$J$35)","v":81.355999999999995},{"$f":"AVERAGE(G281:K281)*(1+'2019-20 Farm Bill Calculator'!$J$35)","v":80.905199999999994},{"$f":"AVERAGE(H281:L281)*(1+'2019-20 Farm Bill Calculator'!$J$35)","v":80.038240000000002},{"$f":"AVERAGE(I281:M281)*(1+'2019-20 Farm Bill Calculator'!$J$35)","v":80.481887999999998},null,null,null,1.55,0.48,0.57999999999999996,null,64.539999999999992,67.75,76.360000000000014,81.87,84.08,77.240000000000009,79.2,80.91,81.355999999999995,80.905199999999994,80.038240000000002]
[null,"SanilacWheatAll",{"$f":"VLOOKUP($B282,'FSA19'!$E$5:$K$290,3,0)","v":87.27},{"$f":"VLOOKUP($B282,'FSA19'!$E$5:$K$290,4,0)","v":63.45},{"$f":"VLOOKUP($B282,'FSA19'!$E$5:$K$290,5,0)","v":99.12},{"$f":"VLOOKUP($B282,'FSA19'!$E$5:$K$290,6,0)","v":106.52},{"$f":"VLOOKUP($B282,'FSA19'!$E$5:$K$290,7,0)","v":89.28},{"$f":"VLOOKUP(B282,'FSA 18'!$E$5:$BN$482,62,0)+T282","v":84.08},{"$f":"AVERAGE(D282:H282)*(1+'2019-20 Farm Bill Calculator'!$J$35)","v":88.49},{"$f":"AVERAGE(E282:I282)*(1+'2019-20 Farm Bill Calculator'!$J$35)","v":93.49799999999999},{"$f":"AVERAGE(F282:J282)*(1+'2019-20 Farm Bill Calculator'!$J$35)","v":92.373599999999996},{"$f":"AVERAGE(G282:K282)*(1+'2019-20 Farm Bill Calculator'!$J$35)","v":89.544319999999999},{"$f":"AVERAGE(H282:L282)*(1+'2019-20 Farm Bill Calculator'!$J$35)","v":89.597183999999999},{"$f":"AVERAGE(I282:M282)*(1+'2019-20 Farm Bill Calculator'!$J$35)","v":90.700620799999996},null,null,null,2.27,0.59,1.08,null,80.789999999999992,58.050000000000004,94.800000000000011,103.28,87.12,83,88.49,93.49799999999999,92.373599999999996,89.544319999999999,89.597183999999999]
[null,"SchoolcraftWheatAll",{"$f":"VLOOKUP($B283,'FSA19'!$E$5:$K$290,3,0)","v":41},{"$f":"VLOOKUP($B283,'FSA19'!$E$5:$K$290,4,0)","v":47},{"$f":"VLOOKUP($B283,'FSA19'!$E$5:$K$290,5,0)","v":51},{"$f":"VLOOKUP($B283,'FSA19'!$E$5:$K$290,6,0)","v":55.2},{"$f":"VLOOKUP($B283,'FSA19'!$E$5:$K$290,7,0)","v":53.6},{"$f":"VLOOKUP(B283,'FSA 18'!$E$5:$BN$482,62,0)+T283","v":40.71},{"$f":"AVERAGE(D283:H283)*(1+'2019-20 Farm Bill Calculator'!$J$35)","v":49.501999999999995},{"$f":"AVERAGE(E283:I283)*(1+'2019-20 Farm Bill Calculator'!$J$35)","v":50.002400000000002},{"$f":"AVERAGE(F283:J283)*(1+'2019-20 Farm Bill Calculator'!$J$35)","v":49.802880000000002},{"$f":"AVERAGE(G283:K283)*(1+'2019-20 Farm Bill Calculator'!$J$35)","v":48.723455999999999},{"$f":"AVERAGE(H283:L283)*(1+'2019-20 Farm Bill Calculator'!$J$35)","v":47.748147199999991},{"$f":"AVERAGE(I283:M283)*(1+'2019-20 Farm Bill Calculator'!$J$35)","v":49.155776639999999},null,null,null,1.08,0.28000000000000003,0.71,null,36.74,43.45,48.16,53.07,52.18,40,49.501999999999995,50.002400000000002,49.802880000000002,48.723455999999999,47.748147199999991]
[null,"ShiawasseeWheatAll",{"$f":"VLOOKUP($B284,'FSA19'!$E$5:$K$290,3,0)","v":71.709999999999994},{"$f":"VLOOKUP($B284,'FSA19'!$E$5:$K$290,4,0)","v":61.52},{"$f":"VLOOKUP($B284,'FSA19'!$E$5:$K$290,5,0)","v":87.57},{"$f":"VLOOKUP($B284,'FSA19'!$E$5:$K$290,6,0)","v":81.31},{"$f":"VLOOKUP($B284,'FSA19'!$E$5:$K$290,7,0)","v":68.19},{"$f":"VLOOKUP(B284,'FSA 18'!$E$5:$BN$482,62,0)+T284","v":76.819999999999993},{"$f":"AVERAGE(D284:H284)*(1+'2019-20 Farm Bill Calculator'!$J$35)","v":75.082000000000008},{"$f":"AVERAGE(E284:I284)*(1+'2019-20 Farm Bill Calculator'!$J$35)","v":77.794399999999996},{"$f":"AVERAGE(F284:J284)*(1+'2019-20 Farm Bill Calculator'!$J$35)","v":75.839280000000002},{"$f":"AVERAGE(G284:K284)*(1+'2019-20 Farm Bill Calculator'!$J$35)","v":74.745136000000002},{"$f":"AVERAGE(H284:L284)*(1+'2019-20 Farm Bill Calculator'!$J$35)","v":76.056163199999986},{"$f":"AVERAGE(I284:M284)*(1+'2019-20 Farm Bill Calculator'!$J$35)","v":75.903395840000002},null,null,null,1.93,0.45,0.82,null,66.789999999999992,57.42,84.289999999999992,78.850000000000009,66.55,76,75.082000000000008,77.794399999999996,75.839280000000002,74.745136000000002,76.056163199999986]
[null,"TuscolaWheatAll",{"$f":"VLOOKUP($B285,'FSA19'!$E$5:$K$290,3,0)","v":88.24},{"$f":"VLOOKUP($B285,'FSA19'!$E$5:$K$290,4,0)","v":73.099999999999994},{"$f":"VLOOKUP($B285,'FSA19'!$E$5:$K$290,5,0)","v":98.34},{"$f":"VLOOKUP($B285,'FSA19'!$E$5:$K$290,6,0)","v":96.05},{"$f":"VLOOKUP($B285,'FSA19'!$E$5:$K$290,7,0)","v":88.03},{"$f":"VLOOKUP(B285,'FSA 18'!$E$5:$BN$482,62,0)+T285","v":78.959999999999994},{"$f":"AVERAGE(D285:H285)*(1+'2019-20 Farm Bill Calculator'!$J$35)","v":86.895999999999987},{"$f":"AVERAGE(E285:I285)*(1+'2019-20 Farm Bill Calculator'!$J$35)","v":89.655199999999994},{"$f":"AVERAGE(F285:J285)*(1+'2019-20 Farm Bill Calculator'!$J$35)","v":87.918239999999983},{"$f":"AVERAGE(G285:K285)*(1+'2019-20 Farm Bill Calculator'!$J$35)","v":86.291888},{"$f":"AVERAGE(H285:L285)*(1+'2019-20 Farm Bill Calculator'!$J$35)","v":85.944265599999994},{"$f":"AVERAGE(I285:M285)*(1+'2019-20 Farm Bill Calculator'!$J$35)","v":87.341118719999983},null,null,null,2.04,0.49,0.96,null,82.47999999999999,68.3,94.5,93.17,86.11,78,86.895999999999987,89.655199999999994,87.918239999999983,86.291888,85.944265599999994]
[null,"Van BurenWheatAll",{"$f":"VLOOKUP($B286,'FSA19'!$E$5:$K$290,3,0)","v":59.42},{"$f":"VLOOKUP($B286,'FSA19'!$E$5:$K$290,4,0)","v":52.8},{"$f":"VLOOKUP($B286,'FSA19'!$E$5:$K$290,5,0)","v":60.66},{"$f":"VLOOKUP($B286,'FSA19'!$E$5:$K$290,6,0)","v":68.319999999999993},{"$f":"VLOOKUP($B286,'FSA19'!$E$5:$K$290,7,0)","v":67.08},{"$f":"VLOOKUP(B286,'FSA 18'!$E$5:$BN$482,62,0)+T286","v":62.5},{"$f":"AVERAGE(D286:H286)*(1+'2019-20 Farm Bill Calculator'!$J$35)","v":62.271999999999991},{"$f":"AVERAGE(E286:I286)*(1+'2019-20 Farm Bill Calculator'!$J$35)","v":64.166399999999996},{"$f":"AVERAGE(F286:J286)*(1+'2019-20 Farm Bill Calculator'!$J$35)","v":64.867679999999993},{"$f":"AVERAGE(G286:K286)*(1+'2019-20 Farm Bill Calculator'!$J$35)","v":64.177216000000001},{"$f":"AVERAGE(H286:L286)*(1+'2019-20 Farm Bill Calculator'!$J$35)","v":63.596659199999998},{"$f":"AVERAGE(I286:M286)*(1+'2019-20 Farm Bill Calculator'!$J$35)","v":63.815991039999993},null,null,null,2.06,0.48,0.5,null,56.42,50.3,58.66,66.819999999999993,66.08,62,62.271999999999991,64.166399999999996,64.867679999999993,64.177216000000001,63.596659199999998]
[null,"WashtenawWheatAll",{"$f":"VLOOKUP($B287,'FSA19'!$E$5:$K$290,3,0)","v":68.94},{"$f":"VLOOKUP($B287,'FSA19'!$E$5:$K$290,4,0)","v":73.38},{"$f":"VLOOKUP($B287,'FSA19'!$E$5:$K$290,5,0)","v":70.89},{"$f":"VLOOKUP($B287,'FSA19'!$E$5:$K$290,6,0)","v":88.51},{"$f":"VLOOKUP($B287,'FSA19'!$E$5:$K$290,7,0)","v":80.42},{"$f":"VLOOKUP(B287,'FSA 18'!$E$5:$BN$482,62,0)+T287","v":73.8},{"$f":"AVERAGE(D287:H287)*(1+'2019-20 Farm Bill Calculator'!$J$35)","v":77.400000000000006},{"$f":"AVERAGE(E287:I287)*(1+'2019-20 Farm Bill Calculator'!$J$35)","v":78.203999999999994},{"$f":"AVERAGE(F287:J287)*(1+'2019-20 Farm Bill Calculator'!$J$35)","v":79.666799999999995},{"$f":"AVERAGE(G287:K287)*(1+'2019-20 Farm Bill Calculator'!$J$35)","v":77.898160000000004},{"$f":"AVERAGE(H287:L287)*(1+'2019-20 Farm Bill Calculator'!$J$35)","v":77.393791999999991},{"$f":"AVERAGE(I287:M287)*(1+'2019-20 Farm Bill Calculator'!$J$35)","v":78.112550399999989},null,null,null,1.62,0.45,0.8,null,64.14,69.38,67.69,86.11,78.820000000000007,73,77.400000000000006,78.203999999999994,79.666799999999995,77.898160000000004,77.393791999999991]
[null,"WayneWheatAll",{"$f":"VLOOKUP($B288,'FSA19'!$E$5:$K$290,3,0)","v":48.43},{"$f":"VLOOKUP($B288,'FSA19'!$E$5:$K$290,4,0)","v":74},{"$f":"VLOOKUP($B288,'FSA19'!$E$5:$K$290,5,0)","v":74},{"$f":"VLOOKUP($B288,'FSA19'!$E$5:$K$290,6,0)","v":88},{"$f":"VLOOKUP($B288,'FSA19'!$E$5:$K$290,7,0)","v":77},{"$f":"VLOOKUP(B288,'FSA 18'!$E$5:$BN$482,62,0)+T288","v":75.63},{"$f":"AVERAGE(D288:H288)*(1+'2019-20 Farm Bill Calculator'!$J$35)","v":77.725999999999999},{"$f":"AVERAGE(E288:I288)*(1+'2019-20 Farm Bill Calculator'!$J$35)","v":78.471199999999996},{"$f":"AVERAGE(F288:J288)*(1+'2019-20 Farm Bill Calculator'!$J$35)","v":79.365440000000007},{"$f":"AVERAGE(G288:K288)*(1+'2019-20 Farm Bill Calculator'!$J$35)","v":77.638527999999994},{"$f":"AVERAGE(H288:L288)*(1+'2019-20 Farm Bill Calculator'!$J$35)","v":77.766233599999993},{"$f":"AVERAGE(I288:M288)*(1+'2019-20 Farm Bill Calculator'!$J$35)","v":78.193480320000006},null,null,null,1.33,0.27,0.63,null,44.65,70.849999999999994,71.48,86.11,75.739999999999995,75,77.725999999999999,78.471199999999996,79.365440000000007,77.638527999999994,77.766233599999993]
[null,"WexfordWheatAll",{"$f":"VLOOKUP($B289,'FSA19'!$E$5:$K$290,3,0)","v":36},{"$f":"VLOOKUP($B289,'FSA19'!$E$5:$K$290,4,0)","v":39.35},{"$f":"VLOOKUP($B289,'FSA19'!$E$5:$K$290,5,0)","v":47.85},{"$f":"VLOOKUP($B289,'FSA19'!$E$5:$K$290,6,0)","v":55},{"$f":"VLOOKUP($B289,'FSA19'!$E$5:$K$290,7,0)","v":52},{"$f":"VLOOKUP(B289,'FSA 18'!$E$5:$BN$482,62,0)+T289","v":40.340000000000003},{"$f":"AVERAGE(D289:H289)*(1+'2019-20 Farm Bill Calculator'!$J$35)","v":46.908000000000001},{"$f":"AVERAGE(E289:I289)*(1+'2019-20 Farm Bill Calculator'!$J$35)","v":48.419600000000003},{"$f":"AVERAGE(F289:J289)*(1+'2019-20 Farm Bill Calculator'!$J$35)","v":48.533519999999996},{"$f":"AVERAGE(G289:K289)*(1+'2019-20 Farm Bill Calculator'!$J$35)","v":47.240223999999998},{"$f":"AVERAGE(H289:L289)*(1+'2019-20 Farm Bill Calculator'!$J$35)","v":46.288268800000004},{"$f":"AVERAGE(I289:M289)*(1+'2019-20 Farm Bill Calculator'!$J$35)","v":47.477922559999996},null,null,null,1.0900000000000001,0.3,0.34,null,33.96,37.65,46.49,53.98,51.32,40,46.908000000000001,48.419600000000003,48.533519999999996,47.240223999999998,46.288268800000004]

{"sheet":"2019 Ylds","index":8,"n_rows":186,"n_cols":9,"rows_kept":186,"cut":false,"hidden":true,"merged":[]}
[2019,"County",null,"Corn","Soys","Wheat","Oats"]
[null,"MICHIGAN, CENTRAL, CLARE",{"$f":"MID(B2,I2,20)","v":"CLARE"},{"$f":"VLOOKUP(B2,[1]Corn!B$58:K$113,10,FALSE)","v":{"$error":"#N/A"}},{"$f":"VLOOKUP(B2,[1]Soys!B$2:L$48,11,FALSE)","v":{"$error":"#N/A"}},{"$f":"VLOOKUP(B2,[1]WHEAT!B$2:L$43,11,FALSE)","v":56.7},{"$f":"VLOOKUP(B2,[1]Oats!B$2:L$43,11,FALSE)","v":56.7},null,{"$f":"FIND(\"CLARE\",B2,1)","v":20}]
[null,"MICHIGAN, CENTRAL, CLARE","CLARE",{"$f":"VLOOKUP(B3,[1]Corn!B$58:K$113,10,FALSE)","v":{"$error":"#N/A"}},{"$f":"VLOOKUP(B3,[1]Soys!B$2:L$48,11,FALSE)","v":{"$error":"#N/A"}},{"$f":"VLOOKUP(B3,[1]WHEAT!B$2:L$43,11,FALSE)","v":56.7},{"$f":"VLOOKUP(B3,[1]Oats!B$2:L$43,11,FALSE)","v":56.7},null,20]
[null,"MICHIGAN, CENTRAL, GLADWIN","GLADWIN",{"$f":"VLOOKUP(B4,[1]Corn!B$58:K$113,10,FALSE)","v":{"$error":"#N/A"}},{"$f":"VLOOKUP(B4,[1]Soys!B$2:L$48,11,FALSE)","v":{"$error":"#N/A"}},{"$f":"VLOOKUP(B4,[1]WHEAT!B$2:L$43,11,FALSE)","v":34.6},{"$f":"VLOOKUP(B4,[1]Oats!B$2:L$43,11,FALSE)","v":56.2},null,20]
[null,"MICHIGAN, CENTRAL, GLADWIN","GLADWIN",{"$f":"VLOOKUP(B5,[1]Corn!B$58:K$113,10,FALSE)","v":{"$error":"#N/A"}},{"$f":"VLOOKUP(B5,[1]Soys!B$2:L$48,11,FALSE)","v":{"$error":"#N/A"}},{"$f":"VLOOKUP(B5,[1]WHEAT!B$2:L$43,11,FALSE)","v":34.6},{"$f":"VLOOKUP(B5,[1]Oats!B$2:L$43,11,FALSE)","v":56.2},null,20]
[null,"MICHIGAN, CENTRAL, GRATIOT","GRATIOT",{"$f":"VLOOKUP(B6,[1]Corn!B$58:K$113,10,FALSE)","v":{"$error":"#N/A"}},{"$f":"VLOOKUP(B6,[1]Soys!B$2:L$48,11,FALSE)","v":{"$error":"#N/A"}},{"$f":"VLOOKUP(B6,[1]WHEAT!B$2:L$43,11,FALSE)","v":70.8},{"$f":"VLOOKUP(B6,[1]Oats!B$2:L$43,11,FALSE)","v":{"$error":"#N/A"}},null,20]
[null,"MICHIGAN, CENTRAL, ISABELLA","ISABELLA",{"$f":"VLOOKUP(B7,[1]Corn!B$58:K$113,10,FALSE)","v":140.6},{"$f":"VLOOKUP(B7,[1]Soys!B$2:L$48,11,FALSE)","v":42.2},{"$f":"VLOOKUP(B7,[1]WHEAT!B$2:L$43,11,FALSE)","v":70.7},{"$f":"VLOOKUP(B7,[1]Oats!B$2:L$43,11,FALSE)","v":51.3},null,20]
[null,"MICHIGAN, CENTRAL, ISABELLA","ISABELLA",{"$f":"VLOOKUP(B8,[1]Corn!B$58:K$113,10,FALSE)","v":140.6},{"$f":"VLOOKUP(B8,[1]Soys!B$2:L$48,11,FALSE)","v":42.2},{"$f":"VLOOKUP(B8,[1]WHEAT!B$2:L$43,11,FALSE)","v":70.7},{"$f":"VLOOKUP(B8,[1]Oats!B$2:L$43,11,FALSE)","v":51.3},null,20]
[null,"MICHIGAN, CENTRAL, ISABELLA","ISABELLA",{"$f":"VLOOKUP(B9,[1]Corn!B$58:K$113,10,FALSE)","v":140.6},{"$f":"VLOOKUP(B9,[1]Soys!B$2:L$48,11,FALSE)","v":42.2},{"$f":"VLOOKUP(B9,[1]WHEAT!B$2:L$43,11,FALSE)","v":70.7},{"$f":"VLOOKUP(B9,[1]Oats!B$2:L$43,11,FALSE)","v":51.3},null,20]
[null,"MICHIGAN, CENTRAL, ISABELLA","ISABELLA",{"$f":"VLOOKUP(B10,[1]Corn!B$58:K$113,10,FALSE)","v":140.6},{"$f":"VLOOKUP(B10,[1]Soys!B$2:L$48,11,FALSE)","v":42.2},{"$f":"VLOOKUP(B10,[1]WHEAT!B$2:L$43,11,FALSE)","v":70.7},{"$f":"VLOOKUP(B10,[1]Oats!B$2:L$43,11,FALSE)","v":51.3},null,20]
[null,"MICHIGAN, CENTRAL, MECOSTA","MECOSTA",{"$f":"VLOOKUP(B11,[1]Corn!B$58:K$113,10,FALSE)","v":135.9},{"$f":"VLOOKUP(B11,[1]Soys!B$2:L$48,11,FALSE)","v":34.4},{"$f":"VLOOKUP(B11,[1]WHEAT!B$2:L$43,11,FALSE)","v":60.8},{"$f":"VLOOKUP(B11,[1]Oats!B$2:L$43,11,FALSE)","v":48.3},null,20]
[null,"MICHIGAN, CENTRAL, MECOSTA","MECOSTA",{"$f":"VLOOKUP(B12,[1]Corn!B$58:K$113,10,FALSE)","v":135.9},{"$f":"VLOOKUP(B12,[1]Soys!B$2:L$48,11,FALSE)","v":34.4},{"$f":"VLOOKUP(B12,[1]WHEAT!B$2:L$43,11,FALSE)","v":60.8},{"$f":"VLOOKUP(B12,[1]Oats!B$2:L$43,11,FALSE)","v":48.3},null,20]
[null,"MICHIGAN, CENTRAL, MECOSTA","MECOSTA",{"$f":"VLOOKUP(B13,[1]Corn!B$58:K$113,10,FALSE)","v":135.9},{"$f":"VLOOKUP(B13,[1]Soys!B$2:L$48,11,FALSE)","v":34.4},{"$f":"VLOOKUP(B13,[1]WHEAT!B$2:L$43,11,FALSE)","v":60.8},{"$f":"VLOOKUP(B13,[1]Oats!B$2:L$43,11,FALSE)","v":48.3},null,20]
[null,"MICHIGAN, CENTRAL, MECOSTA","MECOSTA",{"$f":"VLOOKUP(B14,[1]Corn!B$58:K$113,10,FALSE)","v":135.9},{"$f":"VLOOKUP(B14,[1]Soys!B$2:L$48,11,FALSE)","v":34.4},{"$f":"VLOOKUP(B14,[1]WHEAT!B$2:L$43,11,FALSE)","v":60.8},{"$f":"VLOOKUP(B14,[1]Oats!B$2:L$43,11,FALSE)","v":48.3},null,20]
[null,"MICHIGAN, CENTRAL, MIDLAND","MIDLAND",{"$f":"VLOOKUP(B15,[1]Corn!B$58:K$113,10,FALSE)","v":{"$error":"#N/A"}},{"$f":"VLOOKUP(B15,[1]Soys!B$2:L$48,11,FALSE)","v":39.5},{"$f":"VLOOKUP(B15,[1]WHEAT!B$2:L$43,11,FALSE)","v":81.099999999999994},{"$f":"VLOOKUP(B15,[1]Oats!B$2:L$43,11,FALSE)","v":{"$error":"#N/A"}},null,20]
[null,"MICHIGAN, CENTRAL, MIDLAND","MIDLAND",{"$f":"VLOOKUP(B16,[1]Corn!B$58:K$113,10,FALSE)","v":{"$error":"#N/A"}},{"$f":"VLOOKUP(B16,[1]Soys!B$2:L$48,11,FALSE)","v":39.5},{"$f":"VLOOKUP(B16,[1]WHEAT!B$2:L$43,11,FALSE)","v":81.099999999999994},{"$f":"VLOOKUP(B16,[1]Oats!B$2:L$43,11,FALSE)","v":{"$error":"#N/A"}},null,20]
[null,"MICHIGAN, CENTRAL, MONTCALM","MONTCALM",{"$f":"VLOOKUP(B17,[1]Corn!B$58:K$113,10,FALSE)","v":145.5},{"$f":"VLOOKUP(B17,[1]Soys!B$2:L$48,11,FALSE)","v":35.299999999999997},{"$f":"VLOOKUP(B17,[1]WHEAT!B$2:L$43,11,FALSE)","v":{"$error":"#N/A"}},{"$f":"VLOOKUP(B17,[1]Oats!B$2:L$43,11,FALSE)","v":52.3},null,20]
[null,"MICHIGAN, CENTRAL, MONTCALM","MONTCALM",{"$f":"VLOOKUP(B18,[1]Corn!B$58:K$113,10,FALSE)","v":145.5},{"$f":"VLOOKUP(B18,[1]Soys!B$2:L$48,11,FALSE)","v":35.299999999999997},{"$f":"VLOOKUP(B18,[1]WHEAT!B$2:L$43,11,FALSE)","v":{"$error":"#N/A"}},{"$f":"VLOOKUP(B18,[1]Oats!B$2:L$43,11,FALSE)","v":52.3},null,20]
[null,"MICHIGAN, CENTRAL, MONTCALM","MONTCALM",{"$f":"VLOOKUP(B19,[1]Corn!B$58:K$113,10,FALSE)","v":145.5},{"$f":"VLOOKUP(B19,[1]Soys!B$2:L$48,11,FALSE)","v":35.299999999999997},{"$f":"VLOOKUP(B19,[1]WHEAT!B$2:L$43,11,FALSE)","v":{"$error":"#N/A"}},{"$f":"VLOOKUP(B19,[1]Oats!B$2:L$43,11,FALSE)","v":52.3},null,20]
[null,"MICHIGAN, CENTRAL, OSCEOLA","OSCEOLA",{"$f":"VLOOKUP(B20,[1]Corn!B$58:K$113,10,FALSE)","v":{"$error":"#N/A"}},{"$f":"VLOOKUP(B20,[1]Soys!B$2:L$48,11,FALSE)","v":44.6},{"$f":"VLOOKUP(B20,[1]WHEAT!B$2:L$43,11,FALSE)","v":{"$error":"#N/A"}},{"$f":"VLOOKUP(B20,[1]Oats!B$2:L$43,11,FALSE)","v":50.7},null,20]
[null,"MICHIGAN, CENTRAL, OSCEOLA","OSCEOLA",{"$f":"VLOOKUP(B21,[1]Corn!B$58:K$113,10,FALSE)","v":{"$error":"#N/A"}},{"$f":"VLOOKUP(B21,[1]Soys!B$2:L$48,11,FALSE)","v":44.6},{"$f":"VLOOKUP(B21,[1]WHEAT!B$2:L$43,11,FALSE)","v":{"$error":"#N/A"}},{"$f":"VLOOKUP(B21,[1]Oats!B$2:L$43,11,FALSE)","v":50.7},null,20]
[null,"MICHIGAN, CENTRAL, OTHER (COMBINED) COUNTIES"," CENTRAL, OTHER (COM",{"$f":"VLOOKUP(B22,[1]Corn!B$58:K$113,10,FALSE)","v":145.4},{"$f":"VLOOKUP(B22,[1]Soys!B$2:L$48,11,FALSE)","v":41.3},{"$f":"VLOOKUP(B22,[1]WHEAT!B$2:L$43,11,FALSE)","v":63.4},{"$f":"VLOOKUP(B22,[1]Oats!B$2:L$43,11,FALSE)","v":69},null,10]
[null,"MICHIGAN, CENTRAL, OTHER (COMBINED) COUNTIES"," CENTRAL, OTHER (COM",{"$f":"VLOOKUP(B23,[1]Corn!B$58:K$113,10,FALSE)","v":145.4},{"$f":"VLOOKUP(B23,[1]Soys!B$2:L$48,11,FALSE)","v":41.3},{"$f":"VLOOKUP(B23,[1]WHEAT!B$2:L$43,11,FALSE)","v":63.4},{"$f":"VLOOKUP(B23,[1]Oats!B$2:L$43,11,FALSE)","v":69},null,10]
[null,"MICHIGAN, CENTRAL, OTHER (COMBINED) COUNTIES"," CENTRAL, OTHER (COM",{"$f":"VLOOKUP(B24,[1]Corn!B$58:K$113,10,FALSE)","v":145.4},{"$f":"VLOOKUP(B24,[1]Soys!B$2:L$48,11,FALSE)","v":41.3},{"$f":"VLOOKUP(B24,[1]WHEAT!B$2:L$43,11,FALSE)","v":63.4},{"$f":"VLOOKUP(B24,[1]Oats!B$2:L$43,11,FALSE)","v":69},null,10]
[null,"MICHIGAN, CENTRAL, OTHER (COMBINED) COUNTIES"," CENTRAL, OTHER (COM",{"$f":"VLOOKUP(B25,[1]Corn!B$58:K$113,10,FALSE)","v":145.4},{"$f":"VLOOKUP(B25,[1]Soys!B$2:L$48,11,FALSE)","v":41.3},{"$f":"VLOOKUP(B25,[1]WHEAT!B$2:L$43,11,FALSE)","v":63.4},{"$f":"VLOOKUP(B25,[1]Oats!B$2:L$43,11,FALSE)","v":69},null,10]
[null,"MICHIGAN, EAST CENTRAL, ARENAC","ARENAC",{"$f":"VLOOKUP(B26,[1]Corn!B$58:K$113,10,FALSE)","v":134.69999999999999},{"$f":"VLOOKUP(B26,[1]Soys!B$2:L$48,11,FALSE)","v":{"$error":"#N/A"}},{"$f":"VLOOKUP(B26,[1]WHEAT!B$2:L$43,11,FALSE)","v":70},{"$f":"VLOOKUP(B26,[1]Oats!B$2:L$43,11,FALSE)","v":{"$error":"#N/A"}},null,{"$f":"FIND(\"ARENAC\",B26,1)","v":25}]
[null,"MICHIGAN, EAST CENTRAL, ARENAC","ARENAC",{"$f":"VLOOKUP(B27,[1]Corn!B$58:K$113,10,FALSE)","v":134.69999999999999},{"$f":"VLOOKUP(B27,[1]Soys!B$2:L$48,11,FALSE)","v":{"$error":"#N/A"}},{"$f":"VLOOKUP(B27,[1]WHEAT!B$2:L$43,11,FALSE)","v":70},{"$f":"VLOOKUP(B27,[1]Oats!B$2:L$43,11,FALSE)","v":{"$error":"#N/A"}},null,25]
[null,"MICHIGAN, EAST CENTRAL, BAY","BAY",{"$f":"VLOOKUP(B28,[1]Corn!B$58:K$113,10,FALSE)","v":146.4},{"$f":"VLOOKUP(B28,[1]Soys!B$2:L$48,11,FALSE)","v":{"$error":"#N/A"}},{"$f":"VLOOKUP(B28,[1]WHEAT!B$2:L$43,11,FALSE)","v":79},{"$f":"VLOOKUP(B28,[1]Oats!B$2:L$43,11,FALSE)","v":{"$error":"#N/A"}},null,25]
[null,"MICHIGAN, EAST CENTRAL, BAY","BAY",{"$f":"VLOOKUP(B29,[1]Corn!B$58:K$113,10,FALSE)","v":146.4},{"$f":"VLOOKUP(B29,[1]Soys!B$2:L$48,11,FALSE)","v":{"$error":"#N/A"}},{"$f":"VLOOKUP(B29,[1]WHEAT!B$2:L$43,11,FALSE)","v":79},{"$f":"VLOOKUP(B29,[1]Oats!B$2:L$43,11,FALSE)","v":{"$error":"#N/A"}},null,25]
[null,"MICHIGAN, EAST CENTRAL, HURON","HURON",{"$f":"VLOOKUP(B30,[1]Corn!B$58:K$113,10,FALSE)","v":175.7},{"$f":"VLOOKUP(B30,[1]Soys!B$2:L$48,11,FALSE)","v":44.4},{"$f":"VLOOKUP(B30,[1]WHEAT!B$2:L$43,11,FALSE)","v":88.9},{"$f":"VLOOKUP(B30,[1]Oats!B$2:L$43,11,FALSE)","v":88.9},null,25]
[null,"MICHIGAN, EAST CENTRAL, HURON","HURON",{"$f":"VLOOKUP(B31,[1]Corn!B$58:K$113,10,FALSE)","v":175.7},{"$f":"VLOOKUP(B31,[1]Soys!B$2:L$48,11,FALSE)","v":44.4},{"$f":"VLOOKUP(B31,[1]WHEAT!B$2:L$43,11,FALSE)","v":88.9},{"$f":"VLOOKUP(B31,[1]Oats!B$2:L$43,11,FALSE)","v":88.9},null,25]
[null,"MICHIGAN, EAST CENTRAL, HURON","HURON",{"$f":"VLOOKUP(B32,[1]Corn!B$58:K$113,10,FALSE)","v":175.7},{"$f":"VLOOKUP(B32,[1]Soys!B$2:L$48,11,FALSE)","v":44.4},{"$f":"VLOOKUP(B32,[1]WHEAT!B$2:L$43,11,FALSE)","v":88.9},{"$f":"VLOOKUP(B32,[1]Oats!B$2:L$43,11,FALSE)","v":88.9},null,25]
[null,"MICHIGAN, EAST CENTRAL, HURON","HURON",{"$f":"VLOOKUP(B33,[1]Corn!B$58:K$113,10,FALSE)","v":175.7},{"$f":"VLOOKUP(B33,[1]Soys!B$2:L$48,11,FALSE)","v":44.4},{"$f":"VLOOKUP(B33,[1]WHEAT!B$2:L$43,11,FALSE)","v":88.9},{"$f":"VLOOKUP(B33,[1]Oats!B$2:L$43,11,FALSE)","v":88.9},null,25]
[null,"MICHIGAN, EAST CENTRAL, OTHER (COMBINED) COUNTIES",{"$f":"MID(B34,I34,20)","v":"OTHER (COMBINED) COU"},{"$f":"VLOOKUP(B34,[1]Corn!B$58:K$113,10,FALSE)","v":{"$error":"#N/A"}},{"$f":"VLOOKUP(B34,[1]Soys!B$2:L$48,11,FALSE)","v":33.6},{"$f":"VLOOKUP(B34,[1]WHEAT!B$2:L$43,11,FALSE)","v":{"$error":"#N/A"}},{"$f":"VLOOKUP(B34,[1]Oats!B$2:L$43,11,FALSE)","v":65.7},null,25]
[null,"MICHIGAN, EAST CENTRAL, OTHER (COMBINED) COUNTIES","OTHER (COMBINED) COU",{"$f":"VLOOKUP(B35,[1]Corn!B$58:K$113,10,FALSE)","v":{"$error":"#N/A"}},{"$f":"VLOOKUP(B35,[1]Soys!B$2:L$48,11,FALSE)","v":33.6},{"$f":"VLOOKUP(B35,[1]WHEAT!B$2:L$43,11,FALSE)","v":{"$error":"#N/A"}},{"$f":"VLOOKUP(B35,[1]Oats!B$2:L$43,11,FALSE)","v":65.7},null,25]
[null,"MICHIGAN, EAST CENTRAL, SAGINAW","SAGINAW",{"$f":"VLOOKUP(B36,[1]Corn!B$58:K$113,10,FALSE)","v":157.5},{"$f":"VLOOKUP(B36,[1]Soys!B$2:L$48,11,FALSE)","v":42},{"$f":"VLOOKUP(B36,[1]WHEAT!B$2:L$43,11,FALSE)","v":76.5},{"$f":"VLOOKUP(B36,[1]Oats!B$2:L$43,11,FALSE)","v":38.9},null,25]
[null,"MICHIGAN, EAST CENTRAL, SAGINAW","SAGINAW",{"$f":"VLOOKUP(B37,[1]Corn!B$58:K$113,10,FALSE)","v":157.5},{"$f":"VLOOKUP(B37,[1]Soys!B$2:L$48,11,FALSE)","v":42},{"$f":"VLOOKUP(B37,[1]WHEAT!B$2:L$43,11,FALSE)","v":76.5},{"$f":"VLOOKUP(B37,[1]Oats!B$2:L$43,11,FALSE)","v":38.9},null,25]
[null,"MICHIGAN, EAST CENTRAL, SAGINAW","SAGINAW",{"$f":"VLOOKUP(B38,[1]Corn!B$58:K$113,10,FALSE)","v":157.5},{"$f":"VLOOKUP(B38,[1]Soys!B$2:L$48,11,FALSE)","v":42},{"$f":"VLOOKUP(B38,[1]WHEAT!B$2:L$43,11,FALSE)","v":76.5},{"$f":"VLOOKUP(B38,[1]Oats!B$2:L$43,11,FALSE)","v":38.9},null,25]
[null,"MICHIGAN, EAST CENTRAL, SAGINAW","SAGINAW",{"$f":"VLOOKUP(B39,[1]Corn!B$58:K$113,10,FALSE)","v":157.5},{"$f":"VLOOKUP(B39,[1]Soys!B$2:L$48,11,FALSE)","v":42},{"$f":"VLOOKUP(B39,[1]WHEAT!B$2:L$43,11,FALSE)","v":76.5},{"$f":"VLOOKUP(B39,[1]Oats!B$2:L$43,11,FALSE)","v":38.9},null,25]
[null,"MICHIGAN, EAST CENTRAL, SANILAC","SANILAC",{"$f":"VLOOKUP(B40,[1]Corn!B$58:K$113,10,FALSE)","v":163.5},{"$f":"VLOOKUP(B40,[1]Soys!B$2:L$48,11,FALSE)","v":40.299999999999997},{"$f":"VLOOKUP(B40,[1]WHEAT!B$2:L$43,11,FALSE)","v":77.2},{"$f":"VLOOKUP(B40,[1]Oats!B$2:L$43,11,FALSE)","v":{"$error":"#N/A"}},null,25]
[null,"MICHIGAN, EAST CENTRAL, SANILAC","SANILAC",{"$f":"VLOOKUP(B41,[1]Corn!B$58:K$113,10,FALSE)","v":163.5},{"$f":"VLOOKUP(B41,[1]Soys!B$2:L$48,11,FALSE)","v":40.299999999999997},{"$f":"VLOOKUP(B41,[1]WHEAT!B$2:L$43,11,FALSE)","v":77.2},{"$f":"VLOOKUP(B41,[1]Oats!B$2:L$43,11,FALSE)","v":{"$error":"#N/A"}},null,25]
[null,"MICHIGAN, EAST CENTRAL, SANILAC","SANILAC",{"$f":"VLOOKUP(B42,[1]Corn!B$58:K$113,10,FALSE)","v":163.5},{"$f":"VLOOKUP(B42,[1]Soys!B$2:L$48,11,FALSE)","v":40.299999999999997},{"$f":"VLOOKUP(B42,[1]WHEAT!B$2:L$43,11,FALSE)","v":77.2},{"$f":"VLOOKUP(B42,[1]Oats!B$2:L$43,11,FALSE)","v":{"$error":"#N/A"}},null,25]
[null,"MICHIGAN, EAST CENTRAL, TUSCOLA","TUSCOLA",{"$f":"VLOOKUP(B43,[1]Corn!B$58:K$113,10,FALSE)","v":165.2},{"$f":"VLOOKUP(B43,[1]Soys!B$2:L$48,11,FALSE)","v":43.9},{"$f":"VLOOKUP(B43,[1]WHEAT!B$2:L$43,11,FALSE)","v":81.900000000000006},{"$f":"VLOOKUP(B43,[1]Oats!B$2:L$43,11,FALSE)","v":96},null,25]
[null,"MICHIGAN, EAST CENTRAL, TUSCOLA","TUSCOLA",{"$f":"VLOOKUP(B44,[1]Corn!B$58:K$113,10,FALSE)","v":165.2},{"$f":"VLOOKUP(B44,[1]Soys!B$2:L$48,11,FALSE)","v":43.9},{"$f":"VLOOKUP(B44,[1]WHEAT!B$2:L$43,11,FALSE)","v":81.900000000000006},{"$f":"VLOOKUP(B44,[1]Oats!B$2:L$43,11,FALSE)","v":96},null,25]
[null,"MICHIGAN, EAST CENTRAL, TUSCOLA","TUSCOLA",{"$f":"VLOOKUP(B45,[1]Corn!B$58:K$113,10,FALSE)","v":165.2},{"$f":"VLOOKUP(B45,[1]Soys!B$2:L$48,11,FALSE)","v":43.9},{"$f":"VLOOKUP(B45,[1]WHEAT!B$2:L$43,11,FALSE)","v":81.900000000000006},{"$f":"VLOOKUP(B45,[1]Oats!B$2:L$43,11,FALSE)","v":96},null,25]
[null,"MICHIGAN, EAST CENTRAL, TUSCOLA","TUSCOLA",{"$f":"VLOOKUP(B46,[1]Corn!B$58:K$113,10,FALSE)","v":165.2},{"$f":"VLOOKUP(B46,[1]Soys!B$2:L$48,11,FALSE)","v":43.9},{"$f":"VLOOKUP(B46,[1]WHEAT!B$2:L$43,11,FALSE)","v":81.900000000000006},{"$f":"VLOOKUP(B46,[1]Oats!B$2:L$43,11,FALSE)","v":96},null,25]
[null,"MICHIGAN, NORTHEAST, ALCONA","ALCONA",{"$f":"VLOOKUP(B47,[1]Corn!B$58:K$113,10,FALSE)","v":{"$error":"#N/A"}},{"$f":"VLOOKUP(B47,[1]Soys!B$2:L$48,11,FALSE)","v":35.200000000000003},{"$f":"VLOOKUP(B47,[1]WHEAT!B$2:L$43,11,FALSE)","v":{"$error":"#N/A"}},{"$f":"VLOOKUP(B47,[1]Oats!B$2:L$43,11,FALSE)","v":{"$error":"#N/A"}},null,{"$f":"FIND(\"ALCONA\",B47,1)","v":22}]
[null,"MICHIGAN, NORTHEAST, ALPENA","ALPENA",{"$f":"VLOOKUP(B48,[1]Corn!B$58:K$113,10,FALSE)","v":131},{"$f":"VLOOKUP(B48,[1]Soys!B$2:L$48,11,FALSE)","v":31.9},{"$f":"VLOOKUP(B48,[1]WHEAT!B$2:L$43,11,FALSE)","v":{"$error":"#N/A"}},{"$f":"VLOOKUP(B48,[1]Oats!B$2:L$43,11,FALSE)","v":50.6},null,22]
[null,"MICHIGAN, NORTHEAST, ALPENA","ALPENA",{"$f":"VLOOKUP(B49,[1]Corn!B$58:K$113,10,FALSE)","v":131},{"$f":"VLOOKUP(B49,[1]Soys!B$2:L$48,11,FALSE)","v":31.9},{"$f":"VLOOKUP(B49,[1]WHEAT!B$2:L$43,11,FALSE)","v":{"$error":"#N/A"}},{"$f":"VLOOKUP(B49,[1]Oats!B$2:L$43,11,FALSE)","v":50.6},null,22]
[null,"MICHIGAN, NORTHEAST, ALPENA","ALPENA",{"$f":"VLOOKUP(B50,[1]Corn!B$58:K$113,10,FALSE)","v":131},{"$f":"VLOOKUP(B50,[1]Soys!B$2:L$48,11,FALSE)","v":31.9},{"$f":"VLOOKUP(B50,[1]WHEAT!B$2:L$43,11,FALSE)","v":{"$error":"#N/A"}},{"$f":"VLOOKUP(B50,[1]Oats!B$2:L$43,11,FALSE)","v":50.6},null,22]
[null,"MICHIGAN, NORTHEAST, IOSCO","IOSCO",{"$f":"VLOOKUP(B51,[1]Corn!B$58:K$113,10,FALSE)","v":117.1},{"$f":"VLOOKUP(B51,[1]Soys!B$2:L$48,11,FALSE)","v":41.8},{"$f":"VLOOKUP(B51,[1]WHEAT!B$2:L$43,11,FALSE)","v":{"$error":"#N/A"}},{"$f":"VLOOKUP(B51,[1]Oats!B$2:L$43,11,FALSE)","v":64.599999999999994},null,22]
[null,"MICHIGAN, NORTHEAST, IOSCO","IOSCO",{"$f":"VLOOKUP(B52,[1]Corn!B$58:K$113,10,FALSE)","v":117.1},{"$f":"VLOOKUP(B52,[1]Soys!B$2:L$48,11,FALSE)","v":41.8},{"$f":"VLOOKUP(B52,[1]WHEAT!B$2:L$43,11,FALSE)","v":{"$error":"#N/A"}},{"$f":"VLOOKUP(B52,[1]Oats!B$2:L$43,11,FALSE)","v":64.599999999999994},null,22]
[null,"MICHIGAN, NORTHEAST, IOSCO","IOSCO",{"$f":"VLOOKUP(B53,[1]Corn!B$58:K$113,10,FALSE)","v":117.1},{"$f":"VLOOKUP(B53,[1]Soys!B$2:L$48,11,FALSE)","v":41.8},{"$f":"VLOOKUP(B53,[1]WHEAT!B$2:L$43,11,FALSE)","v":{"$error":"#N/A"}},{"$f":"VLOOKUP(B53,[1]Oats!B$2:L$43,11,FALSE)","v":64.599999999999994},null,22]
[null,"MICHIGAN, NORTHEAST, MONTMORENCY","MONTMORENCY",{"$f":"VLOOKUP(B54,[1]Corn!B$58:K$113,10,FALSE)","v":115},{"$f":"VLOOKUP(B54,[1]Soys!B$2:L$48,11,FALSE)","v":30.6},{"$f":"VLOOKUP(B54,[1]WHEAT!B$2:L$43,11,FALSE)","v":{"$error":"#N/A"}},{"$f":"VLOOKUP(B54,[1]Oats!B$2:L$43,11,FALSE)","v":{"$error":"#N/A"}},null,22]
[null,"MICHIGAN, NORTHEAST, MONTMORENCY","MONTMORENCY",{"$f":"VLOOKUP(B55,[1]Corn!B$58:K$113,10,FALSE)","v":115},{"$f":"VLOOKUP(B55,[1]Soys!B$2:L$48,11,FALSE)","v":30.6},{"$f":"VLOOKUP(B55,[1]WHEAT!B$2:L$43,11,FALSE)","v":{"$error":"#N/A"}},{"$f":"VLOOKUP(B55,[1]Oats!B$2:L$43,11,FALSE)","v":{"$error":"#N/A"}},null,22]
[null,"MICHIGAN, NORTHEAST, OGEMAW","OGEMAW",{"$f":"VLOOKUP(B56,[1]Corn!B$58:K$113,10,FALSE)","v":151.69999999999999},{"$f":"VLOOKUP(B56,[1]Soys!B$2:L$48,11,FALSE)","v":44.2},{"$f":"VLOOKUP(B56,[1]WHEAT!B$2:L$43,11,FALSE)","v":{"$error":"#N/A"}},{"$f":"VLOOKUP(B56,[1]Oats!B$2:L$43,11,FALSE)","v":{"$error":"#N/A"}},null,22]
[null,"MICHIGAN, NORTHEAST, OGEMAW","OGEMAW",{"$f":"VLOOKUP(B57,[1]Corn!B$58:K$113,10,FALSE)","v":151.69999999999999},{"$f":"VLOOKUP(B57,[1]Soys!B$2:L$48,11,FALSE)","v":44.2},{"$f":"VLOOKUP(B57,[1]WHEAT!B$2:L$43,11,FALSE)","v":{"$error":"#N/A"}},{"$f":"VLOOKUP(B57,[1]Oats!B$2:L$43,11,FALSE)","v":{"$error":"#N/A"}},null,22]
[null,"MICHIGAN, NORTHEAST, OTHER (COMBINED) COUNTIES","OTHER (COMBINED) COU",{"$f":"VLOOKUP(B58,[1]Corn!B$58:K$113,10,FALSE)","v":110.3},{"$f":"VLOOKUP(B58,[1]Soys!B$2:L$48,11,FALSE)","v":34.799999999999997},{"$f":"VLOOKUP(B58,[1]WHEAT!B$2:L$43,11,FALSE)","v":55.5},{"$f":"VLOOKUP(B58,[1]Oats!B$2:L$43,11,FALSE)","v":63.2},null,22]
[null,"MICHIGAN, NORTHEAST, OTHER (COMBINED) COUNTIES","OTHER (COMBINED) COU",{"$f":"VLOOKUP(B59,[1]Corn!B$58:K$113,10,FALSE)","v":110.3},{"$f":"VLOOKUP(B59,[1]Soys!B$2:L$48,11,FALSE)","v":34.799999999999997},{"$f":"VLOOKUP(B59,[1]WHEAT!B$2:L$43,11,FALSE)","v":55.5},{"$f":"VLOOKUP(B59,[1]Oats!B$2:L$43,11,FALSE)","v":63.2},null,22]
[null,"MICHIGAN, NORTHEAST, OTHER (COMBINED) COUNTIES","OTHER (COMBINED) COU",{"$f":"VLOOKUP(B60,[1]Corn!B$58:K$113,10,FALSE)","v":110.3},{"$f":"VLOOKUP(B60,[1]Soys!B$2:L$48,11,FALSE)","v":34.799999999999997},{"$f":"VLOOKUP(B60,[1]WHEAT!B$2:L$43,11,FALSE)","v":55.5},{"$f":"VLOOKUP(B60,[1]Oats!B$2:L$43,11,FALSE)","v":63.2},null,22]
[null,"MICHIGAN, NORTHEAST, OTHER (COMBINED) COUNTIES","OTHER (COMBINED) COU",{"$f":"VLOOKUP(B61,[1]Corn!B$58:K$113,10,FALSE)","v":110.3},{"$f":"VLOOKUP(B61,[1]Soys!B$2:L$48,11,FALSE)","v":34.799999999999997},{"$f":"VLOOKUP(B61,[1]WHEAT!B$2:L$43,11,FALSE)","v":55.5},{"$f":"VLOOKUP(B61,[1]Oats!B$2:L$43,11,FALSE)","v":63.2},null,22]
[null,"MICHIGAN, NORTHEAST, OTSEGO","OTSEGO",{"$f":"VLOOKUP(B62,[1]Corn!B$58:K$113,10,FALSE)","v":127.3},{"$f":"VLOOKUP(B62,[1]Soys!B$2:L$48,11,FALSE)","v":{"$error":"#N/A"}},{"$f":"VLOOKUP(B62,[1]WHEAT!B$2:L$43,11,FALSE)","v":{"$error":"#N/A"}},{"$f":"VLOOKUP(B62,[1]Oats!B$2:L$43,11,FALSE)","v":62},null,22]
[null,"MICHIGAN, NORTHEAST, OTSEGO","OTSEGO",{"$f":"VLOOKUP(B63,[1]Corn!B$58:K$113,10,FALSE)","v":127.3},{"$f":"VLOOKUP(B63,[1]Soys!B$2:L$48,11,FALSE)","v":{"$error":"#N/A"}},{"$f":"VLOOKUP(B63,[1]WHEAT!B$2:L$43,11,FALSE)","v":{"$error":"#N/A"}},{"$f":"VLOOKUP(B63,[1]Oats!B$2:L$43,11,FALSE)","v":62},null,22]
[null,"MICHIGAN, NORTHEAST, PRESQUE ISLE","PRESQUE ISLE",{"$f":"VLOOKUP(B64,[1]Corn!B$58:K$113,10,FALSE)","v":126.8},{"$f":"VLOOKUP(B64,[1]Soys!B$2:L$48,11,FALSE)","v":27.2},{"$f":"VLOOKUP(B64,[1]WHEAT!B$2:L$43,11,FALSE)","v":46.5},{"$f":"VLOOKUP(B64,[1]Oats!B$2:L$43,11,FALSE)","v":51},null,22]
[null,"MICHIGAN, NORTHEAST, PRESQUE ISLE","PRESQUE ISLE",{"$f":"VLOOKUP(B65,[1]Corn!B$58:K$113,10,FALSE)","v":126.8},{"$f":"VLOOKUP(B65,[1]Soys!B$2:L$48,11,FALSE)","v":27.2},{"$f":"VLOOKUP(B65,[1]WHEAT!B$2:L$43,11,FALSE)","v":46.5},{"$f":"VLOOKUP(B65,[1]Oats!B$2:L$43,11,FALSE)","v":51},null,22]
[null,"MICHIGAN, NORTHEAST, PRESQUE ISLE",{"$f":"MID(B66,I66,20)","v":"PRESQUE ISLE"},{"$f":"VLOOKUP(B66,[1]Corn!B$58:K$113,10,FALSE)","v":126.8},{"$f":"VLOOKUP(B66,[1]Soys!B$2:L$48,11,FALSE)","v":27.2},{"$f":"VLOOKUP(B66,[1]WHEAT!B$2:L$43,11,FALSE)","v":46.5},{"$f":"VLOOKUP(B66,[1]Oats!B$2:L$43,11,FALSE)","v":51},null,22]
[null,"MICHIGAN, NORTHEAST, PRESQUE ISLE","PRESQUE ISLE",{"$f":"VLOOKUP(B67,[1]Corn!B$58:K$113,10,FALSE)","v":126.8},{"$f":"VLOOKUP(B67,[1]Soys!B$2:L$48,11,FALSE)","v":27.2},{"$f":"VLOOKUP(B67,[1]WHEAT!B$2:L$43,11,FALSE)","v":46.5},{"$f":"VLOOKUP(B67,[1]Oats!B$2:L$43,11,FALSE)","v":51},null,22]
[null,"MICHIGAN, NORTHWEST, BENZIE","BENZIE",{"$f":"VLOOKUP(B68,[1]Corn!B$58:K$113,10,FALSE)","v":91.7},{"$f":"VLOOKUP(B68,[1]Soys!B$2:L$48,11,FALSE)","v":{"$error":"#N/A"}},{"$f":"VLOOKUP(B68,[1]WHEAT!B$2:L$43,11,FALSE)","v":{"$error":"#N/A"}},{"$f":"VLOOKUP(B68,[1]Oats!B$2:L$43,11,FALSE)","v":{"$error":"#N/A"}},null,22]
[null,"MICHIGAN, NORTHWEST, CHARLEVOIX","CHARLEVOIX",{"$f":"VLOOKUP(B69,[1]Corn!B$58:K$113,10,FALSE)","v":{"$error":"#N/A"}},{"$f":"VLOOKUP(B69,[1]Soys!B$2:L$48,11,FALSE)","v":{"$error":"#N/A"}},{"$f":"VLOOKUP(B69,[1]WHEAT!B$2:L$43,11,FALSE)","v":{"$error":"#N/A"}},{"$f":"VLOOKUP(B69,[1]Oats!B$2:L$43,11,FALSE)","v":69},null,22]
[null,"MICHIGAN, NORTHWEST, EMMET","EMMET",{"$f":"VLOOKUP(B70,[1]Corn!B$58:K$113,10,FALSE)","v":100},{"$f":"VLOOKUP(B70,[1]Soys!B$2:L$48,11,FALSE)","v":{"$error":"#N/A"}},{"$f":"VLOOKUP(B70,[1]WHEAT!B$2:L$43,11,FALSE)","v":{"$error":"#N/A"}},{"$f":"VLOOKUP(B70,[1]Oats!B$2:L$43,11,FALSE)","v":{"$error":"#N/A"}},null,22]
[null,"MICHIGAN, NORTHWEST, GRAND TRAVERSE","GRAND TRAVERSE",{"$f":"VLOOKUP(B71,[1]Corn!B$58:K$113,10,FALSE)","v":145},{"$f":"VLOOKUP(B71,[1]Soys!B$2:L$48,11,FALSE)","v":{"$error":"#N/A"}},{"$f":"VLOOKUP(B71,[1]WHEAT!B$2:L$43,11,FALSE)","v":{"$error":"#N/A"}},{"$f":"VLOOKUP(B71,[1]Oats!B$2:L$43,11,FALSE)","v":51.6},null,22]
[null,"MICHIGAN, NORTHWEST, GRAND TRAVERSE","GRAND TRAVERSE",{"$f":"VLOOKUP(B72,[1]Corn!B$58:K$113,10,FALSE)","v":145},{"$f":"VLOOKUP(B72,[1]Soys!B$2:L$48,11,FALSE)","v":{"$error":"#N/A"}},{"$f":"VLOOKUP(B72,[1]WHEAT!B$2:L$43,11,FALSE)","v":{"$error":"#N/A"}},{"$f":"VLOOKUP(B72,[1]Oats!B$2:L$43,11,FALSE)","v":51.6},null,22]
[null,"MICHIGAN, NORTHWEST, LEELANAU","LEELANAU",{"$f":"VLOOKUP(B73,[1]Corn!B$58:K$113,10,FALSE)","v":121.1},{"$f":"VLOOKUP(B73,[1]Soys!B$2:L$48,11,FALSE)","v":{"$error":"#N/A"}},{"$f":"VLOOKUP(B73,[1]WHEAT!B$2:L$43,11,FALSE)","v":{"$error":"#N/A"}},{"$f":"VLOOKUP(B73,[1]Oats!B$2:L$43,11,FALSE)","v":68},null,22]
[null,"MICHIGAN, NORTHWEST, LEELANAU","LEELANAU",{"$f":"VLOOKUP(B74,[1]Corn!B$58:K$113,10,FALSE)","v":121.1},{"$f":"VLOOKUP(B74,[1]Soys!B$2:L$48,11,FALSE)","v":{"$error":"#N/A"}},{"$f":"VLOOKUP(B74,[1]WHEAT!B$2:L$43,11,FALSE)","v":{"$error":"#N/A"}},{"$f":"VLOOKUP(B74,[1]Oats!B$2:L$43,11,FALSE)","v":68},null,22]
[null,"MICHIGAN, NORTHWEST, MANISTEE","MANISTEE",{"$f":"VLOOKUP(B75,[1]Corn!B$58:K$113,10,FALSE)","v":119},{"$f":"VLOOKUP(B75,[1]Soys!B$2:L$48,11,FALSE)","v":{"$error":"#N/A"}},{"$f":"VLOOKUP(B75,[1]WHEAT!B$2:L$43,11,FALSE)","v":{"$error":"#N/A"}},{"$f":"VLOOKUP(B75,[1]Oats!B$2:L$43,11,FALSE)","v":{"$error":"#N/A"}},null,22]
[null,"MICHIGAN, NORTHWEST, MISSAUKEE","MISSAUKEE",{"$f":"VLOOKUP(B76,[1]Corn!B$58:K$113,10,FALSE)","v":152.19999999999999},{"$f":"VLOOKUP(B76,[1]Soys!B$2:L$48,11,FALSE)","v":{"$error":"#N/A"}},{"$f":"VLOOKUP(B76,[1]WHEAT!B$2:L$43,11,FALSE)","v":{"$error":"#N/A"}},{"$f":"VLOOKUP(B76,[1]Oats!B$2:L$43,11,FALSE)","v":{"$error":"#N/A"}},null,22]
[null,"MICHIGAN, NORTHWEST, OTHER (COMBINED) COUNTIES","OTHER (COMBINED) COU",{"$f":"VLOOKUP(B77,[1]Corn!B$58:K$113,10,FALSE)","v":116.1},{"$f":"VLOOKUP(B77,[1]Soys!B$2:L$48,11,FALSE)","v":{"$error":"#N/A"}},{"$f":"VLOOKUP(B77,[1]WHEAT!B$2:L$43,11,FALSE)","v":{"$error":"#N/A"}},{"$f":"VLOOKUP(B77,[1]Oats!B$2:L$43,11,FALSE)","v":55.3},null,22]
[null,"MICHIGAN, NORTHWEST, OTHER (COMBINED) COUNTIES","OTHER (COMBINED) COU",{"$f":"VLOOKUP(B78,[1]Corn!B$58:K$113,10,FALSE)","v":116.1},{"$f":"VLOOKUP(B78,[1]Soys!B$2:L$48,11,FALSE)","v":{"$error":"#N/A"}},{"$f":"VLOOKUP(B78,[1]WHEAT!B$2:L$43,11,FALSE)","v":{"$error":"#N/A"}},{"$f":"VLOOKUP(B78,[1]Oats!B$2:L$43,11,FALSE)","v":55.3},null,22]
[null,"MICHIGAN, NORTHWEST, WEXFORD","WEXFORD",{"$f":"VLOOKUP(B79,[1]Corn!B$58:K$113,10,FALSE)","v":{"$error":"#N/A"}},{"$f":"VLOOKUP(B79,[1]Soys!B$2:L$48,11,FALSE)","v":{"$error":"#N/A"}},{"$f":"VLOOKUP(B79,[1]WHEAT!B$2:L$43,11,FALSE)","v":{"$error":"#N/A"}},{"$f":"VLOOKUP(B79,[1]Oats!B$2:L$43,11,FALSE)","v":49.5},null,22]
[null,"MICHIGAN, SOUTH CENTRAL, BARRY","BARRY",{"$f":"VLOOKUP(B80,[1]Corn!B$58:K$113,10,FALSE)","v":132.5},{"$f":"VLOOKUP(B80,[1]Soys!B$2:L$48,11,FALSE)","v":{"$error":"#N/A"}},{"$f":"VLOOKUP(B80,[1]WHEAT!B$2:L$43,11,FALSE)","v":{"$error":"#N/A"}},{"$f":"VLOOKUP(B80,[1]Oats!B$2:L$43,11,FALSE)","v":{"$error":"#N/A"}},null,{"$f":"FIND(\"BARRY\",B80,1)","v":26}]
[null,"MICHIGAN, SOUTH CENTRAL, BRANCH","BRANCH",{"$f":"VLOOKUP(B81,[1]Corn!B$58:K$113,10,FALSE)","v":157.9},{"$f":"VLOOKUP(B81,[1]Soys!B$2:L$48,11,FALSE)","v":48.6},{"$f":"VLOOKUP(B81,[1]WHEAT!B$2:L$43,11,FALSE)","v":{"$error":"#N/A"}},{"$f":"VLOOKUP(B81,[1]Oats!B$2:L$43,11,FALSE)","v":{"$error":"#N/A"}},null,26]
[null,"MICHIGAN, SOUTH CENTRAL, BRANCH","BRANCH",{"$f":"VLOOKUP(B82,[1]Corn!B$58:K$113,10,FALSE)","v":157.9},{"$f":"VLOOKUP(B82,[1]Soys!B$2:L$48,11,FALSE)","v":48.6},{"$f":"VLOOKUP(B82,[1]WHEAT!B$2:L$43,11,FALSE)","v":{"$error":"#N/A"}},{"$f":"VLOOKUP(B82,[1]Oats!B$2:L$43,11,FALSE)","v":{"$error":"#N/A"}},null,26]
[null,"MICHIGAN, SOUTH CENTRAL, CALHOUN","CALHOUN",{"$f":"VLOOKUP(B83,[1]Corn!B$58:K$113,10,FALSE)","v":136.80000000000001},{"$f":"VLOOKUP(B83,[1]Soys!B$2:L$48,11,FALSE)","v":36.299999999999997},{"$f":"VLOOKUP(B83,[1]WHEAT!B$2:L$43,11,FALSE)","v":63.7},{"$f":"VLOOKUP(B83,[1]Oats!B$2:L$43,11,FALSE)","v":{"$error":"#N/A"}},null,26]
[null,"MICHIGAN, SOUTH CENTRAL, CALHOUN","CALHOUN",{"$f":"VLOOKUP(B84,[1]Corn!B$58:K$113,10,FALSE)","v":136.80000000000001},{"$f":"VLOOKUP(B84,[1]Soys!B$2:L$48,11,FALSE)","v":36.299999999999997},{"$f":"VLOOKUP(B84,[1]WHEAT!B$2:L$43,11,FALSE)","v":63.7},{"$f":"VLOOKUP(B84,[1]Oats!B$2:L$43,11,FALSE)","v":{"$error":"#N/A"}},null,26]
[null,"MICHIGAN, SOUTH CENTRAL, CALHOUN","CALHOUN",{"$f":"VLOOKUP(B85,[1]Corn!B$58:K$113,10,FALSE)","v":136.80000000000001},{"$f":"VLOOKUP(B85,[1]Soys!B$2:L$48,11,FALSE)","v":36.299999999999997},{"$f":"VLOOKUP(B85,[1]WHEAT!B$2:L$43,11,FALSE)","v":63.7},{"$f":"VLOOKUP(B85,[1]Oats!B$2:L$43,11,FALSE)","v":{"$error":"#N/A"}},null,26]
[null,"MICHIGAN, SOUTH CENTRAL, CLINTON","CLINTON",{"$f":"VLOOKUP(B86,[1]Corn!B$58:K$113,10,FALSE)","v":{"$error":"#N/A"}},{"$f":"VLOOKUP(B86,[1]Soys!B$2:L$48,11,FALSE)","v":39.1},{"$f":"VLOOKUP(B86,[1]WHEAT!B$2:L$43,11,FALSE)","v":70},{"$f":"VLOOKUP(B86,[1]Oats!B$2:L$43,11,FALSE)","v":76},null,26]
[null,"MICHIGAN, SOUTH CENTRAL, CLINTON","CLINTON",{"$f":"VLOOKUP(B87,[1]Corn!B$58:K$113,10,FALSE)","v":{"$error":"#N/A"}},{"$f":"VLOOKUP(B87,[1]Soys!B$2:L$48,11,FALSE)","v":39.1},{"$f":"VLOOKUP(B87,[1]WHEAT!B$2:L$43,11,FALSE)","v":70},{"$f":"VLOOKUP(B87,[1]Oats!B$2:L$43,11,FALSE)","v":76},null,26]
[null,"MICHIGAN, SOUTH CENTRAL, CLINTON","CLINTON",{"$f":"VLOOKUP(B88,[1]Corn!B$58:K$113,10,FALSE)","v":{"$error":"#N/A"}},{"$f":"VLOOKUP(B88,[1]Soys!B$2:L$48,11,FALSE)","v":39.1},{"$f":"VLOOKUP(B88,[1]WHEAT!B$2:L$43,11,FALSE)","v":70},{"$f":"VLOOKUP(B88,[1]Oats!B$2:L$43,11,FALSE)","v":76},null,26]
[null,"MICHIGAN, SOUTH CENTRAL, EATON","EATON",{"$f":"VLOOKUP(B89,[1]Corn!B$58:K$113,10,FALSE)","v":140.30000000000001},{"$f":"VLOOKUP(B89,[1]Soys!B$2:L$48,11,FALSE)","v":34.4},{"$f":"VLOOKUP(B89,[1]WHEAT!B$2:L$43,11,FALSE)","v":59.6},{"$f":"VLOOKUP(B89,[1]Oats!B$2:L$43,11,FALSE)","v":{"$error":"#N/A"}},null,26]
[null,"MICHIGAN, SOUTH CENTRAL, EATON","EATON",{"$f":"VLOOKUP(B90,[1]Corn!B$58:K$113,10,FALSE)","v":140.30000000000001},{"$f":"VLOOKUP(B90,[1]Soys!B$2:L$48,11,FALSE)","v":34.4},{"$f":"VLOOKUP(B90,[1]WHEAT!B$2:L$43,11,FALSE)","v":59.6},{"$f":"VLOOKUP(B90,[1]Oats!B$2:L$43,11,FALSE)","v":{"$error":"#N/A"}},null,26]
[null,"MICHIGAN, SOUTH CENTRAL, EATON","EATON",{"$f":"VLOOKUP(B91,[1]Corn!B$58:K$113,10,FALSE)","v":140.30000000000001},{"$f":"VLOOKUP(B91,[1]Soys!B$2:L$48,11,FALSE)","v":34.4},{"$f":"VLOOKUP(B91,[1]WHEAT!B$2:L$43,11,FALSE)","v":59.6},{"$f":"VLOOKUP(B91,[1]Oats!B$2:L$43,11,FALSE)","v":{"$error":"#N/A"}},null,26]
[null,"MICHIGAN, SOUTH CENTRAL, HILLSDALE","HILLSDALE",{"$f":"VLOOKUP(B92,[1]Corn!B$58:K$113,10,FALSE)","v":163.6},{"$f":"VLOOKUP(B92,[1]Soys!B$2:L$48,11,FALSE)","v":41.8},{"$f":"VLOOKUP(B92,[1]WHEAT!B$2:L$43,11,FALSE)","v":59},{"$f":"VLOOKUP(B92,[1]Oats!B$2:L$43,11,FALSE)","v":62.4},null,26]
[null,"MICHIGAN, SOUTH CENTRAL, HILLSDALE","HILLSDALE",{"$f":"VLOOKUP(B93,[1]Corn!B$58:K$113,10,FALSE)","v":163.6},{"$f":"VLOOKUP(B93,[1]Soys!B$2:L$48,11,FALSE)","v":41.8},{"$f":"VLOOKUP(B93,[1]WHEAT!B$2:L$43,11,FALSE)","v":59},{"$f":"VLOOKUP(B93,[1]Oats!B$2:L$43,11,FALSE)","v":62.4},null,26]
[null,"MICHIGAN, SOUTH CENTRAL, HILLSDALE","HILLSDALE",{"$f":"VLOOKUP(B94,[1]Corn!B$58:K$113,10,FALSE)","v":163.6},{"$f":"VLOOKUP(B94,[1]Soys!B$2:L$48,11,FALSE)","v":41.8},{"$f":"VLOOKUP(B94,[1]WHEAT!B$2:L$43,11,FALSE)","v":59},{"$f":"VLOOKUP(B94,[1]Oats!B$2:L$43,11,FALSE)","v":62.4},null,26]
[null,"MICHIGAN, SOUTH CENTRAL, HILLSDALE","HILLSDALE",{"$f":"VLOOKUP(B95,[1]Corn!B$58:K$113,10,FALSE)","v":163.6},{"$f":"VLOOKUP(B95,[1]Soys!B$2:L$48,11,FALSE)","v":41.8},{"$f":"VLOOKUP(B95,[1]WHEAT!B$2:L$43,11,FALSE)","v":59},{"$f":"VLOOKUP(B95,[1]Oats!B$2:L$43,11,FALSE)","v":62.4},null,26]
[null,"MICHIGAN, SOUTH CENTRAL, INGHAM","INGHAM",{"$f":"VLOOKUP(B96,[1]Corn!B$58:K$113,10,FALSE)","v":150.9},{"$f":"VLOOKUP(B96,[1]Soys!B$2:L$48,11,FALSE)","v":39.799999999999997},{"$f":"VLOOKUP(B96,[1]WHEAT!B$2:L$43,11,FALSE)","v":72.5},{"$f":"VLOOKUP(B96,[1]Oats!B$2:L$43,11,FALSE)","v":{"$error":"#N/A"}},null,26]
[null,"MICHIGAN, SOUTH CENTRAL, INGHAM","INGHAM",{"$f":"VLOOKUP(B97,[1]Corn!B$58:K$113,10,FALSE)","v":150.9},{"$f":"VLOOKUP(B97,[1]Soys!B$2:L$48,11,FALSE)","v":39.799999999999997},{"$f":"VLOOKUP(B97,[1]WHEAT!B$2:L$43,11,FALSE)","v":72.5},{"$f":"VLOOKUP(B97,[1]Oats!B$2:L$43,11,FALSE)","v":{"$error":"#N/A"}},null,26]
[null,"MICHIGAN, SOUTH CENTRAL, INGHAM",{"$f":"MID(B98,I98,20)","v":"INGHAM"},{"$f":"VLOOKUP(B98,[1]Corn!B$58:K$113,10,FALSE)","v":150.9},{"$f":"VLOOKUP(B98,[1]Soys!B$2:L$48,11,FALSE)","v":39.799999999999997},{"$f":"VLOOKUP(B98,[1]WHEAT!B$2:L$43,11,FALSE)","v":72.5},{"$f":"VLOOKUP(B98,[1]Oats!B$2:L$43,11,FALSE)","v":{"$error":"#N/A"}},null,26]
[null,"MICHIGAN, SOUTH CENTRAL, IONIA","IONIA",{"$f":"VLOOKUP(B99,[1]Corn!B$58:K$113,10,FALSE)","v":165},{"$f":"VLOOKUP(B99,[1]Soys!B$2:L$48,11,FALSE)","v":46.1},{"$f":"VLOOKUP(B99,[1]WHEAT!B$2:L$43,11,FALSE)","v":72.2},{"$f":"VLOOKUP(B99,[1]Oats!B$2:L$43,11,FALSE)","v":92.5},null,26]
[null,"MICHIGAN, SOUTH CENTRAL, IONIA","IONIA",{"$f":"VLOOKUP(B100,[1]Corn!B$58:K$113,10,FALSE)","v":165},{"$f":"VLOOKUP(B100,[1]Soys!B$2:L$48,11,FALSE)","v":46.1},{"$f":"VLOOKUP(B100,[1]WHEAT!B$2:L$43,11,FALSE)","v":72.2},{"$f":"VLOOKUP(B100,[1]Oats!B$2:L$43,11,FALSE)","v":92.5},null,26]
[null,"MICHIGAN, SOUTH CENTRAL, IONIA","IONIA",{"$f":"VLOOKUP(B101,[1]Corn!B$58:K$113,10,FALSE)","v":165},{"$f":"VLOOKUP(B101,[1]Soys!B$2:L$48,11,FALSE)","v":46.1},{"$f":"VLOOKUP(B101,[1]WHEAT!B$2:L$43,11,FALSE)","v":72.2},{"$f":"VLOOKUP(B101,[1]Oats!B$2:L$43,11,FALSE)","v":92.5},null,26]
[null,"MICHIGAN, SOUTH CENTRAL, IONIA","IONIA",{"$f":"VLOOKUP(B102,[1]Corn!B$58:K$113,10,FALSE)","v":165},{"$f":"VLOOKUP(B102,[1]Soys!B$2:L$48,11,FALSE)","v":46.1},{"$f":"VLOOKUP(B102,[1]WHEAT!B$2:L$43,11,FALSE)","v":72.2},{"$f":"VLOOKUP(B102,[1]Oats!B$2:L$43,11,FALSE)","v":92.5},null,26]
[null,"MICHIGAN, SOUTH CENTRAL, JACKSON","JACKSON",{"$f":"VLOOKUP(B103,[1]Corn!B$58:K$113,10,FALSE)","v":158.19999999999999},{"$f":"VLOOKUP(B103,[1]Soys!B$2:L$48,11,FALSE)","v":39.799999999999997},{"$f":"VLOOKUP(B103,[1]WHEAT!B$2:L$43,11,FALSE)","v":64.900000000000006},{"$f":"VLOOKUP(B103,[1]Oats!B$2:L$43,11,FALSE)","v":40},null,26]
[null,"MICHIGAN, SOUTH CENTRAL, JACKSON","JACKSON",{"$f":"VLOOKUP(B104,[1]Corn!B$58:K$113,10,FALSE)","v":158.19999999999999},{"$f":"VLOOKUP(B104,[1]Soys!B$2:L$48,11,FALSE)","v":39.799999999999997},{"$f":"VLOOKUP(B104,[1]WHEAT!B$2:L$43,11,FALSE)","v":64.900000000000006},{"$f":"VLOOKUP(B104,[1]Oats!B$2:L$43,11,FALSE)","v":40},null,26]
[null,"MICHIGAN, SOUTH CENTRAL, JACKSON","JACKSON",{"$f":"VLOOKUP(B105,[1]Corn!B$58:K$113,10,FALSE)","v":158.19999999999999},{"$f":"VLOOKUP(B105,[1]Soys!B$2:L$48,11,FALSE)","v":39.799999999999997},{"$f":"VLOOKUP(B105,[1]WHEAT!B$2:L$43,11,FALSE)","v":64.900000000000006},{"$f":"VLOOKUP(B105,[1]Oats!B$2:L$43,11,FALSE)","v":40},null,26]
[null,"MICHIGAN, SOUTH CENTRAL, JACKSON","JACKSON",{"$f":"VLOOKUP(B106,[1]Corn!B$58:K$113,10,FALSE)","v":158.19999999999999},{"$f":"VLOOKUP(B106,[1]Soys!B$2:L$48,11,FALSE)","v":39.799999999999997},{"$f":"VLOOKUP(B106,[1]WHEAT!B$2:L$43,11,FALSE)","v":64.900000000000006},{"$f":"VLOOKUP(B106,[1]Oats!B$2:L$43,11,FALSE)","v":40},null,26]
[null,"MICHIGAN, SOUTH CENTRAL, OTHER (COMBINED) COUNTIES","OTHER (COMBINED) COU",{"$f":"VLOOKUP(B107,[1]Corn!B$58:K$113,10,FALSE)","v":122.7},{"$f":"VLOOKUP(B107,[1]Soys!B$2:L$48,11,FALSE)","v":46.1},{"$f":"VLOOKUP(B107,[1]WHEAT!B$2:L$43,11,FALSE)","v":60.3},{"$f":"VLOOKUP(B107,[1]Oats!B$2:L$43,11,FALSE)","v":63.9},null,26]
[null,"MICHIGAN, SOUTH CENTRAL, OTHER (COMBINED) COUNTIES","OTHER (COMBINED) COU",{"$f":"VLOOKUP(B108,[1]Corn!B$58:K$113,10,FALSE)","v":122.7},{"$f":"VLOOKUP(B108,[1]Soys!B$2:L$48,11,FALSE)","v":46.1},{"$f":"VLOOKUP(B108,[1]WHEAT!B$2:L$43,11,FALSE)","v":60.3},{"$f":"VLOOKUP(B108,[1]Oats!B$2:L$43,11,FALSE)","v":63.9},null,26]
[null,"MICHIGAN, SOUTH CENTRAL, OTHER (COMBINED) COUNTIES","OTHER (COMBINED) COU",{"$f":"VLOOKUP(B109,[1]Corn!B$58:K$113,10,FALSE)","v":122.7},{"$f":"VLOOKUP(B109,[1]Soys!B$2:L$48,11,FALSE)","v":46.1},{"$f":"VLOOKUP(B109,[1]WHEAT!B$2:L$43,11,FALSE)","v":60.3},{"$f":"VLOOKUP(B109,[1]Oats!B$2:L$43,11,FALSE)","v":63.9},null,26]
[null,"MICHIGAN, SOUTH CENTRAL, OTHER (COMBINED) COUNTIES","OTHER (COMBINED) COU",{"$f":"VLOOKUP(B110,[1]Corn!B$58:K$113,10,FALSE)","v":122.7},{"$f":"VLOOKUP(B110,[1]Soys!B$2:L$48,11,FALSE)","v":46.1},{"$f":"VLOOKUP(B110,[1]WHEAT!B$2:L$43,11,FALSE)","v":60.3},{"$f":"VLOOKUP(B110,[1]Oats!B$2:L$43,11,FALSE)","v":63.9},null,26]
[null,"MICHIGAN, SOUTH CENTRAL, SHIAWASSEE","SHIAWASSEE",{"$f":"VLOOKUP(B111,[1]Corn!B$58:K$113,10,FALSE)","v":147.9},{"$f":"VLOOKUP(B111,[1]Soys!B$2:L$48,11,FALSE)","v":34.9},{"$f":"VLOOKUP(B111,[1]WHEAT!B$2:L$43,11,FALSE)","v":69.400000000000006},{"$f":"VLOOKUP(B111,[1]Oats!B$2:L$43,11,FALSE)","v":{"$error":"#N/A"}},null,26]
[null,"MICHIGAN, SOUTH CENTRAL, SHIAWASSEE","SHIAWASSEE",{"$f":"VLOOKUP(B112,[1]Corn!B$58:K$113,10,FALSE)","v":147.9},{"$f":"VLOOKUP(B112,[1]Soys!B$2:L$48,11,FALSE)","v":34.9},{"$f":"VLOOKUP(B112,[1]WHEAT!B$2:L$43,11,FALSE)","v":69.400000000000006},{"$f":"VLOOKUP(B112,[1]Oats!B$2:L$43,11,FALSE)","v":{"$error":"#N/A"}},null,26]
[null,"MICHIGAN, SOUTH CENTRAL, SHIAWASSEE","SHIAWASSEE",{"$f":"VLOOKUP(B113,[1]Corn!B$58:K$113,10,FALSE)","v":147.9},{"$f":"VLOOKUP(B113,[1]Soys!B$2:L$48,11,FALSE)","v":34.9},{"$f":"VLOOKUP(B113,[1]WHEAT!B$2:L$43,11,FALSE)","v":69.400000000000006},{"$f":"VLOOKUP(B113,[1]Oats!B$2:L$43,11,FALSE)","v":{"$error":"#N/A"}},null,26]
[null,"MICHIGAN, SOUTHEAST, GENESEE","GENESEE",{"$f":"VLOOKUP(B114,[1]Corn!B$58:K$113,10,FALSE)","v":140},{"$f":"VLOOKUP(B114,[1]Soys!B$2:L$48,11,FALSE)","v":31.1},{"$f":"VLOOKUP(B114,[1]WHEAT!B$2:L$43,11,FALSE)","v":60},{"$f":"VLOOKUP(B114,[1]Oats!B$2:L$43,11,FALSE)","v":{"$error":"#N/A"}},null,{"$f":"FIND(\"GENESEE\",B114,1)","v":22}]
[null,"MICHIGAN, SOUTHEAST, GENESEE","GENESEE",{"$f":"VLOOKUP(B115,[1]Corn!B$58:K$113,10,FALSE)","v":140},{"$f":"VLOOKUP(B115,[1]Soys!B$2:L$48,11,FALSE)","v":31.1},{"$f":"VLOOKUP(B115,[1]WHEAT!B$2:L$43,11,FALSE)","v":60},{"$f":"VLOOKUP(B115,[1]Oats!B$2:L$43,11,FALSE)","v":{"$error":"#N/A"}},null,22]
[null,"MICHIGAN, SOUTHEAST, GENESEE","GENESEE",{"$f":"VLOOKUP(B116,[1]Corn!B$58:K$113,10,FALSE)","v":140},{"$f":"VLOOKUP(B116,[1]Soys!B$2:L$48,11,FALSE)","v":31.1},{"$f":"VLOOKUP(B116,[1]WHEAT!B$2:L$43,11,FALSE)","v":60},{"$f":"VLOOKUP(B116,[1]Oats!B$2:L$43,11,FALSE)","v":{"$error":"#N/A"}},null,22]
[null,"MICHIGAN, SOUTHEAST, LAPEER","LAPEER",{"$f":"VLOOKUP(B117,[1]Corn!B$58:K$113,10,FALSE)","v":148.80000000000001},{"$f":"VLOOKUP(B117,[1]Soys!B$2:L$48,11,FALSE)","v":33.700000000000003},{"$f":"VLOOKUP(B117,[1]WHEAT!B$2:L$43,11,FALSE)","v":56.3},{"$f":"VLOOKUP(B117,[1]Oats!B$2:L$43,11,FALSE)","v":42},null,22]
[null,"MICHIGAN, SOUTHEAST, LAPEER","LAPEER",{"$f":"VLOOKUP(B118,[1]Corn!B$58:K$113,10,FALSE)","v":148.80000000000001},{"$f":"VLOOKUP(B118,[1]Soys!B$2:L$48,11,FALSE)","v":33.700000000000003},{"$f":"VLOOKUP(B118,[1]WHEAT!B$2:L$43,11,FALSE)","v":56.3},{"$f":"VLOOKUP(B118,[1]Oats!B$2:L$43,11,FALSE)","v":42},null,22]
[null,"MICHIGAN, SOUTHEAST, LAPEER","LAPEER",{"$f":"VLOOKUP(B119,[1]Corn!B$58:K$113,10,FALSE)","v":148.80000000000001},{"$f":"VLOOKUP(B119,[1]Soys!B$2:L$48,11,FALSE)","v":33.700000000000003},{"$f":"VLOOKUP(B119,[1]WHEAT!B$2:L$43,11,FALSE)","v":56.3},{"$f":"VLOOKUP(B119,[1]Oats!B$2:L$43,11,FALSE)","v":42},null,22]
[null,"MICHIGAN, SOUTHEAST, LAPEER","LAPEER",{"$f":"VLOOKUP(B120,[1]Corn!B$58:K$113,10,FALSE)","v":148.80000000000001},{"$f":"VLOOKUP(B120,[1]Soys!B$2:L$48,11,FALSE)","v":33.700000000000003},{"$f":"VLOOKUP(B120,[1]WHEAT!B$2:L$43,11,FALSE)","v":56.3},{"$f":"VLOOKUP(B120,[1]Oats!B$2:L$43,11,FALSE)","v":42},null,22]
[null,"MICHIGAN, SOUTHEAST, LENAWEE","LENAWEE",{"$f":"VLOOKUP(B121,[1]Corn!B$58:K$113,10,FALSE)","v":174.8},{"$f":"VLOOKUP(B121,[1]Soys!B$2:L$48,11,FALSE)","v":45.9},{"$f":"VLOOKUP(B121,[1]WHEAT!B$2:L$43,11,FALSE)","v":65.3},{"$f":"VLOOKUP(B121,[1]Oats!B$2:L$43,11,FALSE)","v":{"$error":"#N/A"}},null,22]
[null,"MICHIGAN, SOUTHEAST, LENAWEE","LENAWEE",{"$f":"VLOOKUP(B122,[1]Corn!B$58:K$113,10,FALSE)","v":174.8},{"$f":"VLOOKUP(B122,[1]Soys!B$2:L$48,11,FALSE)","v":45.9},{"$f":"VLOOKUP(B122,[1]WHEAT!B$2:L$43,11,FALSE)","v":65.3},{"$f":"VLOOKUP(B122,[1]Oats!B$2:L$43,11,FALSE)","v":{"$error":"#N/A"}},null,22]
[null,"MICHIGAN, SOUTHEAST, LENAWEE","LENAWEE",{"$f":"VLOOKUP(B123,[1]Corn!B$58:K$113,10,FALSE)","v":174.8},{"$f":"VLOOKUP(B123,[1]Soys!B$2:L$48,11,FALSE)","v":45.9},{"$f":"VLOOKUP(B123,[1]WHEAT!B$2:L$43,11,FALSE)","v":65.3},{"$f":"VLOOKUP(B123,[1]Oats!B$2:L$43,11,FALSE)","v":{"$error":"#N/A"}},null,22]
[null,"MICHIGAN, SOUTHEAST, LIVINGSTON","LIVINGSTON",{"$f":"VLOOKUP(B124,[1]Corn!B$58:K$113,10,FALSE)","v":149.6},{"$f":"VLOOKUP(B124,[1]Soys!B$2:L$48,11,FALSE)","v":{"$error":"#N/A"}},{"$f":"VLOOKUP(B124,[1]WHEAT!B$2:L$43,11,FALSE)","v":58.1},{"$f":"VLOOKUP(B124,[1]Oats!B$2:L$43,11,FALSE)","v":{"$error":"#N/A"}},null,22]
[null,"MICHIGAN, SOUTHEAST, LIVINGSTON","LIVINGSTON",{"$f":"VLOOKUP(B125,[1]Corn!B$58:K$113,10,FALSE)","v":149.6},{"$f":"VLOOKUP(B125,[1]Soys!B$2:L$48,11,FALSE)","v":{"$error":"#N/A"}},{"$f":"VLOOKUP(B125,[1]WHEAT!B$2:L$43,11,FALSE)","v":58.1},{"$f":"VLOOKUP(B125,[1]Oats!B$2:L$43,11,FALSE)","v":{"$error":"#N/A"}},null,22]
[null,"MICHIGAN, SOUTHEAST, MACOMB","MACOMB",{"$f":"VLOOKUP(B126,[1]Corn!B$58:K$113,10,FALSE)","v":160.19999999999999},{"$f":"VLOOKUP(B126,[1]Soys!B$2:L$48,11,FALSE)","v":38},{"$f":"VLOOKUP(B126,[1]WHEAT!B$2:L$43,11,FALSE)","v":71.599999999999994},{"$f":"VLOOKUP(B126,[1]Oats!B$2:L$43,11,FALSE)","v":{"$error":"#N/A"}},null,22]
[null,"MICHIGAN, SOUTHEAST, MACOMB","MACOMB",{"$f":"VLOOKUP(B127,[1]Corn!B$58:K$113,10,FALSE)","v":160.19999999999999},{"$f":"VLOOKUP(B127,[1]Soys!B$2:L$48,11,FALSE)","v":38},{"$f":"VLOOKUP(B127,[1]WHEAT!B$2:L$43,11,FALSE)","v":71.599999999999994},{"$f":"VLOOKUP(B127,[1]Oats!B$2:L$43,11,FALSE)","v":{"$error":"#N/A"}},null,22]
[null,"MICHIGAN, SOUTHEAST, MACOMB","MACOMB",{"$f":"VLOOKUP(B128,[1]Corn!B$58:K$113,10,FALSE)","v":160.19999999999999},{"$f":"VLOOKUP(B128,[1]Soys!B$2:L$48,11,FALSE)","v":38},{"$f":"VLOOKUP(B128,[1]WHEAT!B$2:L$43,11,FALSE)","v":71.599999999999994},{"$f":"VLOOKUP(B128,[1]Oats!B$2:L$43,11,FALSE)","v":{"$error":"#N/A"}},null,22]
[null,"MICHIGAN, SOUTHEAST, MONROE","MONROE",{"$f":"VLOOKUP(B129,[1]Corn!B$58:K$113,10,FALSE)","v":181.3},{"$f":"VLOOKUP(B129,[1]Soys!B$2:L$48,11,FALSE)","v":49},{"$f":"VLOOKUP(B129,[1]WHEAT!B$2:L$43,11,FALSE)","v":62.4},{"$f":"VLOOKUP(B129,[1]Oats!B$2:L$43,11,FALSE)","v":{"$error":"#N/A"}},null,22]
[null,"MICHIGAN, SOUTHEAST, MONROE",{"$f":"MID(B130,I130,20)","v":"MONROE"},{"$f":"VLOOKUP(B130,[1]Corn!B$58:K$113,10,FALSE)","v":181.3},{"$f":"VLOOKUP(B130,[1]Soys!B$2:L$48,11,FALSE)","v":49},{"$f":"VLOOKUP(B130,[1]WHEAT!B$2:L$43,11,FALSE)","v":62.4},{"$f":"VLOOKUP(B130,[1]Oats!B$2:L$43,11,FALSE)","v":{"$error":"#N/A"}},null,22]
[null,"MICHIGAN, SOUTHEAST, MONROE","MONROE",{"$f":"VLOOKUP(B131,[1]Corn!B$58:K$113,10,FALSE)","v":181.3},{"$f":"VLOOKUP(B131,[1]Soys!B$2:L$48,11,FALSE)","v":49},{"$f":"VLOOKUP(B131,[1]WHEAT!B$2:L$43,11,FALSE)","v":62.4},{"$f":"VLOOKUP(B131,[1]Oats!B$2:L$43,11,FALSE)","v":{"$error":"#N/A"}},null,22]
[null,"MICHIGAN, SOUTHEAST, OAKLAND","OAKLAND",{"$f":"VLOOKUP(B132,[1]Corn!B$58:K$113,10,FALSE)","v":133.30000000000001},{"$f":"VLOOKUP(B132,[1]Soys!B$2:L$48,11,FALSE)","v":34.6},{"$f":"VLOOKUP(B132,[1]WHEAT!B$2:L$43,11,FALSE)","v":{"$error":"#N/A"}},{"$f":"VLOOKUP(B132,[1]Oats!B$2:L$43,11,FALSE)","v":{"$error":"#N/A"}},null,22]
[null,"MICHIGAN, SOUTHEAST, OAKLAND","OAKLAND",{"$f":"VLOOKUP(B133,[1]Corn!B$58:K$113,10,FALSE)","v":133.30000000000001},{"$f":"VLOOKUP(B133,[1]Soys!B$2:L$48,11,FALSE)","v":34.6},{"$f":"VLOOKUP(B133,[1]WHEAT!B$2:L$43,11,FALSE)","v":{"$error":"#N/A"}},{"$f":"VLOOKUP(B133,[1]Oats!B$2:L$43,11,FALSE)","v":{"$error":"#N/A"}},null,22]
[null,"MICHIGAN, SOUTHEAST, OTHER (COMBINED) COUNTIES","OTHER (COMBINED) COU",{"$f":"VLOOKUP(B134,[1]Corn!B$58:K$113,10,FALSE)","v":{"$error":"#N/A"}},{"$f":"VLOOKUP(B134,[1]Soys!B$2:L$48,11,FALSE)","v":41.1},{"$f":"VLOOKUP(B134,[1]WHEAT!B$2:L$43,11,FALSE)","v":50.9},{"$f":"VLOOKUP(B134,[1]Oats!B$2:L$43,11,FALSE)","v":57.2},null,22]
[null,"MICHIGAN, SOUTHEAST, OTHER (COMBINED) COUNTIES","OTHER (COMBINED) COU",{"$f":"VLOOKUP(B135,[1]Corn!B$58:K$113,10,FALSE)","v":{"$error":"#N/A"}},{"$f":"VLOOKUP(B135,[1]Soys!B$2:L$48,11,FALSE)","v":41.1},{"$f":"VLOOKUP(B135,[1]WHEAT!B$2:L$43,11,FALSE)","v":50.9},{"$f":"VLOOKUP(B135,[1]Oats!B$2:L$43,11,FALSE)","v":57.2},null,22]
[null,"MICHIGAN, SOUTHEAST, OTHER (COMBINED) COUNTIES","OTHER (COMBINED) COU",{"$f":"VLOOKUP(B136,[1]Corn!B$58:K$113,10,FALSE)","v":{"$error":"#N/A"}},{"$f":"VLOOKUP(B136,[1]Soys!B$2:L$48,11,FALSE)","v":41.1},{"$f":"VLOOKUP(B136,[1]WHEAT!B$2:L$43,11,FALSE)","v":50.9},{"$f":"VLOOKUP(B136,[1]Oats!B$2:L$43,11,FALSE)","v":57.2},null,22]
[null,"MICHIGAN, SOUTHEAST, ST CLAIR","ST CLAIR",{"$f":"VLOOKUP(B137,[1]Corn!B$58:K$113,10,FALSE)","v":148.1},{"$f":"VLOOKUP(B137,[1]Soys!B$2:L$48,11,FALSE)","v":35.299999999999997},{"$f":"VLOOKUP(B137,[1]WHEAT!B$2:L$43,11,FALSE)","v":66.3},{"$f":"VLOOKUP(B137,[1]Oats!B$2:L$43,11,FALSE)","v":{"$error":"#N/A"}},null,22]
[null,"MICHIGAN, SOUTHEAST, ST CLAIR","ST CLAIR",{"$f":"VLOOKUP(B138,[1]Corn!B$58:K$113,10,FALSE)","v":148.1},{"$f":"VLOOKUP(B138,[1]Soys!B$2:L$48,11,FALSE)","v":35.299999999999997},{"$f":"VLOOKUP(B138,[1]WHEAT!B$2:L$43,11,FALSE)","v":66.3},{"$f":"VLOOKUP(B138,[1]Oats!B$2:L$43,11,FALSE)","v":{"$error":"#N/A"}},null,22]
[null,"MICHIGAN, SOUTHEAST, ST CLAIR","ST CLAIR",{"$f":"VLOOKUP(B139,[1]Corn!B$58:K$113,10,FALSE)","v":148.1},{"$f":"VLOOKUP(B139,[1]Soys!B$2:L$48,11,FALSE)","v":35.299999999999997},{"$f":"VLOOKUP(B139,[1]WHEAT!B$2:L$43,11,FALSE)","v":66.3},{"$f":"VLOOKUP(B139,[1]Oats!B$2:L$43,11,FALSE)","v":{"$error":"#N/A"}},null,22]
[null,"MICHIGAN, SOUTHEAST, WASHTENAW","WASHTENAW",{"$f":"VLOOKUP(B140,[1]Corn!B$58:K$113,10,FALSE)","v":156.30000000000001},{"$f":"VLOOKUP(B140,[1]Soys!B$2:L$48,11,FALSE)","v":43},{"$f":"VLOOKUP(B140,[1]WHEAT!B$2:L$43,11,FALSE)","v":64.5},{"$f":"VLOOKUP(B140,[1]Oats!B$2:L$43,11,FALSE)","v":50},null,22]
[null,"MICHIGAN, SOUTHEAST, WASHTENAW","WASHTENAW",{"$f":"VLOOKUP(B141,[1]Corn!B$58:K$113,10,FALSE)","v":156.30000000000001},{"$f":"VLOOKUP(B141,[1]Soys!B$2:L$48,11,FALSE)","v":43},{"$f":"VLOOKUP(B141,[1]WHEAT!B$2:L$43,11,FALSE)","v":64.5},{"$f":"VLOOKUP(B141,[1]Oats!B$2:L$43,11,FALSE)","v":50},null,22]
[null,"MICHIGAN, SOUTHEAST, WASHTENAW","WASHTENAW",{"$f":"VLOOKUP(B142,[1]Corn!B$58:K$113,10,FALSE)","v":156.30000000000001},{"$f":"VLOOKUP(B142,[1]Soys!B$2:L$48,11,FALSE)","v":43},{"$f":"VLOOKUP(B142,[1]WHEAT!B$2:L$43,11,FALSE)","v":64.5},{"$f":"VLOOKUP(B142,[1]Oats!B$2:L$43,11,FALSE)","v":50},null,22]
[null,"MICHIGAN, SOUTHEAST, WASHTENAW","WASHTENAW",{"$f":"VLOOKUP(B143,[1]Corn!B$58:K$113,10,FALSE)","v":156.30000000000001},{"$f":"VLOOKUP(B143,[1]Soys!B$2:L$48,11,FALSE)","v":43},{"$f":"VLOOKUP(B143,[1]WHEAT!B$2:L$43,11,FALSE)","v":64.5},{"$f":"VLOOKUP(B143,[1]Oats!B$2:L$43,11,FALSE)","v":50},null,22]
[null,"MICHIGAN, SOUTHEAST, WAYNE","WAYNE",{"$f":"VLOOKUP(B144,[1]Corn!B$58:K$113,10,FALSE)","v":130},{"$f":"VLOOKUP(B144,[1]Soys!B$2:L$48,11,FALSE)","v":{"$error":"#N/A"}},{"$f":"VLOOKUP(B144,[1]WHEAT!B$2:L$43,11,FALSE)","v":{"$error":"#N/A"}},{"$f":"VLOOKUP(B144,[1]Oats!B$2:L$43,11,FALSE)","v":{"$error":"#N/A"}},null,22]
[null,"MICHIGAN, SOUTHWEST, ALLEGAN","ALLEGAN",{"$f":"VLOOKUP(B145,[1]Corn!B$58:K$113,10,FALSE)","v":136},{"$f":"VLOOKUP(B145,[1]Soys!B$2:L$48,11,FALSE)","v":41.5},{"$f":"VLOOKUP(B145,[1]WHEAT!B$2:L$43,11,FALSE)","v":64.3},{"$f":"VLOOKUP(B145,[1]Oats!B$2:L$43,11,FALSE)","v":63},null,22]
[null,"MICHIGAN, SOUTHWEST, ALLEGAN","ALLEGAN",{"$f":"VLOOKUP(B146,[1]Corn!B$58:K$113,10,FALSE)","v":136},{"$f":"VLOOKUP(B146,[1]Soys!B$2:L$48,11,FALSE)","v":41.5},{"$f":"VLOOKUP(B146,[1]WHEAT!B$2:L$43,11,FALSE)","v":64.3},{"$f":"VLOOKUP(B146,[1]Oats!B$2:L$43,11,FALSE)","v":63},null,22]
[null,"MICHIGAN, SOUTHWEST, ALLEGAN","ALLEGAN",{"$f":"VLOOKUP(B147,[1]Corn!B$58:K$113,10,FALSE)","v":136},{"$f":"VLOOKUP(B147,[1]Soys!B$2:L$48,11,FALSE)","v":41.5},{"$f":"VLOOKUP(B147,[1]WHEAT!B$2:L$43,11,FALSE)","v":64.3},{"$f":"VLOOKUP(B147,[1]Oats!B$2:L$43,11,FALSE)","v":63},null,22]
[null,"MICHIGAN, SOUTHWEST, ALLEGAN","ALLEGAN",{"$f":"VLOOKUP(B148,[1]Corn!B$58:K$113,10,FALSE)","v":136},{"$f":"VLOOKUP(B148,[1]Soys!B$2:L$48,11,FALSE)","v":41.5},{"$f":"VLOOKUP(B148,[1]WHEAT!B$2:L$43,11,FALSE)","v":64.3},{"$f":"VLOOKUP(B148,[1]Oats!B$2:L$43,11,FALSE)","v":63},null,22]
[null,"MICHIGAN, SOUTHWEST, BERRIEN","BERRIEN",{"$f":"VLOOKUP(B149,[1]Corn!B$58:K$113,10,FALSE)","v":{"$error":"#N/A"}},{"$f":"VLOOKUP(B149,[1]Soys!B$2:L$48,11,FALSE)","v":{"$error":"#N/A"}},{"$f":"VLOOKUP(B149,[1]WHEAT!B$2:L$43,11,FALSE)","v":67.7},{"$f":"VLOOKUP(B149,[1]Oats!B$2:L$43,11,FALSE)","v":{"$error":"#N/A"}},null,22]
[null,"MICHIGAN, SOUTHWEST, CASS","CASS",{"$f":"VLOOKUP(B150,[1]Corn!B$58:K$113,10,FALSE)","v":145.30000000000001},{"$f":"VLOOKUP(B150,[1]Soys!B$2:L$48,11,FALSE)","v":46.8},{"$f":"VLOOKUP(B150,[1]WHEAT!B$2:L$43,11,FALSE)","v":{"$error":"#N/A"}},{"$f":"VLOOKUP(B150,[1]Oats!B$2:L$43,11,FALSE)","v":{"$error":"#N/A"}},null,22]
[null,"MICHIGAN, SOUTHWEST, CASS","CASS",{"$f":"VLOOKUP(B151,[1]Corn!B$58:K$113,10,FALSE)","v":145.30000000000001},{"$f":"VLOOKUP(B151,[1]Soys!B$2:L$48,11,FALSE)","v":46.8},{"$f":"VLOOKUP(B151,[1]WHEAT!B$2:L$43,11,FALSE)","v":{"$error":"#N/A"}},{"$f":"VLOOKUP(B151,[1]Oats!B$2:L$43,11,FALSE)","v":{"$error":"#N/A"}},null,22]
[null,"MICHIGAN, SOUTHWEST, KALAMAZOO","KALAMAZOO",{"$f":"VLOOKUP(B152,[1]Corn!B$58:K$113,10,FALSE)","v":138.4},{"$f":"VLOOKUP(B152,[1]Soys!B$2:L$48,11,FALSE)","v":46.7},{"$f":"VLOOKUP(B152,[1]WHEAT!B$2:L$43,11,FALSE)","v":69.2},{"$f":"VLOOKUP(B152,[1]Oats!B$2:L$43,11,FALSE)","v":{"$error":"#N/A"}},null,22]
[null,"MICHIGAN, SOUTHWEST, KALAMAZOO","KALAMAZOO",{"$f":"VLOOKUP(B153,[1]Corn!B$58:K$113,10,FALSE)","v":138.4},{"$f":"VLOOKUP(B153,[1]Soys!B$2:L$48,11,FALSE)","v":46.7},{"$f":"VLOOKUP(B153,[1]WHEAT!B$2:L$43,11,FALSE)","v":69.2},{"$f":"VLOOKUP(B153,[1]Oats!B$2:L$43,11,FALSE)","v":{"$error":"#N/A"}},null,22]
[null,"MICHIGAN, SOUTHWEST, KALAMAZOO","KALAMAZOO",{"$f":"VLOOKUP(B154,[1]Corn!B$58:K$113,10,FALSE)","v":138.4},{"$f":"VLOOKUP(B154,[1]Soys!B$2:L$48,11,FALSE)","v":46.7},{"$f":"VLOOKUP(B154,[1]WHEAT!B$2:L$43,11,FALSE)","v":69.2},{"$f":"VLOOKUP(B154,[1]Oats!B$2:L$43,11,FALSE)","v":{"$error":"#N/A"}},null,22]
[null,"MICHIGAN, SOUTHWEST, KENT","KENT",{"$f":"VLOOKUP(B155,[1]Corn!B$58:K$113,10,FALSE)","v":153.6},{"$f":"VLOOKUP(B155,[1]Soys!B$2:L$48,11,FALSE)","v":45.2},{"$f":"VLOOKUP(B155,[1]WHEAT!B$2:L$43,11,FALSE)","v":61.8},{"$f":"VLOOKUP(B155,[1]Oats!B$2:L$43,11,FALSE)","v":59.2},null,22]
[null,"MICHIGAN, SOUTHWEST, KENT","KENT",{"$f":"VLOOKUP(B156,[1]Corn!B$58:K$113,10,FALSE)","v":153.6},{"$f":"VLOOKUP(B156,[1]Soys!B$2:L$48,11,FALSE)","v":45.2},{"$f":"VLOOKUP(B156,[1]WHEAT!B$2:L$43,11,FALSE)","v":61.8},{"$f":"VLOOKUP(B156,[1]Oats!B$2:L$43,11,FALSE)","v":59.2},null,22]
[null,"MICHIGAN, SOUTHWEST, KENT","KENT",{"$f":"VLOOKUP(B157,[1]Corn!B$58:K$113,10,FALSE)","v":153.6},{"$f":"VLOOKUP(B157,[1]Soys!B$2:L$48,11,FALSE)","v":45.2},{"$f":"VLOOKUP(B157,[1]WHEAT!B$2:L$43,11,FALSE)","v":61.8},{"$f":"VLOOKUP(B157,[1]Oats!B$2:L$43,11,FALSE)","v":59.2},null,22]
[null,"MICHIGAN, SOUTHWEST, KENT","KENT",{"$f":"VLOOKUP(B158,[1]Corn!B$58:K$113,10,FALSE)","v":153.6},{"$f":"VLOOKUP(B158,[1]Soys!B$2:L$48,11,FALSE)","v":45.2},{"$f":"VLOOKUP(B158,[1]WHEAT!B$2:L$43,11,FALSE)","v":61.8},{"$f":"VLOOKUP(B158,[1]Oats!B$2:L$43,11,FALSE)","v":59.2},null,22]
[null,"MICHIGAN, SOUTHWEST, OTHER (COMBINED) COUNTIES","OTHER (COMBINED) COU",{"$f":"VLOOKUP(B159,[1]Corn!B$58:K$113,10,FALSE)","v":142.80000000000001},{"$f":"VLOOKUP(B159,[1]Soys!B$2:L$48,11,FALSE)","v":37.5},{"$f":"VLOOKUP(B159,[1]WHEAT!B$2:L$43,11,FALSE)","v":61.3},{"$f":"VLOOKUP(B159,[1]Oats!B$2:L$43,11,FALSE)","v":76.7},null,22]
[null,"MICHIGAN, SOUTHWEST, OTHER (COMBINED) COUNTIES","OTHER (COMBINED) COU",{"$f":"VLOOKUP(B160,[1]Corn!B$58:K$113,10,FALSE)","v":142.80000000000001},{"$f":"VLOOKUP(B160,[1]Soys!B$2:L$48,11,FALSE)","v":37.5},{"$f":"VLOOKUP(B160,[1]WHEAT!B$2:L$43,11,FALSE)","v":61.3},{"$f":"VLOOKUP(B160,[1]Oats!B$2:L$43,11,FALSE)","v":76.7},null,22]
[null,"MICHIGAN, SOUTHWEST, OTHER (COMBINED) COUNTIES","OTHER (COMBINED) COU",{"$f":"VLOOKUP(B161,[1]Corn!B$58:K$113,10,FALSE)","v":142.80000000000001},{"$f":"VLOOKUP(B161,[1]Soys!B$2:L$48,11,FALSE)","v":37.5},{"$f":"VLOOKUP(B161,[1]WHEAT!B$2:L$43,11,FALSE)","v":61.3},{"$f":"VLOOKUP(B161,[1]Oats!B$2:L$43,11,FALSE)","v":76.7},null,22]
[null,"MICHIGAN, SOUTHWEST, OTHER (COMBINED) COUNTIES",{"$f":"MID(B162,I162,20)","v":"OTHER (COMBINED) COU"},{"$f":"VLOOKUP(B162,[1]Corn!B$58:K$113,10,FALSE)","v":142.80000000000001},{"$f":"VLOOKUP(B162,[1]Soys!B$2:L$48,11,FALSE)","v":37.5},{"$f":"VLOOKUP(B162,[1]WHEAT!B$2:L$43,11,FALSE)","v":61.3},{"$f":"VLOOKUP(B162,[1]Oats!B$2:L$43,11,FALSE)","v":76.7},null,22]
[null,"MICHIGAN, SOUTHWEST, OTTAWA","OTTAWA",{"$f":"VLOOKUP(B163,[1]Corn!B$58:K$113,10,FALSE)","v":{"$error":"#N/A"}},{"$f":"VLOOKUP(B163,[1]Soys!B$2:L$48,11,FALSE)","v":42.9},{"$f":"VLOOKUP(B163,[1]WHEAT!B$2:L$43,11,FALSE)","v":{"$error":"#N/A"}},{"$f":"VLOOKUP(B163,[1]Oats!B$2:L$43,11,FALSE)","v":41},null,22]
[null,"MICHIGAN, SOUTHWEST, OTTAWA","OTTAWA",{"$f":"VLOOKUP(B164,[1]Corn!B$58:K$113,10,FALSE)","v":{"$error":"#N/A"}},{"$f":"VLOOKUP(B164,[1]Soys!B$2:L$48,11,FALSE)","v":42.9},{"$f":"VLOOKUP(B164,[1]WHEAT!B$2:L$43,11,FALSE)","v":{"$error":"#N/A"}},{"$f":"VLOOKUP(B164,[1]Oats!B$2:L$43,11,FALSE)","v":41},null,22]
[null,"MICHIGAN, UPPER PENINSULA, DELTA","DELTA",{"$f":"VLOOKUP(B165,[1]Corn!B$58:K$113,10,FALSE)","v":116.7},{"$f":"VLOOKUP(B165,[1]Soys!B$2:L$48,11,FALSE)","v":{"$error":"#N/A"}},{"$f":"VLOOKUP(B165,[1]WHEAT!B$2:L$43,11,FALSE)","v":{"$error":"#N/A"}},{"$f":"VLOOKUP(B165,[1]Oats!B$2:L$43,11,FALSE)","v":{"$error":"#N/A"}},null,{"$f":"FIND(\"DELTA\",B165,1)","v":28}]
[null,"MICHIGAN, UPPER PENINSULA, DICKINSON","DICKINSON",{"$f":"VLOOKUP(B166,[1]Corn!B$58:K$113,10,FALSE)","v":{"$error":"#N/A"}},{"$f":"VLOOKUP(B166,[1]Soys!B$2:L$48,11,FALSE)","v":{"$error":"#N/A"}},{"$f":"VLOOKUP(B166,[1]WHEAT!B$2:L$43,11,FALSE)","v":{"$error":"#N/A"}},{"$f":"VLOOKUP(B166,[1]Oats!B$2:L$43,11,FALSE)","v":35.5},null,28]
[null,"MICHIGAN, UPPER PENINSULA, MENOMINEE","MENOMINEE",{"$f":"VLOOKUP(B167,[1]Corn!B$58:K$113,10,FALSE)","v":73.2},{"$f":"VLOOKUP(B167,[1]Soys!B$2:L$48,11,FALSE)","v":{"$error":"#N/A"}},{"$f":"VLOOKUP(B167,[1]WHEAT!B$2:L$43,11,FALSE)","v":{"$error":"#N/A"}},{"$f":"VLOOKUP(B167,[1]Oats!B$2:L$43,11,FALSE)","v":42.8},null,28]
[null,"MICHIGAN, UPPER PENINSULA, MENOMINEE","MENOMINEE",{"$f":"VLOOKUP(B168,[1]Corn!B$58:K$113,10,FALSE)","v":73.2},{"$f":"VLOOKUP(B168,[1]Soys!B$2:L$48,11,FALSE)","v":{"$error":"#N/A"}},{"$f":"VLOOKUP(B168,[1]WHEAT!B$2:L$43,11,FALSE)","v":{"$error":"#N/A"}},{"$f":"VLOOKUP(B168,[1]Oats!B$2:L$43,11,FALSE)","v":42.8},null,28]
[null,"MICHIGAN, UPPER PENINSULA, OTHER (COMBINED) COUNTIES","OTHER (COMBINED) COU",{"$f":"VLOOKUP(B169,[1]Corn!B$58:K$113,10,FALSE)","v":117.9},{"$f":"VLOOKUP(B169,[1]Soys!B$2:L$48,11,FALSE)","v":{"$error":"#N/A"}},{"$f":"VLOOKUP(B169,[1]WHEAT!B$2:L$43,11,FALSE)","v":{"$error":"#N/A"}},{"$f":"VLOOKUP(B169,[1]Oats!B$2:L$43,11,FALSE)","v":46.7},null,28]
[null,"MICHIGAN, UPPER PENINSULA, OTHER (COMBINED) COUNTIES","OTHER (COMBINED) COU",{"$f":"VLOOKUP(B170,[1]Corn!B$58:K$113,10,FALSE)","v":117.9},{"$f":"VLOOKUP(B170,[1]Soys!B$2:L$48,11,FALSE)","v":{"$error":"#N/A"}},{"$f":"VLOOKUP(B170,[1]WHEAT!B$2:L$43,11,FALSE)","v":{"$error":"#N/A"}},{"$f":"VLOOKUP(B170,[1]Oats!B$2:L$43,11,FALSE)","v":46.7},null,28]
[null,"MICHIGAN, WEST CENTRAL, MASON","MASON",{"$f":"VLOOKUP(B171,[1]Corn!B$58:K$113,10,FALSE)","v":155.5},{"$f":"VLOOKUP(B171,[1]Soys!B$2:L$48,11,FALSE)","v":42},{"$f":"VLOOKUP(B171,[1]WHEAT!B$2:L$43,11,FALSE)","v":59.7},{"$f":"VLOOKUP(B171,[1]Oats!B$2:L$43,11,FALSE)","v":60.7},null,{"$f":"FIND(\"MASON\",B171,1)","v":25}]
[null,"MICHIGAN, WEST CENTRAL, MASON","MASON",{"$f":"VLOOKUP(B172,[1]Corn!B$58:K$113,10,FALSE)","v":155.5},{"$f":"VLOOKUP(B172,[1]Soys!B$2:L$48,11,FALSE)","v":42},{"$f":"VLOOKUP(B172,[1]WHEAT!B$2:L$43,11,FALSE)","v":59.7},{"$f":"VLOOKUP(B172,[1]Oats!B$2:L$43,11,FALSE)","v":60.7},null,25]
[null,"MICHIGAN, WEST CENTRAL, MASON","MASON",{"$f":"VLOOKUP(B173,[1]Corn!B$58:K$113,10,FALSE)","v":155.5},{"$f":"VLOOKUP(B173,[1]Soys!B$2:L$48,11,FALSE)","v":42},{"$f":"VLOOKUP(B173,[1]WHEAT!B$2:L$43,11,FALSE)","v":59.7},{"$f":"VLOOKUP(B173,[1]Oats!B$2:L$43,11,FALSE)","v":60.7},null,25]
[null,"MICHIGAN, WEST CENTRAL, MASON","MASON",{"$f":"VLOOKUP(B174,[1]Corn!B$58:K$113,10,FALSE)","v":155.5},{"$f":"VLOOKUP(B174,[1]Soys!B$2:L$48,11,FALSE)","v":42},{"$f":"VLOOKUP(B174,[1]WHEAT!B$2:L$43,11,FALSE)","v":59.7},{"$f":"VLOOKUP(B174,[1]Oats!B$2:L$43,11,FALSE)","v":60.7},null,25]
[null,"MICHIGAN, WEST CENTRAL, MUSKEGON","MUSKEGON",{"$f":"VLOOKUP(B175,[1]Corn!B$58:K$113,10,FALSE)","v":{"$error":"#N/A"}},{"$f":"VLOOKUP(B175,[1]Soys!B$2:L$48,11,FALSE)","v":40.5},{"$f":"VLOOKUP(B175,[1]WHEAT!B$2:L$43,11,FALSE)","v":{"$error":"#N/A"}},{"$f":"VLOOKUP(B175,[1]Oats!B$2:L$43,11,FALSE)","v":70},null,25]
[null,"MICHIGAN, WEST CENTRAL, MUSKEGON","MUSKEGON",{"$f":"VLOOKUP(B176,[1]Corn!B$58:K$113,10,FALSE)","v":{"$error":"#N/A"}},{"$f":"VLOOKUP(B176,[1]Soys!B$2:L$48,11,FALSE)","v":40.5},{"$f":"VLOOKUP(B176,[1]WHEAT!B$2:L$43,11,FALSE)","v":{"$error":"#N/A"}},{"$f":"VLOOKUP(B176,[1]Oats!B$2:L$43,11,FALSE)","v":70},null,25]
[null,"MICHIGAN, WEST CENTRAL, NEWAYGO","NEWAYGO",{"$f":"VLOOKUP(B177,[1]Corn!B$58:K$113,10,FALSE)","v":138},{"$f":"VLOOKUP(B177,[1]Soys!B$2:L$48,11,FALSE)","v":36.1},{"$f":"VLOOKUP(B177,[1]WHEAT!B$2:L$43,11,FALSE)","v":61.5},{"$f":"VLOOKUP(B177,[1]Oats!B$2:L$43,11,FALSE)","v":{"$error":"#N/A"}},null,25]
[null,"MICHIGAN, WEST CENTRAL, NEWAYGO","NEWAYGO",{"$f":"VLOOKUP(B178,[1]Corn!B$58:K$113,10,FALSE)","v":138},{"$f":"VLOOKUP(B178,[1]Soys!B$2:L$48,11,FALSE)","v":36.1},{"$f":"VLOOKUP(B178,[1]WHEAT!B$2:L$43,11,FALSE)","v":61.5},{"$f":"VLOOKUP(B178,[1]Oats!B$2:L$43,11,FALSE)","v":{"$error":"#N/A"}},null,25]
[null,"MICHIGAN, WEST CENTRAL, NEWAYGO","NEWAYGO",{"$f":"VLOOKUP(B179,[1]Corn!B$58:K$113,10,FALSE)","v":138},{"$f":"VLOOKUP(B179,[1]Soys!B$2:L$48,11,FALSE)","v":36.1},{"$f":"VLOOKUP(B179,[1]WHEAT!B$2:L$43,11,FALSE)","v":61.5},{"$f":"VLOOKUP(B179,[1]Oats!B$2:L$43,11,FALSE)","v":{"$error":"#N/A"}},null,25]
[null,"MICHIGAN, WEST CENTRAL, OCEANA","OCEANA",{"$f":"VLOOKUP(B180,[1]Corn!B$58:K$113,10,FALSE)","v":144.6},{"$f":"VLOOKUP(B180,[1]Soys!B$2:L$48,11,FALSE)","v":{"$error":"#N/A"}},{"$f":"VLOOKUP(B180,[1]WHEAT!B$2:L$43,11,FALSE)","v":53.6},{"$f":"VLOOKUP(B180,[1]Oats!B$2:L$43,11,FALSE)","v":51.7},null,25]
[null,"MICHIGAN, WEST CENTRAL, OCEANA","OCEANA",{"$f":"VLOOKUP(B181,[1]Corn!B$58:K$113,10,FALSE)","v":144.6},{"$f":"VLOOKUP(B181,[1]Soys!B$2:L$48,11,FALSE)","v":{"$error":"#N/A"}},{"$f":"VLOOKUP(B181,[1]WHEAT!B$2:L$43,11,FALSE)","v":53.6},{"$f":"VLOOKUP(B181,[1]Oats!B$2:L$43,11,FALSE)","v":51.7},null,25]
[null,"MICHIGAN, WEST CENTRAL, OCEANA","OCEANA",{"$f":"VLOOKUP(B182,[1]Corn!B$58:K$113,10,FALSE)","v":144.6},{"$f":"VLOOKUP(B182,[1]Soys!B$2:L$48,11,FALSE)","v":{"$error":"#N/A"}},{"$f":"VLOOKUP(B182,[1]WHEAT!B$2:L$43,11,FALSE)","v":53.6},{"$f":"VLOOKUP(B182,[1]Oats!B$2:L$43,11,FALSE)","v":51.7},null,25]
[null,"MICHIGAN, WEST CENTRAL, OTHER (COMBINED) COUNTIES","OTHER (COMBINED) COU",{"$f":"VLOOKUP(B183,[1]Corn!B$58:K$113,10,FALSE)","v":139.19999999999999},{"$f":"VLOOKUP(B183,[1]Soys!B$2:L$48,11,FALSE)","v":42.4},{"$f":"VLOOKUP(B183,[1]WHEAT!B$2:L$43,11,FALSE)","v":51.6},{"$f":"VLOOKUP(B183,[1]Oats!B$2:L$43,11,FALSE)","v":40},null,25]
[null,"MICHIGAN, WEST CENTRAL, OTHER (COMBINED) COUNTIES","OTHER (COMBINED) COU",{"$f":"VLOOKUP(B184,[1]Corn!B$58:K$113,10,FALSE)","v":139.19999999999999},{"$f":"VLOOKUP(B184,[1]Soys!B$2:L$48,11,FALSE)","v":42.4},{"$f":"VLOOKUP(B184,[1]WHEAT!B$2:L$43,11,FALSE)","v":51.6},{"$f":"VLOOKUP(B184,[1]Oats!B$2:L$43,11,FALSE)","v":40},null,25]
[null,"MICHIGAN, WEST CENTRAL, OTHER (COMBINED) COUNTIES","OTHER (COMBINED) COU",{"$f":"VLOOKUP(B185,[1]Corn!B$58:K$113,10,FALSE)","v":139.19999999999999},{"$f":"VLOOKUP(B185,[1]Soys!B$2:L$48,11,FALSE)","v":42.4},{"$f":"VLOOKUP(B185,[1]WHEAT!B$2:L$43,11,FALSE)","v":51.6},{"$f":"VLOOKUP(B185,[1]Oats!B$2:L$43,11,FALSE)","v":40},null,25]
[null,"MICHIGAN, WEST CENTRAL, OTHER (COMBINED) COUNTIES","OTHER (COMBINED) COU",{"$f":"VLOOKUP(B186,[1]Corn!B$58:K$113,10,FALSE)","v":139.19999999999999},{"$f":"VLOOKUP(B186,[1]Soys!B$2:L$48,11,FALSE)","v":42.4},{"$f":"VLOOKUP(B186,[1]WHEAT!B$2:L$43,11,FALSE)","v":51.6},{"$f":"VLOOKUP(B186,[1]Oats!B$2:L$43,11,FALSE)","v":40},null,25]

{"sheet":"MYA Prices","index":9,"n_rows":59,"n_cols":38,"rows_kept":59,"cut":false,"hidden":true,"merged":[]}
[1,2,3,4,5,6,7,8,9,10,11,12,13,14,15,16,17,18,19,20]
[null,"1 ","2 ","3 ","4 ","5 ","6 ","7 ","8 ","9 ","10 ","11 ","12 ","13 ","14 ","15 ","16 ","17 ","18 ","19 ","20 ","21 ","22 ","23 ","24 ","25 ","26 ","27 ","28 ","29 ","30 ","31 ","32 ","33 ","34 ","35 ","36 ","37 "]
[null,null,"Corn 13","Corn 14","Corn 15","Corn 16","Corn 17","Corn 18","Corn 19","Corn 20","Corn 21","Corn 22","Corn 23","Corn 24","Soy 13","SOY 14","SOY 15","SOY 16","SOY 17","SOY 18","SOY 19","SOY 20","SOY 21","SOY 22","SOY 23","SOY 24","Wheat 13","Wheat 14","Wheat 15","Wheat 16","Wheat 17","Wheat 18","Wheat 19","Wheat 20","Wheat 21","Wheat 22","Wheat 23","Wheat 24"]
[null,{"$f":"D20","v":"USDA Ag Outlook 2/20"},{"$f":"E20","v":4.46},3.7,3.61,3.36,3.36,3.61,3.8,3.4,{"$f":"M20","v":3.4},3.45,3.45,3.5,{"$f":"E30","v":13},{"$f":"F30","v":10.1},8.9499999999999993,9.4700000000000006,9.33,8.48,8.75,8.85,8.4499999999999993,8.5500000000000007,8.6,8.6999999999999993,{"$f":"E40","v":6.87},{"$f":"F40","v":5.99},4.8899999999999997,3.89,4.72,5.16,4.55,4.8,4.9000000000000004,5,5,5.05]
[null,"USDA/WASDE  2/21/20",4.46,3.7,3.61,3.36,3.36,3.61,3.85,3.6,0,0,0,0,{"$f":"E31","v":13},10.1,8.9499999999999993,9.4700000000000006,9.33,8.48,8.75,8.8000000000000007,0,0,0,0,{"$f":"E41","v":6.87},5.99,4.8899999999999997,3.89,4.72,5.16,4.55,4.9000000000000004,0,0,0,0]
[null,"CBO Baseline  1/20",4.46,3.7,3.61,3.36,3.36,3.61,3.85,3.55,3.55,3.55,3.6,3.6,13,10.1,8.9499999999999993,9.4700000000000006,9.33,8.48,8.8000000000000007,8.5,8.5,8.6,8.6999999999999993,8.8000000000000007,6.87,5.99,4.8899999999999997,3.89,4.72,5.16,4.5999999999999996,4.8499999999999996,4.8499999999999996,4.95,5,5.0999999999999996]
[null,"FAPRI   11/19",{"$f":"E23","v":4.46},{"$f":"F23","v":3.7},3.61,3.36,3.36,3.61,3.85,3.53,3.56,3.6,3.64,3.67,13,10.1,8.9499999999999993,9.4700000000000006,9.33,8.48,8.99,8.5399999999999991,8.61,{"$f":"N33","v":8.5500000000000007},8.56,8.59,6.87,5.99,4.8899999999999997,3.89,4.72,5.16,4.58,4.7300000000000004,4.8600000000000003,4.9800000000000004,5.08,5.15]
[null,"Futures   2/13/20",{"$f":"E24","v":4.46},3.7,3.61,3.36,3.36,3.61,3.9,3.8,3.85,0,0,0,13,10.1,8.9499999999999993,9.4700000000000006,9.33,8.48,8.85,8.6999999999999993,8.75,0,0,0,6.87,5.99,4.8899999999999997,3.89,4.72,5.16,4.5424999999999995,4.7424999999999997,4.9849999999999994,5.05,0,0]
[null,"Hilker  2/23/20",{"$f":"E25","v":4.46},3.7,3.61,3.36,3.36,3.61,3.95,3.55,3.65,3.75,3.85,3.9,13,10.1,8.9499999999999993,9.4700000000000006,9.33,8.48,8.9,8.85,8.9425000000000008,9.1875,9.432500000000001,9.36,6.87,5.99,4.8899999999999997,3.8899999999999997,4.72,5.16,4.5999999999999996,5,5,5.0999999999999996,5.15,5.15]
[null,"Composite ",{"$f":"E26","v":4.46},3.6999999999999997,3.61,3.36,3.36,3.61,3.8666666666666667,3.5716666666666668,3.6019999999999994,3.5874999999999999,3.6350000000000002,3.6675,13,10.1,8.9500000000000011,9.4700000000000006,9.33,8.48,8.84,8.706666666666667,8.650500000000001,8.7218750000000007,8.823125000000001,8.8625000000000007,6.87,5.9900000000000011,4.8899999999999997,3.89,4.72,5.16,4.5704166666666666,4.8370833333333332,4.9189999999999996,5.016,5.0575000000000001,5.1124999999999998]
[null,"Reference Price",3.7,3.7,3.7,3.7,3.7,3.7,3.7,3.7,3.7,3.7,3.7,3.7,8.4,8.4,8.4,8.4,8.4,8.4,8.4,8.4,8.4,8.4,8.4,8.4,5.5,5.5,5.5,5.5,5.5,5.5,5.5,5.5,5.5,5.5,5.5,5.5]
[null,"Benchmark Price"]
[]
[]
[null,null,null,"Updated   2/11/20"]
[]
[null,null,null,null,null,null,"Five Year Price Forecasts "]
["Five Year Price Forecasts for the 2018 Farm Bill",null,null,null,null,null,null,null,null,"Corn"]
[null,null,null,null,"2013/14","2014/15","2015/16","2016/17","2017/18","2018/19","2019/20","2020/21","2021/22","2022/23","2023/24","2024/25"]
[null,null,null,"USDA Ag Outlook 2/20",4.46,3.7,3.61,3.36,3.36,3.61,3.8,3.4,3.4,3.45,3.45,3.5]
[null,null,null,"USDA/WASDE  2/21/20",4.46,3.7,3.61,3.36,3.36,3.61,3.85,3.6]
[null,null,null,"CBO Baseline  1/20",4.46,3.7,3.61,3.36,3.36,3.61,3.85,3.55,3.55,3.55,3.6,3.6]
[null,null,null,"FAPRI   11/19",4.46,3.7,3.61,3.36,3.36,3.61,3.85,3.53,3.56,3.6,3.64,3.67]
[null,null,null,"Futures   2/13/20",4.46,3.7,3.61,3.36,3.36,3.61,3.9,3.8,3.85]
[null,null,null,"Hilker  2/23/20",4.46,3.7,3.61,3.36,3.36,3.61,3.95,3.55,3.65,3.75,3.85,3.9]
[null,null,null,"Composite ",{"$f":"AVERAGE(E20:E25)","v":4.46},{"$f":"AVERAGE(F20:F25)","v":3.6999999999999997},{"$f":"AVERAGE(G20:G25)","v":3.61},3.36,3.36,3.61,3.8666666666666667,3.5716666666666668,3.6019999999999994,3.5874999999999999,3.6350000000000002,3.6675]
[]
[null,null,null,null,null,null,null,null,null,"Soybeans"]
[null,null,null,null,"2013/14","2014/15","2015/16","2016/17","2017/18","2018/19","2019/20","2020/21","2021/22","2022/23","2023/24","2024/25"]
[null,null,null,"USDA Ag Outlook 2/20",13,10.1,8.9499999999999993,9.4700000000000006,9.33,8.48,8.75,8.85,8.4499999999999993,8.5500000000000007,8.6,8.6999999999999993]
[null,null,null,"USDA/WASDE  2/21/20",13,10.1,8.9499999999999993,9.4700000000000006,9.33,8.48,8.75,8.8000000000000007]
[null,null,null,"CBO Baseline  1/20",13,10.1,8.9499999999999993,9.4700000000000006,9.33,8.48,8.8000000000000007,8.5,8.5,8.6,8.6999999999999993,8.8000000000000007]
[null,null,null,"FAPRI   11/19",13,10.1,8.9499999999999993,9.4700000000000006,9.33,8.48,8.99,8.5399999999999991,8.61,8.5500000000000007,8.56,8.59]
[null,null,null,"Futures   2/13/20",13,10.1,8.9499999999999993,9.4700000000000006,9.33,8.48,8.85,8.6999999999999993,8.75]
[null,null,null,"Hilker  2/23/20",13,10.1,8.9499999999999993,9.4700000000000006,9.33,8.48,8.9,8.85,{"$f":"M25*2.45","v":8.9425000000000008},{"$f":"N25*2.45","v":9.1875},{"$f":"O25*2.45","v":9.432500000000001},{"$f":"P25*2.4","v":9.36}]
[null,null,null,"Composite ",{"$f":"AVERAGE(E30:E35)","v":13},{"$f":"AVERAGE(F30:F35)","v":10.1},{"$f":"AVERAGE(G30:G35)","v":8.9500000000000011},9.4700000000000006,9.33,8.48,8.84,8.706666666666667,8.650500000000001,8.7218750000000007,8.823125000000001,8.8625000000000007]
[]
[null,null,null,null,null,null,null,null,null,"Wheat"]
[null,null,null,null,"2013/14","2014/15","2015/16","2016/17","2017/18","2018/19","2019/20","2020/21","2021/22","2022/23","2023/24","2024/25"]
[null,null,null,"USDA Ag Outlook 2/20",6.87,5.99,4.8899999999999997,3.89,4.72,5.16,4.55,4.8,4.9000000000000004,5,5,5.05]
[null,null,null,"USDA/WASDE  2/21/20",6.87,5.99,4.8899999999999997,3.89,4.72,5.16,4.55,4.9000000000000004]
[null,null,null,"CBO Baseline  1/20",6.87,5.99,4.8899999999999997,3.89,4.72,5.16,4.5999999999999996,4.8499999999999996,4.8499999999999996,4.95,5,5.0999999999999996]
[null,null,null,"FAPRI   11/19",6.87,5.99,4.8899999999999997,3.89,4.72,5.16,4.58,4.7300000000000004,4.8600000000000003,4.9800000000000004,5.08,5.15]
[null,null,null,"Futures   2/13/20",6.87,5.99,4.8899999999999997,3.89,4.72,5.16,{"$f":"((K57*0.25)+(K58*0.5)+(K59*0.25))-0.2","v":4.5424999999999995},{"$f":"((L57*0.25)+(L58*0.5)+(L59*0.25))-0.5","v":4.7424999999999997},{"$f":"((M57*0.25)+(M58*0.5)+(M59*0.25))-0.5","v":4.9849999999999994},{"$f":"((N57*0.25)+(N58*0.5)+(N59*0.25))-0.5","v":5.05}]
[null,null,null,"Hilker  2/23/20",6.87,{"$f":"AVERAGE(F40:F44)","v":5.99},{"$f":"AVERAGE(G40:G44)","v":4.8899999999999997},{"$f":"AVERAGE(H40:H44)","v":3.8899999999999997},4.72,5.16,4.5999999999999996,5,5,5.0999999999999996,5.15,5.15]
[null,null,null,"Composite ",{"$f":"AVERAGE(E40:E45)","v":6.87},{"$f":"AVERAGE(F40:F45)","v":5.9900000000000011},{"$f":"AVERAGE(G40:G45)","v":4.8899999999999997},3.89,4.72,5.16,4.5704166666666666,4.8370833333333332,4.9189999999999996,5.016,5.0575000000000001,5.1124999999999998]
[]
[null,null,null,null,null,null,null,null,null,null,null,null,null,null,"UPDATES "]
[null,null,null,"FAPRI - Food and Agricultural Policy Research Institute  (http://www.fapri.missouri.edu/)",null,null,null,null,null,null,null,null,null,null,"April. 2020"]
[null,null,null,"USDA's Agricultural Projections to 2028",null,null,null,"http://www.usda.gov/oce/commodity/projections/index.htm",null,null,null,null,null,null,"Nov. 2019",null," "]
[null,null,null,"CBO's May 2019 Baseline ",null,null,"https://www.cbo.gov/sites/default/files/recurringdata/51317-2018-04-usda.pdf",null,null,null,null,null,null,null,"Jan. 2020"]
[null,null,null,"Futures - Hilker's Interpretation of what the Futures Markets are suggesting"]
[null,null,null,"Hilker - MSU Extension Economist"]
[null,null,null,"Composite - Average of the FAPRI, USDA/WASDE, CBO, Futures, & Hilker Forecasts"]
[]
[null,null,null,null,null,null,null,null,null,null,19,20,21,22]
[null,null,null,"Chicago",null,null,null,null,null,null,5.15,5.55,5.64,5.7]
[null,null,null,"Kansas City",null,null,null,null,null,null,4.28,4.91,5.2,5.25]
[null,null,null,"Minneapolis ",null,null,null,null,null,null,5.26,5.6,5.9,6]

{"sheet":"FSA 18","index":10,"n_rows":482,"n_cols":70,"rows_kept":482,"cut":false,"hidden":true,"merged":[]}
[null,null,null,null,1,2,3,4,5,6,7,8,9,10,11,12,"Program Year 2014 Benchmark, Actual  and Payment Rates",14,15,16,17,18,19,20,21,22,23,"Program Year 2015 Benchmark, Actual  and Payment Rates",25,26,27,28,29,30,31,32,33,34,"Program Year 2016 Benchmark, Actual  and Payment Rates",36,37,38,39,40,41,42,43,44,45,"Program Year 2017 Benchmark Yields and Revenues",47,48,49,50,51,52,53,54,55,56,"Program Year 2018 Benchmark Yields and  Revenues",58,59,60,61,62,63,64,65,66]
["ARC-CO Yields, Prices, Revenue, and Payment Rates as of October 8, 2019",null,null,null,null,null,null,null,null,null,null,null,null,null,null,null,"A","B","C","D","E","F","G","H","I","J",null,"AA","BB","CC","DD","EE","FF","GG","HH","II","JJ",null,"AAA","BBB","CCC","DDD","EEE","FFF","GGG","HHH","III","JJJ",null,"AAAA","BBBB","CCCC","DDDD","EEEE","FFFF","GGGG","HHHH","IIII","JJJJ",null,"AAAAA","BBBBB","CCCCC","DDDDD","EEEEE","FFFFF","GGGGG","HHHHH","IIIII","JJJJJ"]
[null,null,null,null,"Helper Column",null,null,null,null,null,null,null,null,null,null,null,null,null,"(A * B)","(86% of C)","(10% of C)",null,null,"(F * G)","(D - H), not less than 0","Lesser of E or I (capped at 10% of Benchmark)",null,null,null,"(AA * BB)","(86% of CC)","(10% of CC)",null,null,"(FF * GG)","(DD - HH), not less than 0","Lesser of EE or II (capped at 10% of Benchmark)",null,null,null,"(AAA * BBB)","(86% of CCC)","(10% of CCC)",null,null,"(FFF * GGG)","(DDD - HHH), not less than 0","Lesser of EEE or III (capped at 10% of Benchmark)",null,null,null,"(AAAA * BBBB)","(86% of CCCC)","(10% of CCCC)",null,null,"(FFFF * GGGG)","(DDDD - HHHH), not less than 0","Lesser of EEEE or IIII (capped at 10% of Benchmark)",null,null,null,"(AAAAA * BBBBB)","(86% of CCCCC)","(10% of CCCCC)",null,null,"(FFFFF * GGGGG)","(DDDDD - HHHHH), not less than 0","Lesser of EEEEE or IIIII (capped at 10% of Benchmark)"]
["ST_Cty","State Name","County Name","Crop Name","Unit","Yield Type","2009 (county yield or 70% of T)","2010 (county yield or 70% of T)","2011 (county yield or 70% of T)","2012 (county yield or 70% of T)","2013 (county yield or 70% of T)","2014 (county yield or 70% of T)","2015 (county yield or 70% of T)","2016 (county yield or 70% of T)","2017 (county yield or 70% of T)",null,"2014 Bench Mark \n(2009-13 olympic avg)","2014 Bench Mark Price \n(2009-13 olympic avg)","2014 Benchmark Revenue","2014 Guarantee Revenue"," 2014 Maximum Payment Rate","2014 Actual Yield","2014 National Price","2014 Actual Revenue","2014 Formula Payment Rate","2014 Payment Rate",null,"2015 Bench Mark \n(2010-14 olympic avg)","2015 Bench Mark Price \n(2010-14 olympic avg)","2015 Benchmark Revenue","2015 Guarantee Revenue"," 2015 Maximum Payment Rate","2015 Actual Yield","2015 National Price","2015 Actual Revenue","2015 Formula Payment Rate","2015 Payment Rate",null,"2016 Bench Mark \n(2011-15 olympic avg)","2016 Bench Mark Price \n(2011-15 olympic avg)","2016 Benchmark Revenue","2016 Guarantee Revenue"," 2016 Maximum Payment Rate","2016 Actual Yield","2016 National Price","2016 Actual Revenue","2016 Formula Payment Rate","2016 Payment Rate",null,"2017 Bench Mark \n(2012-16 olympic avg)","2017 Bench Mark Price \n(2012-16 olympic avg)","2017 Benchmark Revenue","2017 Guarantee Revenue"," 2017 Maximum Payment Rate","2017 Actual Yield","2017 National Price","2017 Actual Revenue","2017 Formula Payment Rate","2017 Payment Rate",null,"2018 Bench Mark \n(2013-17 olympic avg)"," 2018 Bench Mark Price \n(2013-17 olympic avg)","2018 Benchmark Revenue","2018 Guarantee Revenue"," 2018 Maximum Payment Rate","2018 Actual Yield","2018 National Price","2018 Actual Revenue","2018 Formula Payment Rate","2018 Payment Rate"]
["26001","Michigan","Alcona","Barley",{"$f":"C5&D5&F5","v":"AlconaBarleyAll"},"All",51,54,48,48,52,56,56,66,91,null,50,5.45,272.5,234.35,27.25,56,5.3,296.8,0,0,null,51,5.57,284.07,244.3,28.41,56,5.52,309.12,0,0,null,52,5.64,293.27999999999997,252.22,29.33,66,4.96,327.36,0,0,null,55,5.63,309.64999999999998,266.3,30.97,91,4.47,406.77,0,0,null,59,5.26,310.33999999999997,266.89,31.03,43,4.62,198.66,68.22999999999999,31.03]
["26001","Michigan","Alcona","Corn",{"$f":"C6&D6&F6","v":"AlconaCornAll"},"All",73,131,80,69,120,81,149,116,109,null,91,5.29,481.39,414,48.14,81,3.7,299.7,114.30000000000001,48.14,null,94,5.29,497.26,427.64,49.73,149,3.61,537.89,0,0,null,94,4.79,450.26,387.22,45.03,116,3.36,389.76,0,0,null,106,3.95,418.7,360.08,41.87,109,3.36,366.24,0,0,null,115,3.7,425.5,365.93,42.55,120,3.61,433.2,0,0]
["26001","Michigan","Alcona","Oats","AlconaOatsAll","All",63,65,64,68,57,69,57,44,60,null,64,3.25,208,178.88,20.8,69,3.21,221.49,0,0,null,66,3.48,229.68,197.52,22.97,57,2.12,120.84,76.680000000000007,22.97,null,63,3.48,219.24,188.55,21.92,44,2.06,90.64,97.910000000000011,21.92,null,61,3.12,190.32,163.68,19.03,60,2.59,155.4,8.2800000000000011,8.2800000000000011,null,58,2.73,158.34,136.16999999999999,15.83,63,2.66,167.58,0,0]
["26001","Michigan","Alcona","Soybeans","AlconaSoybeansAll","All",29,37,20,29,29,20,36,40,37,null,29,12.27,355.83,306.01,35.58,18,10.1,181.8,124.20999999999998,35.58,null,26,12.27,319.02,274.36,31.9,36,8.9499999999999993,322.2,0,0,null,26,11.87,308.62,265.41000000000003,30.86,40,9.4700000000000006,378.8,0,0,null,31,10.86,336.66,289.52999999999997,33.67,37,9.33,345.21,0,0,null,34,9.6300000000000008,327.42,281.58,32.74,35,8.48,296.8,0,0]
["26001","Michigan","Alcona","Wheat","AlconaWheatAll","All",49,66,70,68,40,46,78,74,45,null,61,6.6,402.6,346.24,40.26,46,5.99,275.54000000000002,70.699999999999989,40.26,null,60,6.7,402,345.72,40.200000000000003,78,4.8899999999999997,381.42,0,0,null,61,6.7,408.7,351.48,40.869999999999997,74,3.89,287.86,63.620000000000005,40.869999999999997,null,63,6.12,385.56,331.58,38.56,45,4.72,212.4,119.17999999999998,38.56,null,55,5.66,311.3,267.72000000000003,31.13,45,5.16,232.2,35.520000000000039,31.13]
["26003","Michigan","Alger","Barley","AlgerBarleyAll","All",51,54,48,48,52,56,56,66,91,null,50,5.45,272.5,234.35,27.25,56,5.3,296.8,0,0,null,51,5.57,284.07,244.3,28.41,56,5.52,309.12,0,0,null,52,5.64,293.27999999999997,252.22,29.33,66,4.96,327.36,0,0,null,55,5.63,309.64999999999998,266.3,30.97,91,4.47,406.77,0,0,null,59,5.26,310.33999999999997,266.89,31.03,43,4.62,198.66,68.22999999999999,31.03]
["26003","Michigan","Alger","Corn","AlgerCornAll","All",46,127,46,84,120,46,132,87,51,null,83,5.29,439.07,377.6,43.91,38,3.7,140.6,237.00000000000003,43.91,null,83,5.29,439.07,377.6,43.91,132,3.61,476.52,0,0,null,83,4.79,397.57,341.91,39.76,87,3.36,292.32,49.590000000000032,39.76,null,97,3.95,383.15,329.51,38.32,37,3.36,124.32,205.19,38.32,null,86,3.7,318.2,273.64999999999998,31.82,111,3.61,400.71,0,0]
["26003","Michigan","Alger","Oats","AlgerOatsAll","All",58,55,59,60,63,59,57,55,47,null,59,3.25,191.75,164.91,19.18,59,3.21,189.39,0,0,null,59,3.48,205.32,176.58,20.53,57,2.12,120.84,55.740000000000009,20.53,null,59,3.48,205.32,176.58,20.53,55,2.06,113.3,63.280000000000015,20.53,null,59,3.12,184.08,158.31,18.41,47,2.59,121.73,36.58,18.41,null,57,2.73,155.61000000000001,133.82,15.56,63,2.66,167.58,0,0]
["26003","Michigan","Alger","Wheat","AlgerWheatAll","All",47,56,50,41,41,47,51,55,52,null,46,6.6,303.60000000000002,261.10000000000002,30.36,47,5.99,281.52999999999997,0,0,null,46,6.7,308.2,265.05,30.82,51,4.8899999999999997,249.39,15.660000000000025,15.66,null,46,6.7,308.2,265.05,30.82,55,3.89,213.95,51.100000000000023,30.82,null,46,6.12,281.52,242.11,28.15,52,4.72,245.44,0,0,null,50,5.66,283,243.38,28.3,40,5.16,206.4,36.97999999999999,28.3]
["26005","Michigan","Allegan","Barley","AlleganBarleyAll","All",51,54,48,48,52,56,56,66,91,null,50,5.45,272.5,234.35,27.25,56,5.3,296.8,0,0,null,51,5.57,284.07,244.3,28.41,56,5.52,309.12,0,0,null,52,5.64,293.27999999999997,252.22,29.33,66,4.96,327.36,0,0,null,55,5.63,309.64999999999998,266.3,30.97,91,4.47,406.77,0,0,null,59,5.26,310.33999999999997,266.89,31.03,43,4.62,198.66,68.22999999999999,31.03]
["26005","Michigan","Allegan","Corn","AlleganCornAll","All",162,151,175,111,151,175,150,170,176,null,155,5.29,819.95,705.16,82,175,3.7,647.5,57.659999999999968,57.66,null,159,5.29,841.11,723.35,84.11,150,3.61,541.5,181.85000000000002,84.11,null,159,4.79,761.61,654.98,76.16,170,3.36,571.20000000000005,83.779999999999973,76.16,null,157,3.95,620.15,533.33000000000004,62.02,176,3.36,591.36,0,0,null,165,3.7,610.5,525.03,61.05,155,3.61,559.54999999999995,0,0]
["26005","Michigan","Allegan","Grain Sorghum","AlleganGrain SorghumAll","All",70,97,89,60,88,104,86,91,60,null,82,5.0999999999999996,418.2,359.65,41.82,104,4.03,419.12,0,0,null,91,5.0999999999999996,464.1,399.13,46.41,86,3.31,284.66000000000003,114.46999999999997,46.41,null,88,4.7699999999999996,419.76,360.99,41.98,91,2.79,253.89,107.10000000000002,41.98,null,88,4.09,359.92,309.52999999999997,35.99,48,3.22,154.56,154.96999999999997,35.99,null,88,3.98,350.24,301.20999999999998,35.020000000000003,84,3.26,273.83999999999997,27.370000000000005,27.370000000000005]
["26005","Michigan","Allegan","Oats","AlleganOatsAll","All",52,77,70,55,61,61,87,56,37,null,62,3.25,201.5,173.29,20.149999999999999,61,3.21,195.81,0,0,null,64,3.48,222.72,191.54,22.27,87,2.12,184.44,7.0999999999999943,7.1,null,64,3.48,222.72,191.54,22.27,56,2.06,115.36,76.179999999999993,22.27,null,59,3.12,184.08,158.31,18.41,34,2.59,88.06,70.25,18.41,null,59,2.73,161.07,138.52000000000001,16.11,63,2.66,167.58,0,0]
["26005","Michigan","Allegan","Soybeans","AlleganSoybeansAll","All",45,46,48,39,43,43,46,55,48,null,45,12.27,552.15,474.85,55.22,43,10.1,434.3,40.550000000000011,40.549999999999997,null,44,12.27,539.88,464.3,53.99,46,8.9499999999999993,411.7,52.600000000000023,52.6,null,44,11.87,522.28,449.16,52.23,55,9.4700000000000006,520.85,0,0,null,44,10.86,477.84,410.94,47.78,48,9.33,447.84,0,0,null,46,9.6300000000000008,442.98,380.96,44.3,46,8.48,390.08,0,0]
["26005","Michigan","Allegan","Wheat","AlleganWheatAll","All",58,55,75,64,68,69,53,67,63,null,63,6.6,415.8,357.59,41.58,69,5.99,413.31,0,0,null,67,6.7,448.9,386.05,44.89,53,4.8899999999999997,259.17,126.88,44.89,null,67,6.7,448.9,386.05,44.89,67,3.89,260.63,125.42000000000002,44.89,null,66,6.12,403.92,347.37,40.39,63,4.72,297.36,50.009999999999991,40.39,null,66,5.66,373.56,321.26,37.36,70,5.16,361.2,0,0]
["26007","Michigan","Alpena","Barley","AlpenaBarleyAll","All",51,54,48,48,52,56,56,66,91,null,50,5.45,272.5,234.35,27.25,56,5.3,296.8,0,0,null,51,5.57,284.07,244.3,28.41,56,5.52,309.12,0,0,null,52,5.64,293.27999999999997,252.22,29.33,66,4.96,327.36,0,0,null,55,5.63,309.64999999999998,266.3,30.97,91,4.47,406.77,0,0,null,59,5.26,310.33999999999997,266.89,31.03,43,4.62,198.66,68.22999999999999,31.03]
["26007","Michigan","Alpena","Corn","AlpenaCornAll","All",97,126,111,108,99,102,128,82,104,null,106,5.29,560.74,482.24,56.07,102,3.7,377.4,104.84000000000003,56.07,null,107,5.29,566.03,486.79,56.6,128,3.61,462.08,24.710000000000036,24.71,null,107,4.79,512.53,440.78,51.25,82,3.36,275.52,165.26,51.25,null,103,3.95,406.85,349.89,40.69,104,3.36,349.44,0.44999999999998863,0.44999999999998863,null,102,3.7,377.4,324.56,37.74,105,3.61,379.05,0,0]
["26007","Michigan","Aplena","Grain Sorghum","AplenaGrain SorghumAll","All",70,97,89,60,88,104,86,91,60,null,82,5.0999999999999996,418.2,359.65,41.82,104,4.03,419.12,0,0,null,91,5.0999999999999996,464.1,399.13,46.41,86,3.31,284.66000000000003,114.46999999999997,46.41,null,88,4.7699999999999996,419.76,360.99,41.98,91,2.79,253.89,107.10000000000002,41.98,null,88,4.09,359.92,309.52999999999997,35.99,48,3.22,154.56,154.96999999999997,35.99,null,88,3.98,350.24,301.20999999999998,35.020000000000003,84,3.26,273.83999999999997,27.370000000000005,27.370000000000005]
["26007","Michigan","Alpena","Oats","AlpenaOatsAll","All",60,65,64,62,52,65,73,82,60,null,62,3.25,201.5,173.29,20.149999999999999,65,3.21,208.65,0,0,null,64,3.48,222.72,191.54,22.27,73,2.12,154.76,36.78,22.27,null,64,3.48,222.72,191.54,22.27,82,2.06,168.92,22.620000000000005,22.27,null,67,3.12,209.04,179.77,20.9,60,2.59,155.4,24.370000000000005,20.9,null,66,2.73,180.18,154.94999999999999,18.02,63,2.66,167.58,0,0]
["26007","Michigan","Alpena","Soybeans","AlpenaSoybeansAll","All",30,38,31,34,23,24,37,27,34,null,32,12.27,392.64,337.67,39.26,24,10.1,242.4,95.27000000000001,39.26,null,30,12.27,368.1,316.57,36.81,37,8.9499999999999993,331.15,0,0,null,30,11.87,356.1,306.25,35.61,27,9.4700000000000006,255.69,50.56,35.61,null,28,10.86,304.08,261.51,30.41,34,9.33,317.22000000000003,0,0,null,28,9.6300000000000008,269.64,231.89,26.96,37,8.48,313.76,0,0]
["26007","Michigan","Alpena","Sunflower Seed","AlpenaSunflower SeedAll","All",1571,1547,1198,1671,1569,1037,1335,1200,1575,null,1562,0.23369999999999999,365.04,313.93,36.5,1037,0.217,225.03,88.9,36.5,null,1438,0.23469999999999999,337.5,290.25,33.75,1335,0.19600000000000001,261.66000000000003,28.589999999999975,28.589999999999975,null,1367,0.2283,312.08999999999997,268.39999999999998,31.21,1200,0.17399999999999999,208.8,59.599999999999966,31.21,null,1368,0.21079999999999999,288.37,248,28.84,1575,0.17249999999999999,271.69,0,0,null,1368,0.20569999999999999,281.39999999999998,242,28.14,1569]
["26007","Michigan","Alpena","Wheat","AlpenaWheatAll","All",51,54,64,69,44,48,69,53,61,null,56,6.6,369.6,317.86,36.96,48,5.99,287.52,30.340000000000032,30.34,null,55,6.7,368.5,316.91000000000003,36.85,69,4.8899999999999997,337.41,0,0,null,60,6.7,402,345.72,40.200000000000003,53,3.89,206.17,139.55000000000004,40.200000000000003,null,57,6.12,348.84,300,34.880000000000003,61,4.72,287.92,12.079999999999984,12.079999999999984,null,54,5.66,305.64,262.85000000000002,30.56,40,5.16,206.4,56.450000000000017,30.56]
["26009","Michigan","Antrim","Barley","AntrimBarleyAll","All",51,54,48,48,52,56,56,66,91,null,50,5.45,272.5,234.35,27.25,56,5.3,296.8,0,0,null,51,5.57,284.07,244.3,28.41,56,5.52,309.12,0,0,null,52,5.64,293.27999999999997,252.22,29.33,66,4.96,327.36,0,0,null,55,5.63,309.64999999999998,266.3,30.97,91,4.47,406.77,0,0,null,59,5.26,310.33999999999997,266.89,31.03,43,4.62,198.66,68.22999999999999,31.03]
["26009","Michigan","Antrim","Canola","AntrimCanolaAll","All",1601,1326,1356,1395,2199,1211,1233,1354,1798,null,1451,0.21579999999999999,313.13,269.29000000000002,31.31,1211,0.16899999999999998,204.66,64.630000000000024,31.31,null,1359,0.21579999999999999,293.27,252.21,29.33,1233,0.156,192.35,59.860000000000014,29.33,null,1328,0.21579999999999999,286.58,246.46,28.66,1354,0.16600000000000001,224.76,21.700000000000017,21.700000000000017,null,1327,0.20300000000000001,269.38,231.67,26.94,1798,0.17499999999999999,314.64999999999998,0,0,null,1462,0.20150000000000001,294.58999999999997,253.35,29.46,1648,0.158,260.38,0,0]
["26009","Michigan","Antrim","Corn","AntrimCornAll","All",95,121,103,92,97,114,97,106,102,null,98,5.29,518.41999999999996,445.84,51.84,114,3.7,421.8,24.039999999999964,24.04,null,105,5.29,555.45000000000005,477.69,55.55,97,3.61,350.17,127.51999999999998,55.55,null,99,4.79,474.21,407.82,47.42,106,3.36,356.16,51.659999999999968,47.42,null,100,3.95,395,339.7,39.5,102,3.36,342.72,0,0,null,102,3.7,377.4,324.56,37.74,111,3.61,400.71,0,0]
["26009","Michigan","Antrim","Oats","AntrimOatsAll","All",40,62,52,50,50,63,57,54,33,null,51,3.25,165.75,142.55000000000001,16.579999999999998,63,3.21,202.23,0,0,null,55,3.48,191.4,164.6,19.14,57,2.12,120.84,43.759999999999991,19.14,null,53,3.48,184.44,158.62,18.440000000000001,54,2.06,111.24,47.38000000000001,18.440000000000001,null,54,3.12,168.48,144.88999999999999,16.850000000000001,33,2.59,85.47,59.419999999999987,16.850000000000001,null,54,2.73,147.41999999999999,126.78,14.74,63,2.66,167.58,0,0]
["26009","Michigan","Antrim","Soybeans","AntrimSoybeansAll","All",27,38,32,36,28,45,36,36,37,null,32,12.27,392.64,337.67,39.26,45,10.1,454.5,0,0,null,35,12.27,429.45,369.33,42.95,36,8.9499999999999993,322.2,47.129999999999995,42.95,null,35,11.87,415.45,357.29,41.55,36,9.4700000000000006,340.92,16.370000000000005,16.370000000000005,null,36,10.86,390.96,336.23,39.1,37,9.33,345.21,0,0,null,36,9.6300000000000008,346.68,298.14,34.67,37,8.48,313.76,0,0]
["26009","Michigan","Antrim","Sunflower Seed","AntrimSunflower SeedAll","All",1571,1547,1198,1671,1569,1037,1335,1200,1575,null,1562,0.23369999999999999,365.04,313.93,36.5,1037,0.217,225.03,88.9,36.5,null,1438,0.23469999999999999,337.5,290.25,33.75,1335,0.19600000000000001,261.66000000000003,28.589999999999975,28.589999999999975,null,1367,0.2283,312.08999999999997,268.39999999999998,31.21,1200,0.17399999999999999,208.8,59.599999999999966,31.21,null,1368,0.21079999999999999,288.37,248,28.84,1575,0.17249999999999999,271.69,0,0,null,1368,0.20569999999999999,281.39999999999998,242,28.14,1569]
["26009","Michigan","Antrim","Wheat","AntrimWheatNonirrigated","Nonirrigated",50,40,61,53,50,60,51,55," ",null,51,6.6,336.6,289.48,33.659999999999997,60,5.99,359.4,0,0,null,54,6.7,361.8,311.14999999999998,36.18,51,4.8899999999999997,249.39,61.759999999999991,36.18,null,55,6.7,368.5,316.91000000000003,36.85,55,3.89,213.95,102.96000000000004,36.85,null,53,6.12,324.36,278.95,32.44," "," "," "," "," ",null," "," "," "," "," "," "," "," "," "," "]
["26009","Michigan","Antrim","Wheat","AntrimWheatIrrigated","Irrigated",52,42,61,76,50,74,81,89," ",null,54,6.6,356.4,306.5,35.64,74,5.99,443.26,0,0,null,62,6.7,415.4,357.24,41.54,81,4.8899999999999997,396.09,0,0,null,70,6.7,469,403.34,46.9,89,3.89,346.21,57.129999999999995,46.9,null,77,6.12,471.24,405.27,47.12," "," "," "," "," ",null," "," "," "," "," "," "," "," "," "," "]
["26011","Michigan","Arenac","Barley","ArenacBarleyAll","All",51,54,48,48,52,56,56,66,91,null,50,5.45,272.5,234.35,27.25,56,5.3,296.8,0,0,null,51,5.57,284.07,244.3,28.41,56,5.52,309.12,0,0,null,52,5.64,293.27999999999997,252.22,29.33,66,4.96,327.36,0,0,null,55,5.63,309.64999999999998,266.3,30.97,91,4.47,406.77,0,0,null,59,5.26,310.33999999999997,266.89,31.03,43,4.62,198.66,68.22999999999999,31.03]
["26011","Michigan","Arenac","Corn","ArenacCornAll","All",139,151,160,142,114,134,158,141,155,null,144,5.29,761.76,655.11,76.180000000000007,134,3.7,495.8,159.31,76.180000000000007,null,142,5.29,751.18,646.01,75.12,158,3.61,570.38,75.63,75.12,null,145,4.79,694.55,597.30999999999995,69.459999999999994,141,3.36,473.76,123.54999999999995,69.459999999999994,null,139,3.95,549.04999999999995,472.18,54.91,155,3.36,520.79999999999995,0,0,null,143,3.7,529.1,455.03,52.91,160,3.61,577.6,0,0]
["26011","Michigan","Arenac","Oats","ArenacOatsAll","All",76,85,81,77,82,63,104,68,75,null,80,3.25,260,223.6,26,63,3.21,202.23,21.370000000000005,21.37,null,80,3.48,278.39999999999998,239.42,27.84,104,2.12,220.48,18.939999999999998,18.940000000000001,null,80,3.48,278.39999999999998,239.42,27.84,68,2.06,140.08000000000001,99.339999999999975,27.84,null,76,3.12,237.12,203.92,23.71,75,2.59,194.25,9.6699999999999875,9.6699999999999875,null,75,2.73,204.75,176.09,20.48,63,2.66,167.58,8.5099999999999909,8.5099999999999909]
["26011","Michigan","Arenac","Soybeans","ArenacSoybeansAll","All",37,46,44,51,36,37,45,45,43,null,42,12.27,515.34,443.19,51.53,37,10.1,373.7,69.490000000000009,51.53,null,42,12.27,515.34,443.19,51.53,45,8.9499999999999993,402.75,40.44,40.44,null,42,11.87,498.54,428.74,49.85,45,9.4700000000000006,426.15,2.5900000000000318,2.5900000000000318,null,42,10.86,456.12,392.26,45.61,43,9.33,401.19,0,0,null,42,9.6300000000000008,404.46,347.84,40.450000000000003,46,8.48,390.08,0,0]
["26011","Michigan","Arenac","Sunflower Seed","ArenacSunflower SeedAll","All",1571,1547,1198,1671,1569,1037,1335,1200,1575,null,1562,0.23369999999999999,365.04,313.93,36.5,1037,0.217,225.03,88.9,36.5,null,1438,0.23469999999999999,337.5,290.25,33.75,1335,0.19600000000000001,261.66000000000003,28.589999999999975,28.589999999999975,null,1367,0.2283,312.08999999999997,268.39999999999998,31.21,1200,0.17399999999999999,208.8,59.599999999999966,31.21,null,1368,0.21079999999999999,288.37,248,28.84,1575,0.17249999999999999,271.69,0,0,null,1368,0.20569999999999999,281.39999999999998,242,28.14,1569]
["26011","Michigan","Arenac","Wheat","ArenacWheatAll","All",68,72,76,76,63,69,74,86,68,null,72,6.6,475.2,408.67,47.52,69,5.99,413.31,0,0,null,72,6.7,482.4,414.86,48.24,74,4.8899999999999997,361.86,53,48.24,null,73,6.7,489.1,420.63,48.91,86,3.89,334.54,86.089999999999975,48.91,null,73,6.12,446.76,384.21,44.68,68,4.72,320.95999999999998,63.25,44.68,null,70,5.66,396.2,340.73,39.619999999999997,66,5.16,340.56,0.17000000000001592,0.17000000000001592]
["26013","Michigan","Baraga","Barley","BaragaBarleyAll","All",51,54,48,48,52,56,56,66,91,null,50,5.45,272.5,234.35,27.25,56,5.3,296.8,0,0,null,51,5.57,284.07,244.3,28.41,56,5.52,309.12,0,0,null,52,5.64,293.27999999999997,252.22,29.33,66,4.96,327.36,0,0,null,55,5.63,309.64999999999998,266.3,30.97,91,4.47,406.77,0,0,null,59,5.26,310.33999999999997,266.89,31.03,43,4.62,198.66,68.22999999999999,31.03]
["26013","Michigan","Baraga","Corn","BaragaCornAll","All",52,127,52,84,120,52,132,87,52,null,85,5.29,449.65,386.7,44.97,38,3.7,140.6,246.1,44.97,null,85,5.29,449.65,386.7,44.97,132,3.61,476.52,0,0,null,85,4.79,407.15,350.15,40.72,87,3.36,292.32,57.829999999999984,40.72,null,97,3.95,383.15,329.51,38.32,37,3.36,124.32,205.19,38.32,null,86,3.7,318.2,273.64999999999998,31.82,111,3.61,400.71,0,0]
["26013","Michigan","Baraga","Oats","BaragaOatsAll","All",58,55,59,70,63,59,57,39,47,null,60,3.25,195,167.7,19.5,59,3.21,189.39,0,0,null,60,3.48,208.8,179.57,20.88,57,2.12,120.84,58.72999999999999,20.88,null,60,3.48,208.8,179.57,20.88,31,2.06,63.86,115.71,20.88,null,60,3.12,187.2,160.99,18.72,47,2.59,121.73,39.260000000000005,18.72,null,54,2.73,147.41999999999999,126.78,14.74,63,2.66,167.58,0,0]
["26015","Michigan","Barry","Barley","BarryBarleyAll","All",51,54,48,48,52,56,56,66,91,null,50,5.45,272.5,234.35,27.25,56,5.3,296.8,0,0,null,51,5.57,284.07,244.3,28.41,56,5.52,309.12,0,0,null,52,5.64,293.27999999999997,252.22,29.33,66,4.96,327.36,0,0,null,55,5.63,309.64999999999998,266.3,30.97,91,4.47,406.77,0,0,null,59,5.26,310.33999999999997,266.89,31.03,43,4.62,198.66,68.22999999999999,31.03]
["26015","Michigan","Barry","Corn","BarryCornAll","All",142,146,153,108,163,151,154,144,170,null,147,5.29,777.63,668.76,77.760000000000005,151,3.7,558.70000000000005,110.05999999999995,77.760000000000005,null,150,5.29,793.5,682.41,79.349999999999994,154,3.61,555.94000000000005,126.46999999999991,79.349999999999994,null,153,4.79,732.87,630.27,73.290000000000006,144,3.36,483.84,146.43,73.290000000000006,null,150,3.95,592.5,509.55,59.25,170,3.36,571.20000000000005,0,0,null,156,3.7,577.20000000000005,496.39,57.72,147,3.61,530.66999999999996,0,0]
["26015","Michigan","Barry","Oats","BarryOatsAll","All",62,67,61,60,68,78,64,59,60,null,63,3.25,204.75,176.09,20.48,78,3.21,250.38,0,0,null,65,3.48,226.2,194.53,22.62,64,2.12,135.68,58.849999999999994,22.62,null,64,3.48,222.72,191.54,22.27,59,2.06,121.54,69.999999999999986,22.27,null,64,3.12,199.68,171.72,19.97,60,2.59,155.4,16.319999999999993,16.319999999999993,null,64,2.73,174.72,150.26,17.47,63,2.66,167.58,0,0]
["26015","Michigan","Barry","Soybeans","BarrySoybeansAll","All",41,43,45,41,49,43,46,48,46,null,43,12.27,527.61,453.74,52.76,43,10.1,434.3,19.439999999999998,19.440000000000001,null,44,12.27,539.88,464.3,53.99,46,8.9499999999999993,411.7,52.600000000000023,52.6,null,45,11.87,534.15,459.37,53.42,48,9.4700000000000006,454.56,4.8100000000000023,4.8100000000000023,null,46,10.86,499.56,429.62,49.96,46,9.33,429.18,0.43999999999999773,0.43999999999999773,null,47,9.6300000000000008,452.61,389.24,45.26,47,8.48,398.56,0,0]
["26015","Michigan","Barry","Wheat","BarryWheatAll","All",64,57,70,72,72,78,66,84,61,null,69,6.6,455.4,391.64,45.54,78,5.99,467.22,0,0,null,71,6.7,475.7,409.1,47.57,66,4.8899999999999997,322.74,86.360000000000014,47.57,null,71,6.7,475.7,409.1,47.57,84,3.89,326.76,82.340000000000032,47.57,null,74,6.12,452.88,389.48,45.29,61,4.72,287.92,101.56,45.29,null,72,5.66,407.52,350.47,40.75,66,5.16,340.56,9.910000000000025,9.910000000000025]
["26017","Michigan","Bay","Barley","BayBarleyAll","All",51,54,48,48,52,56,56,66,91,null,50,5.45,272.5,234.35,27.25,56,5.3,296.8,0,0,null,51,5.57,284.07,244.3,28.41,56,5.52,309.12,0,0,null,52,5.64,293.27999999999997,252.22,29.33,66,4.96,327.36,0,0,null,55,5.63,309.64999999999998,266.3,30.97,91,4.47,406.77,0,0,null,59,5.26,310.33999999999997,266.89,31.03,43,4.62,198.66,68.22999999999999,31.03]
["26017","Michigan","Bay","Corn","BayCornAll","All",161,163,169,162,143,163,163,167,160,null,162,5.29,856.98,737,85.7,163,3.7,603.1,133.89999999999998,85.7,null,163,5.29,862.27,741.55,86.23,163,3.61,588.42999999999995,153.12,86.23,null,163,4.79,780.77,671.46,78.08,167,3.36,561.12,110.34000000000003,78.08,null,163,3.95,643.85,553.71,64.39,160,3.36,537.6,16.110000000000014,16.110000000000014,null,162,3.7,599.4,515.48,59.94,175,3.61,631.75,0,0]
["26017","Michigan","Bay","Grain Sorghum","BayGrain SorghumAll","All",70,97,89,60,88,104,86,91,60,null,82,5.0999999999999996,418.2,359.65,41.82,104,4.03,419.12,0,0,null,91,5.0999999999999996,464.1,399.13,46.41,86,3.31,284.66000000000003,114.46999999999997,46.41,null,88,4.7699999999999996,419.76,360.99,41.98,91,2.79,253.89,107.10000000000002,41.98,null,88,4.09,359.92,309.52999999999997,35.99,48,3.22,154.56,154.96999999999997,35.99,null,88,3.98,350.24,301.20999999999998,35.020000000000003,84,3.26,273.83999999999997,27.370000000000005,27.370000000000005]
["26017","Michigan","Bay","Oats","BayOatsAll","All",74,85,81,77,61,82,104,76,75,null,77,3.25,250.25,215.22,25.03,82,3.21,263.22000000000003,0,0,null,80,3.48,278.39999999999998,239.42,27.84,104,2.12,220.48,18.939999999999998,18.940000000000001,null,80,3.48,278.39999999999998,239.42,27.84,76,2.06,156.56,82.859999999999985,27.84,null,78,3.12,243.36,209.29,24.34,75,2.59,194.25,15.039999999999992,15.039999999999992,null,78,2.73,212.94,183.13,21.29,63,2.66,167.58,15.549999999999983,15.549999999999983]
["26017","Michigan","Bay","Soybeans","BaySoybeansAll","All",41,47,48,50,42,49,54,54,46,null,46,12.27,564.41999999999996,485.4,56.44,49,10.1,494.9,0,0,null,48,12.27,588.96,506.51,58.9,54,8.9499999999999993,483.3,23.20999999999998,23.21,null,49,11.87,581.63,500.2,58.16,54,9.4700000000000006,511.38,0,0,null,51,10.86,553.86,476.32,55.39,46,9.33,429.18,47.139999999999986,47.139999999999986,null,50,9.6300000000000008,481.5,414.09,48.15,57,8.48,483.36,0,0]
["26017","Michigan","Bay","Sunflower Seed","BaySunflower SeedAll","All",1571,1547,1198,1671,1569,1037,1335,1200,1575,null,1562,0.23369999999999999,365.04,313.93,36.5,1037,0.217,225.03,88.9,36.5,null,1438,0.23469999999999999,337.5,290.25,33.75,1335,0.19600000000000001,261.66000000000003,28.589999999999975,28.589999999999975,null,1367,0.2283,312.08999999999997,268.39999999999998,31.21,1200,0.17399999999999999,208.8,59.599999999999966,31.21,null,1368,0.21079999999999999,288.37,248,28.84,1575,0.17249999999999999,271.69,0,0,null,1368,0.20569999999999999,281.39999999999998,242,28.14,1569]
["26017","Michigan","Bay","Wheat","BayWheatAll","All",75,71,85,80,75,70,89,81,79,null,77,6.6,508.2,437.05,50.82,70,5.99,419.3,17.75,17.75,null,75,6.7,502.5,432.15,50.25,89,4.8899999999999997,435.21,0,0,null,80,6.7,536,460.96,53.6,81,3.89,315.08999999999997,145.87,53.6,null,79,6.12,483.48,415.79,48.35,79,4.72,372.88,42.910000000000025,42.910000000000025,null,78,5.66,441.48,379.67,44.15,84,5.16,433.44,0,0]
["26019","Michigan","Benzie","Corn","BenzieCornAll","All",108,110,74,61,105,103,108,99,127,null,96,5.29,507.84,436.74,50.78,103,3.7,381.1,55.639999999999986,50.78,null,94,5.29,497.26,427.64,49.73,108,3.61,389.88,37.759999999999991,37.76,null,94,4.79,450.26,387.22,45.03,99,3.36,332.64,54.580000000000041,45.03,null,102,3.95,402.9,346.49,40.29,127,3.36,426.72,0,0,null,105,3.7,388.5,334.11,38.85,111,3.61,400.71,0,0]
["26019","Michigan","Benzie","Oats","BenzieOatsAll","All",56,63,59,53,50,63,53,54,33,null,56,3.25,182,156.52000000000001,18.2,63,3.21,202.23,0,0,null,58,3.48,201.84,173.58,20.18,53,2.12,112.36,61.220000000000013,20.18,null,55,3.48,191.4,164.6,19.14,54,2.06,111.24,53.36,19.14,null,53,3.12,165.36,142.21,16.54,33,2.59,85.47,56.740000000000009,16.54,null,52,2.73,141.96,122.09,14.2,63,2.66,167.58,0,0]
["26021","Michigan","Berrien","Barley","BerrienBarleyAll","All",51,54,48,48,52,56,56,66,91,null,50,5.45,272.5,234.35,27.25,56,5.3,296.8,0,0,null,51,5.57,284.07,244.3,28.41,56,5.52,309.12,0,0,null,52,5.64,293.27999999999997,252.22,29.33,66,4.96,327.36,0,0,null,55,5.63,309.64999999999998,266.3,30.97,91,4.47,406.77,0,0,null,59,5.26,310.33999999999997,266.89,31.03,43,4.62,198.66,68.22999999999999,31.03]
["26021","Michigan","Berrien","Corn","BerrienCornAll","All",150,159,163,144,150,176,182,169,176,null,153,5.29,809.37,696.06,80.94,176,3.7,651.20000000000005,44.8599999999999,44.86,null,157,5.29,830.53,714.26,83.05,182,3.61,657.02,57.240000000000009,57.24,null,163,4.79,780.77,671.46,78.08,169,3.36,567.84,103.62,78.08,null,165,3.95,651.75,560.51,65.180000000000007,176,3.36,591.36,0,0,null,174,3.7,643.79999999999995,553.66999999999996,64.38,163,3.61,588.42999999999995,0,0]
["26021","Michigan","Berrien","Grain Sorghum","BerrienGrain SorghumAll","All",70,97,89,60,88,104,86,91,60,null,82,5.0999999999999996,418.2,359.65,41.82,104,4.03,419.12,0,0,null,91,5.0999999999999996,464.1,399.13,46.41,86,3.31,284.66000000000003,114.46999999999997,46.41,null,88,4.7699999999999996,419.76,360.99,41.98,91,2.79,253.89,107.10000000000002,41.98,null,88,4.09,359.92,309.52999999999997,35.99,48,3.22,154.56,154.96999999999997,35.99,null,88,3.98,350.24,301.20999999999998,35.020000000000003,84,3.26,273.83999999999997,27.370000000000005,27.370000000000005]
["26021","Michigan","Berrien","Oats","BerrienOatsAll","All",52,77,68,53,61,61,85,56,43,null,61,3.25,198.25,170.5,19.829999999999998,61,3.21,195.81,0,0,null,63,3.48,219.24,188.55,21.92,85,2.12,180.2,8.3500000000000227,8.35,null,63,3.48,219.24,188.55,21.92,56,2.06,115.36,73.190000000000012,21.92,null,59,3.12,184.08,158.31,18.41,43,2.59,111.37,46.94,18.41,null,59,2.73,161.07,138.52000000000001,16.11,63,2.66,167.58,0,0]
["26021","Michigan","Berrien","Soybeans","BerrienSoybeansAll","All",44,48,41,45,41,43,50,53,44,null,43,12.27,527.61,453.74,52.76,43,10.1,434.3,19.439999999999998,19.440000000000001,null,43,12.27,527.61,453.74,52.76,50,8.9499999999999993,447.5,6.2400000000000091,6.24,null,43,11.87,510.41,438.95,51.04,53,9.4700000000000006,501.91,0,0,null,46,10.86,499.56,429.62,49.96,44,9.33,410.52,19.100000000000023,19.100000000000023,null,46,9.6300000000000008,442.98,380.96,44.3,47,8.48,398.56,0,0]
["26021","Michigan","Berrien","Sunflower Seed","BerrienSunflower SeedAll","All",1571,1547,1198,1671,1569,1037,1335,1200,1575,null,1562,0.23369999999999999,365.04,313.93,36.5,1037,0.217,225.03,88.9,36.5,null,1438,0.23469999999999999,337.5,290.25,33.75,1335,0.19600000000000001,261.66000000000003,28.589999999999975,28.589999999999975,null,1367,0.2283,312.08999999999997,268.39999999999998,31.21,1200,0.17399999999999999,208.8,59.599999999999966,31.21,null,1368,0.21079999999999999,288.37,248,28.84,1575,0.17249999999999999,271.69,0,0,null,1368,0.20569999999999999,281.39999999999998,242,28.14,1569]
["26021","Michigan","Berrien","Wheat","BerrienWheatAll","All",62,57,71,62,63,73,68,92,66,null,62,6.6,409.2,351.91,40.92,73,5.99,437.27,0,0,null,65,6.7,435.5,374.53,43.55,68,4.8899999999999997,332.52,42.009999999999991,42.01,null,67,6.7,448.9,386.05,44.89,92,3.89,357.88,28.170000000000016,28.170000000000016,null,68,6.12,416.16,357.9,41.62,66,4.72,311.52,46.379999999999995,41.62,null,69,5.66,390.54,335.86,39.049999999999997,66,5.16,340.56,0,0]
["26023","Michigan","Branch","Barley","BranchBarleyAll","All",51,54,48,48,52,56,56,66,91,null,50,5.45,272.5,234.35,27.25,56,5.3,296.8,0,0,null,51,5.57,284.07,244.3,28.41,56,5.52,309.12,0,0,null,52,5.64,293.27999999999997,252.22,29.33,66,4.96,327.36,0,0,null,55,5.63,309.64999999999998,266.3,30.97,91,4.47,406.77,0,0,null,59,5.26,310.33999999999997,266.89,31.03,43,4.62,198.66,68.22999999999999,31.03]
["26023","Michigan","Branch","Corn","BranchCornNonirrigated","Nonirrigated",113,140,137,99,164,150,155,159,156,null,130,5.29,687.7,591.41999999999996,68.77,150,3.7,555,36.419999999999959,36.42,null,142,5.29,751.18,646.01,75.12,155,3.61,559.54999999999995,86.460000000000036,75.12,null,147,4.79,704.13,605.54999999999995,70.41,159,3.36,534.24,71.309999999999945,70.41,null,155,3.95,612.25,526.54,61.23,156,3.36,524.16,2.3799999999999955,2.3799999999999955,null,157,3.7,580.9,499.57,58.09,151,3.61,545.11,0,0]
["26023","Michigan","Branch","Corn","BranchCornIrrigated","Irrigated",135,154,156,136,183,180,185,188,194,null,149,5.29,788.21,677.86,78.819999999999993,180,3.7,666,11.860000000000014,11.86,null,163,5.29,862.27,741.55,86.23,185,3.61,667.85,73.699999999999932,73.7,null,173,4.79,828.67,712.66,82.87,188,3.36,631.67999999999995,80.980000000000018,80.980000000000018,null,183,3.95,722.85,621.65,72.290000000000006,194,3.36,651.84,0,0,null,185,3.7,684.5,588.66999999999996,68.45,153,3.61,552.33000000000004,36.339999999999918,36.339999999999918]
["26023","Michigan","Branch","Oats","BranchOatsAll","All",80,67,61,60,68,78,64,59,60,null,65,3.25,211.25,181.68,21.13,78,3.21,250.38,0,0,null,65,3.48,226.2,194.53,22.62,64,2.12,135.68,58.849999999999994,22.62,null,64,3.48,222.72,191.54,22.27,59,2.06,121.54,69.999999999999986,22.27,null,64,3.12,199.68,171.72,19.97,60,2.59,155.4,16.319999999999993,16.319999999999993,null,64,2.73,174.72,150.26,17.47,63,2.66,167.58,0,0]
["26023","Michigan","Branch","Soybeans","BranchSoybeansNonirrigated","Nonirrigated",34,45,44,42,45,40,45,51,39,null,44,12.27,539.88,464.3,53.99,40,10.1,404,60.300000000000011,53.99,null,44,12.27,539.88,464.3,53.99,45,8.9499999999999993,402.75,61.550000000000011,53.99,null,44,11.87,522.28,449.16,52.23,51,9.4700000000000006,482.97,0,0,null,44,10.86,477.84,410.94,47.78,39,9.33,363.87,47.069999999999993,47.069999999999993,null,43,9.6300000000000008,414.09,356.12,41.41,46,8.48,390.08,0,0]
["26023","Michigan","Branch","Soybeans",{"$f":"C70&D70&F70","v":"BranchSoybeansIrrigated"},"Irrigated",43,49,48,47,49,48,54,57,51,null,48,12.27,588.96,506.51,58.9,48,10.1,484.8,21.70999999999998,21.71,null,48,12.27,588.96,506.51,58.9,54,8.9499999999999993,483.3,23.20999999999998,23.21,null,48,11.87,569.76,489.99,56.98,57,9.4700000000000006,539.79,0,0,null,50,10.86,543,466.98,54.3,51,9.33,475.83,0,0,null,51,9.6300000000000008,491.13,422.37,49.11,50,8.48,424,0,0]
["26023","Michigan","Branch","Wheat","BranchWheatAll","All",62,55,66,58,53,61,54,69,66,null,58,6.6,382.8,329.21,38.28,61,5.99,365.39,0,0,null,58,6.7,388.6,334.2,38.86,54,4.8899999999999997,264.06,70.139999999999986,38.86,null,58,6.7,388.6,334.2,38.86,69,3.89,268.41000000000003,65.789999999999964,38.86,null,58,6.12,354.96,305.27,35.5,66,4.72,311.52,0,0,null,60,5.66,339.6,292.06,33.96,60,5.16,309.60000000000002,0,0]
["26025","Michigan","Calhoun","Barley","CalhounBarleyAll","All",51,54,48,48,52,56,56,66,91,null,50,5.45,272.5,234.35,27.25,56,5.3,296.8,0,0,null,51,5.57,284.07,244.3,28.41,56,5.52,309.12,0,0,null,52,5.64,293.27999999999997,252.22,29.33,66,4.96,327.36,0,0,null,55,5.63,309.64999999999998,266.3,30.97,91,4.47,406.77,0,0,null,59,5.26,310.33999999999997,266.89,31.03,43,4.62,198.66,68.22999999999999,31.03]
["26025","Michigan","Calhoun","Corn","CalhounCornAll","All",138,149,144,88,156,155,143,134,128,null,144,5.29,761.76,655.11,76.180000000000007,155,3.7,573.5,81.610000000000014,76.180000000000007,null,149,5.29,788.21,677.86,78.819999999999993,143,3.61,516.23,161.63,78.819999999999993,null,147,4.79,704.13,605.54999999999995,70.41,134,3.36,450.24,155.30999999999995,70.41,null,144,3.95,568.79999999999995,489.17,56.88,128,3.36,430.08,59.090000000000032,56.88,null,144,3.7,532.79999999999995,458.21,53.28,143,3.61,516.23,0,0]
["26025","Michigan","Calhoun","Grain Sorghum","CalhounGrain SorghumAll","All",70,97,89,60,88,104,86,91,60,null,82,5.0999999999999996,418.2,359.65,41.82,104,4.03,419.12,0,0,null,91,5.0999999999999996,464.1,399.13,46.41,86,3.31,284.66000000000003,114.46999999999997,46.41,null,88,4.7699999999999996,419.76,360.99,41.98,91,2.79,253.89,107.10000000000002,41.98,null,88,4.09,359.92,309.52999999999997,35.99,48,3.22,154.56,154.96999999999997,35.99,null,88,3.98,350.24,301.20999999999998,35.020000000000003,84,3.26,273.83999999999997,27.370000000000005,27.370000000000005]
["26025","Michigan","Calhoun","Oats","CalhounOatsAll","All",64,67,61,60,68,78,57,38,60,null,64,3.25,208,178.88,20.8,78,3.21,250.38,0,0,null,65,3.48,226.2,194.53,22.62,57,2.12,120.84,73.69,22.62,null,63,3.48,219.24,188.55,21.92,35,2.06,72.099999999999994,116.45000000000002,21.92,null,62,3.12,193.44,166.36,19.34,60,2.59,155.4,10.960000000000008,10.960000000000008,null,62,2.73,169.26,145.56,16.93,63,2.66,167.58,0,0]
["26025","Michigan","Calhoun","Soybeans","CalhounSoybeansAll","All",39,47,45,32,49,39,44,50,35,null,44,12.27,539.88,464.3,53.99,39,10.1,393.9,70.400000000000034,53.99,null,44,12.27,539.88,464.3,53.99,44,8.9499999999999993,393.8,70.5,53.99,null,43,11.87,510.41,438.95,51.04,50,9.4700000000000006,473.5,0,0,null,44,10.86,477.84,410.94,47.78,35,9.33,326.55,84.389999999999986,47.78,null,44,9.6300000000000008,423.72,364.4,42.37,45,8.48,381.6,0,0]
["26025","Michigan","Calhoun","Sunflower Seed","CalhounSunflower SeedAll","All",1571,1547,1198,1671,1569,1037,1335,1200,1575,null,1562,0.23369999999999999,365.04,313.93,36.5,1037,0.217,225.03,88.9,36.5,null,1438,0.23469999999999999,337.5,290.25,33.75,1335,0.19600000000000001,261.66000000000003,28.589999999999975,28.589999999999975,null,1367,0.2283,312.08999999999997,268.39999999999998,31.21,1200,0.17399999999999999,208.8,59.599999999999966,31.21,null,1368,0.21079999999999999,288.37,248,28.84,1575,0.17249999999999999,271.69,0,0,null,1368,0.20569999999999999,281.39999999999998,242,28.14,1569]
["26025","Michigan","Calhoun","Wheat","CalhounWheatAll","All",65,63,65,62,59,58,64,70,74,null,63,6.6,415.8,357.59,41.58,58,5.99,347.42,10.169999999999959,10.17,null,61,6.7,408.7,351.48,40.869999999999997,64,4.8899999999999997,312.95999999999998,38.520000000000039,38.520000000000003,null,62,6.7,415.4,357.24,41.54,70,3.89,272.3,84.94,41.54,null,62,6.12,379.44,326.32,37.94,74,4.72,349.28,0,0,null,64,5.66,362.24,311.52999999999997,36.22,60,5.16,309.60000000000002,1.92999999999995,1.92999999999995]
["26027","Michigan","Cass","Barley","CassBarleyAll","All",51,54,48,48,52,56,56,66,91,null,50,5.45,272.5,234.35,27.25,56,5.3,296.8,0,0,null,51,5.57,284.07,244.3,28.41,56,5.52,309.12,0,0,null,52,5.64,293.27999999999997,252.22,29.33,66,4.96,327.36,0,0,null,55,5.63,309.64999999999998,266.3,30.97,91,4.47,406.77,0,0,null,59,5.26,310.33999999999997,266.89,31.03,43,4.62,198.66,68.22999999999999,31.03]
["26027","Michigan","Cass","Corn","CassCornIrrigated","Irrigated",178,180,187,187,200,198,198,188,213,null,185,5.29,978.65,841.64,97.87,198,3.7,732.6,109.03999999999996,97.87,null,191,5.29,1010.39,868.94,101.04,198,3.61,714.78,154.16000000000008,101.04,null,194,4.79,929.26,799.16,92.93,188,3.36,631.67999999999995,167.48000000000002,92.93,null,195,3.95,770.25,662.42,77.03,213,3.36,715.68,0,0,null,199,3.7,736.3,633.22,73.63,153,3.61,552.33000000000004,80.889999999999986,73.63]
["26027","Michigan","Cass","Corn","CassCornNonirrigated","Nonirrigated",120,147,142,98,145,143,149,119,154,null,136,5.29,719.44,618.72,71.94,143,3.7,529.1,89.62,71.94,null,143,5.29,756.47,650.55999999999995,75.650000000000006,149,3.61,537.89,112.66999999999996,75.650000000000006,null,143,4.79,684.97,589.07000000000005,68.5,119,3.36,399.84,189.23000000000008,68.5,null,136,3.95,537.20000000000005,461.99,53.72,154,3.36,517.44000000000005,0,0,null,146,3.7,540.20000000000005,464.57,54.02,146,3.61,527.05999999999995,0,0]
["26027","Michigan","Cass","Grain Sorghum","CassGrain SorghumAll","All",70,97,89,60,88,104,86,91,60,null,82,5.0999999999999996,418.2,359.65,41.82,104,4.03,419.12,0,0,null,91,5.0999999999999996,464.1,399.13,46.41,86,3.31,284.66000000000003,114.46999999999997,46.41,null,88,4.7699999999999996,419.76,360.99,41.98,91,2.79,253.89,107.10000000000002,41.98,null,88,4.09,359.92,309.52999999999997,35.99,48,3.22,154.56,154.96999999999997,35.99,null,88,3.98,350.24,301.20999999999998,35.020000000000003,84,3.26,273.83999999999997,27.370000000000005,27.370000000000005]
["26027","Michigan","Cass","Oats","CassOatsAll","All",52,77,68,53,61,61,85,56,43,null,61,3.25,198.25,170.5,19.829999999999998,61,3.21,195.81,0,0,null,63,3.48,219.24,188.55,21.92,85,2.12,180.2,8.3500000000000227,8.35,null,63,3.48,219.24,188.55,21.92,56,2.06,115.36,73.190000000000012,21.92,null,59,3.12,184.08,158.31,18.41,43,2.59,111.37,46.94,18.41,null,59,2.73,161.07,138.52000000000001,16.11,63,2.66,167.58,0,0]
["26027","Michigan","Cass","Soybeans","CassSoybeansNonirrigated","Nonirrigated",33,43,40,38,38,40,44,42,41,null,39,12.27,478.53,411.54,47.85,40,10.1,404,7.5400000000000205,7.54,null,39,12.27,478.53,411.54,47.85,44,8.9499999999999993,393.8,17.740000000000009,17.739999999999998,null,39,11.87,462.93,398.12,46.29,42,9.4700000000000006,397.74,0.37999999999999545,0.37999999999999545,null,40,10.86,434.4,373.58,43.44,41,9.33,382.53,0,0,null,41,9.6300000000000008,394.83,339.55,39.479999999999997,49,8.48,415.52,0,0]
["26027","Michigan","Cass","Soybeans","CassSoybeansIrrigated","Irrigated",46,56,53,54,52,58,59,64,57,null,53,12.27,650.30999999999995,559.27,65.03,58,10.1,585.79999999999995,0,0,null,54,12.27,662.58,569.82000000000005,66.260000000000005,59,8.9499999999999993,528.04999999999995,41.770000000000095,41.77,null,55,11.87,652.85,561.45000000000005,65.290000000000006,64,9.4700000000000006,606.08000000000004,0,0,null,57,10.86,619.02,532.36,61.9,57,9.33,531.80999999999995,0.55000000000006821,0.55000000000006821,null,58,9.6300000000000008,558.54,480.34,55.85,50,8.48,424,56.339999999999975,55.85]
["26027","Michigan","Cass","Sunflower Seed","CassSunflower SeedAll","All",1571,1547,1198,1671,1569,1037,1335,1200,1575,null,1562,0.23369999999999999,365.04,313.93,36.5,1037,0.217,225.03,88.9,36.5,null,1438,0.23469999999999999,337.5,290.25,33.75,1335,0.19600000000000001,261.66000000000003,28.589999999999975,28.589999999999975,null,1367,0.2283,312.08999999999997,268.39999999999998,31.21,1200,0.17399999999999999,208.8,59.599999999999966,31.21,null,1368,0.21079999999999999,288.37,248,28.84,1575,0.17249999999999999,271.69,0,0,null,1368,0.20569999999999999,281.39999999999998,242,28.14,1569]
["26027","Michigan","Cass","Wheat","CassWheatAll","All",60,54,68,50,53,67,64,46,65,null,56,6.6,369.6,317.86,36.96,67,5.99,401.33,0,0,null,58,6.7,388.6,334.2,38.86,64,4.8899999999999997,312.95999999999998,21.240000000000009,21.24,null,61,6.7,408.7,351.48,40.869999999999997,45,3.89,175.05,176.43,40.869999999999997,null,56,6.12,342.72,294.74,34.270000000000003,65,4.72,306.8,0,0,null,61,5.66,345.26,296.92,34.53,62,5.16,319.92,0,0]
["26029","Michigan","Charlevoix","Barley","CharlevoixBarleyAll","All",51,54,48,48,52,56,56,66,91,null,50,5.45,272.5,234.35,27.25,56,5.3,296.8,0,0,null,51,5.57,284.07,244.3,28.41,56,5.52,309.12,0,0,null,52,5.64,293.27999999999997,252.22,29.33,66,4.96,327.36,0,0,null,55,5.63,309.64999999999998,266.3,30.97,91,4.47,406.77,0,0,null,59,5.26,310.33999999999997,266.89,31.03,43,4.62,198.66,68.22999999999999,31.03]
["26029","Michigan","Charlevoix","Corn","CharlevoixCornAll","All",116,115,106,111,122,104,94,94,114,null,114,5.29,603.05999999999995,518.63,60.31,104,3.7,384.8,133.82999999999998,60.31,null,111,5.29,587.19000000000005,504.98,58.72,94,3.61,339.34,165.64000000000004,58.72,null,107,4.79,512.53,440.78,51.25,94,3.36,315.83999999999997,124.94,51.25,null,103,3.95,406.85,349.89,40.69,114,3.36,383.04,0,0,null,104,3.7,384.8,330.93,38.479999999999997,111,3.61,400.71,0,0]
["26029","Michigan","Charlevoix","Oats","CharlevoixOatsAll","All",58,73,59,53,50,61,67,66,33,null,57,3.25,185.25,159.32,18.53,61,3.21,195.81,0,0,null,58,3.48,201.84,173.58,20.18,67,2.12,142.04,31.54000000000002,20.18,null,58,3.48,201.84,173.58,20.18,66,2.06,135.96,37.620000000000005,20.18,null,60,3.12,187.2,160.99,18.72,33,2.59,85.47,75.52000000000001,18.72,null,59,2.73,161.07,138.52000000000001,16.11,63,2.66,167.58,0,0]
["26029","Michigan","Charlevoix","Soybeans","CharlevoixSoybeansAll","All",28,38,32,36,28,36,36,36,37,null,32,12.27,392.64,337.67,39.26,36,10.1,363.6,0,0,null,35,12.27,429.45,369.33,42.95,36,8.9499999999999993,322.2,47.129999999999995,42.95,null,35,11.87,415.45,357.29,41.55,36,9.4700000000000006,340.92,16.370000000000005,16.370000000000005,null,36,10.86,390.96,336.23,39.1,37,9.33,345.21,0,0,null,36,9.6300000000000008,346.68,298.14,34.67,37,8.48,313.76,0,0]
["26029","Michigan","Charlevoix","Sunflower Seed","CharlevoixSunflower SeedAll","All",1571,1547,1198,1671,1569,1037,1335,1200," ",null,1562,0.23369999999999999,365.04,313.93,36.5,1037,0.217,225.03,88.9,36.5,null,1438,0.23469999999999999,337.5,290.25,33.75,1335,0.19600000000000001,261.66000000000003,28.589999999999975,28.589999999999975,null,1367,0.2283,312.08999999999997,268.39999999999998,31.21,1200,0.17399999999999999,208.8,59.599999999999966,31.21,null,1368,0.21079999999999999,288.37,248,28.84," "," "," "," "," ",null," "," "," "," "," "," "]
["26029","Michigan","Charlevoix","Wheat","CharlevoixWheatAll","All",50,40,59,55,41,54,51,55,52,null,49,6.6,323.39999999999998,278.12,32.340000000000003,54,5.99,323.45999999999998,0,0,null,50,6.7,335,288.10000000000002,33.5,51,4.8899999999999997,249.39,38.710000000000036,33.5,null,53,6.7,355.1,305.39,35.51,55,3.89,213.95,91.44,35.51,null,53,6.12,324.36,278.95,32.44,52,4.72,245.44,33.509999999999991,32.44,null,52,5.66,294.32,253.12,29.43,40,5.16,206.4,46.72,29.43]
["26031","Michigan","Cheboygan","Barley","CheboyganBarleyAll","All",51,54,48,48,52,56,56,66,91,null,50,5.45,272.5,234.35,27.25,56,5.3,296.8,0,0,null,51,5.57,284.07,244.3,28.41,56,5.52,309.12,0,0,null,52,5.64,293.27999999999997,252.22,29.33,66,4.96,327.36,0,0,null,55,5.63,309.64999999999998,266.3,30.97,91,4.47,406.77,0,0,null,59,5.26,310.33999999999997,266.89,31.03,43,4.62,198.66,68.22999999999999,31.03]
["26031","Michigan","Cheboygan","Corn","CheboyganCornAll","All",64,133,110,120,113,138,101,97,131,null,114,5.29,603.05999999999995,518.63,60.31,138,3.7,510.6,8.0299999999999727,8.0299999999999994,null,122,5.29,645.38,555.03,64.540000000000006,101,3.61,364.61,190.41999999999996,64.540000000000006,null,114,4.79,546.05999999999995,469.61,54.61,97,3.36,325.92,143.69,54.61,null,111,3.95,438.45,377.07,43.85,131,3.36,440.16,0,0,null,115,3.7,425.5,365.93,42.55,117,3.61,422.37,0,0]
["26031","Michigan","Cheboygan","Oats","CheboyganOatsAll","All",45,65,64,63,57,69,60,56,65,null,61,3.25,198.25,170.5,19.829999999999998,69,3.21,221.49,0,0,null,64,3.48,222.72,191.54,22.27,60,2.12,127.2,64.339999999999989,22.27,null,62,3.48,215.76,185.55,21.58,56,2.06,115.36,70.190000000000012,21.58,null,60,3.12,187.2,160.99,18.72,65,2.59,168.35,0,0,null,61,2.73,166.53,143.22,16.649999999999999,63,2.66,167.58,0,0]
["26031","Michigan","Cheboygan","Soybeans","CheboyganSoybeansAll","All",29,38,32,35,28,30,36,36,37,null,32,12.27,392.64,337.67,39.26,30,10.1,303,34.670000000000016,34.67,null,32,12.27,392.64,337.67,39.26,36,8.9499999999999993,322.2,15.470000000000027,15.47,null,32,11.87,379.84,326.66000000000003,37.979999999999997,36,9.4700000000000006,340.92,0,0,null,34,10.86,369.24,317.55,36.92,37,9.33,345.21,0,0,null,34,9.6300000000000008,327.42,281.58,32.74,37,8.48,313.76,0,0]
["26031","Michigan","Chebooygan","Sunflower Seed","ChebooyganSunflower SeedAll","All",1571,1547,1198,1671,1569,1037,1335,1200,1575,null,1562,0.23369999999999999,365.04,313.93,36.5,1037,0.217,225.03,88.9,36.5,null,1438,0.23469999999999999,337.5,290.25,33.75,1335,0.19600000000000001,261.66000000000003,28.589999999999975,28.589999999999975,null,1367,0.2283,312.08999999999997,268.39999999999998,31.21,1200,0.17399999999999999,208.8,59.599999999999966,31.21,null,1368,0.21079999999999999,288.37,248,28.84,1575,0.17249999999999999,271.69,0,0,null,1368,0.20569999999999999,281.39999999999998,242,28.14,1569]
["26031","Michigan","Cheboygan","Wheat","CheboyganWheatAll","All",56,48,62,68,55,52,78,80,51,null,58,6.6,382.8,329.21,38.28,52,5.99,311.48,17.729999999999961,17.73,null,56,6.7,375.2,322.67,37.520000000000003,78,4.8899999999999997,381.42,0,0,null,62,6.7,415.4,357.24,41.54,80,3.89,311.2,46.04000000000002,41.54,null,67,6.12,410.04,352.63,41,51,4.72,240.72,111.91,41,null,62,5.66,350.92,301.79000000000002,35.090000000000003,47,5.16,242.52,59.27000000000001,35.090000000000003]
["26033","Michigan","Chippewa","Barley","ChippewaBarleyAll","All",32,32,32,48,52,56,56,66,91,null,37,5.45,201.65,173.42,20.170000000000002,56,5.3,296.8,0,0,null,44,5.57,245.08,210.77,24.51,56,5.52,309.12,0,0,null,52,5.64,293.27999999999997,252.22,29.33,66,4.96,327.36,0,0,null,55,5.63,309.64999999999998,266.3,30.97,91,4.47,406.77,0,0,null,59,5.26,310.33999999999997,266.89,31.03,43,4.62,198.66,68.22999999999999,31.03]
["26033","Michigan","Chippewa","Corn","ChippewaCornAll","All",52,127,52,84,119,52,132,87,52,null,85,5.29,449.65,386.7,44.97,38,3.7,140.6,246.1,44.97,null,85,5.29,449.65,386.7,44.97,132,3.61,476.52,0,0,null,85,4.79,407.15,350.15,40.72,87,3.36,292.32,57.829999999999984,40.72,null,97,3.95,383.15,329.51,38.32,37,3.36,124.32,205.19,38.32,null,86,3.7,318.2,273.64999999999998,31.82,111,3.61,400.71,0,0]
["26033","Michigan","Chippewa","Dry Peas","ChippewaDry PeasAll","All",1235,1933,1381,1671,1600,1142,1142,1142,1142,null,1551,0.1363,211.4,181.8,21.14,750,0.12,90,91.800000000000011,21.14,null,1551,0.13969999999999999,216.67,186.34,21.67,590,0.128,75.52,110.82000000000001,21.67,null,1374,0.14230000000000001,195.52,168.15,19.55,991,0.11,109.01,59.14,19.55,null,1295,0.1313,170.03,146.22999999999999,17,721,0.11800000000000001,85.08,61.149999999999991,17,null,1142,0.122,139.32,119.82,13.93,1760,0.105,184.8,0,0]
["26033","Michigan","Chippewa","Flaxseed","ChippewaFlaxseedAll","All",21,14,15,15,19,21,22,25,30,null,16,13.27,212.32,182.6,21.23,21,11.8,247.8,0,0,null,16,13.27,212.32,182.6,21.23,22,8.9499999999999993,196.9,0,0,null,18,13.13,236.34,203.25,23.63,25,8,200,3.25,3.25,null,21,12.29,258.08999999999997,221.96,25.81,30,9.5,285,0,0,null,23,11.456,263.49,226.6,26.35,20]
["26033","Michigan","Chippewa","Oats","ChippewaOatsAll","All",56,29,54,49,63,59,55,52,37,null,53,3.25,172.25,148.13999999999999,17.23,59,3.21,189.39,0,0,null,54,3.48,187.92,161.61000000000001,18.79,55,2.12,116.6,45.010000000000019,18.79,null,56,3.48,194.88,167.6,19.489999999999998,52,2.06,107.12,60.47999999999999,19.489999999999998,null,55,3.12,171.6,147.58000000000001,17.16,37,2.59,95.83,51.750000000000014,17.16,null,55,2.73,150.15,129.13,15.02,63,2.66,167.58,0,0]
["26033","Michigan","Chippewa","Rapeseed","ChippewaRapeseedAll","All",1700,1891,2177,2218,1700,1346,1346,1354,1354,null,1923,0.25829999999999997,496.71,427.17,49.67,1211,0.34899999999999998,422.64,4.5300000000000296,4.53,null,1923,0.26069999999999999,501.33,431.14,50.13,1233,0.43200000000000005,532.66,0,0,null,1741,0.29330000000000001,510.64,439.15,51.06,1354,0.252,341.21,97.94,51.06,null,1467,0.2873,421.47,362.46,42.15,1354,0.2,270.8,91.659999999999968,42.15,null,1351,0.28399999999999997,383.68,329.96,38.369999999999997,1648]
["26033","Michigan","Chippewa","Soybeans","ChippewaSoybeansAll","All",29,38,32,36,28,24,36,35,37,null,32,12.27,392.64,337.67,39.26,24,10.1,242.4,95.27000000000001,39.26,null,32,12.27,392.64,337.67,39.26,36,8.9499999999999993,322.2,15.470000000000027,15.47,null,32,11.87,379.84,326.66000000000003,37.979999999999997,35,9.4700000000000006,331.45,0,0,null,33,10.86,358.38,308.20999999999998,35.840000000000003,37,9.33,345.21,0,0,null,33,9.6300000000000008,317.79000000000002,273.3,31.78,37,8.48,313.76,0,0]
["26033","Michigan","Chippewa","Wheat","ChippewaWheatAll","All",47,56,50,41,41,47,51,55,52,null,46,6.6,303.60000000000002,261.10000000000002,30.36,47,5.99,281.52999999999997,0,0,null,46,6.7,308.2,265.05,30.82,51,4.8899999999999997,249.39,15.660000000000025,15.66,null,46,6.7,308.2,265.05,30.82,55,3.89,213.95,51.100000000000023,30.82,null,46,6.12,281.52,242.11,28.15,52,4.72,245.44,0,0,null,50,5.66,283,243.38,28.3,40,5.16,206.4,36.97999999999999,28.3]
["26035","Michigan","Clare","Barley","ClareBarleyAll","All",51,54,48,48,52,56,56,66,91,null,50,5.45,272.5,234.35,27.25,56,5.3,296.8,0,0,null,51,5.57,284.07,244.3,28.41,56,5.52,309.12,0,0,null,52,5.64,293.27999999999997,252.22,29.33,66,4.96,327.36,0,0,null,55,5.63,309.64999999999998,266.3,30.97,91,4.47,406.77,0,0,null,59,5.26,310.33999999999997,266.89,31.03,43,4.62,198.66,68.22999999999999,31.03]
["26035","Michigan","Clare","Corn","ClareCornAll","All",68,127,123,128,104,118,126,104,141,null,118,5.29,624.22,536.83000000000004,62.42,118,3.7,436.6,100.23000000000002,62.42,null,123,5.29,650.66999999999996,559.58000000000004,65.069999999999993,126,3.61,454.86,104.72000000000003,65.069999999999993,null,122,4.79,584.38,502.57,58.44,104,3.36,349.44,153.13,58.44,null,116,3.95,458.2,394.05,45.82,141,3.36,473.76,0,0,null,116,3.7,429.2,369.11,42.92,106,3.61,382.66,0,0]
["26035","Michigan","Clare","Grain Sorghum","ClareGrain SorghumAll","All",70,97,89,60,88,104,86,91,60,null,82,5.0999999999999996,418.2,359.65,41.82,104,4.03,419.12,0,0,null,91,5.0999999999999996,464.1,399.13,46.41,86,3.31,284.66000000000003,114.46999999999997,46.41,null,88,4.7699999999999996,419.76,360.99,41.98,91,2.79,253.89,107.10000000000002,41.98,null,88,4.09,359.92,309.52999999999997,35.99,48,3.22,154.56,154.96999999999997,35.99,null,88,3.98,350.24,301.20999999999998,35.020000000000003,84,3.26,273.83999999999997,27.370000000000005,27.370000000000005]
["26035","Michigan","Clare","Oats","ClareOatsAll","All",61,65,63,64,53,74,78,59,58,null,63,3.25,204.75,176.09,20.48,74,3.21,237.54,0,0,null,64,3.48,222.72,191.54,22.27,78,2.12,165.36,26.179999999999978,22.27,null,67,3.48,233.16,200.52,23.32,59,2.06,121.54,78.98,23.32,null,66,3.12,205.92,177.09,20.59,58,2.59,150.22,26.870000000000005,20.59,null,64,2.73,174.72,150.26,17.47,63,2.66,167.58,0,0]
["26035","Michigan","Clare","Soybeans","ClareSoybeansAll","All",31,43,34,47,30,37,41,43,38,null,36,12.27,441.72,379.88,44.17,37,10.1,373.7,6.1800000000000068,6.18,null,38,12.27,466.26,400.98,46.63,41,8.9499999999999993,366.95,34.03000000000003,34.03,null,37,11.87,439.19,377.7,43.92,43,9.4700000000000006,407.21,0,0,null,40,10.86,434.4,373.58,43.44,38,9.33,354.54,19.039999999999964,19.039999999999964,null,39,9.6300000000000008,375.57,322.99,37.56,34,8.48,288.32,34.670000000000016,34.670000000000016]
["26035","Michigan","Clare","Wheat","ClareWheatAll","All",40,67,63,41,55,59,73,84,57,null,53,6.6,349.8,300.83,34.979999999999997,59,5.99,353.41,0,0,null,59,6.7,395.3,339.96,39.53,73,4.8899999999999997,356.97,0,0,null,59,6.7,395.3,339.96,39.53,84,3.89,326.76,13.199999999999989,13.199999999999989,null,62,6.12,379.44,326.32,37.94,57,4.72,269.04000000000002,57.279999999999973,37.94,null,63,5.66,356.58,306.66000000000003,35.659999999999997,55,5.16,283.8,22.860000000000014,22.860000000000014]
["26037","Michigan","Clinton","Barley","ClintonBarleyAll","All",51,54,48,48,52,56,56,66,91,null,50,5.45,272.5,234.35,27.25,56,5.3,296.8,0,0,null,51,5.57,284.07,244.3,28.41,56,5.52,309.12,0,0,null,52,5.64,293.27999999999997,252.22,29.33,66,4.96,327.36,0,0,null,55,5.63,309.64999999999998,266.3,30.97,91,4.47,406.77,0,0,null,59,5.26,310.33999999999997,266.89,31.03,43,4.62,198.66,68.22999999999999,31.03]
["26037","Michigan","Clinton","Corn","ClintonCornAll","All",145,132,149,148,122,149,167,158,129,null,142,5.29,751.18,646.01,75.12,149,3.7,551.29999999999995,94.710000000000036,75.12,null,143,5.29,756.47,650.55999999999995,75.650000000000006,167,3.61,602.87,47.689999999999941,47.69,null,149,4.79,713.71,613.79,71.37,158,3.36,530.88,82.909999999999968,71.37,null,152,3.95,600.4,516.34,60.04,129,3.36,433.44,82.900000000000034,60.04,null,145,3.7,536.5,461.39,53.65,145,3.61,523.45000000000005,0,0]
["26037","Michigan","Clinton","Grain Sorghum","ClintonGrain SorghumAll","All",70,97,89,60,88,104,86,91,60,null,82,5.0999999999999996,418.2,359.65,41.82,104,4.03,419.12,0,0,null,91,5.0999999999999996,464.1,399.13,46.41,86,3.31,284.66000000000003,114.46999999999997,46.41,null,88,4.7699999999999996,419.76,360.99,41.98,91,2.79,253.89,107.10000000000002,41.98,null,88,4.09,359.92,309.52999999999997,35.99,48,3.22,154.56,154.96999999999997,35.99,null,88,3.98,350.24,301.20999999999998,35.020000000000003,84,3.26,273.83999999999997,27.370000000000005,27.370000000000005]
["26037","Michigan","Clinton","Oats","ClintonOatsAll","All",72,67,61,60,68,78,81,59,60,null,65,3.25,211.25,181.68,21.13,78,3.21,250.38,0,0,null,65,3.48,226.2,194.53,22.62,81,2.12,171.72,22.810000000000002,22.62,null,69,3.48,240.12,206.5,24.01,59,2.06,121.54,84.96,24.01,null,69,3.12,215.28,185.14,21.53,60,2.59,155.4,29.739999999999981,21.53,null,69,2.73,188.37,162,18.84,63,2.66,167.58,0,0]
["26037","Michigan","Clinton","Soybeans","ClintonSoybeansAll","All",42,39,45,47,41,45,51,54,40,null,43,12.27,527.61,453.74,52.76,45,10.1,454.5,0,0,null,44,12.27,539.88,464.3,53.99,51,8.9499999999999993,456.45,7.8500000000000227,7.85,null,46,11.87,546.02,469.58,54.6,54,9.4700000000000006,511.38,0,0,null,48,10.86,521.28,448.3,52.13,40,9.33,373.2,75.100000000000023,52.13,null,46,9.6300000000000008,442.98,380.96,44.3,43,8.48,364.64,16.319999999999993,16.319999999999993]
["26037","Michigan","Clinton","Wheat","ClintonWheatAll","All",67,66,81,79,82,81,89,93,74,null,76,6.6,501.6,431.38,50.16,81,5.99,485.19,0,0,null,80,6.7,536,460.96,53.6,89,4.8899999999999997,435.21,25.75,25.75,null,81,6.7,542.70000000000005,466.72,54.27,93,3.89,361.77,104.95000000000005,54.27,null,84,6.12,514.08000000000004,442.11,51.41,74,4.72,349.28,92.830000000000041,51.41,null,84,5.66,475.44,408.88,47.54,83,5.16,428.28,0,0]
["26041","Michigan","Delta","Barley","DeltaBarleyAll","All",56,53,45,59,52,56,64,66,91,null,54,5.45,294.3,253.1,29.43,56,5.3,296.8,0,0,null,54,5.57,300.77999999999997,258.67,30.08,64,5.52,353.28,0,0,null,56,5.64,315.83999999999997,271.62,31.58,66,4.96,327.36,0,0,null,60,5.63,337.8,290.51,33.78,91,4.47,406.77,0,0,null,62,5.26,326.12,280.45999999999998,32.61,43,4.62,198.66,81.799999999999983,32.61]
["26041","Michigan","Delta","Corn","DeltaCornAll","All",49,133,58,99,120,42,122,107,51,null,92,5.29,486.68,418.54,48.67,42,3.7,155.4,263.14,48.67,null,92,5.29,486.68,418.54,48.67,122,3.61,440.42,0,0,null,92,4.79,440.68,378.98,44.07,107,3.36,359.52,19.460000000000036,19.460000000000036,null,109,3.95,430.55,370.27,43.06,51,3.36,171.36,198.90999999999997,43.06,null,93,3.7,344.1,295.93,34.409999999999997,152,3.61,548.72,0,0]
["26041","Michigan","Delta","Dry Peas","DeltaDry PeasAll","All",1235,1933,1381,1671,1600,1142,1142,1142,1142,null,1551,0.1363,211.4,181.8,21.14,750,0.12,90,91.800000000000011,21.14,null,1551,0.13969999999999999,216.67,186.34,21.67,590,0.128,75.52,110.82000000000001,21.67,null,1374,0.14230000000000001,195.52,168.15,19.55,991,0.11,109.01,59.14,19.55,null,1295,0.1313,170.03,146.22999999999999,17,721,0.11800000000000001,85.08,61.149999999999991,17,null,1142,0.122,139.32,119.82,13.93,1760,0.105,184.8,0,0]
["26041","Michigan","Delta","Oats","DeltaOatsAll","All",69,48,69,72,63,66,87,73,80,null,67,3.25,217.75,187.27,21.78,66,3.21,211.86,0,0,null,66,3.48,229.68,197.52,22.97,87,2.12,184.44,13.080000000000013,13.08,null,69,3.48,240.12,206.5,24.01,73,2.06,150.38,56.120000000000005,24.01,null,70,3.12,218.4,187.82,21.84,80,2.59,207.2,0,0,null,73,2.73,199.29,171.39,19.93,63,2.66,167.58,3.8099999999999739,3.8099999999999739]
["26041","Michigan","Delta","Rapeseed","DeltaRapeseedAll","All",1700,1891,2177,2218,1700,1346,1346,1354,1354,null,1923,0.25829999999999997,496.71,427.17,49.67,1211,0.34899999999999998,422.64,4.5300000000000296,4.53,null,1923,0.26069999999999999,501.33,431.14,50.13,1233,0.43200000000000005,532.66,0,0,null,1741,0.29330000000000001,510.64,439.15,51.06,1354,0.252,341.21,97.94,51.06,null,1467,0.2873,421.47,362.46,42.15,1354,0.2,270.8,91.659999999999968,42.15,null,1351,0.28399999999999997,383.68,329.96,38.369999999999997,1648]
["26041","Michigan","Delta","Soybeans","DeltaSoybeansAll","All",29,38,32,36,28,24,36,35,37,null,32,12.27,392.64,337.67,39.26,24,10.1,242.4,95.27000000000001,39.26,null,32,12.27,392.64,337.67,39.26,36,8.9499999999999993,322.2,15.470000000000027,15.47,null,32,11.87,379.84,326.66000000000003,37.979999999999997,35,9.4700000000000006,331.45,0,0,null,33,10.86,358.38,308.20999999999998,35.840000000000003,37,9.33,345.21,0,0,null,33,9.6300000000000008,317.79000000000002,273.3,31.78,37,8.48,313.76,0,0]
["26041","Michigan","Delta","Sunflower Seed","DeltaSunflower SeedAll","All",1571,1547,1198,1671,1569,1037,1335,1200,1575,null,1562,0.23369999999999999,365.04,313.93,36.5,1037,0.217,225.03,88.9,36.5,null,1438,0.23469999999999999,337.5,290.25,33.75,1335,0.19600000000000001,261.66000000000003,28.589999999999975,28.589999999999975,null,1367,0.2283,312.08999999999997,268.39999999999998,31.21,1200,0.17399999999999999,208.8,59.599999999999966,31.21,null,1368,0.21079999999999999,288.37,248,28.84,1575,0.17249999999999999,271.69,0,0,null,1368,0.20569999999999999,281.39999999999998,242,28.14,1569]
["26041","Michigan","Delta","Wheat","DeltaWheatAll","All",47,56,50,41,41,47,51,55,52,null,46,6.6,303.60000000000002,261.10000000000002,30.36,47,5.99,281.52999999999997,0,0,null,46,6.7,308.2,265.05,30.82,51,4.8899999999999997,249.39,15.660000000000025,15.66,null,46,6.7,308.2,265.05,30.82,55,3.89,213.95,51.100000000000023,30.82,null,46,6.12,281.52,242.11,28.15,52,4.72,245.44,0,0,null,50,5.66,283,243.38,28.3,40,5.16,206.4,36.97999999999999,28.3]
["26043","Michigan","Dickinson","Barley","DickinsonBarleyAll","All",51,54,48,48,52,56,56,66,91,null,50,5.45,272.5,234.35,27.25,56,5.3,296.8,0,0,null,51,5.57,284.07,244.3,28.41,56,5.52,309.12,0,0,null,52,5.64,293.27999999999997,252.22,29.33,66,4.96,327.36,0,0,null,55,5.63,309.64999999999998,266.3,30.97,91,4.47,406.77,0,0,null,59,5.26,310.33999999999997,266.89,31.03,43,4.62,198.66,68.22999999999999,31.03]
["26043","Michigan","Dickinson","Canola","DickinsonCanolaAll","All",1601,1326,1356,1395,2199,1211,1233,1354,1798,null,1451,0.21579999999999999,313.13,269.29000000000002,31.31,1211,0.16899999999999998,204.66,64.630000000000024,31.31,null,1359,0.21579999999999999,293.27,252.21,29.33,1233,0.156,192.35,59.860000000000014,29.33,null,1328,0.21579999999999999,286.58,246.46,28.66,1354,0.16600000000000001,224.76,21.700000000000017,21.700000000000017,null,1327,0.20300000000000001,269.38,231.67,26.94,1798,0.17499999999999999,314.64999999999998,0,0,null,1462,0.20150000000000001,294.58999999999997,253.35,29.46,1648,0.158,260.38,0,0]
["26043","Michigan","Dickinson","Corn","DickinsonCornAll","All",49,139,49,102,117,49,170,66,54,null,89,5.29,470.81,404.9,47.08,38,3.7,140.6,264.29999999999995,47.08,null,89,5.29,470.81,404.9,47.08,170,3.61,613.70000000000005,0,0,null,89,4.79,426.31,366.63,42.63,66,3.36,221.76,144.87,42.63,null,95,3.95,375.25,322.72000000000003,37.53,49,3.36,164.64,158.08000000000004,37.53,null,79,3.7,292.3,251.38,29.23,158,3.61,570.38,0,0]
["26043","Michigan","Dickinson","Dry Peas","DickinsonDry PeasAll","All",1235,1933,1381,1671,1600,1142,1142,1142,1142,null,1551,0.1363,211.4,181.8,21.14,750,0.12,90,91.800000000000011,21.14,null,1551,0.13969999999999999,216.67,186.34,21.67,590,0.128,75.52,110.82000000000001,21.67,null,1374,0.14230000000000001,195.52,168.15,19.55,991,0.11,109.01,59.14,19.55,null,1295,0.1313,170.03,146.22999999999999,17,721,0.11800000000000001,85.08,61.149999999999991,17,null,1142,0.122,139.32,119.82,13.93,1760,0.105,184.8,0,0]
["26043","Michigan","Dickinson","Oats","DickinsonOatsAll","All",66,48,45,60,63,55,57,40,42,null,57,3.25,185.25,159.32,18.53,55,3.21,176.55,0,0,null,54,3.48,187.92,161.61000000000001,18.79,57,2.12,120.84,40.77000000000001,18.79,null,57,3.48,198.36,170.59,19.84,40,2.06,82.4,88.19,19.84,null,57,3.12,177.84,152.94,17.78,42,2.59,108.78,44.16,17.78,null,51,2.73,139.22999999999999,119.74,13.92,63,2.66,167.58,0,0]
["26043","Michigan","Dickinson","Wheat","DickinsonWheatAll","All",47,56,50,41,41,47,51,55," ",null,46,6.6,303.60000000000002,261.10000000000002,30.36,47,5.99,281.52999999999997,0,0,null,46,6.7,308.2,265.05,30.82,51,4.8899999999999997,249.39,15.660000000000025,15.66,null,46,6.7,308.2,265.05,30.82,55,3.89,213.95,51.100000000000023,30.82,null,46,6.12,281.52,242.11,28.15," "," "," "," "," ",null," "," "," "," "," "," "," "," "," "," "]
["26045","Michigan","Eaton","Barley",{"$f":"C134&D134&F134","v":"EatonBarleyAll"},"All",51,54,48,48,52,56,56,66,91,null,50,5.45,272.5,234.35,27.25,56,5.3,296.8,0,0,null,51,5.57,284.07,244.3,28.41,56,5.52,309.12,0,0,null,52,5.64,293.27999999999997,252.22,29.33,66,4.96,327.36,0,0,null,55,5.63,309.64999999999998,266.3,30.97,91,4.47,406.77,0,0,null,59,5.26,310.33999999999997,266.89,31.03,43,4.62,198.66,68.22999999999999,31.03]
["26045","Michigan","Eaton","Corn","EatonCornAll","All",152,162,147,124,170,176,163,145,167,null,154,5.29,814.66,700.61,81.47,176,3.7,651.20000000000005,49.409999999999968,49.41,null,160,5.29,846.4,727.9,84.64,163,3.61,588.42999999999995,139.47000000000003,84.64,null,160,4.79,766.4,659.1,76.64,145,3.36,487.2,171.90000000000003,76.64,null,159,3.95,628.04999999999995,540.12,62.81,167,3.36,561.12,0,0,null,167,3.7,617.9,531.39,61.79,148,3.61,534.28,0,0]
["26045","Michigan","Eaton","Oats","EatonOatsAll","All",57,69,61,60,68,78,64,59,60,null,63,3.25,204.75,176.09,20.48,78,3.21,250.38,0,0,null,66,3.48,229.68,197.52,22.97,64,2.12,135.68,61.84,22.97,null,64,3.48,222.72,191.54,22.27,59,2.06,121.54,69.999999999999986,22.27,null,64,3.12,199.68,171.72,19.97,60,2.59,155.4,16.319999999999993,16.319999999999993,null,64,2.73,174.72,150.26,17.47,63,2.66,167.58,0,0]
["26045","Michigan","Eaton","Soybeans","EatonSoybeansAll","All",42,47,43,40,48,45,49,49,41,null,44,12.27,539.88,464.3,53.99,45,10.1,454.5,9.8000000000000114,9.8000000000000007,null,45,12.27,552.15,474.85,55.22,49,8.9499999999999993,438.55,36.300000000000011,36.299999999999997,null,45,11.87,534.15,459.37,53.42,49,9.4700000000000006,464.03,0,0,null,47,10.86,510.42,438.96,51.04,41,9.33,382.53,56.430000000000007,51.04,null,47,9.6300000000000008,452.61,389.24,45.26,48,8.48,407.04,0,0]
["26045","Michigan","Eaton","Wheat","EatonWheatAll","All",64,65,76,75,72,77,68,86,60,null,71,6.6,468.6,403,46.86,77,5.99,461.23,0,0,null,74,6.7,495.8,426.39,49.58,68,4.8899999999999997,332.52,93.87,49.58,null,74,6.7,495.8,426.39,49.58,86,3.89,334.54,91.849999999999966,49.58,null,75,6.12,459,394.74,45.9,60,4.72,283.2,111.54000000000002,45.9,null,72,5.66,407.52,350.47,40.75,67,5.16,345.72,4.75,4.75]
["26047","Michigan","Emmet","Barley","EmmetBarleyAll","All",51,54,48,48,52,56,56,66,91,null,50,5.45,272.5,234.35,27.25,56,5.3,296.8,0,0,null,51,5.57,284.07,244.3,28.41,56,5.52,309.12,0,0,null,52,5.64,293.27999999999997,252.22,29.33,66,4.96,327.36,0,0,null,55,5.63,309.64999999999998,266.3,30.97,91,4.47,406.77,0,0,null,59,5.26,310.33999999999997,266.89,31.03,43,4.62,198.66,68.22999999999999,31.03]
["26047","Michigan","Emmet","Corn","EmmetCornAll","All",84,127,109,117,78,91,112,107,120,null,103,5.29,544.87,468.59,54.49,91,3.7,336.7,131.88999999999999,54.49,null,106,5.29,560.74,482.24,56.07,112,3.61,404.32,77.920000000000016,56.07,null,104,4.79,498.16,428.42,49.82,107,3.36,359.52,68.900000000000034,49.82,null,103,3.95,406.85,349.89,40.69,120,3.36,403.2,0,0,null,103,3.7,381.1,327.75,38.11,111,3.61,400.71,0,0]
["26047","Michigan","Emmet","Oats","EmmetOatsAll","All",56,52,59,53,50,63,49,56,33,null,54,3.25,175.5,150.93,17.55,63,3.21,202.23,0,0,null,55,3.48,191.4,164.6,19.14,49,2.12,103.88,60.72,19.14,null,54,3.48,187.92,161.61000000000001,18.79,56,2.06,115.36,46.250000000000014,18.79,null,53,3.12,165.36,142.21,16.54,33,2.59,85.47,56.740000000000009,16.54,null,52,2.73,141.96,122.09,14.2,63,2.66,167.58,0,0]
["26047","Michigan","Emmet","Soybeans","EmmetSoybeansAll","All"," ",38,32,36,28,36,36,36,37,null,null,null,null,null,null,null,null,null,null,null,null,35,12.27,429.45,369.33,42.95,36,8.9499999999999993,322.2,47.129999999999995,42.95,null,35,11.87,415.45,357.29,41.55,36,9.4700000000000006,340.92,16.370000000000005,16.370000000000005,null,36,10.86,390.96,336.23,39.1,37,9.33,345.21,0,0,null,36,9.6300000000000008,346.68,298.14,34.67,37,8.48,313.76,0,0]
["26047","Michigan","Emmet","Sunflower Seed","EmmetSunflower SeedAll","All",1571,1547,1198,1671,1569,1037,1335,1200,1575,null,1562,0.23369999999999999,365.04,313.93,36.5,1037,0.217,225.03,88.9,36.5,null,1438,0.23469999999999999,337.5,290.25,33.75,1335,0.19600000000000001,261.66000000000003,28.589999999999975,28.589999999999975,null,1367,0.2283,312.08999999999997,268.39999999999998,31.21,1200,0.17399999999999999,208.8,59.599999999999966,31.21,null,1368,0.21079999999999999,288.37,248,28.84,1575,0.17249999999999999,271.69,0,0,null,1368,0.20569999999999999,281.39999999999998,242,28.14,1569]
["26047","Michigan","Emmet","Wheat","EmmetWheatAll","All",50,40,59,55,41,52,41,55,52,null,49,6.6,323.39999999999998,278.12,32.340000000000003,52,5.99,311.48,0,0,null,49,6.7,328.3,282.33999999999997,32.83,41,4.8899999999999997,200.49,81.849999999999966,32.83,null,49,6.7,328.3,282.33999999999997,32.83,55,3.89,213.95,68.389999999999986,32.83,null,49,6.12,299.88,257.89999999999998,29.99,52,4.72,245.44,12.45999999999998,12.45999999999998,null,48,5.66,271.68,233.64,27.17,40,5.16,206.4,27.239999999999981,27.17]
["26049","Michigan","Genesee","Barley","GeneseeBarleyAll","All",51,54,48,48,52,56,56,66,91,null,50,5.45,272.5,234.35,27.25,56,5.3,296.8,0,0,null,51,5.57,284.07,244.3,28.41,56,5.52,309.12,0,0,null,52,5.64,293.27999999999997,252.22,29.33,66,4.96,327.36,0,0,null,55,5.63,309.64999999999998,266.3,30.97,91,4.47,406.77,0,0,null,59,5.26,310.33999999999997,266.89,31.03,43,4.62,198.66,68.22999999999999,31.03]
["26049","Michigan","Genesee","Corn","GeneseeCornAll","All",123,131,132,134,141,142,166,151,149,null,132,5.29,698.28,600.52,69.83,142,3.7,525.4,75.12,69.83,null,136,5.29,719.44,618.72,71.94,166,3.61,599.26,19.460000000000036,19.46,null,139,4.79,665.81,572.6,66.58,151,3.36,507.36,65.240000000000009,65.240000000000009,null,145,3.95,572.75,492.57,57.28,149,3.36,500.64,0,0,null,147,3.7,543.9,467.75,54.39,144,3.61,519.84,0,0]
["26049","Michigan","Genesee","Grain Sorghum","GeneseeGrain SorghumAll","All",70,97,89,60,88,104," "," "," ",null,82,5.0999999999999996,418.2,359.65,41.82,104,4.03,419.12,0,0,null,null,null,null,null,null,null,null,null,null,null,null," "," "," "," "," "," "," "," "," "," ",null," "," "," "," "," "," "," "," "," "," ",null," "," "," "," "," "," "," "," "," "," "]
["26049","Michigan","Genesee","Oats","GeneseeOatsAll","All",58,66,51,60,67,75,73,59,54,null,61,3.25,198.25,170.5,19.829999999999998,75,3.21,240.75,0,0,null,64,3.48,222.72,191.54,22.27,73,2.12,154.76,36.78,22.27,null,67,3.48,233.16,200.52,23.32,59,2.06,121.54,78.98,23.32,null,67,3.12,209.04,179.77,20.9,54,2.59,139.86000000000001,39.909999999999997,20.9,null,66,2.73,180.18,154.94999999999999,18.02,63,2.66,167.58,0,0]
["26049","Michigan","Genesee","Soybeans","GeneseeSoybeansAll","All",33,38,37,42,41,37,46,42,35,null,39,12.27,478.53,411.54,47.85,37,10.1,373.7,37.840000000000032,37.840000000000003,null,39,12.27,478.53,411.54,47.85,46,8.9499999999999993,411.7,0,0,null,40,11.87,474.8,408.33,47.48,42,9.4700000000000006,397.74,10.589999999999975,10.589999999999975,null,42,10.86,456.12,392.26,45.61,35,9.33,326.55,65.70999999999998,45.61,null,40,9.6300000000000008,385.2,331.27,38.520000000000003,44,8.48,373.12,0,0]
["26049","Michigan","Genesee","Wheat","GeneseeWheatAll","All",49,58,60,66,63,58,71,77,61,null,60,6.6,396,340.56,39.6,58,5.99,347.42,0,0,null,60,6.7,402,345.72,40.200000000000003,71,4.8899999999999997,347.19,0,0,null,63,6.7,422.1,363.01,42.21,77,3.89,299.52999999999997,63.480000000000018,42.21,null,67,6.12,410.04,352.63,41,61,4.72,287.92,64.70999999999998,41,null,65,5.66,367.9,316.39,36.79,77,5.16,397.32,0,0]
["26051","Michigan","Gladwin","Barley","GladwinBarleyAll","All",51,54,48,48,52,56,56,66,91,null,50,5.45,272.5,234.35,27.25,56,5.3,296.8,0,0,null,51,5.57,284.07,244.3,28.41,56,5.52,309.12,0,0,null,52,5.64,293.27999999999997,252.22,29.33,66,4.96,327.36,0,0,null,55,5.63,309.64999999999998,266.3,30.97,91,4.47,406.77,0,0,null,59,5.26,310.33999999999997,266.89,31.03,43,4.62,198.66,68.22999999999999,31.03]
["26051","Michigan","Gladwin","Corn","GladwinCornAll","All",116,153,156,148,117,152,148,145,144,null,139,5.29,735.31,632.37,73.53,152,3.7,562.4,69.970000000000027,69.97,null,151,5.29,798.79,686.96,79.88,148,3.61,534.28,152.68000000000006,79.88,null,149,4.79,713.71,613.79,71.37,145,3.36,487.2,126.58999999999997,71.37,null,147,3.95,580.65,499.36,58.07,144,3.36,483.84,15.520000000000039,15.520000000000039,null,146,3.7,540.20000000000005,464.57,54.02,157,3.61,566.77,0,0]
["26051","Michigan","Gladwin","Grain Sorghum","GladwinGrain SorghumAll","All",70,97,89,60,88,104,86,91," ",null,82,5.0999999999999996,418.2,359.65,41.82,104,4.03,419.12,0,0,null,91,5.0999999999999996,464.1,399.13,46.41,86,3.31,284.66000000000003,114.46999999999997,46.41,null,88,4.7699999999999996,419.76,360.99,41.98,91,2.79,253.89,107.10000000000002,41.98,null,88,4.09,359.92,309.52999999999997,35.99," "," "," "," "," ",null," "," "," "," "," "," "," "," "," "," "]
["26051","Michigan","Gladwin","Oats","GladwinOatsAll","All",60,84,62,58,53,65,78,59,48,null,60,3.25,195,167.7,19.5,65,3.21,208.65,0,0,null,62,3.48,215.76,185.55,21.58,78,2.12,165.36,20.189999999999998,20.190000000000001,null,62,3.48,215.76,185.55,21.58,59,2.06,121.54,64.010000000000005,21.58,null,61,3.12,190.32,163.68,19.03,48,2.59,124.32,39.360000000000014,19.03,null,59,2.73,161.07,138.52000000000001,16.11,67,2.66,178.22,0,0]
["26051","Michigan","Gladwin","Soybeans","GladwinSoybeansAll","All",36,49,45,52,37,40,45,47,43,null,44,12.27,539.88,464.3,53.99,40,10.1,404,60.300000000000011,53.99,null,45,12.27,552.15,474.85,55.22,45,8.9499999999999993,402.75,72.100000000000023,55.22,null,43,11.87,510.41,438.95,51.04,47,9.4700000000000006,445.09,0,0,null,44,10.86,477.84,410.94,47.78,43,9.33,401.19,9.75,9.75,null,43,9.6300000000000008,414.09,356.12,41.41,41,8.48,347.68,8.4399999999999977,8.4399999999999977]
["26051","Michigan","Gladwin","Wheat","GladwinWheatAll","All",63,76,64,78,71,68,89,69,59,null,70,6.6,462,397.32,46.2,68,5.99,407.32,0,0,null,72,6.7,482.4,414.86,48.24,89,4.8899999999999997,435.21,0,0,null,72,6.7,482.4,414.86,48.24,69,3.89,268.41000000000003,146.44999999999999,48.24,null,73,6.12,446.76,384.21,44.68,59,4.72,278.48,105.72999999999996,44.68,null,69,5.66,390.54,335.86,39.049999999999997,74,5.16,381.84,0,0]
["26053","Michigan","Gogebic","Oats","GogebicOatsAll","All",58,55,59,60,63,59,57,55,47,null,59,3.25,191.75,164.91,19.18,59,3.21,189.39,0,0,null,59,3.48,205.32,176.58,20.53,57,2.12,120.84,55.740000000000009,20.53,null,59,3.48,205.32,176.58,20.53,55,2.06,113.3,63.280000000000015,20.53,null,59,3.12,184.08,158.31,18.41,47,2.59,121.73,36.58,18.41,null,57,2.73,155.61000000000001,133.82,15.56,63,2.66,167.58,0,0]
["26055","Michigan","Grand Traverse","Barley","Grand TraverseBarleyAll","All",51,54,48,48,52,56,56,66,91,null,50,5.45,272.5,234.35,27.25,56,5.3,296.8,0,0,null,51,5.57,284.07,244.3,28.41,56,5.52,309.12,0,0,null,52,5.64,293.27999999999997,252.22,29.33,66,4.96,327.36,0,0,null,55,5.63,309.64999999999998,266.3,30.97,91,4.47,406.77,0,0,null,59,5.26,310.33999999999997,266.89,31.03,43,4.62,198.66,68.22999999999999,31.03]
["26055","Michigan","Grand Traverse","Corn","Grand TraverseCornAll","All",91,116,102,65,81,74,120,68,126,null,91,5.29,481.39,414,48.14,74,3.7,273.8,140.19999999999999,48.14,null,86,5.29,454.94,391.25,45.49,120,3.61,433.2,0,0,null,86,4.79,411.94,354.27,41.19,68,3.36,228.48,125.78999999999999,41.19,null,74,3.95,292.3,251.38,29.23,126,3.36,423.36,0,0,null,92,3.7,340.4,292.74,34.04,84,3.61,303.24,0,0]
["26055","Michigan","Grand Traverse","Grain Sorghum","Grand TraverseGrain SorghumAll","All",70,97,89,60,88,104,86,91,60,null,82,5.0999999999999996,418.2,359.65,41.82,104,4.03,419.12,0,0,null,91,5.0999999999999996,464.1,399.13,46.41,86,3.31,284.66000000000003,114.46999999999997,46.41,null,88,4.7699999999999996,419.76,360.99,41.98,91,2.79,253.89,107.10000000000002,41.98,null,88,4.09,359.92,309.52999999999997,35.99,48,3.22,154.56,154.96999999999997,35.99,null,88,3.98,350.24,301.20999999999998,35.020000000000003,84,3.26,273.83999999999997,27.370000000000005,27.370000000000005]
["26055","Michigan","Grand Traverse","Oats","Grand TraverseOatsAll","All",62,63,60,55,45,71,50,63,34,null,59,3.25,191.75,164.91,19.18,71,3.21,227.91,0,0,null,59,3.48,205.32,176.58,20.53,50,2.12,106,70.580000000000013,20.53,null,55,3.48,191.4,164.6,19.14,63,2.06,129.78,34.819999999999993,19.14,null,56,3.12,174.72,150.26,17.47,25,2.59,64.75,85.509999999999991,17.47,null,53,2.73,144.69,124.43,14.47,58,2.66,154.28,0,0]
["26055","Michigan","Grand Traverse","Soybeans","Grand TraverseSoybeansAll","All",28,33,35,28,27,19,35,30,36,null,30,12.27,368.1,316.57,36.81,19,10.1,191.9,124.66999999999999,36.81,null,29,12.27,355.83,306.01,35.58,35,8.9499999999999993,313.25,0,0,null,30,11.87,356.1,306.25,35.61,30,9.4700000000000006,284.10000000000002,22.149999999999977,22.149999999999977,null,28,10.86,304.08,261.51,30.41,36,9.33,335.88,0,0,null,31,9.6300000000000008,298.52999999999997,256.74,29.85,40,8.48,339.2,0,0]
["26055","Michigan","Grand Traverse","Wheat","Grand TraverseWheatAll","All",44,35,49,47,40,31,41,53,49,null,44,6.6,290.39999999999998,249.74,29.04,31,5.99,185.69,64.050000000000011,29.04,null,41,6.7,274.7,236.24,27.47,41,4.8899999999999997,200.49,35.75,27.47,null,43,6.7,288.10000000000002,247.77,28.81,53,3.89,206.17,41.600000000000023,28.81,null,43,6.12,263.16000000000003,226.32,26.32,49,4.72,231.28,0,0,null,43,5.66,243.38,209.31,24.34,37,5.16,190.92,18.390000000000015,18.390000000000015]
["26057","Michigan","Gratiot","Barley","GratiotBarleyAll","All",51,54,48,48,52,56,56,66,91,null,50,5.45,272.5,234.35,27.25,56,5.3,296.8,0,0,null,51,5.57,284.07,244.3,28.41,56,5.52,309.12,0,0,null,52,5.64,293.27999999999997,252.22,29.33,66,4.96,327.36,0,0,null,55,5.63,309.64999999999998,266.3,30.97,91,4.47,406.77,0,0,null,59,5.26,310.33999999999997,266.89,31.03,43,4.62,198.66,68.22999999999999,31.03]
["26057","Michigan","Gratiot","Corn","GratiotCornAll","All",156,145,155,173,135,145,170,158,155,null,152,5.29,804.08,691.51,80.41,145,3.7,536.5,155.01,80.41,null,148,5.29,782.92,673.31,78.290000000000006,170,3.61,613.70000000000005,59.6099999999999,59.61,null,157,4.79,752.03,646.75,75.2,158,3.36,530.88,115.87,75.2,null,158,3.95,624.1,536.73,62.41,155,3.36,520.79999999999995,15.930000000000064,15.930000000000064,null,153,3.7,566.1,486.85,56.61,166,3.61,599.26,0,0]
["26057","Michigan","Gratiot","Oats","GratiotOatsAll","All",66,60,62,58,53,71,66,59,52,null,60,3.25,195,167.7,19.5,71,3.21,227.91,0,0,null,60,3.48,208.8,179.57,20.88,66,2.12,139.91999999999999,39.650000000000006,20.88,null,62,3.48,215.76,185.55,21.58,59,2.06,121.54,64.010000000000005,21.58,null,61,3.12,190.32,163.68,19.03,52,2.59,134.68,29,19.03,null,59,2.73,161.07,138.52000000000001,16.11,63,2.66,167.58,0,0]
["26057","Michigan","Gratiot","Soybeans","GratiotSoybeansAll","All",43,41,45,53,41,42,53,54,42,null,43,12.27,527.61,453.74,52.76,42,10.1,424.2,29.54000000000002,29.54,null,43,12.27,527.61,453.74,52.76,53,8.9499999999999993,474.35,0,0,null,47,11.87,557.89,479.79,55.79,54,9.4700000000000006,511.38,0,0,null,49,10.86,532.14,457.64,53.21,42,9.33,391.86,65.779999999999973,53.21,null,46,9.6300000000000008,442.98,380.96,44.3,51,8.48,432.48,0,0]
["26057","Michigan","Gratiot","Wheat","GratiotWheatAll","All",70,73,74,92,72,78,85,85,75,null,73,6.6,481.8,414.35,48.18,78,5.99,467.22,0,0,null,75,6.7,502.5,432.15,50.25,85,4.8899999999999997,415.65,16.5,16.5,null,79,6.7,529.29999999999995,455.2,52.93,85,3.89,330.65,124.55000000000001,52.93,null,83,6.12,507.96,436.85,50.8,75,4.72,354,82.850000000000023,50.8,null,79,5.66,447.14,384.54,44.71,85,5.16,438.6,0,0]
["26059","Michigan","Hillsdale","Barley","HillsdaleBarleyAll","All",51,54,48,48,52,56,56,66,91,null,50,5.45,272.5,234.35,27.25,56,5.3,296.8,0,0,null,51,5.57,284.07,244.3,28.41,56,5.52,309.12,0,0,null,52,5.64,293.27999999999997,252.22,29.33,66,4.96,327.36,0,0,null,55,5.63,309.64999999999998,266.3,30.97,91,4.47,406.77,0,0,null,59,5.26,310.33999999999997,266.89,31.03,43,4.62,198.66,68.22999999999999,31.03]
["26059","Michigan","Hillsdale","Corn","HillsdaleCornAll","All",133,140,139,109,169,153,155,162,153,null,137,5.29,724.73,623.27,72.47,153,3.7,566.1,57.169999999999959,57.17,null,144,5.29,761.76,655.11,76.180000000000007,155,3.61,559.54999999999995,95.560000000000059,76.180000000000007,null,149,4.79,713.71,613.79,71.37,162,3.36,544.32000000000005,69.469999999999914,69.469999999999914,null,157,3.95,620.15,533.33000000000004,62.02,153,3.36,514.08000000000004,19.25,19.25,null,157,3.7,580.9,499.57,58.09,154,3.61,555.94000000000005,0,0]
["26059","Michigan","Hillsdale","Grain Sorghum","HillsdaleGrain SorghumAll","All",70,97,89,60,88,104,86,91,60,null,82,5.0999999999999996,418.2,359.65,41.82,104,4.03,419.12,0,0,null,91,5.0999999999999996,464.1,399.13,46.41,86,3.31,284.66000000000003,114.46999999999997,46.41,null,88,4.7699999999999996,419.76,360.99,41.98,91,2.79,253.89,107.10000000000002,41.98,null,88,4.09,359.92,309.52999999999997,35.99,48,3.22,154.56,154.96999999999997,35.99,null,88,3.98,350.24,301.20999999999998,35.020000000000003,84,3.26,273.83999999999997,27.370000000000005,27.370000000000005]
["26059","Michigan","Hillsdale","Oats","HillsdaleOatsAll","All",66,67,61,47,68,92,62,86,71,null,65,3.25,211.25,181.68,21.13,92,3.21,295.32,0,0,null,65,3.48,226.2,194.53,22.62,62,2.12,131.44,63.09,22.62,null,64,3.48,222.72,191.54,22.27,86,2.06,177.16,14.379999999999995,14.379999999999995,null,72,3.12,224.64,193.19,22.46,71,2.59,183.89,9.3000000000000114,9.3000000000000114,null,75,2.73,204.75,176.09,20.48,63,2.66,167.58,8.5099999999999909,8.5099999999999909]
["26059","Michigan","Hillsdale","Soybeans","HillsdaleSoybeansAll","All",36,45,44,40,47,39,47,51,41,null,43,12.27,527.61,453.74,52.76,39,10.1,393.9,59.840000000000032,52.76,null,43,12.27,527.61,453.74,52.76,47,8.9499999999999993,420.65,33.090000000000032,33.090000000000003,null,44,11.87,522.28,449.16,52.23,51,9.4700000000000006,482.97,0,0,null,45,10.86,488.7,420.28,48.87,41,9.33,382.53,37.75,37.75,null,45,9.6300000000000008,433.35,372.68,43.34,46,8.48,390.08,0,0]
["26059","Michigan","Hillsdale","Wheat","HillsdaleWheatAll","All",66,62,65,69,74,70,73,89,87,null,67,6.6,442.2,380.29,44.22,70,5.99,419.3,0,0,null,68,6.7,455.6,391.82,45.56,73,4.8899999999999997,356.97,34.849999999999966,34.85,null,71,6.7,475.7,409.1,47.57,89,3.89,346.21,62.890000000000043,47.57,null,72,6.12,440.64,378.95,44.06,87,4.72,410.64,0,0,null,78,5.66,441.48,379.67,44.15,70,5.16,361.2,18.470000000000027,18.470000000000027]
["26061","Michigan","Houghton","Barley","HoughtonBarleyAll","All",51,54,48,48,52,56,56,66,91,null,50,5.45,272.5,234.35,27.25,56,5.3,296.8,0,0,null,51,5.57,284.07,244.3,28.41,56,5.52,309.12,0,0,null,52,5.64,293.27999999999997,252.22,29.33,66,4.96,327.36,0,0,null,55,5.63,309.64999999999998,266.3,30.97,91,4.47,406.77,0,0,null,59,5.26,310.33999999999997,266.89,31.03,43,4.62,198.66,68.22999999999999,31.03]
["26061","Michigan","Houghton","Canola","HoughtonCanolaAll","All",1601,1326,1356,1395,2199,1211,1233,1354,1798,null,1451,0.21579999999999999,313.13,269.29000000000002,31.31,1211,0.16899999999999998,204.66,64.630000000000024,31.31,null,1359,0.21579999999999999,293.27,252.21,29.33,1233,0.156,192.35,59.860000000000014,29.33,null,1328,0.21579999999999999,286.58,246.46,28.66,1354,0.16600000000000001,224.76,21.700000000000017,21.700000000000017,null,1327,0.20300000000000001,269.38,231.67,26.94,1798,0.17499999999999999,314.64999999999998,0,0,null,1462,0.20150000000000001,294.58999999999997,253.35,29.46,1648,0.158,260.38,0,0]
["26061","Michigan","Houghton","Corn","HoughtonCornAll","All",46,127,46,84,120,46,132,87,51,null,83,5.29,439.07,377.6,43.91,38,3.7,140.6,237.00000000000003,43.91,null,83,5.29,439.07,377.6,43.91,132,3.61,476.52,0,0,null,83,4.79,397.57,341.91,39.76,87,3.36,292.32,49.590000000000032,39.76,null,97,3.95,383.15,329.51,38.32,37,3.36,124.32,205.19,38.32,null,86,3.7,318.2,273.64999999999998,31.82,111,3.61,400.71,0,0]
["26061","Michigan","Houghton","Oats","HoughtonOatsAll","All",58,55,59,43,63,59,57,55,47,null,57,3.25,185.25,159.32,18.53,59,3.21,189.39,0,0,null,58,3.48,201.84,173.58,20.18,57,2.12,120.84,52.740000000000009,20.18,null,58,3.48,201.84,173.58,20.18,55,2.06,113.3,60.280000000000015,20.18,null,57,3.12,177.84,152.94,17.78,47,2.59,121.73,31.209999999999994,17.78,null,57,2.73,155.61000000000001,133.82,15.56,63,2.66,167.58,0,0]
["26061","Michigan","Houghton","Rapeseed","HoughtonRapeseedAll","All",1700,1891,2177,2218,1700,1346,1346,1354,1354,null,1923,0.25829999999999997,496.71,427.17,49.67,1211,0.34899999999999998,422.64,4.5300000000000296,4.53,null,1923,0.26069999999999999,501.33,431.14,50.13,1233,0.43200000000000005,532.66,0,0,null,1741,0.29330000000000001,510.64,439.15,51.06,1354,0.252,341.21,97.94,51.06,null,1467,0.2873,421.47,362.46,42.15,1354,0.2,270.8,91.659999999999968,42.15,null,1351,0.28399999999999997,383.68,329.96,38.369999999999997,1648]
["26061","Michigan","Houghton","Wheat","HoughtonWheatAll","All",47,56,50,41,41,47,51,55,52,null,46,6.6,303.60000000000002,261.10000000000002,30.36,47,5.99,281.52999999999997,0,0,null,46,6.7,308.2,265.05,30.82,51,4.8899999999999997,249.39,15.660000000000025,15.66,null,46,6.7,308.2,265.05,30.82,55,3.89,213.95,51.100000000000023,30.82,null,46,6.12,281.52,242.11,28.15,52,4.72,245.44,0,0,null,50,5.66,283,243.38,28.3,40,5.16,206.4,36.97999999999999,28.3]
["26063","Michigan","Huron","Barley","HuronBarleyAll","All",51,54,48,48,52,56,56,66,91,null,50,5.45,272.5,234.35,27.25,56,5.3,296.8,0,0,null,51,5.57,284.07,244.3,28.41,56,5.52,309.12,0,0,null,52,5.64,293.27999999999997,252.22,29.33,66,4.96,327.36,0,0,null,55,5.63,309.64999999999998,266.3,30.97,91,4.47,406.77,0,0,null,59,5.26,310.33999999999997,266.89,31.03,43,4.62,198.66,68.22999999999999,31.03]
["26063","Michigan","Huron","Corn","HuronCornAll","All",167,172,175,129,164,161,199,154,197,null,168,5.29,888.72,764.3,88.87,161,3.7,595.70000000000005,168.59999999999991,88.87,null,166,5.29,878.14,755.2,87.81,199,3.61,718.39,36.810000000000059,36.81,null,167,4.79,799.93,687.94,79.989999999999995,154,3.36,517.44000000000005,170.5,79.989999999999995,null,160,3.95,632,543.52,63.2,197,3.36,661.92,0,0,null,174,3.7,643.79999999999995,553.66999999999996,64.38,164,3.61,592.04,0,0]
["26063","Michigan","Huron","Grain Sorghum","HuronGrain SorghumAll","All",70,97,89,60,88,104,86,91,60,null,82,5.0999999999999996,418.2,359.65,41.82,104,4.03,419.12,0,0,null,91,5.0999999999999996,464.1,399.13,46.41,86,3.31,284.66000000000003,114.46999999999997,46.41,null,88,4.7699999999999996,419.76,360.99,41.98,91,2.79,253.89,107.10000000000002,41.98,null,88,4.09,359.92,309.52999999999997,35.99,48,3.22,154.56,154.96999999999997,35.99,null,88,3.98,350.24,301.20999999999998,35.020000000000003,84,3.26,273.83999999999997,27.370000000000005,27.370000000000005]
["26063","Michigan","Huron","Oats","HuronOatsAll","All",86,99,84,95,82,100,104,80,90,null,88,3.25,286,245.96,28.6,100,3.21,321,0,0,null,93,3.48,323.64,278.33,32.36,104,2.12,220.48,57.849999999999994,32.36,null,93,3.48,323.64,278.33,32.36,80,2.06,164.8,113.52999999999997,32.36,null,92,3.12,287.04000000000002,246.85,28.7,90,2.59,233.1,13.75,13.75,null,91,2.73,248.43,213.65,24.84,63,2.66,167.58,46.069999999999993,24.84]
["26063","Michigan","Huron","Soybeans","HuronSoybeansAll","All",40,46,48,50,47,39,53,52,52,null,47,12.27,576.69000000000005,495.95,57.67,39,10.1,393.9,102.05000000000001,57.67,null,47,12.27,576.69000000000005,495.95,57.67,53,8.9499999999999993,474.35,21.599999999999966,21.6,null,48,11.87,569.76,489.99,56.98,52,9.4700000000000006,492.44,0,0,null,50,10.86,543,466.98,54.3,52,9.33,485.16,0,0,null,50,9.6300000000000008,481.5,414.09,48.15,57,8.48,483.36,0,0]
["26063","Michigan","Huron","Wheat","HuronWheatAll","All",64,86,91,88,92,81,104,110,100,null,88,6.6,580.79999999999995,499.49,58.08,81,5.99,485.19,14.300000000000011,14.3,null,88,6.7,589.6,507.06,58.96,104,4.8899999999999997,508.56,0,0,null,90,6.7,603,518.58000000000004,60.3,110,3.89,427.9,90.680000000000064,60.3,null,95,6.12,581.4,500,58.14,100,4.72,472,28,28,null,99,5.66,560.34,481.89,56.03,83,5.16,428.28,53.610000000000014,53.610000000000014]
["26065","Michigan","Ingham","Barley","InghamBarleyAll","All",51,54,48,48,52,56,56,66,91,null,50,5.45,272.5,234.35,27.25,56,5.3,296.8,0,0,null,51,5.57,284.07,244.3,28.41,56,5.52,309.12,0,0,null,52,5.64,293.27999999999997,252.22,29.33,66,4.96,327.36,0,0,null,55,5.63,309.64999999999998,266.3,30.97,91,4.47,406.77,0,0,null,59,5.26,310.33999999999997,266.89,31.03,43,4.62,198.66,68.22999999999999,31.03]
["26065","Michigan","Ingham","Corn","InghamCornAll","All",151,159,148,116,161,175,168,154,153,null,153,5.29,809.37,696.06,80.94,175,3.7,647.5,48.559999999999945,48.56,null,156,5.29,825.24,709.71,82.52,168,3.61,606.48,103.23000000000002,82.52,null,159,4.79,761.61,654.98,76.16,154,3.36,517.44000000000005,137.53999999999996,76.16,null,161,3.95,635.95000000000005,546.91999999999996,63.6,153,3.36,514.08000000000004,32.839999999999918,32.839999999999918,null,161,3.7,595.70000000000005,512.29999999999995,59.57,135,3.61,487.35,24.949999999999932,24.949999999999932]
["26065","Michigan","Ingham","Grain Sorghum","InghamGrain SorghumAll","All",70,97,89,60,88,104,86,91,60,null,82,5.0999999999999996,418.2,359.65,41.82,104,4.03,419.12,0,0,null,91,5.0999999999999996,464.1,399.13,46.41,86,3.31,284.66000000000003,114.46999999999997,46.41,null,88,4.7699999999999996,419.76,360.99,41.98,91,2.79,253.89,107.10000000000002,41.98,null,88,4.09,359.92,309.52999999999997,35.99,48,3.22,154.56,154.96999999999997,35.99,null,88,3.98,350.24,301.20999999999998,35.020000000000003,84,3.26,273.83999999999997,27.370000000000005,27.370000000000005]
["26065","Michigan","Ingham","Oats","InghamOatsAll","All",68,67,61,60,68,78,64,69,60,null,65,3.25,211.25,181.68,21.13,78,3.21,250.38,0,0,null,65,3.48,226.2,194.53,22.62,64,2.12,135.68,58.849999999999994,22.62,null,64,3.48,222.72,191.54,22.27,69,2.06,142.13999999999999,49.400000000000006,22.27,null,67,3.12,209.04,179.77,20.9,60,2.59,155.4,24.370000000000005,20.9,null,67,2.73,182.91,157.30000000000001,18.29,63,2.66,167.58,0,0]
["26065","Michigan","Ingham","Soybeans","InghamSoybeansAll","All",41,47,46,39,48,50,50,52,41,null,45,12.27,552.15,474.85,55.22,50,10.1,505,0,0,null,47,12.27,576.69000000000005,495.95,57.67,50,8.9499999999999993,447.5,48.449999999999989,48.45,null,48,11.87,569.76,489.99,56.98,52,9.4700000000000006,492.44,0,0,null,49,10.86,532.14,457.64,53.21,41,9.33,382.53,75.110000000000014,53.21,null,49,9.6300000000000008,471.87,405.81,47.19,48,8.48,407.04,0,0]
["26065","Michigan","Ingham","Wheat","InghamWheatAll","All",66,70,80,84,84,83,85,94,72,null,78,6.6,514.79999999999995,442.73,51.48,83,5.99,497.17,0,0,null,82,6.7,549.4,472.48,54.94,85,4.8899999999999997,415.65,56.830000000000041,54.94,null,84,6.7,562.79999999999995,484.01,56.28,94,3.89,365.66,118.34999999999997,56.28,null,84,6.12,514.08000000000004,442.11,51.41,72,4.72,339.84,102.27000000000004,51.41,null,84,5.66,475.44,408.88,47.54,75,5.16,387,21.879999999999995,21.879999999999995]
["26067","Michigan","Ionia","Barley","IoniaBarleyAll","All",51,54,48,48,52,56,56,66,91,null,50,5.45,272.5,234.35,27.25,56,5.3,296.8,0,0,null,51,5.57,284.07,244.3,28.41,56,5.52,309.12,0,0,null,52,5.64,293.27999999999997,252.22,29.33,66,4.96,327.36,0,0,null,55,5.63,309.64999999999998,266.3,30.97,91,4.47,406.77,0,0,null,59,5.26,310.33999999999997,266.89,31.03,43,4.62,198.66,68.22999999999999,31.03]
["26067","Michigan","Ionia","Corn","IoniaCornAll","All",153,160,165,139,159,157,183,168,163,null,157,5.29,830.53,714.26,83.05,157,3.7,580.9,133.36000000000001,83.05,null,159,5.29,841.11,723.35,84.11,183,3.61,660.63,62.720000000000027,62.72,null,160,4.79,766.4,659.1,76.64,168,3.36,564.48,94.62,76.64,null,161,3.95,635.95000000000005,546.91999999999996,63.6,163,3.36,547.67999999999995,0,0,null,163,3.7,603.1,518.66999999999996,60.31,156,3.61,563.16,0,0]
["26067","Michigan","Ionia","Grain Sorghum","IoniaGrain SorghumAll","All",70,97,89,60,88,104,86,91,60,null,82,5.0999999999999996,418.2,359.65,41.82,104,4.03,419.12,0,0,null,91,5.0999999999999996,464.1,399.13,46.41,86,3.31,284.66000000000003,114.46999999999997,46.41,null,88,4.7699999999999996,419.76,360.99,41.98,91,2.79,253.89,107.10000000000002,41.98,null,88,4.09,359.92,309.52999999999997,35.99,48,3.22,154.56,154.96999999999997,35.99,null,88,3.98,350.24,301.20999999999998,35.020000000000003,84,3.26,273.83999999999997,27.370000000000005,27.370000000000005]
["26067","Michigan","Ionia","Oats","IoniaOatsAll","All",62,67,63,63,68,102,45,59,60,null,64,3.25,208,178.88,20.8,102,3.21,327.42,0,0,null,66,3.48,229.68,197.52,22.97,45,2.12,95.4,102.12,22.97,null,65,3.48,226.2,194.53,22.62,59,2.06,121.54,72.989999999999995,22.62,null,63,3.12,196.56,169.04,19.66,60,2.59,155.4,13.639999999999986,13.639999999999986,null,62,2.73,169.26,145.56,16.93,63,2.66,167.58,0,0]
["26067","Michigan","Ionia","Soybeans","IoniaSoybeansAll","All",45,48,48,50,47,45,53,55,43,null,48,12.27,588.96,506.51,58.9,45,10.1,454.5,52.009999999999991,52.01,null,48,12.27,588.96,506.51,58.9,53,8.9499999999999993,474.35,32.159999999999968,32.159999999999997,null,48,11.87,569.76,489.99,56.98,55,9.4700000000000006,520.85,0,0,null,50,10.86,543,466.98,54.3,43,9.33,401.19,65.79000000000002,54.3,null,48,9.6300000000000008,462.24,397.53,46.22,51,8.48,432.48,0,0]
["26067","Michigan","Ionia","Wheat",{"$f":"C198&D198&F198","v":"IoniaWheatAll"},"All",66,63,77,74,78,77,78,98,79,null,72,6.6,475.2,408.67,47.52,77,5.99,461.23,0,0,null,76,6.7,509.2,437.91,50.92,78,4.8899999999999997,381.42,56.490000000000009,50.92,null,77,6.7,515.9,443.67,51.59,98,3.89,381.22,62.449999999999989,51.59,null,78,6.12,477.36,410.53,47.74,79,4.72,372.88,37.649999999999977,37.649999999999977,null,78,5.66,441.48,379.67,44.15,86,5.16,443.76,0,0]
["26069","Michigan","Iosco","Barley","IoscoBarleyAll","All",51,54,48,48,52,56,56,66,91,null,50,5.45,272.5,234.35,27.25,56,5.3,296.8,0,0,null,51,5.57,284.07,244.3,28.41,56,5.52,309.12,0,0,null,52,5.64,293.27999999999997,252.22,29.33,66,4.96,327.36,0,0,null,55,5.63,309.64999999999998,266.3,30.97,91,4.47,406.77,0,0,null,59,5.26,310.33999999999997,266.89,31.03,43,4.62,198.66,68.22999999999999,31.03]
["26069","Michigan","Iosco","Corn","IoscoCornAll","All",119,146,150,133,122,122,137,126,139,null,134,5.29,708.86,609.62,70.89,122,3.7,451.4,158.22000000000003,70.89,null,134,5.29,708.86,609.62,70.89,137,3.61,494.57,115.05000000000001,70.89,null,131,4.79,627.49,539.64,62.75,126,3.36,423.36,116.27999999999997,62.75,null,127,3.95,501.65,431.42,50.17,139,3.36,467.04,0,0,null,128,3.7,473.6,407.3,47.36,157,3.61,566.77,0,0]
["26069","Michigan","Iosco","Grain Sorghum","IoscoGrain SorghumAll","All",70,97,89,60,88,104,86,91,60,null,82,5.0999999999999996,418.2,359.65,41.82,104,4.03,419.12,0,0,null,91,5.0999999999999996,464.1,399.13,46.41,86,3.31,284.66000000000003,114.46999999999997,46.41,null,88,4.7699999999999996,419.76,360.99,41.98,91,2.79,253.89,107.10000000000002,41.98,null,88,4.09,359.92,309.52999999999997,35.99,48,3.22,154.56,154.96999999999997,35.99,null,88,3.98,350.24,301.20999999999998,35.020000000000003,84,3.26,273.83999999999997,27.370000000000005,27.370000000000005]
["26069","Michigan","Iosco","Oats","IoscoOatsAll","All",67,65,71,80,57,84,89,54,65,null,68,3.25,221,190.06,22.1,84,3.21,269.64,0,0,null,72,3.48,250.56,215.48,25.06,89,2.12,188.68,26.799999999999983,25.06,null,78,3.48,271.44,233.44,27.14,54,2.06,111.24,122.2,27.14,null,74,3.12,230.88,198.56,23.09,65,2.59,168.35,30.210000000000008,23.09,null,69,2.73,188.37,162,18.84,63,2.66,167.58,0,0]
["26069","Michigan","Iosco","Soybeans","IoscoSoybeansAll","All",35,44,34,43,33,32,38,46,36,null,37,12.27,453.99,390.43,45.4,32,10.1,323.2,67.230000000000018,45.4,null,37,12.27,453.99,390.43,45.4,38,8.9499999999999993,340.1,50.329999999999984,45.4,null,35,11.87,415.45,357.29,41.55,46,9.4700000000000006,435.62,0,0,null,38,10.86,412.68,354.9,41.27,36,9.33,335.88,19.019999999999982,19.019999999999982,null,36,9.6300000000000008,346.68,298.14,34.67,46,8.48,390.08,0,0]
["26069","Michigan","Iosco","Sunflower Seed","IoscoSunflower SeedAll","All",1571,1547,1198,1671,1569,1037,1335,1200,1575,null,1562,0.23369999999999999,365.04,313.93,36.5,1037,0.217,225.03,88.9,36.5,null,1438,0.23469999999999999,337.5,290.25,33.75,1335,0.19600000000000001,261.66000000000003,28.589999999999975,28.589999999999975,null,1367,0.2283,312.08999999999997,268.39999999999998,31.21,1200,0.17399999999999999,208.8,59.599999999999966,31.21,null,1368,0.21079999999999999,288.37,248,28.84,1575,0.17249999999999999,271.69,0,0,null,1368,0.20569999999999999,281.39999999999998,242,28.14,1569]
["26069","Michigan","Iosco","Wheat","IoscoWheatAll","All",71,52,77,67,64,68,89,84,74,null,67,6.6,442.2,380.29,44.22,68,5.99,407.32,0,0,null,66,6.7,442.2,380.29,44.22,89,4.8899999999999997,435.21,0,0,null,71,6.7,475.7,409.1,47.57,84,3.89,326.76,82.340000000000032,47.57,null,73,6.12,446.76,384.21,44.68,74,4.72,349.28,34.930000000000007,34.930000000000007,null,75,5.66,424.5,365.07,42.45,60,5.16,309.60000000000002,55.46999999999997,42.45]
["26071","Michigan","Iron","Barley","IronBarleyAll","All",51,54,48,48,52,56,56,66,91,null,50,5.45,272.5,234.35,27.25,56,5.3,296.8,0,0,null,51,5.57,284.07,244.3,28.41,56,5.52,309.12,0,0,null,52,5.64,293.27999999999997,252.22,29.33,66,4.96,327.36,0,0,null,55,5.63,309.64999999999998,266.3,30.97,91,4.47,406.77,0,0,null,59,5.26,310.33999999999997,266.89,31.03,43,4.62,198.66,68.22999999999999,31.03]
["26071","Michigan","Iron","Corn","IronCornAll","All",52,127,52,84,120,52,132,87,52,null,85,5.29,449.65,386.7,44.97,38,3.7,140.6,246.1,44.97,null,85,5.29,449.65,386.7,44.97,132,3.61,476.52,0,0,null,85,4.79,407.15,350.15,40.72,87,3.36,292.32,57.829999999999984,40.72,null,97,3.95,383.15,329.51,38.32,37,3.36,124.32,205.19,38.32,null,86,3.7,318.2,273.64999999999998,31.82,111,3.61,400.71,0,0]
["26071","Michigan","Iron","Oats","IronOatsAll","All",58,55,59,60,63,59,57,55,47,null,59,3.25,191.75,164.91,19.18,59,3.21,189.39,0,0,null,59,3.48,205.32,176.58,20.53,57,2.12,120.84,55.740000000000009,20.53,null,59,3.48,205.32,176.58,20.53,55,2.06,113.3,63.280000000000015,20.53,null,59,3.12,184.08,158.31,18.41,47,2.59,121.73,36.58,18.41,null,57,2.73,155.61000000000001,133.82,15.56,63,2.66,167.58,0,0]
["26071","Michigan","Iron","Wheat","IronWheatAll","All",47,56,50,41,41,47,51,55,52,null,46,6.6,303.60000000000002,261.10000000000002,30.36,47,5.99,281.52999999999997,0,0,null,46,6.7,308.2,265.05,30.82,51,4.8899999999999997,249.39,15.660000000000025,15.66,null,46,6.7,308.2,265.05,30.82,55,3.89,213.95,51.100000000000023,30.82,null,46,6.12,281.52,242.11,28.15,52,4.72,245.44,0,0,null,50,5.66,283,243.38,28.3,40,5.16,206.4,36.97999999999999,28.3]
["26073","Michigan","Isabella","Barley","IsabellaBarleyAll","All",51,54,48,48,52,56,56,66,91,null,50,5.45,272.5,234.35,27.25,56,5.3,296.8,0,0,null,51,5.57,284.07,244.3,28.41,56,5.52,309.12,0,0,null,52,5.64,293.27999999999997,252.22,29.33,66,4.96,327.36,0,0,null,55,5.63,309.64999999999998,266.3,30.97,91,4.47,406.77,0,0,null,59,5.26,310.33999999999997,266.89,31.03,43,4.62,198.66,68.22999999999999,31.03]
["26073","Michigan","Isabella","Corn","IsabellaCornAll","All",134,145,146,156,138,143,151,152,145,null,143,5.29,756.47,650.55999999999995,75.650000000000006,143,3.7,529.1,121.45999999999992,75.650000000000006,null,145,5.29,767.05,659.66,76.709999999999994,151,3.61,545.11,114.54999999999995,76.709999999999994,null,147,4.79,704.13,605.54999999999995,70.41,152,3.36,510.72,94.829999999999927,70.41,null,149,3.95,588.54999999999995,506.15,58.86,145,3.36,487.2,18.949999999999989,18.949999999999989,null,146,3.7,540.20000000000005,464.57,54.02,135,3.61,487.35,0,0]
["26073","Michigan","Isabella","Grain Sorghum","IsabellaGrain SorghumAll","All",70,97,89,60,88,104,86,91,60,null,82,5.0999999999999996,418.2,359.65,41.82,104,4.03,419.12,0,0,null,91,5.0999999999999996,464.1,399.13,46.41,86,3.31,284.66000000000003,114.46999999999997,46.41,null,88,4.7699999999999996,419.76,360.99,41.98,91,2.79,253.89,107.10000000000002,41.98,null,88,4.09,359.92,309.52999999999997,35.99,48,3.22,154.56,154.96999999999997,35.99,null,88,3.98,350.24,301.20999999999998,35.020000000000003,84,3.26,273.83999999999997,27.370000000000005,27.370000000000005]
["26073","Michigan","Isabella","Oats","IsabellaOatsAll","All",68,66,69,79,50,67,62,71,52,null,68,3.25,221,190.06,22.1,67,3.21,215.07,0,0,null,67,3.48,233.16,200.52,23.32,62,2.12,131.44,69.080000000000013,23.32,null,66,3.48,229.68,197.52,22.97,71,2.06,146.26,51.260000000000019,22.97,null,67,3.12,209.04,179.77,20.9,52,2.59,134.68,45.09,20.9,null,60,2.73,163.80000000000001,140.87,16.38,63,2.66,167.58,0,0]
["26073","Michigan","Isabella","Soybeans","IsabellaSoybeansAll","All",40,48,46,57,40,41,45,52,42,null,45,12.27,552.15,474.85,55.22,41,10.1,414.1,60.75,55.22,null,45,12.27,552.15,474.85,55.22,45,8.9499999999999993,402.75,72.100000000000023,55.22,null,44,11.87,522.28,449.16,52.23,52,9.4700000000000006,492.44,0,0,null,46,10.86,499.56,429.62,49.96,42,9.33,391.86,37.759999999999991,37.759999999999991,null,43,9.6300000000000008,414.09,356.12,41.41,39,8.48,330.72,25.399999999999977,25.399999999999977]
["26073","Michigan","Isabella","Wheat","IsabellaWheatAll","All",70,70,80,77,68,65,79,75,73,null,72,6.6,475.2,408.67,47.52,65,5.99,389.35,19.319999999999993,19.32,null,72,6.7,482.4,414.86,48.24,79,4.8899999999999997,386.31,28.550000000000011,28.55,null,75,6.7,502.5,432.15,50.25,75,3.89,291.75,140.39999999999998,50.25,null,73,6.12,446.76,384.21,44.68,73,4.72,344.56,39.649999999999977,39.649999999999977,null,72,5.66,407.52,350.47,40.75,69,5.16,356.04,0,0]
["26075","Michigan","Jackson","Barley","JacksonBarleyAll","All",51,54,48,48,52,56,56,66,91,null,50,5.45,272.5,234.35,27.25,56,5.3,296.8,0,0,null,51,5.57,284.07,244.3,28.41,56,5.52,309.12,0,0,null,52,5.64,293.27999999999997,252.22,29.33,66,4.96,327.36,0,0,null,55,5.63,309.64999999999998,266.3,30.97,91,4.47,406.77,0,0,null,59,5.26,310.33999999999997,266.89,31.03,43,4.62,198.66,68.22999999999999,31.03]
["26075","Michigan","Jackson","Canola","JacksonCanolaAll","All",1601,1326,1356,1395,2199,1211,1233,1354,1798,null,1451,0.21579999999999999,313.13,269.29000000000002,31.31,1211,0.16899999999999998,204.66,64.630000000000024,31.31,null,1359,0.21579999999999999,293.27,252.21,29.33,1233,0.156,192.35,59.860000000000014,29.33,null,1328,0.21579999999999999,286.58,246.46,28.66,1354,0.16600000000000001,224.76,21.700000000000017,21.700000000000017,null,1327,0.20300000000000001,269.38,231.67,26.94,1798,0.17499999999999999,314.64999999999998,0,0,null,1462,0.20150000000000001,294.58999999999997,253.35,29.46,1648,0.158,260.38,0,0]
["26075","Michigan","Jackson","Corn","JacksonCornAll","All",122,141,130,85,156,154,139,115,122,null,131,5.29,692.99,595.97,69.3,154,3.7,569.79999999999995,26.170000000000073,26.17,null,142,5.29,751.18,646.01,75.12,139,3.61,501.79,144.21999999999997,75.12,null,141,4.79,675.39,580.84,67.540000000000006,115,3.36,386.4,194.44000000000005,67.540000000000006,null,136,3.95,537.20000000000005,461.99,53.72,122,3.36,409.92,52.069999999999993,52.069999999999993,null,138,3.7,510.6,439.12,51.06,123,3.61,444.03,0,0]
["26075","Michigan","Jackson","Grain Sorghum","JacksonGrain SorghumAll","All",70,97,89,60,88,104,86,91,60,null,82,5.0999999999999996,418.2,359.65,41.82,104,4.03,419.12,0,0,null,91,5.0999999999999996,464.1,399.13,46.41,86,3.31,284.66000000000003,114.46999999999997,46.41,null,88,4.7699999999999996,419.76,360.99,41.98,91,2.79,253.89,107.10000000000002,41.98,null,88,4.09,359.92,309.52999999999997,35.99,48,3.22,154.56,154.96999999999997,35.99,null,88,3.98,350.24,301.20999999999998,35.020000000000003,84,3.26,273.83999999999997,27.370000000000005,27.370000000000005]
["26075","Michigan","Jackson","Oats","JacksonOatsAll","All",60,62,61,48,58,78,61,63,50,null,60,3.25,195,167.7,19.5,78,3.21,250.38,0,0,null,60,3.48,208.8,179.57,20.88,61,2.12,129.32,50.25,20.88,null,60,3.48,208.8,179.57,20.88,63,2.06,129.78,49.789999999999992,20.88,null,61,3.12,190.32,163.68,19.03,50,2.59,129.5,34.180000000000007,19.03,null,61,2.73,166.53,143.22,16.649999999999999,60,2.66,159.6,0,0]
["26075","Michigan","Jackson","Soybeans","JacksonSoybeansAll","All",39,46,40,29,46,41,44,45,34,null,42,12.27,515.34,443.19,51.53,41,10.1,414.1,29.089999999999975,29.09,null,42,12.27,515.34,443.19,51.53,44,8.9499999999999993,393.8,49.389999999999986,49.39,null,42,11.87,498.54,428.74,49.85,45,9.4700000000000006,426.15,2.5900000000000318,2.5900000000000318,null,43,10.86,466.98,401.6,46.7,34,9.33,317.22000000000003,84.38,46.7,null,43,9.6300000000000008,414.09,356.12,41.41,40,8.48,339.2,16.920000000000016,16.920000000000016]
["26075","Michigan","Jackson","Wheat","JacksonWheatAll","All",57,55,66,63,64,61,68,87,75,null,61,6.6,402.6,346.24,40.26,61,5.99,365.39,0,0,null,63,6.7,422.1,363.01,42.21,68,4.8899999999999997,332.52,30.490000000000009,30.49,null,64,6.7,428.8,368.77,42.88,87,3.89,338.43,30.339999999999975,30.339999999999975,null,65,6.12,397.8,342.11,39.78,75,4.72,354,0,0,null,69,5.66,390.54,335.86,39.049999999999997,70,5.16,361.2,0,0]
["26077","Michigan","Kalamazoo","Barley","KalamazooBarleyAll","All",51,54,48,48,52,56,56,66,91,null,50,5.45,272.5,234.35,27.25,56,5.3,296.8,0,0,null,51,5.57,284.07,244.3,28.41,56,5.52,309.12,0,0,null,52,5.64,293.27999999999997,252.22,29.33,66,4.96,327.36,0,0,null,55,5.63,309.64999999999998,266.3,30.97,91,4.47,406.77,0,0,null,59,5.26,310.33999999999997,266.89,31.03,43,4.62,198.66,68.22999999999999,31.03]
["26077","Michigan","Kalamazoo","Canola","KalamazooCanolaAll","All",1601,1326,1356,1395,2199,1211,1233,1354,1798,null,1451,0.21579999999999999,313.13,269.29000000000002,31.31,1211,0.16899999999999998,204.66,64.630000000000024,31.31,null,1359,0.21579999999999999,293.27,252.21,29.33,1233,0.156,192.35,59.860000000000014,29.33,null,1328,0.21579999999999999,286.58,246.46,28.66,1354,0.16600000000000001,224.76,21.700000000000017,21.700000000000017,null,1327,0.20300000000000001,269.38,231.67,26.94,1798,0.17499999999999999,314.64999999999998,0,0,null,1462,0.20150000000000001,294.58999999999997,253.35,29.46,1648,0.158,260.38,0,0]
["26077","Michigan","Kalamazoo","Corn","KalamazooCornIrrigated","Irrigated",163,203,199,150,210,200,200,205,210,null,188,5.29,994.52,855.29,99.45,200,3.7,740,115.28999999999996,99.45,null,201,5.29,1063.29,914.43,106.33,200,3.61,722,192.42999999999995,106.33,null,200,4.79,958,823.88,95.8,205,3.36,688.8,135.08000000000004,95.8,null,202,3.95,797.9,686.19,79.790000000000006,210,3.36,705.6,0,0,null,205,3.7,758.5,652.30999999999995,75.849999999999994,153,3.61,552.33000000000004,99.979999999999905,75.849999999999994]
["26077","Michigan","Kalamazoo","Corn","KalamazooCornNonirrigated","Nonirrigated",105,154,152,88,175,148,159,153,143,null,137,5.29,724.73,623.27,72.47,148,3.7,547.6,75.669999999999959,72.47,null,151,5.29,798.79,686.96,79.88,159,3.61,573.99,112.97000000000003,79.88,null,153,4.79,732.87,630.27,73.290000000000006,153,3.36,514.08000000000004,116.18999999999994,73.290000000000006,null,153,3.95,604.35,519.74,60.44,143,3.36,480.48,39.259999999999991,39.259999999999991,null,153,3.7,566.1,486.85,56.61,146,3.61,527.05999999999995,0,0]
["26077","Michigan","Kalamazoo","Grain Sorghum","KalamazooGrain SorghumAll","All",70,97,89,60,88,104,86,91,60,null,82,5.0999999999999996,418.2,359.65,41.82,104,4.03,419.12,0,0,null,91,5.0999999999999996,464.1,399.13,46.41,86,3.31,284.66000000000003,114.46999999999997,46.41,null,88,4.7699999999999996,419.76,360.99,41.98,91,2.79,253.89,107.10000000000002,41.98,null,88,4.09,359.92,309.52999999999997,35.99,48,3.22,154.56,154.96999999999997,35.99,null,88,3.98,350.24,301.20999999999998,35.020000000000003,84,3.26,273.83999999999997,27.370000000000005,27.370000000000005]
["26077","Michigan","Kalamazoo","Oats","KalamazooOatsAll","All",50,77,68,53,61,61,85,82,43,null,61,3.25,198.25,170.5,19.829999999999998,61,3.21,195.81,0,0,null,63,3.48,219.24,188.55,21.92,85,2.12,180.2,8.3500000000000227,8.35,null,63,3.48,219.24,188.55,21.92,82,2.06,168.92,19.630000000000024,19.630000000000024,null,68,3.12,212.16,182.46,21.22,43,2.59,111.37,71.09,21.22,null,68,2.73,185.64,159.65,18.559999999999999,63,2.66,167.58,0,0]
["26077","Michigan","Kalamazoo","Soybeans","KalamazooSoybeansNonirrigated","Nonirrigated",38,49,46,33,48,41,46,48,36,null,44,12.27,539.88,464.3,53.99,41,10.1,414.1,50.199999999999989,50.2,null,45,12.27,552.15,474.85,55.22,46,8.9499999999999993,411.7,63.150000000000034,55.22,null,44,11.87,522.28,449.16,52.23,48,9.4700000000000006,454.56,0,0,null,45,10.86,488.7,420.28,48.87,36,9.33,335.88,84.399999999999977,48.87,null,45,9.6300000000000008,433.35,372.68,43.34,46,8.48,390.08,0,0]
["26077","Michigan","Kalamazoo","Soybeans","KalamazooSoybeansIrrigated","Irrigated",53,60,56,45,58,59,63,63,54,null,56,12.27,687.12,590.91999999999996,68.709999999999994,59,10.1,595.9,0,0,null,58,12.27,711.66,612.03,71.17,63,8.9499999999999993,563.85,48.17999999999995,48.18,null,58,11.87,688.46,592.08000000000004,68.849999999999994,63,9.4700000000000006,596.61,0,0,null,60,10.86,651.6,560.38,65.16,54,9.33,503.82,56.56,56.56,null,60,9.6300000000000008,577.79999999999995,496.91,57.78,50,8.48,424,72.910000000000025,57.78]
["26077","Michigan","Kalamazoo","Sunflower Seed","KalamazooSunflower SeedAll","All",1571,1547,1198,1671,1569,1037,1335,1200,1575,null,1562,0.23369999999999999,365.04,313.93,36.5,1037,0.217,225.03,88.9,36.5,null,1438,0.23469999999999999,337.5,290.25,33.75,1335,0.19600000000000001,261.66000000000003,28.589999999999975,28.589999999999975,null,1367,0.2283,312.08999999999997,268.39999999999998,31.21,1200,0.17399999999999999,208.8,59.599999999999966,31.21,null,1368,0.21079999999999999,288.37,248,28.84,1575,0.17249999999999999,271.69,0,0,null,1368,0.20569999999999999,281.39999999999998,242,28.14,1569]
["26077","Michigan","Kalamazoo","Wheat","KalamazooWheatAll","All",66,67,68,66,73,51,70,82,70,null,67,6.6,442.2,380.29,44.22,51,5.99,305.49,74.800000000000011,44.22,null,67,6.7,448.9,386.05,44.89,70,4.8899999999999997,342.3,43.75,43.75,null,68,6.7,455.6,391.82,45.56,82,3.89,318.98,72.839999999999975,45.56,null,70,6.12,428.4,368.42,42.84,70,4.72,330.4,38.020000000000039,38.020000000000039,null,71,5.66,401.86,345.6,40.19,65,5.16,335.4,10.200000000000045,10.200000000000045]
["26079","Michigan","Kalkaska","Barley","KalkaskaBarleyAll","All",51,54,48,48,52,56,56,66,91,null,50,5.45,272.5,234.35,27.25,56,5.3,296.8,0,0,null,51,5.57,284.07,244.3,28.41,56,5.52,309.12,0,0,null,52,5.64,293.27999999999997,252.22,29.33,66,4.96,327.36,0,0,null,55,5.63,309.64999999999998,266.3,30.97,91,4.47,406.77,0,0,null,59,5.26,310.33999999999997,266.89,31.03,43,4.62,198.66,68.22999999999999,31.03]
["26079","Michigan","Kalkaska","Corn","KalkaskaCornAll","All",78,115,80,61,102,101,96,60,129,null,87,5.29,460.23,395.8,46.02,101,3.7,373.7,22.100000000000023,22.1,null,94,5.29,497.26,427.64,49.73,96,3.61,346.56,81.079999999999984,49.73,null,92,4.79,440.68,378.98,44.07,53,3.36,178.08,200.9,44.07,null,86,3.95,339.7,292.14,33.97,129,3.36,433.44,0,0,null,100,3.7,370,318.2,37,111,3.61,400.71,0,0]
["26079","Michigan","Kalkaska","Oats","KalkaskaOatsAll","All",56,63,59,53,50,63,53,54,33,null,56,3.25,182,156.52000000000001,18.2,63,3.21,202.23,0,0,null,58,3.48,201.84,173.58,20.18,53,2.12,112.36,61.220000000000013,20.18,null,55,3.48,191.4,164.6,19.14,54,2.06,111.24,53.36,19.14,null,53,3.12,165.36,142.21,16.54,33,2.59,85.47,56.740000000000009,16.54,null,52,2.73,141.96,122.09,14.2,63,2.66,167.58,0,0]
["26079","Michigan","Kalkaska","Soybeans","KalkaskaSoybeansAll","All",28,38,32,36,28,36,36,36,37,null,32,12.27,392.64,337.67,39.26,36,10.1,363.6,0,0,null,35,12.27,429.45,369.33,42.95,36,8.9499999999999993,322.2,47.129999999999995,42.95,null,35,11.87,415.45,357.29,41.55,36,9.4700000000000006,340.92,16.370000000000005,16.370000000000005,null,36,10.86,390.96,336.23,39.1,37,9.33,345.21,0,0,null,36,9.6300000000000008,346.68,298.14,34.67,37,8.48,313.76,0,0]
["26079","Michigan","Kalkaska","Sunflower Seed","KalkaskaSunflower SeedAll","All",1571,1547,1198,1671,1569,1037,1335,1200,1575,null,1562,0.23369999999999999,365.04,313.93,36.5,1037,0.217,225.03,88.9,36.5,null,1438,0.23469999999999999,337.5,290.25,33.75,1335,0.19600000000000001,261.66000000000003,28.589999999999975,28.589999999999975,null,1367,0.2283,312.08999999999997,268.39999999999998,31.21,1200,0.17399999999999999,208.8,59.599999999999966,31.21,null,1368,0.21079999999999999,288.37,248,28.84,1575,0.17249999999999999,271.69,0,0,null,1368,0.20569999999999999,281.39999999999998,242,28.14,1569]
["26079","Michigan","Kalkaska","Wheat","KalkaskaWheatNonirrigated","Nonirrigated",53,46,62,68,63,63,51,55," ",null,59,6.6,389.4,334.88,38.94,63,5.99,377.37,0,0,null,63,6.7,422.1,363.01,42.21,51,4.8899999999999997,249.39,113.62,42.21,null,63,6.7,422.1,363.01,42.21,55,3.89,213.95,149.06,42.21,null,60,6.12,367.2,315.79000000000002,36.72," "," "," "," "," ",null," "," "," "," "," "," "," "," "," "," "]
["26079","Michigan","Kalkaska","Wheat","KalkaskaWheatIrrigated","Irrigated",62,46,77,72,60,74,81,89," ",null,65,6.6,429,368.94,42.9,74,5.99,443.26,0,0,null,69,6.7,462.3,397.58,46.23,81,4.8899999999999997,396.09,1.4900000000000091,1.49,null,74,6.7,495.8,426.39,49.58,89,3.89,346.21,80.180000000000007,49.58,null,76,6.12,465.12,400,46.51," "," "," "," "," ",null," "," "," "," "," "," "," "," "," "," "]
["26081","Michigan","Kent","Barley","KentBarleyAll","All",51,54,48,48,52,56,56,66,91,null,50,5.45,272.5,234.35,27.25,56,5.3,296.8,0,0,null,51,5.57,284.07,244.3,28.41,56,5.52,309.12,0,0,null,52,5.64,293.27999999999997,252.22,29.33,66,4.96,327.36,0,0,null,55,5.63,309.64999999999998,266.3,30.97,91,4.47,406.77,0,0,null,59,5.26,310.33999999999997,266.89,31.03,43,4.62,198.66,68.22999999999999,31.03]
["26081","Michigan","Kent","Corn","KentCornAll","All",141,149,163,129,149,143,169,161,157,null,146,5.29,772.34,664.21,77.23,143,3.7,529.1,135.11000000000001,77.23,null,147,5.29,777.63,668.76,77.760000000000005,169,3.61,610.09,58.669999999999959,58.67,null,152,4.79,728.08,626.15,72.81,161,3.36,540.96,85.189999999999941,72.81,null,151,3.95,596.45000000000005,512.95000000000005,59.65,157,3.36,527.52,0,0,null,156,3.7,577.20000000000005,496.39,57.72,154,3.61,555.94000000000005,0,0]
["26081","Michigan","Kent","Oats","KentOatsAll","All",58,74,70,56,86,65,85,47,44,null,67,3.25,217.75,187.27,21.78,65,3.21,208.65,0,0,null,70,3.48,243.6,209.5,24.36,85,2.12,180.2,29.300000000000011,24.36,null,73,3.48,254.04,218.47,25.4,47,2.06,96.82,121.65,25.4,null,69,3.12,215.28,185.14,21.53,44,2.59,113.96,71.179999999999993,21.53,null,66,2.73,180.18,154.94999999999999,18.02,63,2.66,167.58,0,0]
["26081","Michigan","Kent","Soybeans","KentSoybeansAll","All",43,46,45,44,43,41,50,55,42,null,44,12.27,539.88,464.3,53.99,41,10.1,414.1,50.199999999999989,50.2,null,44,12.27,539.88,464.3,53.99,50,8.9499999999999993,447.5,16.800000000000011,16.8,null,44,11.87,522.28,449.16,52.23,55,9.4700000000000006,520.85,0,0,null,46,10.86,499.56,429.62,49.96,42,9.33,391.86,37.759999999999991,37.759999999999991,null,45,9.6300000000000008,433.35,372.68,43.34,45,8.48,381.6,0,0]
["26081","Michigan","Kent","Wheat","KentWheatAll","All",62,62,66,79,69,66,79,80,65,null,66,6.6,435.6,374.62,43.56,66,5.99,395.34,0,0,null,67,6.7,448.9,386.05,44.89,79,4.8899999999999997,386.31,0,0,null,71,6.7,475.7,409.1,47.57,80,3.89,311.2,97.900000000000034,47.57,null,76,6.12,465.12,400,46.51,65,4.72,306.8,93.199999999999989,46.51,null,71,5.66,401.86,345.6,40.19,68,5.16,350.88,0,0]
["26085","Michigan","Lake","Barley","LakeBarleyAll","All",51,54,48,48,52,56,56,66,91,null,50,5.45,272.5,234.35,27.25,56,5.3,296.8,0,0,null,51,5.57,284.07,244.3,28.41,56,5.52,309.12,0,0,null,52,5.64,293.27999999999997,252.22,29.33,66,4.96,327.36,0,0,null,55,5.63,309.64999999999998,266.3,30.97,91,4.47,406.77,0,0,null,59,5.26,310.33999999999997,266.89,31.03,43,4.62,198.66,68.22999999999999,31.03]
["26085","Michigan","Lake","Corn","LakeCornAll","All",93,144,138,124,94,108,115,130,140,null,119,5.29,629.51,541.38,62.95,108,3.7,399.6,141.77999999999997,62.95,null,123,5.29,650.66999999999996,559.58000000000004,65.069999999999993,115,3.61,415.15,144.43000000000006,65.069999999999993,null,116,4.79,555.64,477.85,55.56,130,3.36,436.8,41.050000000000011,41.050000000000011,null,116,3.95,458.2,394.05,45.82,140,3.36,470.4,0,0,null,118,3.7,436.6,375.48,43.66,107,3.61,386.27,0,0]
["26085","Michigan","Lake","Oats","LakeOatsAll","All",61,65,65,48,61,68,71,55,55,null,62,3.25,201.5,173.29,20.149999999999999,68,3.21,218.28,0,0,null,64,3.48,222.72,191.54,22.27,71,2.12,150.52000000000001,41.019999999999982,22.27,null,65,3.48,226.2,194.53,22.62,55,2.06,113.3,81.23,22.62,null,61,3.12,190.32,163.68,19.03,55,2.59,142.44999999999999,21.230000000000018,19.03,null,61,2.73,166.53,143.22,16.649999999999999,63,2.66,167.58,0,0]
["26085","Michigan","Lake","Wheat","LakeWheatAll","All",54,57,68,62,63,51,66,78,65,null,61,6.6,402.6,346.24,40.26,51,5.99,305.49,40.75,40.26,null,61,6.7,408.7,351.48,40.869999999999997,66,4.8899999999999997,322.74,28.740000000000009,28.74,null,64,6.7,428.8,368.77,42.88,78,3.89,303.42,65.349999999999966,42.88,null,64,6.12,391.68,336.84,39.17,65,4.72,306.8,30.039999999999964,30.039999999999964,null,65,5.66,367.9,316.39,36.79,66,5.16,340.56,0,0]
["26087","Michigan","Lapeer","Barley","LapeerBarleyAll","All",51,54,48,48,52,56,56,66,91,null,50,5.45,272.5,234.35,27.25,56,5.3,296.8,0,0,null,51,5.57,284.07,244.3,28.41,56,5.52,309.12,0,0,null,52,5.64,293.27999999999997,252.22,29.33,66,4.96,327.36,0,0,null,55,5.63,309.64999999999998,266.3,30.97,91,4.47,406.77,0,0,null,59,5.26,310.33999999999997,266.89,31.03,43,4.62,198.66,68.22999999999999,31.03]
["26087","Michigan","Lapeer","Corn","LapeerCornAll","All",132,137,137,149,149,146,174,169,185,null,141,5.29,745.89,641.47,74.59,146,3.7,540.20000000000005,101.26999999999998,74.59,null,144,5.29,761.76,655.11,76.180000000000007,174,3.61,628.14,26.970000000000027,26.97,null,148,4.79,708.92,609.66999999999996,70.89,169,3.36,567.84,41.829999999999927,41.829999999999927,null,156,3.95,616.20000000000005,529.92999999999995,61.62,185,3.36,621.6,0,0,null,164,3.7,606.79999999999995,521.85,60.68,173,3.61,624.53,0,0]
["26087","Michigan","Lapeer","Oats","LapeerOatsAll","All",46,66,51,50,65,72,73,59,66,null,55,3.25,178.75,153.72999999999999,17.88,72,3.21,231.12,0,0,null,61,3.48,212.28,182.56,21.23,73,2.12,154.76,27.800000000000011,21.23,null,63,3.48,219.24,188.55,21.92,59,2.06,121.54,67.010000000000005,21.92,null,65,3.12,202.8,174.41,20.28,66,2.59,170.94,3.4699999999999989,3.4699999999999989,null,68,2.73,185.64,159.65,18.559999999999999,63,2.66,167.58,0,0]
["26087","Michigan","Lapeer","Soybeans","LapeerSoybeansAll","All",36,41,42,43,41,36,50,48,41,null,41,12.27,503.07,432.64,50.31,36,10.1,363.6,69.039999999999964,50.31,null,41,12.27,503.07,432.64,50.31,50,8.9499999999999993,447.5,0,0,null,42,11.87,498.54,428.74,49.85,48,9.4700000000000006,454.56,0,0,null,44,10.86,477.84,410.94,47.78,41,9.33,382.53,28.410000000000025,28.410000000000025,null,43,9.6300000000000008,414.09,356.12,41.41,44,8.48,373.12,0,0]
["26087","Michigan","Lapeer","Wheat","LapeerWheatAll","All",60,65,67,74,69,58,89,89,72,null,67,6.6,442.2,380.29,44.22,58,5.99,347.42,32.870000000000005,32.869999999999997,null,67,6.7,448.9,386.05,44.89,89,4.8899999999999997,435.21,0,0,null,70,6.7,469,403.34,46.9,89,3.89,346.21,57.129999999999995,46.9,null,77,6.12,471.24,405.27,47.12,72,4.72,339.84,65.430000000000007,47.12,null,77,5.66,435.82,374.81,43.58,69,5.16,356.04,18.769999999999982,18.769999999999982]
["26089","Michigan","Leelanau","Barley","LeelanauBarleyAll","All",51,54,48,48,52,56,56,66,91,null,50,5.45,272.5,234.35,27.25,56,5.3,296.8,0,0,null,51,5.57,284.07,244.3,28.41,56,5.52,309.12,0,0,null,52,5.64,293.27999999999997,252.22,29.33,66,4.96,327.36,0,0,null,55,5.63,309.64999999999998,266.3,30.97,91,4.47,406.77,0,0,null,59,5.26,310.33999999999997,266.89,31.03,43,4.62,198.66,68.22999999999999,31.03]
["26089","Michigan","Leelanau","Corn","LeelanauCornAll","All",93,104,75,54,98,54,69,54,120,null,89,5.29,470.81,404.9,47.08,51,3.7,188.7,216.2,47.08,null,76,5.29,402.04,345.75,40.200000000000003,69,3.61,249.09,96.66,40.200000000000003,null,66,4.79,316.14,271.88,31.61,37,3.36,124.32,147.56,31.61,null,59,3.95,233.05,200.42,23.31,120,3.36,403.2,0,0,null,74,3.7,273.8,235.47,27.38,95,3.61,342.95,0,0]
["26089","Michigan","Leelanau","Oats","LeelanauOatsAll","All",65,63,59,55,50,63,62,42,33,null,59,3.25,191.75,164.91,19.18,63,3.21,202.23,0,0,null,59,3.48,205.32,176.58,20.53,62,2.12,131.44,45.140000000000015,20.53,null,59,3.48,205.32,176.58,20.53,42,2.06,86.52,90.060000000000016,20.53,null,56,3.12,174.72,150.26,17.47,33,2.59,85.47,64.789999999999992,17.47,null,51,2.73,139.22999999999999,119.74,13.92,47,2.66,125.02,0,0]
["26089","Michigan","Leelanau","Soybeans","LeelanauSoybeansAll","All",28,38,32,36,28,36," "," "," ",null,32,12.27,392.64,337.67,39.26,36,10.1,363.6,0,0,null,null,null,null,null,null,null,null,null,null,null,null," "," "," "," "," "," "," "," "," "," ",null," "," "," "," "," "," "," "," "," "," ",null," "," "," "," "," "," "," "," "," "," "]
["26089","Michigan","Leelanau","Wheat","LeelanauWheatAll","All",50,40,59,55,41,32,51,55,52,null,49,6.6,323.39999999999998,278.12,32.340000000000003,31,5.99,185.69,92.43,32.340000000000003,null,45,6.7,301.5,259.29000000000002,30.15,51,4.8899999999999997,249.39,9.9000000000000341,9.9,null,49,6.7,328.3,282.33999999999997,32.83,55,3.89,213.95,68.389999999999986,32.83,null,49,6.12,299.88,257.89999999999998,29.99,52,4.72,245.44,12.45999999999998,12.45999999999998,null,48,5.66,271.68,233.64,27.17,40,5.16,206.4,27.239999999999981,27.17]
["26091","Michigan","Lenawee","Barley","LenaweeBarleyAll","All",51,54,48,48,52,56,56,66,91,null,50,5.45,272.5,234.35,27.25,56,5.3,296.8,0,0,null,51,5.57,284.07,244.3,28.41,56,5.52,309.12,0,0,null,52,5.64,293.27999999999997,252.22,29.33,66,4.96,327.36,0,0,null,55,5.63,309.64999999999998,266.3,30.97,91,4.47,406.77,0,0,null,59,5.26,310.33999999999997,266.89,31.03,43,4.62,198.66,68.22999999999999,31.03]
["26091","Michigan","Lenawee","Corn","LenaweeCornAll","All",149,156,149,100,180,164,158,165,180,null,151,5.29,798.79,686.96,79.88,164,3.7,606.79999999999995,80.160000000000082,79.88,null,156,5.29,825.24,709.71,82.52,158,3.61,570.38,139.33000000000004,82.52,null,157,4.79,752.03,646.75,75.2,165,3.36,554.4,92.350000000000023,75.2,null,162,3.95,639.9,550.30999999999995,63.99,180,3.36,604.79999999999995,0,0,null,170,3.7,629,540.94000000000005,62.9,162,3.61,584.82000000000005,0,0]
["26091","Michigan","Lenawee","Grain Sorghum","LenaweeGrain SorghumAll","All",70,97,89,60,88,104," "," "," ",null,82,5.0999999999999996,418.2,359.65,41.82,104,4.03,419.12,0,0,null,null,null,null,null,null,null,null,null,null,null,null," "," "," "," "," "," "," "," "," "," ",null," "," "," "," "," "," "," "," "," "," ",null," "," "," "," "," "," "," "," "," "," "]
["26091","Michigan","Lenawee","Oats",{"$f":"C262&D262&F262","v":"LenaweeOatsAll"},"All",58,66,51,60,67,75,73,59,54,null,61,3.25,198.25,170.5,19.829999999999998,75,3.21,240.75,0,0,null,64,3.48,222.72,191.54,22.27,73,2.12,154.76,36.78,22.27,null,67,3.48,233.16,200.52,23.32,59,2.06,121.54,78.98,23.32,null,67,3.12,209.04,179.77,20.9,54,2.59,139.86000000000001,39.909999999999997,20.9,null,66,2.73,180.18,154.94999999999999,18.02,63,2.66,167.58,0,0]
["26091","Michigan","Lenawee","Soybeans","LenaweeSoybeansAll","All",43,43,46,34,51,49,49,49,46,null,44,12.27,539.88,464.3,53.99,49,10.1,494.9,0,0,null,46,12.27,564.41999999999996,485.4,56.44,49,8.9499999999999993,438.55,46.849999999999966,46.85,null,48,11.87,569.76,489.99,56.98,49,9.4700000000000006,464.03,25.960000000000036,25.960000000000036,null,49,10.86,532.14,457.64,53.21,46,9.33,429.18,28.45999999999998,28.45999999999998,null,49,9.6300000000000008,471.87,405.81,47.19,51,8.48,432.48,0,0]
["26091","Michigan","Lenawee","Sunflower Seed","LenaweeSunflower SeedAll","All",1571,1547,1198,1671,1569,1037,1335,1200,1575,null,1562,0.23369999999999999,365.04,313.93,36.5,1037,0.217,225.03,88.9,36.5,null,1438,0.23469999999999999,337.5,290.25,33.75,1335,0.19600000000000001,261.66000000000003,28.589999999999975,28.589999999999975,null,1367,0.2283,312.08999999999997,268.39999999999998,31.21,1200,0.17399999999999999,208.8,59.599999999999966,31.21,null,1368,0.21079999999999999,288.37,248,28.84,1575,0.17249999999999999,271.69,0,0,null,1368,0.20569999999999999,281.39999999999998,242,28.14,1569]
["26091","Michigan","Lenawee","Wheat","LenaweeWheatAll","All",80,72,75,71,86,82,76,98,83,null,76,6.6,501.6,431.38,50.16,82,5.99,491.18,0,0,null,76,6.7,509.2,437.91,50.92,76,4.8899999999999997,371.64,66.270000000000039,50.92,null,78,6.7,522.6,449.44,52.26,98,3.89,381.22,68.21999999999997,52.26,null,81,6.12,495.72,426.32,49.57,83,4.72,391.76,34.56,34.56,null,84,5.66,475.44,408.88,47.54,80,5.16,412.8,0,0]
["26093","Michigan","Livingston","Barley","LivingstonBarleyAll","All",51,54,48,48,52,56,56,66,91,null,50,5.45,272.5,234.35,27.25,56,5.3,296.8,0,0,null,51,5.57,284.07,244.3,28.41,56,5.52,309.12,0,0,null,52,5.64,293.27999999999997,252.22,29.33,66,4.96,327.36,0,0,null,55,5.63,309.64999999999998,266.3,30.97,91,4.47,406.77,0,0,null,59,5.26,310.33999999999997,266.89,31.03,43,4.62,198.66,68.22999999999999,31.03]
["26093","Michigan","Livingston","Corn","LivingstonCornAll","All",137,145,139,119,152,170,158,152,156,null,140,5.29,740.6,636.91999999999996,74.06,170,3.7,629,7.9199999999999591,7.92,null,145,5.29,767.05,659.66,76.709999999999994,158,3.61,570.38,89.279999999999973,76.709999999999994,null,150,4.79,718.5,617.91,71.849999999999994,152,3.36,510.72,107.18999999999994,71.849999999999994,null,154,3.95,608.29999999999995,523.14,60.83,156,3.36,524.16,0,0,null,155,3.7,573.5,493.21,57.35,136,3.61,490.96,2.25,2.25]
["26093","Michigan","Livingston","Grain Sorghum","LivingstonGrain SorghumAll","All",70,97,89,60,88,104,86,91,60,null,82,5.0999999999999996,418.2,359.65,41.82,104,4.03,419.12,0,0,null,91,5.0999999999999996,464.1,399.13,46.41,86,3.31,284.66000000000003,114.46999999999997,46.41,null,88,4.7699999999999996,419.76,360.99,41.98,91,2.79,253.89,107.10000000000002,41.98,null,88,4.09,359.92,309.52999999999997,35.99,48,3.22,154.56,154.96999999999997,35.99,null,88,3.98,350.24,301.20999999999998,35.020000000000003,84,3.26,273.83999999999997,27.370000000000005,27.370000000000005]
["26093","Michigan","Livingston","Oats","LivingstonOatsAll","All",58,66,51,60,67,75,73,59,54,null,61,3.25,198.25,170.5,19.829999999999998,75,3.21,240.75,0,0,null,64,3.48,222.72,191.54,22.27,73,2.12,154.76,36.78,22.27,null,67,3.48,233.16,200.52,23.32,59,2.06,121.54,78.98,23.32,null,67,3.12,209.04,179.77,20.9,54,2.59,139.86000000000001,39.909999999999997,20.9,null,66,2.73,180.18,154.94999999999999,18.02,63,2.66,167.58,0,0]
["26093","Michigan","Livingston","Soybeans","LivingstonSoybeansAll","All",38,41,42,41,44,44,47,52,42,null,41,12.27,503.07,432.64,50.31,44,10.1,444.4,0,0,null,42,12.27,515.34,443.19,51.53,47,8.9499999999999993,420.65,22.54000000000002,22.54,null,43,11.87,510.41,438.95,51.04,52,9.4700000000000006,492.44,0,0,null,45,10.86,488.7,420.28,48.87,42,9.33,391.86,28.419999999999959,28.419999999999959,null,45,9.6300000000000008,433.35,372.68,43.34,46,8.48,390.08,0,0]
["26093","Michigan","Livingston","Wheat","LivingstonWheatAll","All",56,58,64,65,55,69,66,78,68,null,59,6.6,389.4,334.88,38.94,69,5.99,413.31,0,0,null,62,6.7,415.4,357.24,41.54,66,4.8899999999999997,322.74,34.5,34.5,null,65,6.7,435.5,374.53,43.55,78,3.89,303.42,71.109999999999957,43.55,null,67,6.12,410.04,352.63,41,68,4.72,320.95999999999998,31.670000000000016,31.670000000000016,null,68,5.66,384.88,331,38.49,80,5.16,412.8,0,0]
["26095","Michigan","Luce","Barley","LuceBarleyAll","All",51,54,48,48,52,56,56,66,91,null,50,5.45,272.5,234.35,27.25,56,5.3,296.8,0,0,null,51,5.57,284.07,244.3,28.41,56,5.52,309.12,0,0,null,52,5.64,293.27999999999997,252.22,29.33,66,4.96,327.36,0,0,null,55,5.63,309.64999999999998,266.3,30.97,91,4.47,406.77,0,0,null,59,5.26,310.33999999999997,266.89,31.03,43,4.62,198.66,68.22999999999999,31.03]
["26095","Michigan","Luce","Corn","LuceCornAll","All",49,127,49,84,120,49,132,87,54,null,84,5.29,444.36,382.15,44.44,38,3.7,140.6,241.54999999999998,44.44,null,84,5.29,444.36,382.15,44.44,132,3.61,476.52,0,0,null,84,4.79,402.36,346.03,40.24,87,3.36,292.32,53.70999999999998,40.24,null,97,3.95,383.15,329.51,38.32,37,3.36,124.32,205.19,38.32,null,87,3.7,321.89999999999998,276.83,32.19,111,3.61,400.71,0,0]
["26095","Michigan","Luce","Oats","LuceOatsAll","All",58,55,59,60,63,59,57,55,47,null,59,3.25,191.75,164.91,19.18,59,3.21,189.39,0,0,null,59,3.48,205.32,176.58,20.53,57,2.12,120.84,55.740000000000009,20.53,null,59,3.48,205.32,176.58,20.53,55,2.06,113.3,63.280000000000015,20.53,null,59,3.12,184.08,158.31,18.41,47,2.59,121.73,36.58,18.41,null,57,2.73,155.61000000000001,133.82,15.56,63,2.66,167.58,0,0]
["26095","Michigan","Luce","Soybeans","LuceSoybeansAll","All",29,38,32,36,28,24,36,35,37,null,32,12.27,392.64,337.67,39.26,24,10.1,242.4,95.27000000000001,39.26,null,32,12.27,392.64,337.67,39.26,36,8.9499999999999993,322.2,15.470000000000027,15.47,null,32,11.87,379.84,326.66000000000003,37.979999999999997,35,9.4700000000000006,331.45,0,0,null,33,10.86,358.38,308.20999999999998,35.840000000000003,37,9.33,345.21,0,0,null,33,9.6300000000000008,317.79000000000002,273.3,31.78,37,8.48,313.76,0,0]
["26095","Michigan","Luce","Wheat","LuceWheatAll","All",47,56,50,41,41,47,51,55,52,null,46,6.6,303.60000000000002,261.10000000000002,30.36,47,5.99,281.52999999999997,0,0,null,46,6.7,308.2,265.05,30.82,51,4.8899999999999997,249.39,15.660000000000025,15.66,null,46,6.7,308.2,265.05,30.82,55,3.89,213.95,51.100000000000023,30.82,null,46,6.12,281.52,242.11,28.15,52,4.72,245.44,0,0,null,50,5.66,283,243.38,28.3,40,5.16,206.4,36.97999999999999,28.3]
["26097","Michigan","Mackinac","Barley","MackinacBarleyAll","All",51,54,48,48,52,56,56,66,91,null,50,5.45,272.5,234.35,27.25,56,5.3,296.8,0,0,null,51,5.57,284.07,244.3,28.41,56,5.52,309.12,0,0,null,52,5.64,293.27999999999997,252.22,29.33,66,4.96,327.36,0,0,null,55,5.63,309.64999999999998,266.3,30.97,91,4.47,406.77,0,0,null,59,5.26,310.33999999999997,266.89,31.03,43,4.62,198.66,68.22999999999999,31.03]
["26097","Michigan","Mackinac","Corn","MackinacCornAll","All",49,90,49,84,120,49,132,87,54,null,74,5.29,391.46,336.66,39.15,38,3.7,140.6,196.06000000000003,39.15,null,74,5.29,391.46,336.66,39.15,132,3.61,476.52,0,0,null,84,4.79,402.36,346.03,40.24,87,3.36,292.32,53.70999999999998,40.24,null,97,3.95,383.15,329.51,38.32,37,3.36,124.32,205.19,38.32,null,87,3.7,321.89999999999998,276.83,32.19,111,3.61,400.71,0,0]
["26097","Michigan","Mackinac","Oats","MackinacOatsAll","All",50,38,59,58,63,51,57,51,47,null,56,3.25,182,156.52000000000001,18.2,51,3.21,163.71,0,0,null,56,3.48,194.88,167.6,19.489999999999998,57,2.12,120.84,46.759999999999991,19.489999999999998,null,58,3.48,201.84,173.58,20.18,51,2.06,105.06,68.52000000000001,20.18,null,55,3.12,171.6,147.58000000000001,17.16,47,2.59,121.73,25.850000000000009,17.16,null,53,2.73,144.69,124.43,14.47,63,2.66,167.58,0,0]
["26097","Michigan","Mackinac","Wheat","MackinacWheatAll","All",47,56,50,41,41,47,51,55,52,null,46,6.6,303.60000000000002,261.10000000000002,30.36,47,5.99,281.52999999999997,0,0,null,46,6.7,308.2,265.05,30.82,51,4.8899999999999997,249.39,15.660000000000025,15.66,null,46,6.7,308.2,265.05,30.82,55,3.89,213.95,51.100000000000023,30.82,null,46,6.12,281.52,242.11,28.15,52,4.72,245.44,0,0,null,50,5.66,283,243.38,28.3,40,5.16,206.4,36.97999999999999,28.3]
["26099","Michigan","Macomb","Barley","MacombBarleyAll","All",51,54,48,48,52,56,56,66,91,null,50,5.45,272.5,234.35,27.25,56,5.3,296.8,0,0,null,51,5.57,284.07,244.3,28.41,56,5.52,309.12,0,0,null,52,5.64,293.27999999999997,252.22,29.33,66,4.96,327.36,0,0,null,55,5.63,309.64999999999998,266.3,30.97,91,4.47,406.77,0,0,null,59,5.26,310.33999999999997,266.89,31.03,43,4.62,198.66,68.22999999999999,31.03]
["26099","Michigan","Macomb","Corn","MacombCornAll","All",147,136,148,168,152,160,154,169,170,null,149,5.29,788.21,677.86,78.819999999999993,160,3.7,592,85.860000000000014,78.819999999999993,null,153,5.29,809.37,696.06,80.94,154,3.61,555.94000000000005,140.11999999999989,80.94,null,155,4.79,742.45,638.51,74.25,169,3.36,567.84,70.669999999999959,70.669999999999959,null,161,3.95,635.95000000000005,546.91999999999996,63.6,170,3.36,571.20000000000005,0,0,null,161,3.7,595.70000000000005,512.29999999999995,59.57,170,3.61,613.70000000000005,0,0]
["26099","Michigan","Macomb","Grain Sorghum","MacombGrain SorghumAll","All",70,97,89,60,88,104,86,91,60,null,82,5.0999999999999996,418.2,359.65,41.82,104,4.03,419.12,0,0,null,91,5.0999999999999996,464.1,399.13,46.41,86,3.31,284.66000000000003,114.46999999999997,46.41,null,88,4.7699999999999996,419.76,360.99,41.98,91,2.79,253.89,107.10000000000002,41.98,null,88,4.09,359.92,309.52999999999997,35.99,48,3.22,154.56,154.96999999999997,35.99,null,88,3.98,350.24,301.20999999999998,35.020000000000003,84,3.26,273.83999999999997,27.370000000000005,27.370000000000005]
["26099","Michigan","Macomb","Oats","MacombOatsAll","All",58,66,51,60,67,75,73,59,54,null,61,3.25,198.25,170.5,19.829999999999998,75,3.21,240.75,0,0,null,64,3.48,222.72,191.54,22.27,73,2.12,154.76,36.78,22.27,null,67,3.48,233.16,200.52,23.32,59,2.06,121.54,78.98,23.32,null,67,3.12,209.04,179.77,20.9,54,2.59,139.86000000000001,39.909999999999997,20.9,null,66,2.73,180.18,154.94999999999999,18.02,63,2.66,167.58,0,0]
["26099","Michigan","Macomb","Soybeans","MacombSoybeansAll","All",38,37,42,43,38,40,43,50,40,null,39,12.27,478.53,411.54,47.85,40,10.1,404,7.5400000000000205,7.54,null,40,12.27,490.8,422.09,49.08,43,8.9499999999999993,384.85,37.239999999999952,37.24,null,42,11.87,498.54,428.74,49.85,50,9.4700000000000006,473.5,0,0,null,42,10.86,456.12,392.26,45.61,40,9.33,373.2,19.060000000000002,19.060000000000002,null,41,9.6300000000000008,394.83,339.55,39.479999999999997,47,8.48,398.56,0,0]
["26099","Michigan","Macomb","Wheat","MacombWheatAll","All",49,71,50,60,71,52,69,77,77,null,60,6.6,396,340.56,39.6,52,5.99,311.48,29.079999999999984,29.08,null,61,6.7,408.7,351.48,40.869999999999997,69,4.8899999999999997,337.41,14.069999999999993,14.07,null,60,6.7,402,345.72,40.200000000000003,77,3.89,299.52999999999997,46.190000000000055,40.200000000000003,null,67,6.12,410.04,352.63,41,77,4.72,363.44,0,0,null,72,5.66,407.52,350.47,40.75,75,5.16,387,0,0]
["26101","Michigan","Manistee","Barley","ManisteeBarleyAll","All",51,54,48,48,52,56,56,66,91,null,50,5.45,272.5,234.35,27.25,56,5.3,296.8,0,0,null,51,5.57,284.07,244.3,28.41,56,5.52,309.12,0,0,null,52,5.64,293.27999999999997,252.22,29.33,66,4.96,327.36,0,0,null,55,5.63,309.64999999999998,266.3,30.97,91,4.47,406.77,0,0,null,59,5.26,310.33999999999997,266.89,31.03,43,4.62,198.66,68.22999999999999,31.03]
["26101","Michigan","Manistee","Corn","ManisteeCornIrrigated","Irrigated",113,132,117,79,128,100,91,100," ",null,119,5.29,629.51,541.38,62.95,100,3.7,370,171.38,62.95,null,115,5.29,608.35,523.17999999999995,60.84,91,3.61,328.51,194.66999999999996,60.84,null,103,4.79,493.37,424.3,49.34,100,3.36,336,88.300000000000011,49.34,null,97,3.95,383.15,329.51,38.32," "," "," ",null,null,null," "," "," "," "," "," "," "," "," "," "]
["26101","Michigan","Manistee","Corn","ManisteeCornNonirrigated","Nonirrigated",78,130,101,61,76,62,74,86," ",null,85,5.29,449.65,386.7,44.97,62,3.7,229.4,157.29999999999998,44.97,null,80,5.29,423.2,363.95,42.32,74,3.61,267.14,96.81,42.32,null,71,4.79,340.09,292.48,34.01,86,3.36,288.95999999999998,3.5200000000000387,3.5200000000000387,null,71,3.95,280.45,241.19,28.05," "," "," "," "," ",null," "," "," "," "," "," "," "," "," "," "]
["26101","Michigan","Manistee","Oats","ManisteeOatsAll","All",56,63,59,53,50,63,53,54,33,null,56,3.25,182,156.52000000000001,18.2,63,3.21,202.23,0,0,null,58,3.48,201.84,173.58,20.18,53,2.12,112.36,61.220000000000013,20.18,null,55,3.48,191.4,164.6,19.14,54,2.06,111.24,53.36,19.14,null,53,3.12,165.36,142.21,16.54,33,2.59,85.47,56.740000000000009,16.54,null,52,2.73,141.96,122.09,14.2,63,2.66,167.58,0,0]
["26101","Michigan","Manistee","Wheat","ManisteeWheatAll","All",50,40,59,55,41,49,51,55,52,null,49,6.6,323.39999999999998,278.12,32.340000000000003,49,5.99,293.51,0,0,null,48,6.7,321.60000000000002,276.58,32.159999999999997,51,4.8899999999999997,249.39,27.189999999999998,27.19,null,52,6.7,348.4,299.62,34.840000000000003,55,3.89,213.95,85.670000000000016,34.840000000000003,null,52,6.12,318.24,273.69,31.82,52,4.72,245.44,28.25,28.25,null,51,5.66,288.66000000000003,248.25,28.87,40,5.16,206.4,41.849999999999994,28.87]
["26103","Michigan","Marquette","Barley","MarquetteBarleyAll","All",51,54,48,48,52,56,56,66,91,null,50,5.45,272.5,234.35,27.25,56,5.3,296.8,0,0,null,51,5.57,284.07,244.3,28.41,56,5.52,309.12,0,0,null,52,5.64,293.27999999999997,252.22,29.33,66,4.96,327.36,0,0,null,55,5.63,309.64999999999998,266.3,30.97,91,4.47,406.77,0,0,null,59,5.26,310.33999999999997,266.89,31.03,43,4.62,198.66,68.22999999999999,31.03]
["26103","Michigan","Marquette","Corn","MarquetteCornAll","All",46,127,46,84,120,46,132,87,51,null,83,5.29,439.07,377.6,43.91,38,3.7,140.6,237.00000000000003,43.91,null,83,5.29,439.07,377.6,43.91,132,3.61,476.52,0,0,null,83,4.79,397.57,341.91,39.76,87,3.36,292.32,49.590000000000032,39.76,null,97,3.95,383.15,329.51,38.32,37,3.36,124.32,205.19,38.32,null,86,3.7,318.2,273.64999999999998,31.82,111,3.61,400.71,0,0]
["26103","Michigan","Marquette","Oats","MarquetteOatsAll","All",71,55,59,84,81,59,57,79,47,null,70,3.25,227.5,195.65,22.75,59,3.21,189.39,6.2600000000000193,6.26,null,66,3.48,229.68,197.52,22.97,57,2.12,120.84,76.680000000000007,22.97,null,66,3.48,229.68,197.52,22.97,79,2.06,162.74,34.78,22.97,null,73,3.12,227.76,195.87,22.78,47,2.59,121.73,74.14,22.78,null,65,2.73,177.45,152.61000000000001,17.75,63,2.66,167.58,0,0]
["26105","Michigan","Mason","Barley","MasonBarleyAll","All",51,54,48,48,52,56,56,66,91,null,50,5.45,272.5,234.35,27.25,56,5.3,296.8,0,0,null,51,5.57,284.07,244.3,28.41,56,5.52,309.12,0,0,null,52,5.64,293.27999999999997,252.22,29.33,66,4.96,327.36,0,0,null,55,5.63,309.64999999999998,266.3,30.97,91,4.47,406.77,0,0,null,59,5.26,310.33999999999997,266.89,31.03,43,4.62,198.66,68.22999999999999,31.03]
["26105","Michigan","Mason","Corn","MasonCornAll","All",102,151,128,138,110,115,129,138,163,null,125,5.29,661.25,568.67999999999995,66.13,115,3.7,425.5,143.17999999999995,66.13,null,127,5.29,671.83,577.77,67.180000000000007,129,3.61,465.69,112.07999999999998,67.180000000000007,null,124,4.79,593.96,510.81,59.4,138,3.36,463.68,47.129999999999995,47.129999999999995,null,127,3.95,501.65,431.42,50.17,163,3.36,547.67999999999995,0,0,null,127,3.7,469.9,404.11,46.99,133,3.61,480.13,0,0]
["26105","Michigan","Mason","Oats","MasonOatsAll","All",73,72,70,49,61,65,78,51,61,null,68,3.25,221,190.06,22.1,65,3.21,208.65,0,0,null,65,3.48,226.2,194.53,22.62,78,2.12,165.36,29.169999999999987,22.62,null,65,3.48,226.2,194.53,22.62,51,2.06,105.06,89.47,22.62,null,59,3.12,184.08,158.31,18.41,61,2.59,157.99,0.31999999999999318,0.31999999999999318,null,62,2.73,169.26,145.56,16.93,63,2.66,167.58,0,0]
["26105","Michigan","Mason","Soybeans","MasonSoybeansAll","All",33,56,38,45,38,34,47,50,46,null,40,12.27,490.8,422.09,49.08,34,10.1,343.4,78.69,49.08,null,40,12.27,490.8,422.09,49.08,47,8.9499999999999993,420.65,1.4399999999999977,1.44,null,40,11.87,474.8,408.33,47.48,50,9.4700000000000006,473.5,0,0,null,43,10.86,466.98,401.6,46.7,46,9.33,429.18,0,0,null,44,9.6300000000000008,423.72,364.4,42.37,46,8.48,390.08,0,0]
["26105","Michigan","Mason","Wheat","MasonWheatAll","All",52,60,62,65,64,47,57,63,57,null,62,6.6,409.2,351.91,40.92,47,5.99,281.52999999999997,70.380000000000052,40.92,null,62,6.7,415.4,357.24,41.54,57,4.8899999999999997,278.73,78.509999999999991,41.54,null,61,6.7,408.7,351.48,40.869999999999997,63,3.89,245.07,106.41000000000003,40.869999999999997,null,61,6.12,373.32,321.06,37.33,57,4.72,269.04000000000002,52.019999999999982,37.33,null,59,5.66,333.94,287.19,33.39,63,5.16,325.08,0,0]
["26107","Michigan","Mecosta","Barley","MecostaBarleyAll","All",51,54,48,48,52,56,56,66,91,null,50,5.45,272.5,234.35,27.25,56,5.3,296.8,0,0,null,51,5.57,284.07,244.3,28.41,56,5.52,309.12,0,0,null,52,5.64,293.27999999999997,252.22,29.33,66,4.96,327.36,0,0,null,55,5.63,309.64999999999998,266.3,30.97,91,4.47,406.77,0,0,null,59,5.26,310.33999999999997,266.89,31.03,43,4.62,198.66,68.22999999999999,31.03]
["26107","Michigan","Mecosta","Canola","MecostaCanolaAll","All",1601,1326,1356,1395,2199,1211," "," "," ",null,1451,0.21579999999999999,313.13,269.29000000000002,31.31,1211,0.16899999999999998,204.66,64.630000000000024,31.31,null,null,null,null,null,null,null,null,null,null,null,null," "," "," "," "," "," "," "," "," "," ",null," "," "," "," "," "," "," "," "," "," ",null," "," "," "," "," "," "," "," "," "," "]
["26107","Michigan","Mecosta","Corn","MecostaCornIrrigated","Irrigated",145,165,169,177,155,150,166,170,186,null,163,5.29,862.27,741.55,86.23,150,3.7,555,186.54999999999995,86.23,null,163,5.29,862.27,741.55,86.23,166,3.61,599.26,142.28999999999996,86.23,null,163,4.79,780.77,671.46,78.08,170,3.36,571.20000000000005,100.25999999999999,78.08,null,164,3.95,647.79999999999995,557.11,64.78,186,3.36,624.96,0,0,null,164,3.7,606.79999999999995,521.85,60.68,153,3.61,552.33000000000004,0,0]
["26107","Michigan","Mecosta","Corn","MecostaCornNonirrigated","Nonirrigated",86,127,116,126,110,104,113,130,125,null,117,5.29,618.92999999999995,532.28,61.89,104,3.7,384.8,147.47999999999996,61.89,null,117,5.29,618.92999999999995,532.28,61.89,113,3.61,407.93,124.34999999999997,61.89,null,113,4.79,541.27,465.49,54.13,130,3.36,436.8,28.689999999999998,28.689999999999998,null,116,3.95,458.2,394.05,45.82,125,3.36,420,0,0,null,116,3.7,429.2,369.11,42.92,115,3.61,415.15,0,0]
["26107","Michigan","Mecosta","Oats","MecostaOatsAll","All",59,66,60,48,35,70,60,44,61,null,56,3.25,182,156.52000000000001,18.2,70,3.21,224.7,0,0,null,58,3.48,201.84,173.58,20.18,60,2.12,127.2,46.38000000000001,20.18,null,56,3.48,194.88,167.6,19.489999999999998,44,2.06,90.64,76.959999999999994,19.489999999999998,null,51,3.12,159.12,136.84,15.91,61,2.59,157.99,0,0,null,55,2.73,150.15,129.13,15.02,63,2.66,167.58,0,0]
["26107","Michigan","Mecosta","Soybeans","MecostaSoybeansAll","All",24,36,34,32,25,34,38,43,32,null,30,12.27,368.1,316.57,36.81,34,10.1,343.4,0,0,null,33,12.27,404.91,348.22,40.49,38,8.9499999999999993,340.1,8.1200000000000045,8.1199999999999992,null,33,11.87,391.71,336.87,39.17,43,9.4700000000000006,407.21,0,0,null,35,10.86,380.1,326.89,38.01,32,9.33,298.56,28.329999999999984,28.329999999999984,null,35,9.6300000000000008,337.05,289.86,33.71,38,8.48,322.24,0,0]
["26107","Michigan","Mecosta","Wheat","MecostaWheatAll","All",49,65,51,48,42,36,58,73,70,null,49,6.6,323.39999999999998,278.12,32.340000000000003,36,5.99,215.64,62.480000000000018,32.340000000000003,null,47,6.7,314.89999999999998,270.81,31.49,58,4.8899999999999997,283.62,0,0,null,47,6.7,314.89999999999998,270.81,31.49,73,3.89,283.97000000000003,0,0,null,49,6.12,299.88,257.89999999999998,29.99,70,4.72,330.4,0,0,null,57,5.66,322.62,277.45,32.26,57,5.16,294.12,0,0]
["26109","Michigan","Menominee","Barley","MenomineeBarleyAll","All",43,53,31,49,52,42,48,66,91,null,48,5.45,261.60000000000002,224.98,26.16,42,5.3,222.6,2.3799999999999955,2.38,null,48,5.57,267.36,229.93,26.74,48,5.52,264.95999999999998,0,0,null,46,5.64,259.44,223.12,25.94,66,4.96,327.36,0,0,null,50,5.63,281.5,242.09,28.15,91,4.47,406.77,0,0,null,55,5.26,289.3,248.8,28.93,43,4.62,198.66,50.140000000000015,28.93]
["26109","Michigan","Menominee","Corn","MenomineeCornAll","All",51,124,51,95,139,51,134,95,56,null,90,5.29,476.1,409.45,47.61,37,3.7,136.9,272.54999999999995,47.61,null,90,5.29,476.1,409.45,47.61,134,3.61,483.74,0,0,null,93,4.79,445.47,383.1,44.55,95,3.36,319.2,63.900000000000034,44.55,null,108,3.95,426.6,366.88,42.66,55,3.36,184.8,182.07999999999998,42.66,null,95,3.7,351.5,302.29000000000002,35.15,150,3.61,541.5,0,0]
["26109","Michigan","Menominee","Oats","MenomineeOatsAll","All",53,53,60,55,66,48,57,55,47,null,56,3.25,182,156.52000000000001,18.2,48,3.21,154.08000000000001,2.4399999999999977,2.44,null,56,3.48,194.88,167.6,19.489999999999998,57,2.12,120.84,46.759999999999991,19.489999999999998,null,57,3.48,198.36,170.59,19.84,55,2.06,113.3,57.290000000000006,19.84,null,56,3.12,174.72,150.26,17.47,47,2.59,121.73,28.529999999999987,17.47,null,53,2.73,144.69,124.43,14.47,63,2.66,167.58,0,0]
["26109","Michigan","Menominee","Soybeans","MenomineeSoybeansAll","All",17,35,17,23,25,23,28,22,24,null,22,12.27,269.94,232.15,26.99,23,10.1,232.3,0,0,null,24,12.27,294.48,253.25,29.45,28,8.9499999999999993,250.6,2.6500000000000057,2.65,null,24,11.87,284.88,245,28.49,22,9.4700000000000006,208.34,36.659999999999997,28.49,null,24,10.86,260.64,224.15,26.06,24,9.33,223.92,0.23000000000001819,0.23000000000001819,null,24,9.6300000000000008,231.12,198.76,23.11,38,8.48,322.24,0,0]
["26109","Michigan","Menominee","Wheat","MenomineeWheatAll","All",47,56,50,41,41,47,51,55,52,null,46,6.6,303.60000000000002,261.10000000000002,30.36,47,5.99,281.52999999999997,0,0,null,46,6.7,308.2,265.05,30.82,51,4.8899999999999997,249.39,15.660000000000025,15.66,null,46,6.7,308.2,265.05,30.82,55,3.89,213.95,51.100000000000023,30.82,null,46,6.12,281.52,242.11,28.15,52,4.72,245.44,0,0,null,50,5.66,283,243.38,28.3,40,5.16,206.4,36.97999999999999,28.3]
["26111","Michigan","Midland","Corn","MidlandCornAll","All",155,161,162,164,147,165,159,169,164,null,159,5.29,841.11,723.35,84.11,165,3.7,610.5,112.85000000000002,84.11,null,162,5.29,856.98,737,85.7,159,3.61,573.99,163.01,85.7,null,162,4.79,775.98,667.34,77.599999999999994,169,3.36,567.84,99.5,77.599999999999994,null,163,3.95,643.85,553.71,64.39,164,3.36,551.04,2.6700000000000728,2.6700000000000728,null,163,3.7,603.1,518.66999999999996,60.31,161,3.61,581.21,0,0]
["26111","Michigan","Midland","Grain Sorghum","MidlandGrain SorghumAll","All",70,97,89,60,88,104,86,91,60,null,82,5.0999999999999996,418.2,359.65,41.82,104,4.03,419.12,0,0,null,91,5.0999999999999996,464.1,399.13,46.41,86,3.31,284.66000000000003,114.46999999999997,46.41,null,88,4.7699999999999996,419.76,360.99,41.98,91,2.79,253.89,107.10000000000002,41.98,null,88,4.09,359.92,309.52999999999997,35.99,48,3.22,154.56,154.96999999999997,35.99,null,88,3.98,350.24,301.20999999999998,35.020000000000003,84,3.26,273.83999999999997,27.370000000000005,27.370000000000005]
["26111","Michigan","Midland","Oats","MidlandOatsAll","All",66,66,62,58,53,71,66,59,52,null,62,3.25,201.5,173.29,20.149999999999999,71,3.21,227.91,0,0,null,62,3.48,215.76,185.55,21.58,66,2.12,139.91999999999999,45.630000000000024,21.58,null,62,3.48,215.76,185.55,21.58,59,2.06,121.54,64.010000000000005,21.58,null,61,3.12,190.32,163.68,19.03,52,2.59,134.68,29,19.03,null,59,2.73,161.07,138.52000000000001,16.11,63,2.66,167.58,0,0]
["26111","Michigan","Midland","Soybeans","MidlandSoybeansAll","All",40,46,46,53,40,46,49,50,43,null,44,12.27,539.88,464.3,53.99,46,10.1,464.6,0,0,null,46,12.27,564.41999999999996,485.4,56.44,49,8.9499999999999993,438.55,46.849999999999966,46.85,null,47,11.87,557.89,479.79,55.79,50,9.4700000000000006,473.5,6.2900000000000205,6.2900000000000205,null,48,10.86,521.28,448.3,52.13,43,9.33,401.19,47.110000000000014,47.110000000000014,null,46,9.6300000000000008,442.98,380.96,44.3,50,8.48,424,0,0]
["26111","Michigan","Midland","Wheat","MidlandWheatAll","All",69,71,79,98,67,67,87,85,68,null,73,6.6,481.8,414.35,48.18,67,5.99,401.33,13.020000000000039,13.02,null,72,6.7,482.4,414.86,48.24,87,4.8899999999999997,425.43,0,0,null,78,6.7,522.6,449.44,52.26,85,3.89,330.65,118.79000000000002,52.26,null,80,6.12,489.6,421.06,48.96,68,4.72,320.95999999999998,100.10000000000002,48.96,null,73,5.66,413.18,355.33,41.32,76,5.16,392.16,0,0]
["26113","Michigan","Missaukee","Barley","MissaukeeBarleyAll","All",51,54,48,48,52,56,56,66,91,null,50,5.45,272.5,234.35,27.25,56,5.3,296.8,0,0,null,51,5.57,284.07,244.3,28.41,56,5.52,309.12,0,0,null,52,5.64,293.27999999999997,252.22,29.33,66,4.96,327.36,0,0,null,55,5.63,309.64999999999998,266.3,30.97,91,4.47,406.77,0,0,null,59,5.26,310.33999999999997,266.89,31.03,43,4.62,198.66,68.22999999999999,31.03]
["26113","Michigan","Missaukee","Corn","MissaukeeCornAll","All",75,151,141,123,111,109,121,95,152,null,125,5.29,661.25,568.67999999999995,66.13,109,3.7,403.3,165.37999999999994,66.13,null,125,5.29,661.25,568.67999999999995,66.13,121,3.61,436.81,131.86999999999995,66.13,null,118,4.79,565.22,486.09,56.52,95,3.36,319.2,166.89,56.52,null,114,3.95,450.3,387.26,45.03,152,3.36,510.72,0,0,null,114,3.7,421.8,362.75,42.18,136,3.61,490.96,0,0]
["26113","Michigan","Missaukee","Oats","MissaukeeOatsAll","All",64,68,64,53,50,69,53,54,39,null,60,3.25,195,167.7,19.5,69,3.21,221.49,0,0,null,62,3.48,215.76,185.55,21.58,53,2.12,112.36,73.190000000000012,21.58,null,57,3.48,198.36,170.59,19.84,54,2.06,111.24,59.350000000000009,19.84,null,53,3.12,165.36,142.21,16.54,39,2.59,101.01,41.2,16.54,null,52,2.73,141.96,122.09,14.2,63,2.66,167.58,0,0]
["26113","Michigan","Missaukee","Soybeans","MissaukeeSoybeansAll","All",30,45,42,36,28,36,36,36,37,null,36,12.27,441.72,379.88,44.17,36,10.1,363.6,16.279999999999973,16.28,null,38,12.27,466.26,400.98,46.63,36,8.9499999999999993,322.2,78.78000000000003,46.63,null,36,11.87,427.32,367.5,42.73,36,9.4700000000000006,340.92,26.579999999999984,26.579999999999984,null,36,10.86,390.96,336.23,39.1,37,9.33,345.21,0,0,null,36,9.6300000000000008,346.68,298.14,34.67,37,8.48,313.76,0,0]
["26113","Michigan","Missaukee","Sunflower Seed","MissaukeeSunflower SeedAll","All",1571,1547,1198,1671,1569,1037,1335,1200,1575,null,1562,0.23369999999999999,365.04,313.93,36.5,1037,0.217,225.03,88.9,36.5,null,1438,0.23469999999999999,337.5,290.25,33.75,1335,0.19600000000000001,261.66000000000003,28.589999999999975,28.589999999999975,null,1367,0.2283,312.08999999999997,268.39999999999998,31.21,1200,0.17399999999999999,208.8,59.599999999999966,31.21,null,1368,0.21079999999999999,288.37,248,28.84,1575,0.17249999999999999,271.69,0,0,null,1368,0.20569999999999999,281.39999999999998,242,28.14,1569]
["26113","Michigan","Missaukee","Wheat","MissaukeeWheatNonirrigated","Nonirrigated",69,63,59,62,62,59,51,55," ",null,62,6.6,409.2,351.91,40.92,59,5.99,353.41,0,0,null,61,6.7,408.7,351.48,40.869999999999997,51,4.8899999999999997,249.39,102.09000000000003,40.869999999999997,null,60,6.7,402,345.72,40.200000000000003,55,3.89,213.95,131.77000000000004,40.200000000000003,null,59,6.12,361.08,310.52999999999997,36.11," "," "," "," "," ",null," "," "," "," "," "," "," "," "," "," "]
["26113","Michigan","Missaukee","Wheat","MissaukeeWheatIrrigated","Irrigated",69,43,62,64,70,74,81,89," ",null,65,6.6,429,368.94,42.9,74,5.99,443.26,0,0,null,65,6.7,435.5,374.53,43.55,81,4.8899999999999997,396.09,0,0,null,69,6.7,462.3,397.58,46.23,89,3.89,346.21,51.370000000000005,46.23,null,75,6.12,459,394.74,45.9," "," "," ",null,null,null," "," "," "," "," "," "," "," "," "," "]
["26115","Michigan","Monroe","Barley","MonroeBarleyAll","All",51,54,48,48,52,56,56,66,91,null,50,5.45,272.5,234.35,27.25,56,5.3,296.8,0,0,null,51,5.57,284.07,244.3,28.41,56,5.52,309.12,0,0,null,52,5.64,293.27999999999997,252.22,29.33,66,4.96,327.36,0,0,null,55,5.63,309.64999999999998,266.3,30.97,91,4.47,406.77,0,0,null,59,5.26,310.33999999999997,266.89,31.03,43,4.62,198.66,68.22999999999999,31.03]
["26115","Michigan","Monroe","Corn","MonroeCornAll","All",164,154,157,106,151,175,149,169,170,null,154,5.29,814.66,700.61,81.47,175,3.7,647.5,53.110000000000014,53.11,null,154,5.29,814.66,700.61,81.47,149,3.61,537.89,162.72000000000003,81.47,null,152,4.79,728.08,626.15,72.81,169,3.36,567.84,58.309999999999945,58.309999999999945,null,156,3.95,616.20000000000005,529.92999999999995,61.62,170,3.36,571.20000000000005,0,0,null,163,3.7,603.1,518.66999999999996,60.31,168,3.61,606.48,0,0]
["26115","Michigan","Monroe","Oats",{"$f":"C326&D326&F326","v":"MonroeOatsAll"},"All",58,66,55,60,67,75,73,59,55,null,61,3.25,198.25,170.5,19.829999999999998,75,3.21,240.75,0,0,null,64,3.48,222.72,191.54,22.27,73,2.12,154.76,36.78,22.27,null,67,3.48,233.16,200.52,23.32,59,2.06,121.54,78.98,23.32,null,67,3.12,209.04,179.77,20.9,54,2.59,139.86000000000001,39.909999999999997,20.9,null,66,2.73,180.18,154.94999999999999,18.02,63,2.66,167.58,0,0]
["26115","Michigan","Monroe","Soybeans","MonroeSoybeansAll","All",44,41,44,35,48,48,46,52,45,null,43,12.27,527.61,453.74,52.76,48,10.1,484.8,0,0,null,44,12.27,539.88,464.3,53.99,46,8.9499999999999993,411.7,52.600000000000023,52.6,null,46,11.87,546.02,469.58,54.6,52,9.4700000000000006,492.44,0,0,null,47,10.86,510.42,438.96,51.04,45,9.33,419.85,19.109999999999957,19.109999999999957,null,47,9.6300000000000008,452.61,389.24,45.26,45,8.48,381.6,7.6399999999999864,7.6399999999999864]
["26115","Michigan","Monroe","Wheat","MonroeWheatAll","All",75,72,72,76,79,77,70,84,78,null,74,6.6,488.4,420.02,48.84,77,5.99,461.23,0,0,null,75,6.7,502.5,432.15,50.25,70,4.8899999999999997,342.3,89.849999999999966,50.25,null,75,6.7,502.5,432.15,50.25,84,3.89,326.76,105.38999999999999,50.25,null,77,6.12,471.24,405.27,47.12,78,4.72,368.16,37.109999999999957,37.109999999999957,null,78,5.66,441.48,379.67,44.15,73,5.16,376.68,2.9900000000000091,2.9900000000000091]
["26117","Michigan","Montcalm","Barley","MontcalmBarleyAll","All",51,54,48,48,52,56,56,66,91,null,50,5.45,272.5,234.35,27.25,56,5.3,296.8,0,0,null,51,5.57,284.07,244.3,28.41,56,5.52,309.12,0,0,null,52,5.64,293.27999999999997,252.22,29.33,66,4.96,327.36,0,0,null,55,5.63,309.64999999999998,266.3,30.97,91,4.47,406.77,0,0,null,59,5.26,310.33999999999997,266.89,31.03,43,4.62,198.66,68.22999999999999,31.03]
["26117","Michigan","Montcalm","Corn","MontcalmCornIrrigated","Irrigated",155,171,172,186,178,162,176,191,184,null,174,5.29,920.46,791.6,92.05,162,3.7,599.4,192.20000000000005,92.05,null,174,5.29,920.46,791.6,92.05,176,3.61,635.36,156.24,92.05,null,175,4.79,838.25,720.9,83.83,191,3.36,641.76,79.139999999999986,79.139999999999986,null,180,3.95,711,611.46,71.099999999999994,184,3.36,618.24,0,0,null,179,3.7,662.3,569.58000000000004,66.23,153,3.61,552.33000000000004,17.25,17.25]
["26117","Michigan","Montcalm","Corn","MontcalmCornNonirrigated","Nonirrigated",118,133,134,137,112,131,146,150,132,null,128,5.29,677.12,582.32000000000005,67.709999999999994,131,3.7,484.7,97.620000000000061,67.709999999999994,null,133,5.29,703.57,605.07000000000005,70.36,146,3.61,527.05999999999995,78.010000000000105,70.36,null,134,4.79,641.86,552,64.19,150,3.36,504,48,48,null,138,3.95,545.1,468.79,54.51,132,3.36,443.52,25.270000000000039,25.270000000000039,null,136,3.7,503.2,432.75,50.32,131,3.61,472.91,0,0]
["26117","Michigan","Montcalm","Oats","MontcalmOatsAll","All",76,61,56,58,52,71,71,59,52,null,58,3.25,188.5,162.11000000000001,18.850000000000001,71,3.21,227.91,0,0,null,58,3.48,201.84,173.58,20.18,71,2.12,150.52000000000001,23.060000000000002,20.18,null,62,3.48,215.76,185.55,21.58,59,2.06,121.54,64.010000000000005,21.58,null,63,3.12,196.56,169.04,19.66,52,2.59,134.68,34.359999999999985,19.66,null,61,2.73,166.53,143.22,16.649999999999999,63,2.66,167.58,0,0]
["26117","Michigan","Montcalm","Soybeans","MontcalmSoybeansAll","All",38,38,42,43,34,36,44,52,32,null,39,12.27,478.53,411.54,47.85,36,10.1,363.6,47.94,47.85,null,39,12.27,478.53,411.54,47.85,44,8.9499999999999993,393.8,17.740000000000009,17.739999999999998,null,40,11.87,474.8,408.33,47.48,52,9.4700000000000006,492.44,0,0,null,41,10.86,445.26,382.92,44.53,32,9.33,298.56,84.360000000000014,44.53,null,38,9.6300000000000008,365.94,314.70999999999998,36.590000000000003,39,8.48,330.72,0,0]
["26117","Michigan","Montcalm","Wheat","MontcalmWheatIrrigated","Irrigated",66,68,79,79,68,67,83,77,72,null,72,6.6,475.2,408.67,47.52,67,5.99,401.33,7.3400000000000318,7.34,null,72,6.7,482.4,414.86,48.24,83,4.8899999999999997,405.87,8.9900000000000091,8.99,null,75,6.7,502.5,432.15,50.25,77,3.89,299.52999999999997,132.62,50.25,null,75,6.12,459,394.74,45.9,72,4.72,339.84,54.900000000000034,45.9,null,72,5.66,407.52,350.47,40.75,71,5.16,366.36,0,0]
["26117","Michigan","Montcalm","Wheat","MontcalmWheatNonirrigated","Nonirrigated",55,54,68,68,64,65,76,75,63,null,62,6.6,409.2,351.91,40.92,65,5.99,389.35,0,0,null,66,6.7,442.2,380.29,44.22,76,4.8899999999999997,371.64,8.6500000000000341,8.65,null,67,6.7,448.9,386.05,44.89,75,3.89,291.75,94.300000000000011,44.89,null,69,6.12,422.28,363.16,42.23,63,4.72,297.36,65.800000000000011,42.23,null,68,5.66,384.88,331,38.49,71,5.16,366.36,0,0]
["26119","Michigan","Montmorency","Barley","MontmorencyBarleyAll","All",51,54,48,48,52,56,56,66,91,null,50,5.45,272.5,234.35,27.25,56,5.3,296.8,0,0,null,51,5.57,284.07,244.3,28.41,56,5.52,309.12,0,0,null,52,5.64,293.27999999999997,252.22,29.33,66,4.96,327.36,0,0,null,55,5.63,309.64999999999998,266.3,30.97,91,4.47,406.77,0,0,null,59,5.26,310.33999999999997,266.89,31.03,43,4.62,198.66,68.22999999999999,31.03]
["26119","Michigan","Montmorency","Canola","MontmorencyCanolaAll","All",1601,1326,1356,1395,2199,1211,1233,1354,1798,null,1451,0.21579999999999999,313.13,269.29000000000002,31.31,1211,0.16899999999999998,204.66,64.630000000000024,31.31,null,1359,0.21579999999999999,293.27,252.21,29.33,1233,0.156,192.35,59.860000000000014,29.33,null,1328,0.21579999999999999,286.58,246.46,28.66,1354,0.16600000000000001,224.76,21.700000000000017,21.700000000000017,null,1327,0.20300000000000001,269.38,231.67,26.94,1798,0.17499999999999999,314.64999999999998,0,0,null,1462,0.20150000000000001,294.58999999999997,253.35,29.46,1648,0.158,260.38,0,0]
["26119","Michigan","Montmorency","Corn","MontmorencyCornAll","All",110,118,109,111,102,105,125,71,140,null,110,5.29,581.9,500.43,58.19,105,3.7,388.5,111.93,58.19,null,108,5.29,571.32000000000005,491.34,57.13,125,3.61,451.25,40.089999999999975,40.090000000000003,null,108,4.79,517.32000000000005,444.9,51.73,71,3.36,238.56,206.33999999999997,51.73,null,106,3.95,418.7,360.08,41.87,140,3.36,470.4,0,0,null,111,3.7,410.7,353.2,41.07,74,3.61,267.14,86.06,41.07]
["26119","Michigan","Montmorency","Oats","MontmorencyOatsAll","All",59,72,64,63,57,69,67,56,60,null,62,3.25,201.5,173.29,20.149999999999999,69,3.21,221.49,0,0,null,65,3.48,226.2,194.53,22.62,67,2.12,142.04,52.490000000000009,22.62,null,65,3.48,226.2,194.53,22.62,56,2.06,115.36,79.17,22.62,null,62,3.12,193.44,166.36,19.34,60,2.59,155.4,10.960000000000008,10.960000000000008,null,61,2.73,166.53,143.22,16.649999999999999,63,2.66,167.58,0,0]
["26119","Michigan","Montmorency","Soybeans","MontmorencySoybeansAll","All",24,41,30,30,29,25,36,26,42,null,30,12.27,368.1,316.57,36.81,25,10.1,252.5,64.069999999999993,36.81,null,30,12.27,368.1,316.57,36.81,36,8.9499999999999993,322.2,0,0,null,30,11.87,356.1,306.25,35.61,26,9.4700000000000006,246.22,60.03,35.61,null,28,10.86,304.08,261.51,30.41,42,9.33,391.86,0,0,null,30,9.6300000000000008,288.89999999999998,248.45,28.89,37,8.48,313.76,0,0]
["26119","Michigan","Montmorency","Sunflower Seed","MontmorencySunflower SeedAll","All",1571,1547,1198,1671,1569,1037,1335,1200,1575,null,1562,0.23369999999999999,365.04,313.93,36.5,1037,0.217,225.03,88.9,36.5,null,1438,0.23469999999999999,337.5,290.25,33.75,1335,0.19600000000000001,261.66000000000003,28.589999999999975,28.589999999999975,null,1367,0.2283,312.08999999999997,268.39999999999998,31.21,1200,0.17399999999999999,208.8,59.599999999999966,31.21,null,1368,0.21079999999999999,288.37,248,28.84,1575,0.17249999999999999,271.69,0,0,null,1368,0.20569999999999999,281.39999999999998,242,28.14,1569]
["26119","Michigan","Montmorency","Wheat","MontmorencyWheatAll","All",65,52,62,68,55,52,78,59,58,null,61,6.6,402.6,346.24,40.26,52,5.99,311.48,34.759999999999991,34.76,null,56,6.7,375.2,322.67,37.520000000000003,78,4.8899999999999997,381.42,0,0,null,62,6.7,415.4,357.24,41.54,59,3.89,229.51,127.73000000000002,41.54,null,61,6.12,373.32,321.06,37.33,58,4.72,273.76,47.300000000000011,37.33,null,57,5.66,322.62,277.45,32.26,47,5.16,242.52,34.929999999999978,32.26]
["26121","Michigan","Muskegon","Barley","MuskegonBarleyAll","All",51,54,48,48,52,56,56,66,91,null,50,5.45,272.5,234.35,27.25,56,5.3,296.8,0,0,null,51,5.57,284.07,244.3,28.41,56,5.52,309.12,0,0,null,52,5.64,293.27999999999997,252.22,29.33,66,4.96,327.36,0,0,null,55,5.63,309.64999999999998,266.3,30.97,91,4.47,406.77,0,0,null,59,5.26,310.33999999999997,266.89,31.03,43,4.62,198.66,68.22999999999999,31.03]
["26121","Michigan","Muskegon","Corn","MuskegonCornAll","All",122,154,139,112,111,103,130,152,135,null,124,5.29,655.96,564.13,65.599999999999994,103,3.7,381.1,183.02999999999997,65.599999999999994,null,121,5.29,640.09,550.48,64.010000000000005,130,3.61,469.3,81.180000000000007,64.010000000000005,null,118,4.79,565.22,486.09,56.52,152,3.36,510.72,0,0,null,118,3.95,466.1,400.85,46.61,135,3.36,453.6,0,0,null,125,3.7,462.5,397.75,46.25,108,3.61,389.88,7.8700000000000045,7.8700000000000045]
["26121","Michigan","Muskegon","Grain Sorghum","MuskegonGrain SorghumAll","All",70,97,89,60,88,104,86,91,60,null,82,5.0999999999999996,418.2,359.65,41.82,104,4.03,419.12,0,0,null,91,5.0999999999999996,464.1,399.13,46.41,86,3.31,284.66000000000003,114.46999999999997,46.41,null,88,4.7699999999999996,419.76,360.99,41.98,91,2.79,253.89,107.10000000000002,41.98,null,88,4.09,359.92,309.52999999999997,35.99,48,3.22,154.56,154.96999999999997,35.99,null,88,3.98,350.24,301.20999999999998,35.020000000000003,84,3.26,273.83999999999997,27.370000000000005,27.370000000000005]
["26121","Michigan","Muskegon","Oats","MuskegonOatsAll","All",61,65,65,55,61,68,71,55,55,null,62,3.25,201.5,173.29,20.149999999999999,68,3.21,218.28,0,0,null,64,3.48,222.72,191.54,22.27,71,2.12,150.52000000000001,41.019999999999982,22.27,null,65,3.48,226.2,194.53,22.62,55,2.06,113.3,81.23,22.62,null,61,3.12,190.32,163.68,19.03,55,2.59,142.44999999999999,21.230000000000018,19.03,null,61,2.73,166.53,143.22,16.649999999999999,63,2.66,167.58,0,0]
["26121","Michigan","Muskegon","Soybeans","MuskegonSoybeansAll","All",41,49,45,40,38,40,44,52,40,null,42,12.27,515.34,443.19,51.53,40,10.1,404,39.19,39.19,null,42,12.27,515.34,443.19,51.53,44,8.9499999999999993,393.8,49.389999999999986,49.39,null,41,11.87,486.67,418.54,48.67,52,9.4700000000000006,492.44,0,0,null,41,10.86,445.26,382.92,44.53,40,9.33,373.2,9.7200000000000273,9.7200000000000273,null,41,9.6300000000000008,394.83,339.55,39.479999999999997,42,8.48,356.16,0,0]
["26121","Michigan","Muskegon","Wheat","MuskegonWheatAll","All",49,49,76,57,51,39,50,77,62,null,52,6.6,343.2,295.14999999999998,34.32,39,5.99,233.61,61.539999999999964,34.32,null,52,6.7,348.4,299.62,34.840000000000003,50,4.8899999999999997,244.5,55.120000000000005,34.840000000000003,null,53,6.7,355.1,305.39,35.51,77,3.89,299.52999999999997,5.8600000000000136,5.8600000000000136,null,53,6.12,324.36,278.95,32.44,62,4.72,292.64,0,0,null,54,5.66,305.64,262.85000000000002,30.56,70,5.16,361.2,0,0]
["26123","Michigan","Newaygo","Barley","NewaygoBarleyAll","All",51,54,48,48,52,56,56,66,91,null,50,5.45,272.5,234.35,27.25,56,5.3,296.8,0,0,null,51,5.57,284.07,244.3,28.41,56,5.52,309.12,0,0,null,52,5.64,293.27999999999997,252.22,29.33,66,4.96,327.36,0,0,null,55,5.63,309.64999999999998,266.3,30.97,91,4.47,406.77,0,0,null,59,5.26,310.33999999999997,266.89,31.03,43,4.62,198.66,68.22999999999999,31.03]
["26123","Michigan","Newaygo","Corn","NewaygoCornAll","All",121,135,127,129,98,101,134,146,131,null,126,5.29,666.54,573.22,66.650000000000006,101,3.7,373.7,199.52000000000004,66.650000000000006,null,119,5.29,629.51,541.38,62.95,134,3.61,483.74,57.639999999999986,57.64,null,119,4.79,570.01,490.21,57,146,3.36,490.56,0,0,null,121,3.95,477.95,411.04,47.8,131,3.36,440.16,0,0,null,122,3.7,451.4,388.2,45.14,81,3.61,292.41000000000003,95.789999999999964,45.14]
["26123","Michigan","Newaygo","Oats","NewaygoOatsAll","All",65,50,50,48,61,75,67,45,45,null,54,3.25,175.5,150.93,17.55,75,3.21,240.75,0,0,null,54,3.48,187.92,161.61000000000001,18.79,67,2.12,142.04,19.570000000000022,18.79,null,59,3.48,205.32,176.58,20.53,45,2.06,92.7,83.88000000000001,20.53,null,59,3.12,184.08,158.31,18.41,45,2.59,116.55,41.760000000000005,18.41,null,58,2.73,158.34,136.16999999999999,15.83,63,2.66,167.58,0,0]
["26123","Michigan","Newaygo","Soybeans","NewaygoSoybeansAll","All",36,44,42,42,38,32,40,43,32,null,41,12.27,503.07,432.64,50.31,32,10.1,323.2,109.44,50.31,null,41,12.27,503.07,432.64,50.31,40,8.9499999999999993,358,74.639999999999986,50.31,null,40,11.87,474.8,408.33,47.48,43,9.4700000000000006,407.21,1.1200000000000045,1.1200000000000045,null,40,10.86,434.4,373.58,43.44,32,9.33,298.56,75.019999999999982,43.44,null,37,9.6300000000000008,356.31,306.43,35.630000000000003,39,8.48,330.72,0,0]
["26123","Michigan","Newaygo","Sunflower Seed","NewaygoSunflower SeedAll","All",1571,1547,1198,1671,1569,1037,1335,1200,1575,null,1562,0.23369999999999999,365.04,313.93,36.5,1037,0.217,225.03,88.9,36.5,null,1438,0.23469999999999999,337.5,290.25,33.75,1335,0.19600000000000001,261.66000000000003,28.589999999999975,28.589999999999975,null,1367,0.2283,312.08999999999997,268.39999999999998,31.21,1200,0.17399999999999999,208.8,59.599999999999966,31.21,null,1368,0.21079999999999999,288.37,248,28.84,1575,0.17249999999999999,271.69,0,0,null,1368,0.20569999999999999,281.39999999999998,242,28.14,1569]
["26123","Michigan","Newaygo","Wheat","NewaygoWheatAll","All",57,60,65,61,55,55,79,75,72,null,59,6.6,389.4,334.88,38.94,55,5.99,329.45,5.4300000000000068,5.43,null,59,6.7,395.3,339.96,39.53,79,4.8899999999999997,386.31,0,0,null,60,6.7,402,345.72,40.200000000000003,75,3.89,291.75,53.970000000000027,40.200000000000003,null,64,6.12,391.68,336.84,39.17,72,4.72,339.84,0,0,null,67,5.66,379.22,326.13,37.92,69,5.16,356.04,0,0]
["26125","Michigan","Oakland","Barley","OaklandBarleyAll","All",51,54,48,48,52,56,56,66,91,null,50,5.45,272.5,234.35,27.25,56,5.3,296.8,0,0,null,51,5.57,284.07,244.3,28.41,56,5.52,309.12,0,0,null,52,5.64,293.27999999999997,252.22,29.33,66,4.96,327.36,0,0,null,55,5.63,309.64999999999998,266.3,30.97,91,4.47,406.77,0,0,null,59,5.26,310.33999999999997,266.89,31.03,43,4.62,198.66,68.22999999999999,31.03]
["26125","Michigan","Oakland","Corn","OaklandCornAll","All",114,124,129,121,153,139,145,147,152,null,125,5.29,661.25,568.67999999999995,66.13,139,3.7,514.29999999999995,54.379999999999995,54.38,null,131,5.29,692.99,595.97,69.3,145,3.61,523.45000000000005,72.519999999999982,69.3,null,138,4.79,661.02,568.48,66.099999999999994,147,3.36,493.92,74.56,66.099999999999994,null,144,3.95,568.79999999999995,489.17,56.88,152,3.36,510.72,0,0,null,148,3.7,547.6,470.94,54.76,152,3.61,548.72,0,0]
["26125","Michigan","Oakland","Oats","OaklandOatsAll","All",58,66,51,60,67,75,73,59,54,null,61,3.25,198.25,170.5,19.829999999999998,75,3.21,240.75,0,0,null,64,3.48,222.72,191.54,22.27,73,2.12,154.76,36.78,22.27,null,67,3.48,233.16,200.52,23.32,59,2.06,121.54,78.98,23.32,null,67,3.12,209.04,179.77,20.9,54,2.59,139.86000000000001,39.909999999999997,20.9,null,66,2.73,180.18,154.94999999999999,18.02,63,2.66,167.58,0,0]
["26125","Michigan","Oakland","Soybeans","OaklandSoybeansAll","All",38,37,40,37,45,39,45,47,33,null,38,12.27,466.26,400.98,46.63,39,10.1,393.9,7.0800000000000409,7.08,null,39,12.27,478.53,411.54,47.85,45,8.9499999999999993,402.75,8.7900000000000205,8.7899999999999991,null,41,11.87,486.67,418.54,48.67,47,9.4700000000000006,445.09,0,0,null,43,10.86,466.98,401.6,46.7,33,9.33,307.89,93.710000000000036,46.7,null,43,9.6300000000000008,414.09,356.12,41.41,44,8.48,373.12,0,0]
["26125","Michigan","Oakland","Wheat","OaklandWheatAll","All",49,56,76,65,74,54,59,73,68,null,65,6.6,429,368.94,42.9,54,5.99,323.45999999999998,45.480000000000018,42.9,null,65,6.7,435.5,374.53,43.55,59,4.8899999999999997,288.51,86.019999999999982,43.55,null,66,6.7,442.2,380.29,44.22,73,3.89,283.97000000000003,96.32,44.22,null,66,6.12,403.92,347.37,40.39,68,4.72,320.95999999999998,26.410000000000025,26.410000000000025,null,67,5.66,379.22,326.13,37.92,75,5.16,387,0,0]
["26127","Michigan","Oceana","Barley","OceanaBarleyAll","All",51,54,48,48,52,56,56,66,91,null,50,5.45,272.5,234.35,27.25,56,5.3,296.8,0,0,null,51,5.57,284.07,244.3,28.41,56,5.52,309.12,0,0,null,52,5.64,293.27999999999997,252.22,29.33,66,4.96,327.36,0,0,null,55,5.63,309.64999999999998,266.3,30.97,91,4.47,406.77,0,0,null,59,5.26,310.33999999999997,266.89,31.03,43,4.62,198.66,68.22999999999999,31.03]
["26127","Michigan","Oceana","Corn","OceanaCornAll","All",111,146,127,123,129,111,116,150,137,null,126,5.29,666.54,573.22,66.650000000000006,111,3.7,410.7,162.52000000000004,66.650000000000006,null,126,5.29,666.54,573.22,66.650000000000006,116,3.61,418.76,154.46000000000004,66.650000000000006,null,122,4.79,584.38,502.57,58.44,150,3.36,504,0,0,null,123,3.95,485.85,417.83,48.59,137,3.36,460.32,0,0,null,127,3.7,469.9,404.11,46.99,116,3.61,418.76,0,0]
["26127","Michigan","Oceana","Grain Sorghum","OceanaGrain SorghumAll","All",70,97,89,60,88,104," "," "," ",null,82,5.0999999999999996,418.2,359.65,41.82,104,4.03,419.12,0,0,null,null,null,null,null,null,null,null,null,null,null,null," "," "," "," "," "," "," "," "," "," ",null," "," "," "," "," "," "," "," "," "," ",null," "," "," "," "," "," "," "," "," "," "]
["26127","Michigan","Oceana","Oats","OceanaOatsAll","All",61,65,65,48,61,68,62,64,55,null,62,3.25,201.5,173.29,20.149999999999999,68,3.21,218.28,0,0,null,64,3.48,222.72,191.54,22.27,62,2.12,131.44,60.099999999999994,22.27,null,63,3.48,219.24,188.55,21.92,64,2.06,131.84,56.710000000000008,21.92,null,62,3.12,193.44,166.36,19.34,55,2.59,142.44999999999999,23.910000000000025,19.34,null,62,2.73,169.26,145.56,16.93,63,2.66,167.58,0,0]
["26127","Michigan","Oceana","Soybeans","OceanaSoybeansAll","All",34,42,45,41,37,33,36,42,44,null,40,12.27,490.8,422.09,49.08,33,10.1,333.3,88.789999999999964,49.08,null,40,12.27,490.8,422.09,49.08,36,8.9499999999999993,322.2,99.889999999999986,49.08,null,38,11.87,451.06,387.91,45.11,42,9.4700000000000006,397.74,0,0,null,38,10.86,412.68,354.9,41.27,44,9.33,410.52,0,0,null,38,9.6300000000000008,365.94,314.70999999999998,36.590000000000003,32,8.48,271.36,43.349999999999966,36.590000000000003]
["26127","Michigan","Oceana","Sunflower Seed","OceanaSunflower SeedAll","All",1571,1547,1198,1671,1569,1037,1335,1200,1575,null,1562,0.23369999999999999,365.04,313.93,36.5,1037,0.217,225.03,88.9,36.5,null,1438,0.23469999999999999,337.5,290.25,33.75,1335,0.19600000000000001,261.66000000000003,28.589999999999975,28.589999999999975,null,1367,0.2283,312.08999999999997,268.39999999999998,31.21,1200,0.17399999999999999,208.8,59.599999999999966,31.21,null,1368,0.21079999999999999,288.37,248,28.84,1575,0.17249999999999999,271.69,0,0,null,1368,0.20569999999999999,281.39999999999998,242,28.14,1569]
["26127","Michigan","Oceana","Wheat","OceanaWheatAll","All",51,58,63,67,63,59,63,61,74,null,61,6.6,402.6,346.24,40.26,59,5.99,353.41,0,0,null,62,6.7,415.4,357.24,41.54,63,4.8899999999999997,308.07,49.170000000000016,41.54,null,63,6.7,422.1,363.01,42.21,61,3.89,237.29,125.72,42.21,null,62,6.12,379.44,326.32,37.94,74,4.72,349.28,0,0,null,62,5.66,350.92,301.79000000000002,35.090000000000003,66,5.16,340.56,0,0]
["26129","Michigan","Ogemaw","Barley","OgemawBarleyAll","All",51,54,48,48,52,56,56,66,91,null,50,5.45,272.5,234.35,27.25,56,5.3,296.8,0,0,null,51,5.57,284.07,244.3,28.41,56,5.52,309.12,0,0,null,52,5.64,293.27999999999997,252.22,29.33,66,4.96,327.36,0,0,null,55,5.63,309.64999999999998,266.3,30.97,91,4.47,406.77,0,0,null,59,5.26,310.33999999999997,266.89,31.03,43,4.62,198.66,68.22999999999999,31.03]
["26129","Michigan","Ogemaw","Corn","OgemawCornAll","All",89,128,142,109,114,88,119,127,145,null,117,5.29,618.92999999999995,532.28,61.89,88,3.7,325.60000000000002,206.67999999999995,61.89,null,117,5.29,618.92999999999995,532.28,61.89,119,3.61,429.59,102.69,61.89,null,114,4.79,546.05999999999995,469.61,54.61,127,3.36,426.72,42.889999999999986,42.889999999999986,null,114,3.95,450.3,387.26,45.03,145,3.36,487.2,0,0,null,120,3.7,444,381.84,44.4,157,3.61,566.77,0,0]
["26129","Michigan","Ogemaw","Oats","OgemawOatsAll","All",64,68,64,66,56,66,60,57,60,null,65,3.25,211.25,181.68,21.13,66,3.21,211.86,0,0,null,65,3.48,226.2,194.53,22.62,60,2.12,127.2,67.33,22.62,null,63,3.48,219.24,188.55,21.92,57,2.06,117.42,71.13000000000001,21.92,null,61,3.12,190.32,163.68,19.03,60,2.59,155.4,8.2800000000000011,8.2800000000000011,null,59,2.73,161.07,138.52000000000001,16.11,63,2.66,167.58,0,0]
["26129","Michigan","Ogemaw","Soybeans","OgemawSoybeansAll","All",39,45,38,48,31,32,40,45,48,null,41,12.27,503.07,432.64,50.31,32,10.1,323.2,109.44,50.31,null,38,12.27,466.26,400.98,46.63,40,8.9499999999999993,358,42.980000000000018,42.98,null,37,11.87,439.19,377.7,43.92,45,9.4700000000000006,426.15,0,0,null,39,10.86,423.54,364.24,42.35,48,9.33,447.84,0,0,null,39,9.6300000000000008,375.57,322.99,37.56,40,8.48,339.2,0,0]
["26129","Michigan","Ogemaw","Wheat","OgemawWheatAll","All",62,65,72,75,73,70,100,79,59,null,70,6.6,462,397.32,46.2,70,5.99,419.3,0,0,null,72,6.7,482.4,414.86,48.24,100,4.8899999999999997,489,0,0,null,73,6.7,489.1,420.63,48.91,79,3.89,307.31,113.32,48.91,null,76,6.12,465.12,400,46.51,59,4.72,278.48,121.51999999999998,46.51,null,74,5.66,418.84,360.2,41.88,65,5.16,335.4,24.800000000000011,24.800000000000011]
["26131","Michigan","Ontonagon","Barley","OntonagonBarleyAll","All",51,54,48,48,52,56,56,66,91,null,50,5.45,272.5,234.35,27.25,56,5.3,296.8,0,0,null,51,5.57,284.07,244.3,28.41,56,5.52,309.12,0,0,null,52,5.64,293.27999999999997,252.22,29.33,66,4.96,327.36,0,0,null,55,5.63,309.64999999999998,266.3,30.97,91,4.47,406.77,0,0,null,59,5.26,310.33999999999997,266.89,31.03,43,4.62,198.66,68.22999999999999,31.03]
["26131","Michigan","Ontonagon","Canola","OntonagonCanolaAll","All",1601,1326,1356,1395,2199,1211,1233,1354,1798,null,1451,0.21579999999999999,313.13,269.29000000000002,31.31,1211,0.16899999999999998,204.66,64.630000000000024,31.31,null,1359,0.21579999999999999,293.27,252.21,29.33,1233,0.156,192.35,59.860000000000014,29.33,null,1328,0.21579999999999999,286.58,246.46,28.66,1354,0.16600000000000001,224.76,21.700000000000017,21.700000000000017,null,1327,0.20300000000000001,269.38,231.67,26.94,1798,0.17499999999999999,314.64999999999998,0,0,null,1462,0.20150000000000001,294.58999999999997,253.35,29.46,1648,0.158,260.38,0,0]
["26131","Michigan","Ontonagon","Corn","OntonagonCornAll","All",46,127,46,84,120,46,132,87,51,null,83,5.29,439.07,377.6,43.91,38,3.7,140.6,237.00000000000003,43.91,null,83,5.29,439.07,377.6,43.91,132,3.61,476.52,0,0,null,83,4.79,397.57,341.91,39.76,87,3.36,292.32,49.590000000000032,39.76,null,97,3.95,383.15,329.51,38.32,37,3.36,124.32,205.19,38.32,null,86,3.7,318.2,273.64999999999998,31.82,111,3.61,400.71,0,0]
["26131","Michigan","Ontonagon","Oats","OntonagonOatsAll","All",58,55,59,60,63,59,57,55,47,null,59,3.25,191.75,164.91,19.18,59,3.21,189.39,0,0,null,59,3.48,205.32,176.58,20.53,57,2.12,120.84,55.740000000000009,20.53,null,59,3.48,205.32,176.58,20.53,55,2.06,113.3,63.280000000000015,20.53,null,59,3.12,184.08,158.31,18.41,47,2.59,121.73,36.58,18.41,null,57,2.73,155.61000000000001,133.82,15.56,63,2.66,167.58,0,0]
["26131","Michigan","Ontonagon","Wheat","OntonagonWheatAll","All",47,56,50,41,41,47,51,55,52,null,46,6.6,303.60000000000002,261.10000000000002,30.36,47,5.99,281.52999999999997,0,0,null,46,6.7,308.2,265.05,30.82,51,4.8899999999999997,249.39,15.660000000000025,15.66,null,46,6.7,308.2,265.05,30.82,55,3.89,213.95,51.100000000000023,30.82,null,46,6.12,281.52,242.11,28.15,52,4.72,245.44,0,0,null,50,5.66,283,243.38,28.3,40,5.16,206.4,36.97999999999999,28.3]
["26133","Michigan","Osceola","Barley","OsceolaBarleyAll","All",51,54,48,48,52,56,56,66,91,null,50,5.45,272.5,234.35,27.25,56,5.3,296.8,0,0,null,51,5.57,284.07,244.3,28.41,56,5.52,309.12,0,0,null,52,5.64,293.27999999999997,252.22,29.33,66,4.96,327.36,0,0,null,55,5.63,309.64999999999998,266.3,30.97,91,4.47,406.77,0,0,null,59,5.26,310.33999999999997,266.89,31.03,43,4.62,198.66,68.22999999999999,31.03]
["26133","Michigan","Osceola","Corn","OsceolaCornAll","All",83,145,126,133,106,96,122,101,126,null,122,5.29,645.38,555.03,64.540000000000006,96,3.7,355.2,199.82999999999998,64.540000000000006,null,122,5.29,645.38,555.03,64.540000000000006,122,3.61,440.42,114.60999999999996,64.540000000000006,null,118,4.79,565.22,486.09,56.52,101,3.36,339.36,146.72999999999996,56.52,null,110,3.95,434.5,373.67,43.45,126,3.36,423.36,0,0,null,110,3.7,407,350.02,40.700000000000003,69,3.61,249.09,100.92999999999998,40.700000000000003]
["26133","Michigan","Osceola","Oats","OsceolaOatsAll","All",60,60,54,50,70,71,66,59,52,null,58,3.25,188.5,162.11000000000001,18.850000000000001,71,3.21,227.91,0,0,null,61,3.48,212.28,182.56,21.23,66,2.12,139.91999999999999,42.640000000000015,21.23,null,63,3.48,219.24,188.55,21.92,59,2.06,121.54,67.010000000000005,21.92,null,65,3.12,202.8,174.41,20.28,52,2.59,134.68,39.72999999999999,20.28,null,65,2.73,177.45,152.61000000000001,17.75,63,2.66,167.58,0,0]
["26133","Michigan","Osceola","Soybeans","OsceolaSoybeansAll","All",28,39,36,37,35,30,41,43,35,null,36,12.27,441.72,379.88,44.17,30,10.1,303,76.88,44.17,null,36,12.27,441.72,379.88,44.17,41,8.9499999999999993,366.95,12.930000000000007,12.93,null,36,11.87,427.32,367.5,42.73,43,9.4700000000000006,407.21,0,0,null,38,10.86,412.68,354.9,41.27,35,9.33,326.55,28.349999999999966,28.349999999999966,null,37,9.6300000000000008,356.31,306.43,35.630000000000003,30,8.48,254.4,52.03,35.630000000000003]
["26133","Michigan","Osceola","Wheat","OsceolaWheatNonirrigated","Nonirrigated",51,54,40,56,36,41,68,47," ",null,48,6.6,316.8,272.45,31.68,41,5.99,245.59,26.859999999999985,26.86,null,45,6.7,301.5,259.29000000000002,30.15,68,4.8899999999999997,332.52,0,0,null,46,6.7,308.2,265.05,30.82,47,3.89,182.83,82.22,30.82,null,48,6.12,293.76,252.63,29.38," "," "," "," "," ",null," "," "," "," "," "," "," "," "," "," "]
["26133","Michigan","Osceola","Wheat","OsceolaWheatIrrigated","Irrigated",59,62,56,76,67,74,81,89," ",null,63,6.6,415.8,357.59,41.58,74,5.99,443.26,0,0,null,68,6.7,455.6,391.82,45.56,81,4.8899999999999997,396.09,0,0,null,72,6.7,482.4,414.86,48.24,89,3.89,346.21,68.650000000000034,48.24,null,77,6.12,471.24,405.27,47.12," "," "," "," "," ",null," "," "," "," "," "," "," "," "," "," "]
["26135","Michigan","Oscoda","Barley","OscodaBarleyAll","All",51,54,48,48,52,56,56,66,91,null,50,5.45,272.5,234.35,27.25,56,5.3,296.8,0,0,null,51,5.57,284.07,244.3,28.41,56,5.52,309.12,0,0,null,52,5.64,293.27999999999997,252.22,29.33,66,4.96,327.36,0,0,null,55,5.63,309.64999999999998,266.3,30.97,91,4.47,406.77,0,0,null,59,5.26,310.33999999999997,266.89,31.03,43,4.62,198.66,68.22999999999999,31.03]
["26135","Michigan","Oscoda","Corn","OscodaCornAll","All",94,115,126,112,120,102,124,117,131,null,116,5.29,613.64,527.73,61.36,102,3.7,377.4,150.33000000000004,61.36,null,116,5.29,613.64,527.73,61.36,124,3.61,447.64,80.090000000000032,61.36,null,119,4.79,570.01,490.21,57,117,3.36,393.12,97.089999999999975,57,null,116,3.95,458.2,394.05,45.82,131,3.36,440.16,0,0,null,120,3.7,444,381.84,44.4,117,3.61,422.37,0,0]
["26135","Michigan","Oscoda","Oats","OscodaOatsAll","All",59,65,64,63,57,69,67,56,60,null,62,3.25,201.5,173.29,20.149999999999999,69,3.21,221.49,0,0,null,64,3.48,222.72,191.54,22.27,67,2.12,142.04,49.5,22.27,null,65,3.48,226.2,194.53,22.62,56,2.06,115.36,79.17,22.62,null,62,3.12,193.44,166.36,19.34,60,2.59,155.4,10.960000000000008,10.960000000000008,null,61,2.73,166.53,143.22,16.649999999999999,63,2.66,167.58,0,0]
["26135","Michigan","Oscoda","Wheat","OscodaWheatAll","All",56,52,62,68,55,52,78,61,51,null,58,6.6,382.8,329.21,38.28,52,5.99,311.48,17.729999999999961,17.73,null,56,6.7,375.2,322.67,37.520000000000003,78,4.8899999999999997,381.42,0,0,null,62,6.7,415.4,357.24,41.54,61,3.89,237.29,119.95000000000002,41.54,null,61,6.12,373.32,321.06,37.33,51,4.72,240.72,80.34,37.33,null,56,5.66,316.95999999999998,272.58999999999997,31.7,47,5.16,242.52,30.069999999999965,30.069999999999965]
["26137","Michigan","Otsego","Barley","OtsegoBarleyAll","All",51,54,48,48,52,56,56,66,91,null,50,5.45,272.5,234.35,27.25,56,5.3,296.8,0,0,null,51,5.57,284.07,244.3,28.41,56,5.52,309.12,0,0,null,52,5.64,293.27999999999997,252.22,29.33,66,4.96,327.36,0,0,null,55,5.63,309.64999999999998,266.3,30.97,91,4.47,406.77,0,0,null,59,5.26,310.33999999999997,266.89,31.03,43,4.62,198.66,68.22999999999999,31.03]
["26137","Michigan","Otsego","Canola","OtsegoCanolaAll","All",1601,1326,1356,1395,2199,1211,1233,1354,1798,null,1451,0.21579999999999999,313.13,269.29000000000002,31.31,1211,0.16899999999999998,204.66,64.630000000000024,31.31,null,1359,0.21579999999999999,293.27,252.21,29.33,1233,0.156,192.35,59.860000000000014,29.33,null,1328,0.21579999999999999,286.58,246.46,28.66,1354,0.16600000000000001,224.76,21.700000000000017,21.700000000000017,null,1327,0.20300000000000001,269.38,231.67,26.94,1798,0.17499999999999999,314.64999999999998,0,0,null,1462,0.20150000000000001,294.58999999999997,253.35,29.46,1648,0.158,260.38,0,0]
["26137","Michigan","Otsego","Corn","OtsegoCornAll","All",94,89,98,85,64,102,101,75,131,null,89,5.29,470.81,404.9,47.08,102,3.7,377.4,27.5,27.5,null,91,5.29,481.39,414,48.14,101,3.61,364.61,49.389999999999986,48.14,null,95,4.79,455.05,391.34,45.51,75,3.36,252,139.33999999999997,45.51,null,87,3.95,343.65,295.54000000000002,34.369999999999997,131,3.36,440.16,0,0,null,93,3.7,344.1,295.93,34.409999999999997,93,3.61,335.73,0,0]
["26137","Michigan","Otsego","Oats",{"$f":"C390&D390&F390","v":"OtsegoOatsAll"},"All",39,54,64,63,57,69,44,41,58,null,58,3.25,188.5,162.11000000000001,18.850000000000001,69,3.21,221.49,0,0,null,61,3.48,212.28,182.56,21.23,44,2.12,93.28,89.28,21.23,null,61,3.48,212.28,182.56,21.23,41,2.06,84.46,98.100000000000009,21.23,null,55,3.12,171.6,147.58000000000001,17.16,58,2.59,150.22,0,0,null,53,2.73,144.69,124.43,14.47,63,2.66,167.58,0,0]
["26137","Michigan","Otsego","Soybeans","OtsegoSoybeansAll","All",29,38,32,25,28,25,29,25,28,null,30,12.27,368.1,316.57,36.81,23,10.1,232.3,84.269999999999982,36.81,null,28,12.27,343.56,295.45999999999998,34.36,29,8.9499999999999993,259.55,35.909999999999968,34.36,null,27,11.87,320.49,275.62,32.049999999999997,25,9.4700000000000006,236.75,38.870000000000005,32.049999999999997,null,26,10.86,282.36,242.83,28.24,28,9.33,261.24,0,0,null,27,9.6300000000000008,260.01,223.61,26,37,8.48,313.76,0,0]
["26137","Michigan","Otsego","Sunflower Seed","OtsegoSunflower SeedAll","All",1571,1547,1198,1671,1569,1037,1335,1200,1575,null,1562,0.23369999999999999,365.04,313.93,36.5,1037,0.217,225.03,88.9,36.5,null,1438,0.23469999999999999,337.5,290.25,33.75,1335,0.19600000000000001,261.66000000000003,28.589999999999975,28.589999999999975,null,1367,0.2283,312.08999999999997,268.39999999999998,31.21,1200,0.17399999999999999,208.8,59.599999999999966,31.21,null,1368,0.21079999999999999,288.37,248,28.84,1575,0.17249999999999999,271.69,0,0,null,1368,0.20569999999999999,281.39999999999998,242,28.14,1569]
["26137","Michigan","Otsego","Wheat","OtsegoWheatNonirrigated","Nonirrigated",56,52,55,56,52,56,51,61," ",null,54,6.6,356.4,306.5,35.64,56,5.99,335.44,0,0,null,54,6.7,361.8,311.14999999999998,36.18,51,4.8899999999999997,249.39,61.759999999999991,36.18,null,54,6.7,361.8,311.14999999999998,36.18,61,3.89,237.29,73.859999999999985,36.18,null,55,6.12,336.6,289.48,33.659999999999997," "," "," "," "," ",null," "," "," "," "," "," "," "," "," "," "]
["26137","Michigan","Otsego","Wheat","OtsegoWheatIrrigated","Irrigated",56,52,55,56,52,74,81,89," ",null,54,6.6,356.4,306.5,35.64,74,5.99,443.26,0,0,null,54,6.7,361.8,311.14999999999998,36.18,81,4.8899999999999997,396.09,0,0,null,62,6.7,415.4,357.24,41.54,89,3.89,346.21,11.03000000000003,11.03000000000003,null,70,6.12,428.4,368.42,42.84," "," "," ",null,null,null," "," "," "," "," "," "," "," "," "," "]
["26139","Michigan","Ottawa","Barley","OttawaBarleyAll","All",51,54,48,48,52,56,56,66,91,null,50,5.45,272.5,234.35,27.25,56,5.3,296.8,0,0,null,51,5.57,284.07,244.3,28.41,56,5.52,309.12,0,0,null,52,5.64,293.27999999999997,252.22,29.33,66,4.96,327.36,0,0,null,55,5.63,309.64999999999998,266.3,30.97,91,4.47,406.77,0,0,null,59,5.26,310.33999999999997,266.89,31.03,43,4.62,198.66,68.22999999999999,31.03]
["26139","Michigan","Ottawa","Canola","OttawaCanolaAll","All",1601,1326,1356,1395,2199,1211,1233,1354,1798,null,1451,0.21579999999999999,313.13,269.29000000000002,31.31,1211,0.16899999999999998,204.66,64.630000000000024,31.31,null,1359,0.21579999999999999,293.27,252.21,29.33,1233,0.156,192.35,59.860000000000014,29.33,null,1328,0.21579999999999999,286.58,246.46,28.66,1354,0.16600000000000001,224.76,21.700000000000017,21.700000000000017,null,1327,0.20300000000000001,269.38,231.67,26.94,1798,0.17499999999999999,314.64999999999998,0,0,null,1462,0.20150000000000001,294.58999999999997,253.35,29.46,1648,0.158,260.38,0,0]
["26139","Michigan","Ottawa","Corn","OttawaCornAll","All",155,147,148,100,139,149,153,159,171,null,145,5.29,767.05,659.66,76.709999999999994,149,3.7,551.29999999999995,108.36000000000001,76.709999999999994,null,145,5.29,767.05,659.66,76.709999999999994,153,3.61,552.33000000000004,107.32999999999993,76.709999999999994,null,145,4.79,694.55,597.30999999999995,69.459999999999994,159,3.36,534.24,63.069999999999936,63.069999999999936,null,147,3.95,580.65,499.36,58.07,171,3.36,574.55999999999995,0,0,null,154,3.7,569.79999999999995,490.03,56.98,144,3.61,519.84,0,0]
["26139","Michigan","Ottawa","Grain Sorghum","OttawaGrain SorghumAll","All",70,97,89,60,88,104,86,91,60,null,82,5.0999999999999996,418.2,359.65,41.82,104,4.03,419.12,0,0,null,91,5.0999999999999996,464.1,399.13,46.41,86,3.31,284.66000000000003,114.46999999999997,46.41,null,88,4.7699999999999996,419.76,360.99,41.98,91,2.79,253.89,107.10000000000002,41.98,null,88,4.09,359.92,309.52999999999997,35.99,48,3.22,154.56,154.96999999999997,35.99,null,88,3.98,350.24,301.20999999999998,35.020000000000003,84,3.26,273.83999999999997,27.370000000000005,27.370000000000005]
["26139","Michigan","Ottawa","Oats","OttawaOatsAll","All",40,77,68,50,61,61,85,56,43,null,60,3.25,195,167.7,19.5,61,3.21,195.81,0,0,null,63,3.48,219.24,188.55,21.92,85,2.12,180.2,8.3500000000000227,8.35,null,63,3.48,219.24,188.55,21.92,56,2.06,115.36,73.190000000000012,21.92,null,59,3.12,184.08,158.31,18.41,43,2.59,111.37,46.94,18.41,null,59,2.73,161.07,138.52000000000001,16.11,63,2.66,167.58,0,0]
["26139","Michigan","Ottawa","Soybeans","OttawaSoybeansAll","All",48,50,45,37,38,46,49,56,48,null,44,12.27,539.88,464.3,53.99,46,10.1,464.6,0,0,null,43,12.27,527.61,453.74,52.76,49,8.9499999999999993,438.55,15.189999999999998,15.19,null,43,11.87,510.41,438.95,51.04,56,9.4700000000000006,530.32000000000005,0,0,null,44,10.86,477.84,410.94,47.78,48,9.33,447.84,0,0,null,48,9.6300000000000008,462.24,397.53,46.22,49,8.48,415.52,0,0]
["26139","Michigan","Ottawa","Wheat","OttawaWheatAll","All",50,48,65,55,67,62,70,82,54,null,57,6.6,376.2,323.52999999999997,37.619999999999997,62,5.99,371.38,0,0,null,61,6.7,408.7,351.48,40.869999999999997,70,4.8899999999999997,342.3,9.1800000000000068,9.18,null,65,6.7,435.5,374.53,43.55,82,3.89,318.98,55.549999999999955,43.55,null,66,6.12,403.92,347.37,40.39,54,4.72,254.88,92.490000000000009,40.39,null,66,5.66,373.56,321.26,37.36,74,5.16,381.84,0,0]
["26141","Michigan","Presque Isle","Barley","Presque IsleBarleyAll","All",51,54,48,48,52,56,56,66,91,null,50,5.45,272.5,234.35,27.25,56,5.3,296.8,0,0,null,51,5.57,284.07,244.3,28.41,56,5.52,309.12,0,0,null,52,5.64,293.27999999999997,252.22,29.33,66,4.96,327.36,0,0,null,55,5.63,309.64999999999998,266.3,30.97,91,4.47,406.77,0,0,null,59,5.26,310.33999999999997,266.89,31.03,43,4.62,198.66,68.22999999999999,31.03]
["26141","Michigan","Presque Isle","Corn","Presque IsleCornAll","All",83,127,124,138,97,126,117,97,124,null,116,5.29,613.64,527.73,61.36,126,3.7,466.2,61.53000000000003,61.36,null,126,5.29,666.54,573.22,66.650000000000006,117,3.61,422.37,150.85000000000002,66.650000000000006,null,122,4.79,584.38,502.57,58.44,97,3.36,325.92,176.64999999999998,58.44,null,113,3.95,446.35,383.86,44.64,124,3.36,416.64,0,0,null,113,3.7,418.1,359.57,41.81,111,3.61,400.71,0,0]
["26141","Michigan","Presque Isle","Oats","Presque IsleOatsAll","All",60,62,67,61,60,73,66,47,60,null,61,3.25,198.25,170.5,19.829999999999998,73,3.21,234.33,0,0,null,63,3.48,219.24,188.55,21.92,66,2.12,139.91999999999999,48.630000000000024,21.92,null,65,3.48,226.2,194.53,22.62,47,2.06,96.82,97.710000000000008,22.62,null,62,3.12,193.44,166.36,19.34,60,2.59,155.4,10.960000000000008,10.960000000000008,null,62,2.73,169.26,145.56,16.93,63,2.66,167.58,0,0]
["26141","Michigan","Presque Isle","Rapeseed","Presque IsleRapeseedAll","All",1700,1891,2177,2218,1700,1346," "," "," ",null,1923,0.25829999999999997,496.71,427.17,49.67,1211,0.34899999999999998,422.64,4.5300000000000296,4.53,null,null,null,null,null,null,null,null,null,null,null,null," "," "," "," "," "," "," "," "," "," ",null," "," "," "," "," "," "," "," "," "," ",null," "," "," "," "," "," "]
["26141","Michigan","Presque Isle","Soybeans","Presque IsleSoybeansAll","All",24,34,30,33,22,36,33,31,37,null,29,12.27,355.83,306.01,35.58,36,10.1,363.6,0,0,null,32,12.27,392.64,337.67,39.26,33,8.9499999999999993,295.35000000000002,42.319999999999993,39.26,null,32,11.87,379.84,326.66000000000003,37.979999999999997,31,9.4700000000000006,293.57,33.090000000000032,33.090000000000032,null,32,10.86,347.52,298.87,34.75,37,9.33,345.21,0,0,null,33,9.6300000000000008,317.79000000000002,273.3,31.78,21,8.48,178.08,95.22,31.78]
["26141","Michigan","Presque Isle","Sunflower Seed","Presque IsleSunflower SeedAll","All",1571,1547,1198,1671,1569,1037,1335,1200,1575,null,1562,0.23369999999999999,365.04,313.93,36.5,1037,0.217,225.03,88.9,36.5,null,1438,0.23469999999999999,337.5,290.25,33.75,1335,0.19600000000000001,261.66000000000003,28.589999999999975,28.589999999999975,null,1367,0.2283,312.08999999999997,268.39999999999998,31.21,1200,0.17399999999999999,208.8,59.599999999999966,31.21,null,1368,0.21079999999999999,288.37,248,28.84,1575,0.17249999999999999,271.69,0,0,null,1368,0.20569999999999999,281.39999999999998,242,28.14,1569]
["26141","Michigan","Presque Isle","Wheat","Presque IsleWheatAll","All",51,41,46,66,50,52,66,39,56,null,49,6.6,323.39999999999998,278.12,32.340000000000003,52,5.99,311.48,0,0,null,49,6.7,328.3,282.33999999999997,32.83,66,4.8899999999999997,322.74,0,0,null,56,6.7,375.2,322.67,37.520000000000003,39,3.89,151.71,170.96,37.520000000000003,null,56,6.12,342.72,294.74,34.270000000000003,56,4.72,264.32,30.420000000000016,30.420000000000016,null,53,5.66,299.98,257.98,30,28,5.16,144.47999999999999,113.50000000000003,30]
["26143","Michigan","Roscommon","Barley","RoscommonBarleyAll","All",51,54,48,48,52,56,56,66,91,null,50,5.45,272.5,234.35,27.25,56,5.3,296.8,0,0,null,51,5.57,284.07,244.3,28.41,56,5.52,309.12,0,0,null,52,5.64,293.27999999999997,252.22,29.33,66,4.96,327.36,0,0,null,55,5.63,309.64999999999998,266.3,30.97,91,4.47,406.77,0,0,null,59,5.26,310.33999999999997,266.89,31.03,43,4.62,198.66,68.22999999999999,31.03]
["26143","Michigan","Roscommon","Corn","RoscommonCornAll","All",94,133,126,112,120,102,124,117,131,null,119,5.29,629.51,541.38,62.95,102,3.7,377.4,163.98000000000002,62.95,null,119,5.29,629.51,541.38,62.95,124,3.61,447.64,93.740000000000009,62.95,null,119,4.79,570.01,490.21,57,117,3.36,393.12,97.089999999999975,57,null,116,3.95,458.2,394.05,45.82,131,3.36,440.16,0,0,null,120,3.7,444,381.84,44.4,117,3.61,422.37,0,0]
["26143","Michigan","Roscommon","Oats","RoscommonOatsAll","All",59,65,64,63,57,69,67,56,60,null,62,3.25,201.5,173.29,20.149999999999999,69,3.21,221.49,0,0,null,64,3.48,222.72,191.54,22.27,67,2.12,142.04,49.5,22.27,null,65,3.48,226.2,194.53,22.62,56,2.06,115.36,79.17,22.62,null,62,3.12,193.44,166.36,19.34,60,2.59,155.4,10.960000000000008,10.960000000000008,null,61,2.73,166.53,143.22,16.649999999999999,63,2.66,167.58,0,0]
["26143","Michigan","Roscommon","Wheat","RoscommonWheatAll","All",56,52,62,68,55,52,78,61,51,null,58,6.6,382.8,329.21,38.28,52,5.99,311.48,17.729999999999961,17.73,null,56,6.7,375.2,322.67,37.520000000000003,78,4.8899999999999997,381.42,0,0,null,62,6.7,415.4,357.24,41.54,61,3.89,237.29,119.95000000000002,41.54,null,61,6.12,373.32,321.06,37.33,51,4.72,240.72,80.34,37.33,null,56,5.66,316.95999999999998,272.58999999999997,31.7,47,5.16,242.52,30.069999999999965,30.069999999999965]
["26145","Michigan","Saginaw","Barley","SaginawBarleyAll","All",51,54,48,48,52,56,56,66,91,null,50,5.45,272.5,234.35,27.25,56,5.3,296.8,0,0,null,51,5.57,284.07,244.3,28.41,56,5.52,309.12,0,0,null,52,5.64,293.27999999999997,252.22,29.33,66,4.96,327.36,0,0,null,55,5.63,309.64999999999998,266.3,30.97,91,4.47,406.77,0,0,null,59,5.26,310.33999999999997,266.89,31.03,43,4.62,198.66,68.22999999999999,31.03]
["26145","Michigan","Saginaw","Corn","SaginawCornAll","All",159,143,150,157,147,171,169,165,163,null,151,5.29,798.79,686.96,79.88,171,3.7,632.70000000000005,54.259999999999991,54.26,null,151,5.29,798.79,686.96,79.88,169,3.61,610.09,76.87,76.87,null,159,4.79,761.61,654.98,76.16,165,3.36,554.4,100.58000000000004,76.16,null,164,3.95,647.79999999999995,557.11,64.78,163,3.36,547.67999999999995,9.4300000000000637,9.4300000000000637,null,166,3.7,614.20000000000005,528.21,61.42,172,3.61,620.91999999999996,0,0]
["26145","Michigan","Saginaw","Grain Sorghum","SaginawGrain SorghumAll","All",70,97,89,60,88,104,86,91,60,null,82,5.0999999999999996,418.2,359.65,41.82,104,4.03,419.12,0,0,null,91,5.0999999999999996,464.1,399.13,46.41,86,3.31,284.66000000000003,114.46999999999997,46.41,null,88,4.7699999999999996,419.76,360.99,41.98,91,2.79,253.89,107.10000000000002,41.98,null,88,4.09,359.92,309.52999999999997,35.99,48,3.22,154.56,154.96999999999997,35.99,null,88,3.98,350.24,301.20999999999998,35.020000000000003,84,3.26,273.83999999999997,27.370000000000005,27.370000000000005]
["26145","Michigan","Saginaw","Oats","SaginawOatsAll","All",76,53,81,77,82,86,80,66,71,null,78,3.25,253.5,218.01,25.35,86,3.21,276.06,0,0,null,80,3.48,278.39999999999998,239.42,27.84,80,2.12,169.6,69.819999999999993,27.84,null,81,3.48,281.88,242.42,28.19,66,2.06,135.96,106.45999999999998,28.19,null,80,3.12,249.6,214.66,24.96,71,2.59,183.89,30.77000000000001,24.96,null,78,2.73,212.94,183.13,21.29,87,2.66,231.42,0,0]
["26145","Michigan","Saginaw","Soybeans","SaginawSoybeansAll","All",43,41,42,51,43,44,52,51,43,null,43,12.27,527.61,453.74,52.76,44,10.1,444.4,9.3400000000000318,9.34,null,43,12.27,527.61,453.74,52.76,52,8.9499999999999993,465.4,0,0,null,46,11.87,546.02,469.58,54.6,51,9.4700000000000006,482.97,0,0,null,49,10.86,532.14,457.64,53.21,43,9.33,401.19,56.449999999999989,53.21,null,46,9.6300000000000008,442.98,380.96,44.3,51,8.48,432.48,0,0]
["26145","Michigan","Saginaw","Sunflower Seed","SaginawSunflower SeedAll","All",1571,1547,1198,1671,1569,1037,1335,1200,1575,null,1562,0.23369999999999999,365.04,313.93,36.5,1037,0.217,225.03,88.9,36.5,null,1438,0.23469999999999999,337.5,290.25,33.75,1335,0.19600000000000001,261.66000000000003,28.589999999999975,28.589999999999975,null,1367,0.2283,312.08999999999997,268.39999999999998,31.21,1200,0.17399999999999999,208.8,59.599999999999966,31.21,null,1368,0.21079999999999999,288.37,248,28.84,1575,0.17249999999999999,271.69,0,0,null,1368,0.20569999999999999,281.39999999999998,242,28.14,1569]
["26145","Michigan","Saginaw","Wheat","SaginawWheatAll","All",74,74,83,82,76,68,84,94,74,null,77,6.6,508.2,437.05,50.82,68,5.99,407.32,29.730000000000018,29.73,null,77,6.7,515.9,443.67,51.59,84,4.8899999999999997,410.76,32.910000000000025,32.909999999999997,null,80,6.7,536,460.96,53.6,94,3.89,365.66,95.299999999999955,53.6,null,81,6.12,495.72,426.32,49.57,74,4.72,349.28,77.04000000000002,49.57,null,78,5.66,441.48,379.67,44.15,80,5.16,412.8,0,0]
["26147","Michigan","St. Clair","Barley","St. ClairBarleyAll","All",51,54,48,48,52,56,56,66,91,null,50,5.45,272.5,234.35,27.25,56,5.3,296.8,0,0,null,51,5.57,284.07,244.3,28.41,56,5.52,309.12,0,0,null,52,5.64,293.27999999999997,252.22,29.33,66,4.96,327.36,0,0,null,55,5.63,309.64999999999998,266.3,30.97,91,4.47,406.77,0,0,null,59,5.26,310.33999999999997,266.89,31.03,43,4.62,198.66,68.22999999999999,31.03]
["26147","Michigan","St. Clair","Corn","St. ClairCornAll","All",128,142,146,156,151,150,160,160,167,null,146,5.29,772.34,664.21,77.23,150,3.7,555,109.21000000000004,77.23,null,149,5.29,788.21,677.86,78.819999999999993,160,3.61,577.6,100.25999999999999,78.819999999999993,null,152,4.79,728.08,626.15,72.81,160,3.36,537.6,88.549999999999955,72.81,null,156,3.95,616.20000000000005,529.92999999999995,61.62,167,3.36,561.12,0,0,null,157,3.7,580.9,499.57,58.09,176,3.61,635.36,0,0]
["26147","Michigan","St Clair","Grain Sorghum","St ClairGrain SorghumAll","All",70,97,89,60,88,104,86,91,60,null,82,5.0999999999999996,418.2,359.65,41.82,104,4.03,419.12,0,0,null,91,5.0999999999999996,464.1,399.13,46.41,86,3.31,284.66000000000003,114.46999999999997,46.41,null,88,4.7699999999999996,419.76,360.99,41.98,91,2.79,253.89,107.10000000000002,41.98,null,88,4.09,359.92,309.52999999999997,35.99,48,3.22,154.56,154.96999999999997,35.99,null,88,3.98,350.24,301.20999999999998,35.020000000000003,84,3.26,273.83999999999997,27.370000000000005,27.370000000000005]
["26147","Michigan","St. Clair","Oats","St. ClairOatsAll","All",58,85,51,68,48,75,74,59,54,null,59,3.25,191.75,164.91,19.18,75,3.21,240.75,0,0,null,65,3.48,226.2,194.53,22.62,74,2.12,156.88,37.650000000000006,22.62,null,64,3.48,222.72,191.54,22.27,59,2.06,121.54,69.999999999999986,22.27,null,67,3.12,209.04,179.77,20.9,54,2.59,139.86000000000001,39.909999999999997,20.9,null,62,2.73,169.26,145.56,16.93,63,2.66,167.58,0,0]
["26147","Michigan","St. Clair","Soybeans","St. ClairSoybeansAll","All",36,37,41,44,40,39,45,48,40,null,39,12.27,478.53,411.54,47.85,39,10.1,393.9,17.640000000000043,17.64,null,40,12.27,490.8,422.09,49.08,45,8.9499999999999993,402.75,19.339999999999975,19.34,null,42,11.87,498.54,428.74,49.85,48,9.4700000000000006,454.56,0,0,null,43,10.86,466.98,401.6,46.7,40,9.33,373.2,28.400000000000034,28.400000000000034,null,42,9.6300000000000008,404.46,347.84,40.450000000000003,45,8.48,381.6,0,0]
["26147","Michigan","St Clair","Sunflower Seed","St ClairSunflower SeedAll","All",1571,1547,1198,1671,1569,1037,1335,1200,1575,null,1562,0.23369999999999999,365.04,313.93,36.5,1037,0.217,225.03,88.9,36.5,null,1438,0.23469999999999999,337.5,290.25,33.75,1335,0.19600000000000001,261.66000000000003,28.589999999999975,28.589999999999975,null,1367,0.2283,312.08999999999997,268.39999999999998,31.21,1200,0.17399999999999999,208.8,59.599999999999966,31.21,null,1368,0.21079999999999999,288.37,248,28.84,1575,0.17249999999999999,271.69,0,0,null,1368,0.20569999999999999,281.39999999999998,242,28.14,1569]
["26147","Michigan","St. Clair","Wheat","St. ClairWheatAll","All",57,73,66,65,74,67,74,85,72,null,68,6.6,448.8,385.97,44.88,67,5.99,401.33,0,0,null,69,6.7,462.3,397.58,46.23,74,4.8899999999999997,361.86,35.71999999999997,35.72,null,69,6.7,462.3,397.58,46.23,85,3.89,330.65,66.930000000000007,46.23,null,72,6.12,440.64,378.95,44.06,72,4.72,339.84,39.110000000000014,39.110000000000014,null,73,5.66,413.18,355.33,41.32,87,5.16,448.92,0,0]
["26149","Michigan","St. Joseph","Barley","St. JosephBarleyAll","All",51,54,48,48,52,56,56,66,91,null,50,5.45,272.5,234.35,27.25,56,5.3,296.8,0,0,null,51,5.57,284.07,244.3,28.41,56,5.52,309.12,0,0,null,52,5.64,293.27999999999997,252.22,29.33,66,4.96,327.36,0,0,null,55,5.63,309.64999999999998,266.3,30.97,91,4.47,406.77,0,0,null,59,5.26,310.33999999999997,266.89,31.03,43,4.62,198.66,68.22999999999999,31.03]
["26149","Michigan","St. Joseph","Corn","St. JosephCornAll","All",154,147,163,140,158,153,143,124,122,null,153,5.29,809.37,696.06,80.94,153,3.7,566.1,129.95999999999992,80.94,null,153,5.29,809.37,696.06,80.94,143,3.61,516.23,179.82999999999993,80.94,null,151,4.79,723.29,622.03,72.33,124,3.36,416.64,205.39,72.33,null,145,3.95,572.75,492.57,57.28,122,3.36,409.92,82.649999999999977,57.28,null,140,3.7,518,445.48,51.8,124,3.61,447.64,0,0]
["26149","Michigan","St Joseph","Grain Sorghum","St JosephGrain SorghumAll","All",70,97,89,60,88,104,86,91,60,null,82,5.0999999999999996,418.2,359.65,41.82,104,4.03,419.12,0,0,null,91,5.0999999999999996,464.1,399.13,46.41,86,3.31,284.66000000000003,114.46999999999997,46.41,null,88,4.7699999999999996,419.76,360.99,41.98,91,2.79,253.89,107.10000000000002,41.98,null,88,4.09,359.92,309.52999999999997,35.99,48,3.22,154.56,154.96999999999997,35.99,null,88,3.98,350.24,301.20999999999998,35.020000000000003,84,3.26,273.83999999999997,27.370000000000005,27.370000000000005]
["26149","Michigan","St. Joseph","Oats","St. JosephOatsAll","All",68,67,61,60,68,78,71,59,60,null,65,3.25,211.25,181.68,21.13,78,3.21,250.38,0,0,null,65,3.48,226.2,194.53,22.62,71,2.12,150.52000000000001,44.009999999999991,22.62,null,67,3.48,233.16,200.52,23.32,59,2.06,121.54,78.98,23.32,null,66,3.12,205.92,177.09,20.59,60,2.59,155.4,21.689999999999998,20.59,null,66,2.73,180.18,154.94999999999999,18.02,63,2.66,167.58,0,0]
["26149","Michigan","St. Joseph","Soybeans","St. JosephSoybeansNonirrigated","Nonirrigated",34,43,42,34,36,35,42,42,31,null,37,12.27,453.99,390.43,45.4,35,10.1,353.5,36.930000000000007,36.93,null,38,12.27,466.26,400.98,46.63,42,8.9499999999999993,375.9,25.080000000000041,25.08,null,38,11.87,451.06,387.91,45.11,42,9.4700000000000006,397.74,0,0,null,38,10.86,412.68,354.9,41.27,31,9.33,289.23,65.669999999999959,41.27,null,38,9.6300000000000008,365.94,314.70999999999998,36.590000000000003,47,8.48,398.56,0,0]
["26149","Michigan","St. Joseph","Soybeans","St. JosephSoybeansIrrigated","Irrigated",48,54,53,52,46,50,56,55,48,null,51,12.27,625.77,538.16,62.58,50,10.1,505,33.159999999999968,33.159999999999997,null,52,12.27,638.04,548.71,63.8,56,8.9499999999999993,501.2,47.510000000000048,47.51,null,52,11.87,617.24,530.83000000000004,61.72,55,9.4700000000000006,520.85,9.9800000000000182,9.9800000000000182,null,52,10.86,564.72,485.66,56.47,48,9.33,447.84,37.82000000000005,37.82000000000005,null,51,9.6300000000000008,491.13,422.37,49.11,53,8.48,449.44,0,0]
["26149","Michigan","St. Joseph","Wheat","St. JosephWheatIrrigated","Irrigated",68,60,71,76,64,74,81,89," ",null,68,6.6,448.8,385.97,44.88,74,5.99,443.26,0,0,null,70,6.7,469,403.34,46.9,81,4.8899999999999997,396.09,7.25,7.25,null,74,6.7,495.8,426.39,49.58,89,3.89,346.21,80.180000000000007,49.58,null,77,6.12,471.24,405.27,47.12," "," "," "," "," ",null," "," "," "," "," "," "," "," "," "," "]
["26149","Michigan","St. Joseph","Wheat","St. JosephWheatNonirrigated","Nonirrigated",58,51,63,51,64,64,76,82," ",null,57,6.6,376.2,323.52999999999997,37.619999999999997,64,5.99,383.36,0,0,null,59,6.7,395.3,339.96,39.53,76,4.8899999999999997,371.64,0,0,null,64,6.7,428.8,368.77,42.88,82,3.89,318.98,49.789999999999964,42.88,null,68,6.12,416.16,357.9,41.62," "," "," ",null,null,null," "," "," "," "," "," "," "," "," "," "]
["26151","Michigan","Sanilac","Barley","SanilacBarleyAll","All",51,54,48,48,52,56,56,66,91,null,50,5.45,272.5,234.35,27.25,56,5.3,296.8,0,0,null,51,5.57,284.07,244.3,28.41,56,5.52,309.12,0,0,null,52,5.64,293.27999999999997,252.22,29.33,66,4.96,327.36,0,0,null,55,5.63,309.64999999999998,266.3,30.97,91,4.47,406.77,0,0,null,59,5.26,310.33999999999997,266.89,31.03,43,4.62,198.66,68.22999999999999,31.03]
["26151","Michigan","Sanilac","Corn","SanilacCornAll","All",150,154,161,157,165,167,183,184,185,null,157,5.29,830.53,714.26,83.05,167,3.7,617.9,96.360000000000014,83.05,null,161,5.29,851.69,732.45,85.17,183,3.61,660.63,71.82000000000005,71.819999999999993,null,164,4.79,785.56,675.58,78.56,184,3.36,618.24,57.340000000000032,57.340000000000032,null,172,3.95,679.4,584.28,67.94,185,3.36,621.6,0,0,null,178,3.7,658.6,566.4,65.86,168,3.61,606.48,0,0]
["26151","Michigan","Sanilac","Flaxseed","SanilacFlaxseedAll","All",21,14,15,15,19,21,22,25,30,null,16,13.27,212.32,182.6,21.23,21,11.8,247.8,0,0,null,16,13.27,212.32,182.6,21.23,22,8.9499999999999993,196.9,0,0,null,18,13.13,236.34,203.25,23.63,25,8,200,3.25,3.25,null,21,12.29,258.08999999999997,221.96,25.81,30,9.5,285,0,0,null,23,11.456,263.49,226.6,26.35,20]
["26151","Michigan","Sanilac","Grain Sorghum","SanilacGrain SorghumAll","All",70,97,89,60,88,104,86,91,60,null,82,5.0999999999999996,418.2,359.65,41.82,104,4.03,419.12,0,0,null,91,5.0999999999999996,464.1,399.13,46.41,86,3.31,284.66000000000003,114.46999999999997,46.41,null,88,4.7699999999999996,419.76,360.99,41.98,91,2.79,253.89,107.10000000000002,41.98,null,88,4.09,359.92,309.52999999999997,35.99,48,3.22,154.56,154.96999999999997,35.99,null,88,3.98,350.24,301.20999999999998,35.020000000000003,84,3.26,273.83999999999997,27.370000000000005,27.370000000000005]
["26151","Michigan","Sanilac","Oats","SanilacOatsAll","All",69,88,81,60,92,94,98,85,75,null,79,3.25,256.75,220.81,25.68,94,3.21,301.74,0,0,null,87,3.48,302.76,260.37,30.28,98,2.12,207.76,52.610000000000014,30.28,null,89,3.48,309.72000000000003,266.36,30.97,85,2.06,175.1,91.260000000000019,30.97,null,90,3.12,280.8,241.49,28.08,75,2.59,194.25,47.240000000000009,28.08,null,90,2.73,245.7,211.3,24.57,63,2.66,167.58,43.72,24.57]
["26151","Michigan","Sanilac","Soybeans","SanilacSoybeansAll","All",37,43,43,47,45,41,53,54,46,null,44,12.27,539.88,464.3,53.99,41,10.1,414.1,50.199999999999989,50.2,null,44,12.27,539.88,464.3,53.99,53,8.9499999999999993,474.35,0,0,null,45,11.87,534.15,459.37,53.42,54,9.4700000000000006,511.38,0,0,null,48,10.86,521.28,448.3,52.13,46,9.33,429.18,19.120000000000005,19.120000000000005,null,48,9.6300000000000008,462.24,397.53,46.22,51,8.48,432.48,0,0]
["26151","Michigan","Sanilac","Wheat","SanilacWheatAll","All",73,79,76,81,77,59,89,105,91,null,77,6.6,508.2,437.05,50.82,59,5.99,353.41,83.639999999999986,50.82,null,77,6.7,515.9,443.67,51.59,89,4.8899999999999997,435.21,8.4600000000000364,8.4600000000000009,null,78,6.7,522.6,449.44,52.26,105,3.89,408.45,40.990000000000009,40.990000000000009,null,82,6.12,501.84,431.58,50.18,91,4.72,429.52,2.0600000000000023,2.0600000000000023,null,86,5.66,486.76,418.61,48.68,83,5.16,428.28,0,0]
["26153","Michigan","Schoolcraft","Barley","SchoolcraftBarleyAll","All",51,54,48,48,52,56,56,66,91,null,50,5.45,272.5,234.35,27.25,56,5.3,296.8,0,0,null,51,5.57,284.07,244.3,28.41,56,5.52,309.12,0,0,null,52,5.64,293.27999999999997,252.22,29.33,66,4.96,327.36,0,0,null,55,5.63,309.64999999999998,266.3,30.97,91,4.47,406.77,0,0,null,59,5.26,310.33999999999997,266.89,31.03,43,4.62,198.66,68.22999999999999,31.03]
["26153","Michigan","Schoolcraft","Corn","SchoolcraftCornAll","All",49,127,49,84,120,49,132,87,54,null,84,5.29,444.36,382.15,44.44,38,3.7,140.6,241.54999999999998,44.44,null,84,5.29,444.36,382.15,44.44,132,3.61,476.52,0,0,null,84,4.79,402.36,346.03,40.24,87,3.36,292.32,53.70999999999998,40.24,null,97,3.95,383.15,329.51,38.32,37,3.36,124.32,205.19,38.32,null,87,3.7,321.89999999999998,276.83,32.19,111,3.61,400.71,0,0]
["26153","Michigan","Schoolcraft","Oats","SchoolcraftOatsAll","All",58,55,59,60,63,59,57,55,47,null,59,3.25,191.75,164.91,19.18,59,3.21,189.39,0,0,null,59,3.48,205.32,176.58,20.53,57,2.12,120.84,55.740000000000009,20.53,null,59,3.48,205.32,176.58,20.53,55,2.06,113.3,63.280000000000015,20.53,null,59,3.12,184.08,158.31,18.41,47,2.59,121.73,36.58,18.41,null,57,2.73,155.61000000000001,133.82,15.56,63,2.66,167.58,0,0]
["26153","Michigan","Schoolcraft","Soybeans","SchoolcraftSoybeansAll","All",20,20,29,36,29,24,36,35,37,null,26,12.27,319.02,274.36,31.9,24,10.1,242.4,31.960000000000008,31.9,null,27,12.27,331.29,284.91000000000003,33.130000000000003,36,8.9499999999999993,322.2,0,0,null,31,11.87,367.97,316.45,36.799999999999997,35,9.4700000000000006,331.45,0,0,null,33,10.86,358.38,308.20999999999998,35.840000000000003,37,9.33,345.21,0,0,null,33,9.6300000000000008,317.79000000000002,273.3,31.78,37,8.48,313.76,0,0]
["26153","Michigan","Schoolcraft","Wheat","SchoolcraftWheatAll","All",47,56,50,41,41,47,51,55,52,null,46,6.6,303.60000000000002,261.10000000000002,30.36,47,5.99,281.52999999999997,0,0,null,46,6.7,308.2,265.05,30.82,51,4.8899999999999997,249.39,15.660000000000025,15.66,null,46,6.7,308.2,265.05,30.82,55,3.89,213.95,51.100000000000023,30.82,null,46,6.12,281.52,242.11,28.15,52,4.72,245.44,0,0,null,50,5.66,283,243.38,28.3,40,5.16,206.4,36.97999999999999,28.3]
["26155","Michigan","Shiawassee","Barley","ShiawasseeBarleyAll","All",51,54,48,48,52,56,56,66,91,null,50,5.45,272.5,234.35,27.25,56,5.3,296.8,0,0,null,51,5.57,284.07,244.3,28.41,56,5.52,309.12,0,0,null,52,5.64,293.27999999999997,252.22,29.33,66,4.96,327.36,0,0,null,55,5.63,309.64999999999998,266.3,30.97,91,4.47,406.77,0,0,null,59,5.26,310.33999999999997,266.89,31.03,43,4.62,198.66,68.22999999999999,31.03]
["26155","Michigan","Shiawassee","Corn","ShiawasseeCornAll","All",141,126,141,136,147,144,176,147,150,null,139,5.29,735.31,632.37,73.53,144,3.7,532.79999999999995,99.57000000000005,73.53,null,140,5.29,740.6,636.91999999999996,74.06,176,3.61,635.36,1.5599999999999454,1.56,null,144,4.79,689.76,593.19000000000005,68.98,147,3.36,493.92,99.270000000000039,68.98,null,146,3.95,576.70000000000005,495.96,57.67,150,3.36,504,0,0,null,148,3.7,547.6,470.94,54.76,151,3.61,545.11,0,0]
["26155","Michigan","Shiawassee","Oats","ShiawasseeOatsAll","All",87,68,65,68,70,78,77,49,73,null,69,3.25,224.25,192.86,22.43,78,3.21,250.38,0,0,null,69,3.48,240.12,206.5,24.01,77,2.12,163.24,43.259999999999991,24.01,null,72,3.48,250.56,215.48,25.06,41,2.06,84.46,131.01999999999998,25.06,null,72,3.12,224.64,193.19,22.46,73,2.59,189.07,4.1200000000000045,4.1200000000000045,null,73,2.73,199.29,171.39,19.93,82,2.66,218.12,0,0]
["26155","Michigan","Shiawassee","Soybeans","ShiawasseeSoybeansAll","All",38,36,41,45,42,46,51,47,39,null,40,12.27,490.8,422.09,49.08,46,10.1,464.6,0,0,null,43,12.27,527.61,453.74,52.76,51,8.9499999999999993,456.45,0,0,null,44,11.87,522.28,449.16,52.23,47,9.4700000000000006,445.09,4.07000000000005,4.07000000000005,null,46,10.86,499.56,429.62,49.96,39,9.33,363.87,65.75,49.96,null,45,9.6300000000000008,433.35,372.68,43.34,48,8.48,407.04,0,0]
["26155","Michigan","Shiawassee","Sunflower Seed","ShiawasseeSunflower SeedAll","All",1571,1547,1198,1671,1569,1037,1335,1200,1575,null,1562,0.23369999999999999,365.04,313.93,36.5,1037,0.217,225.03,88.9,36.5,null,1438,0.23469999999999999,337.5,290.25,33.75,1335,0.19600000000000001,261.66000000000003,28.589999999999975,28.589999999999975,null,1367,0.2283,312.08999999999997,268.39999999999998,31.21,1200,0.17399999999999999,208.8,59.599999999999966,31.21,null,1368,0.21079999999999999,288.37,248,28.84,1575,0.17249999999999999,271.69,0,0,null,1368,0.20569999999999999,281.39999999999998,242,28.14,1569]
["26155","Michigan","Shiawassee","Wheat","ShiawasseeWheatAll","All",58,61,72,72,70,55,75,80,62,null,68,6.6,448.8,385.97,44.88,55,5.99,329.45,56.520000000000039,44.88,null,68,6.7,455.6,391.82,45.56,75,4.8899999999999997,366.75,25.069999999999993,25.07,null,71,6.7,475.7,409.1,47.57,80,3.89,311.2,97.900000000000034,47.57,null,72,6.12,440.64,378.95,44.06,62,4.72,292.64,86.31,44.06,null,69,5.66,390.54,335.86,39.049999999999997,76,5.16,392.16,0,0]
["26157","Michigan","Tuscola","Barley","TuscolaBarleyAll","All",51,54,48,48,52,56,56,66,91,null,50,5.45,272.5,234.35,27.25,56,5.3,296.8,0,0,null,51,5.57,284.07,244.3,28.41,56,5.52,309.12,0,0,null,52,5.64,293.27999999999997,252.22,29.33,66,4.96,327.36,0,0,null,55,5.63,309.64999999999998,266.3,30.97,91,4.47,406.77,0,0,null,59,5.26,310.33999999999997,266.89,31.03,43,4.62,198.66,68.22999999999999,31.03]
["26157","Michigan","Tuscola","Corn",{"$f":"C454&D454&F454","v":"TuscolaCornAll"},"All",164,148,155,160,155,176,191,173,171,null,157,5.29,830.53,714.26,83.05,176,3.7,651.20000000000005,63.059999999999945,63.06,null,157,5.29,830.53,714.26,83.05,191,3.61,689.51,24.75,24.75,null,164,4.79,785.56,675.58,78.56,173,3.36,581.28,94.300000000000068,78.56,null,170,3.95,671.5,577.49,67.150000000000006,171,3.36,574.55999999999995,2.9300000000000637,2.9300000000000637,null,173,3.7,640.1,550.49,64.010000000000005,172,3.61,620.91999999999996,0,0]
["26157","Michigan","Tuscola","Grain Sorghum","TuscolaGrain SorghumAll","All"," ",97,89,60,88,104,86,91,60,null,null,null,null,null,null,null,null,null,null,null,null,91,5.0999999999999996,464.1,399.13,46.41,86,3.31,284.66000000000003,114.46999999999997,46.41,null,88,4.7699999999999996,419.76,360.99,41.98,91,2.79,253.89,107.10000000000002,41.98,null,88,4.09,359.92,309.52999999999997,35.99,48,3.22,154.56,154.96999999999997,35.99,null,88,3.98,350.24,301.20999999999998,35.020000000000003,84,3.26,273.83999999999997,27.370000000000005,27.370000000000005]
["26157","Michigan","Tuscola","Oats","TuscolaOatsAll","All",71,76,81,77,71,86,115,74,75,null,75,3.25,243.75,209.63,24.38,86,3.21,276.06,0,0,null,78,3.48,271.44,233.44,27.14,115,2.12,243.8,0,0,null,81,3.48,281.88,242.42,28.19,74,2.06,152.44,89.97999999999999,28.19,null,79,3.12,246.48,211.97,24.65,75,2.59,194.25,17.72,17.72,null,78,2.73,212.94,183.13,21.29,97,2.66,258.02,0,0]
["26157","Michigan","Tuscola","Soybeans","TuscolaSoybeansAll","All",42,41,43,51,43,42,55,53,47,null,43,12.27,527.61,453.74,52.76,42,10.1,424.2,29.54000000000002,29.54,null,43,12.27,527.61,453.74,52.76,55,8.9499999999999993,492.25,0,0,null,46,11.87,546.02,469.58,54.6,53,9.4700000000000006,501.91,0,0,null,49,10.86,532.14,457.64,53.21,47,9.33,438.51,19.129999999999995,19.129999999999995,null,48,9.6300000000000008,462.24,397.53,46.22,50,8.48,424,0,0]
["26157","Michigan","Tuscola","Sunflower Seed","TuscolaSunflower SeedAll","All",1571,1547,1198,1671,1569,1037,1335,1200,1575,null,1562,0.23369999999999999,365.04,313.93,36.5,1037,0.217,225.03,88.9,36.5,null,1438,0.23469999999999999,337.5,290.25,33.75,1335,0.19600000000000001,261.66000000000003,28.589999999999975,28.589999999999975,null,1367,0.2283,312.08999999999997,268.39999999999998,31.21,1200,0.17399999999999999,208.8,59.599999999999966,31.21,null,1368,0.21079999999999999,288.37,248,28.84,1575,0.17249999999999999,271.69,0,0,null,1368,0.20569999999999999,281.39999999999998,242,28.14,1569]
["26157","Michigan","Tuscola","Wheat","TuscolaWheatAll","All",63,78,82,83,82,68,85,93,88,null,81,6.6,534.6,459.76,53.46,68,5.99,407.32,52.44,52.44,null,81,6.7,542.70000000000005,466.72,54.27,85,4.8899999999999997,415.65,51.07000000000005,51.07,null,82,6.7,549.4,472.48,54.94,93,3.89,361.77,110.71000000000004,54.94,null,83,6.12,507.96,436.85,50.8,88,4.72,415.36,21.490000000000009,21.490000000000009,null,85,5.66,481.1,413.75,48.11,78,5.16,402.48,11.269999999999982,11.269999999999982]
["26159","Michigan","Van Buren","Barley","Van BurenBarleyAll","All",51,54,48,48,52,56,56,66,91,null,50,5.45,272.5,234.35,27.25,56,5.3,296.8,0,0,null,51,5.57,284.07,244.3,28.41,56,5.52,309.12,0,0,null,52,5.64,293.27999999999997,252.22,29.33,66,4.96,327.36,0,0,null,55,5.63,309.64999999999998,266.3,30.97,91,4.47,406.77,0,0,null,59,5.26,310.33999999999997,266.89,31.03,43,4.62,198.66,68.22999999999999,31.03]
["26159","Michigan","Van Buren","Corn","Van BurenCornIrrigated","Irrigated",206,172,189,185,213,217,197,219,202,null,193,5.29,1020.97,878.03,102.1,217,3.7,802.9,75.13,75.13,null,196,5.29,1036.8399999999999,891.68,103.68,197,3.61,711.17,180.51,103.68,null,200,4.79,958,823.88,95.8,219,3.36,735.84,88.039999999999964,88.039999999999964,null,209,3.95,825.55,709.97,82.56,202,3.36,678.72,31.25,31.25,null,211,3.7,780.7,671.4,78.069999999999993,206,3.61,743.66,0,0]
["26159","Michigan","Van Buren","Corn","Van BurenCornNonirrigated","Nonirrigated",120,131,152,109,159,160,158,152,156,null,134,5.29,708.86,609.62,70.89,160,3.7,592,17.620000000000005,17.62,null,147,5.29,777.63,668.76,77.760000000000005,158,3.61,570.38,98.38,77.760000000000005,null,156,4.79,747.24,642.63,74.72,152,3.36,510.72,131.90999999999997,74.72,null,156,3.95,616.20000000000005,529.92999999999995,61.62,156,3.36,524.16,5.7699999999999818,5.7699999999999818,null,158,3.7,584.6,502.76,58.46,141,3.61,509.01,0,0]
["26159","Michigan","Van Buren","Grain Sorghum","Van BurenGrain SorghumAll","All",70,97,89,60,88,104,86,91,60,null,82,5.0999999999999996,418.2,359.65,41.82,104,4.03,419.12,0,0,null,91,5.0999999999999996,464.1,399.13,46.41,86,3.31,284.66000000000003,114.46999999999997,46.41,null,88,4.7699999999999996,419.76,360.99,41.98,91,2.79,253.89,107.10000000000002,41.98,null,88,4.09,359.92,309.52999999999997,35.99,48,3.22,154.56,154.96999999999997,35.99,null,88,3.98,350.24,301.20999999999998,35.020000000000003,84,3.26,273.83999999999997,27.370000000000005,27.370000000000005]
["26159","Michigan","Van Buren","Oats","Van BurenOatsAll","All",52,77,68,53,61,61,85,56,43,null,61,3.25,198.25,170.5,19.829999999999998,61,3.21,195.81,0,0,null,63,3.48,219.24,188.55,21.92,85,2.12,180.2,8.3500000000000227,8.35,null,63,3.48,219.24,188.55,21.92,56,2.06,115.36,73.190000000000012,21.92,null,59,3.12,184.08,158.31,18.41,43,2.59,111.37,46.94,18.41,null,59,2.73,161.07,138.52000000000001,16.11,63,2.66,167.58,0,0]
["26159","Michigan","Van Buren","Soybeans","Van BurenSoybeansAll","All",38,45,42,39,41,40,48,49,42,null,41,12.27,503.07,432.64,50.31,40,10.1,404,28.639999999999986,28.64,null,41,12.27,503.07,432.64,50.31,48,8.9499999999999993,429.6,3.0399999999999636,3.04,null,41,11.87,486.67,418.54,48.67,49,9.4700000000000006,464.03,0,0,null,43,10.86,466.98,401.6,46.7,42,9.33,391.86,9.7400000000000091,9.7400000000000091,null,44,9.6300000000000008,423.72,364.4,42.37,43,8.48,364.64,0,0]
["26159","Michigan","Van Buren","Sunflower Seed","Van BurenSunflower SeedAll","All",1571,1547,1198,1671,1569,1037,1335,1200,1575,null,1562,0.23369999999999999,365.04,313.93,36.5,1037,0.217,225.03,88.9,36.5,null,1438,0.23469999999999999,337.5,290.25,33.75,1335,0.19600000000000001,261.66000000000003,28.589999999999975,28.589999999999975,null,1367,0.2283,312.08999999999997,268.39999999999998,31.21,1200,0.17399999999999999,208.8,59.599999999999966,31.21,null,1368,0.21079999999999999,288.37,248,28.84,1575,0.17249999999999999,271.69,0,0,null,1368,0.20569999999999999,281.39999999999998,242,28.14,1569]
["26159","Michigan","Van Buren","Wheat","Van BurenWheatAll","All",53,41,49,47,56,50,58,67,66,null,50,6.6,330,283.8,33,50,5.99,299.5,0,0,null,49,6.7,328.3,282.33999999999997,32.83,58,4.8899999999999997,283.62,0,0,null,52,6.7,348.4,299.62,34.840000000000003,67,3.89,260.63,38.990000000000009,34.840000000000003,null,55,6.12,336.6,289.48,33.659999999999997,66,4.72,311.52,0,0,null,60,5.66,339.6,292.06,33.96,62,5.16,319.92,0,0]
["26161","Michigan","Washtenaw","Barley","WashtenawBarleyAll","All",51,54,48,48,52,56,56,66,91,null,50,5.45,272.5,234.35,27.25,56,5.3,296.8,0,0,null,51,5.57,284.07,244.3,28.41,56,5.52,309.12,0,0,null,52,5.64,293.27999999999997,252.22,29.33,66,4.96,327.36,0,0,null,55,5.63,309.64999999999998,266.3,30.97,91,4.47,406.77,0,0,null,59,5.26,310.33999999999997,266.89,31.03,43,4.62,198.66,68.22999999999999,31.03]
["26161","Michigan","Washtenaw","Corn","WashtenawCornAll","All",133,143,144,88,155,171,146,135,143,null,140,5.29,740.6,636.91999999999996,74.06,171,3.7,632.70000000000005,4.2199999999999136,4.22,null,147,5.29,777.63,668.76,77.760000000000005,146,3.61,527.05999999999995,141.70000000000005,77.760000000000005,null,148,4.79,708.92,609.66999999999996,70.89,135,3.36,453.6,156.06999999999994,70.89,null,145,3.95,572.75,492.57,57.28,143,3.36,480.48,12.089999999999975,12.089999999999975,null,148,3.7,547.6,470.94,54.76,142,3.61,512.62,0,0]
["26161","Michigan","Washtenaw","Grain Sorghum","WashtenawGrain SorghumAll","All",70,97,89,60,88,104,86,91,60,null,82,5.0999999999999996,418.2,359.65,41.82,104,4.03,419.12,0,0,null,91,5.0999999999999996,464.1,399.13,46.41,86,3.31,284.66000000000003,114.46999999999997,46.41,null,88,4.7699999999999996,419.76,360.99,41.98,91,2.79,253.89,107.10000000000002,41.98,null,88,4.09,359.92,309.52999999999997,35.99,48,3.22,154.56,154.96999999999997,35.99,null,88,3.98,350.24,301.20999999999998,35.020000000000003,84,3.26,273.83999999999997,27.370000000000005,27.370000000000005]
["26161","Michigan","Washtenaw","Oats","WashtenawOatsAll","All",60,62,51,52,74,75,65,59,54,null,58,3.25,188.5,162.11000000000001,18.850000000000001,75,3.21,240.75,0,0,null,63,3.48,219.24,188.55,21.92,65,2.12,137.80000000000001,50.75,21.92,null,64,3.48,222.72,191.54,22.27,59,2.06,121.54,69.999999999999986,22.27,null,66,3.12,205.92,177.09,20.59,54,2.59,139.86000000000001,37.22999999999999,20.59,null,66,2.73,180.18,154.94999999999999,18.02,63,2.66,167.58,0,0]
["26161","Michigan","Washtenaw","Soybeans","WashtenawSoybeansAll","All",39,40,43,25,47,45,45,48,39,null,41,12.27,503.07,432.64,50.31,45,10.1,454.5,0,0,null,43,12.27,527.61,453.74,52.76,45,8.9499999999999993,402.75,50.990000000000009,50.99,null,44,11.87,522.28,449.16,52.23,48,9.4700000000000006,454.56,0,0,null,46,10.86,499.56,429.62,49.96,39,9.33,363.87,65.75,49.96,null,46,9.6300000000000008,442.98,380.96,44.3,43,8.48,364.64,16.319999999999993,16.319999999999993]
["26161","Michigan","Washtenaw","Wheat","WashtenawWheatAll","All",68,68,69,67,64,77,72,85,79,null,68,6.6,448.8,385.97,44.88,77,5.99,461.23,0,0,null,68,6.7,455.6,391.82,45.56,72,4.8899999999999997,352.08,39.740000000000009,39.74,null,69,6.7,462.3,397.58,46.23,85,3.89,330.65,66.930000000000007,46.23,null,72,6.12,440.64,378.95,44.06,79,4.72,372.88,6.0699999999999932,6.0699999999999932,null,76,5.66,430.16,369.94,43.02,73,5.16,376.68,0,0]
["26163","Michigan","Wayne","Corn","WayneCornAll","All",144,135,138,88,125,150,130,117,136,null,133,5.29,703.57,605.07000000000005,70.36,150,3.7,555,50.07000000000005,50.07,null,133,5.29,703.57,605.07000000000005,70.36,130,3.61,469.3,135.77000000000004,70.36,null,131,4.79,627.49,539.64,62.75,117,3.36,393.12,146.51999999999998,62.75,null,124,3.95,489.8,421.23,48.98,136,3.36,456.96,0,0,null,130,3.7,481,413.66,48.1,117,3.61,422.37,0,0]
["26163","Michigan","Wayne","Oats","WayneOatsAll","All",58,66,51,60,67,75,73,59,54,null,61,3.25,198.25,170.5,19.829999999999998,75,3.21,240.75,0,0,null,64,3.48,222.72,191.54,22.27,73,2.12,154.76,36.78,22.27,null,67,3.48,233.16,200.52,23.32,59,2.06,121.54,78.98,23.32,null,67,3.12,209.04,179.77,20.9,54,2.59,139.86000000000001,39.909999999999997,20.9,null,66,2.73,180.18,154.94999999999999,18.02,63,2.66,167.58,0,0]
["26163","Michigan","Wayne","Soybeans","WayneSoybeansAll","All",37,42,40,23,39,36,43,30,26,null,39,12.27,478.53,411.54,47.85,36,10.1,363.6,47.94,47.85,null,38,12.27,466.26,400.98,46.63,43,8.9499999999999993,384.85,16.129999999999995,16.13,null,38,11.87,451.06,387.91,45.11,30,9.4700000000000006,284.10000000000002,103.81,45.11,null,35,10.86,380.1,326.89,38.01,26,9.33,242.58,84.309999999999974,38.01,null,35,9.6300000000000008,337.05,289.86,33.71,38,8.48,322.24,0,0]
["26163","Michigan","Wayne","Wheat","WayneWheatAll","All",68,69,41,70,48,74,74,88,77,null,62,6.6,409.2,351.91,40.92,74,5.99,443.26,0,0,null,62,6.7,415.4,357.24,41.54,74,4.8899999999999997,361.86,0,0,null,64,6.7,428.8,368.77,42.88,88,3.89,342.32,26.449999999999989,26.449999999999989,null,73,6.12,446.76,384.21,44.68,77,4.72,363.44,20.769999999999982,20.769999999999982,null,75,5.66,424.5,365.07,42.45,75,5.16,387,0,0]
["26165","Michigan","Wexford","Barley","WexfordBarleyAll","All",51,54,48,48,52,56,56,66,91,null,50,5.45,272.5,234.35,27.25,56,5.3,296.8,0,0,null,51,5.57,284.07,244.3,28.41,56,5.52,309.12,0,0,null,52,5.64,293.27999999999997,252.22,29.33,66,4.96,327.36,0,0,null,55,5.63,309.64999999999998,266.3,30.97,91,4.47,406.77,0,0,null,59,5.26,310.33999999999997,266.89,31.03,43,4.62,198.66,68.22999999999999,31.03]
["26165","Michigan","Wexford","Corn","WexfordCornAll","All",72,124,113,61,61,102,132,77,156,null,82,5.29,433.78,373.05,43.38,102,3.7,377.4,0,0,null,92,5.29,486.68,418.54,48.67,132,3.61,476.52,0,0,null,92,4.79,440.68,378.98,44.07,77,3.36,258.72000000000003,120.25999999999999,44.07,null,80,3.95,316,271.76,31.6,156,3.36,524.16,0,0,null,104,3.7,384.8,330.93,38.479999999999997,105,3.61,379.05,0,0]
["26165","Michigan","Wexford","Oats","WexfordOatsAll","All",47,63,61,53,45,67,50,71,33,null,54,3.25,175.5,150.93,17.55,67,3.21,215.07,0,0,null,59,3.48,205.32,176.58,20.53,50,2.12,106,70.580000000000013,20.53,null,55,3.48,191.4,164.6,19.14,71,2.06,146.26,18.340000000000003,18.340000000000003,null,57,3.12,177.84,152.94,17.78,33,2.59,85.47,67.47,17.78,null,54,2.73,147.41999999999999,126.78,14.74,43,2.66,114.38,12.400000000000006,12.400000000000006]
["26165","Michigan","Wexford","Soybeans","WexfordSoybeansAll","All",28,38,32,36,28,36,36,36,37,null,32,12.27,392.64,337.67,39.26,36,10.1,363.6,0,0,null,35,12.27,429.45,369.33,42.95,36,8.9499999999999993,322.2,47.129999999999995,42.95,null,35,11.87,415.45,357.29,41.55,36,9.4700000000000006,340.92,16.370000000000005,16.370000000000005,null,36,10.86,390.96,336.23,39.1,37,9.33,345.21,0,0,null,36,9.6300000000000008,346.68,298.14,34.67,37,8.48,313.76,0,0]
["26165","Michigan","Wexford","Wheat","WexfordWheatAll","All",53,40,59,32,32,39,48,55,52,null,42,6.6,277.2,238.39,27.72,39,5.99,233.61,4.7799999999999727,4.78,null,37,6.7,247.9,213.19,24.79,48,4.8899999999999997,234.72,0,0,null,40,6.7,268,230.48,26.8,55,3.89,213.95,16.53,16.53,null,40,6.12,244.8,210.53,24.48,52,4.72,245.44,0,0,null,46,5.66,260.36,223.91,26.04,40,5.16,206.4,17.509999999999991,17.509999999999991]

{"sheet":"FSA19","index":11,"n_rows":290,"n_cols":31,"rows_kept":290,"cut":false,"hidden":true,"merged":[]}
["ARC-CO TREND ADJUSTED YIELDS, BENCHMARK YIELDS AND GUARANTEE REVENUES FOR PROGRAM YEAR 2019",null,null,null,null,null,null,null,null,null,null,null,"Program Year 2019 Benchmark Yields and  Revenues",null,null,null,null,null,null,null,null,null,null,null,null,null,null,null,null,"corn",{"$f":"AVERAGE(AC5:AC116)","v":1.2885475630693317}]
[null,null,null,null,null,"Soys Average",{"$f":"AVERAGE(G117:G212)","v":43.666145833333324},{"$f":"AVERAGE(H117:H212)","v":42.012187499999989},{"$f":"AVERAGE(I117:I212)","v":47.840416666666691},{"$f":"AVERAGE(J117:J212)","v":49.602708333333339},{"$f":"AVERAGE(K117:K212)","v":43.483020833333335},null,"A","B","C","D","E",null,null,null,null,null,null,null,null,null,null,null,null,"soys",{"$f":"AVERAGE(AC117:AC212)","v":1.0997206967986972}]
[null,null,null,null,null,"corn Average",{"$f":"AVERAGE(G5:G116)","v":153.86687500000002},{"$f":"AVERAGE(H5:H116)","v":141.70223214285713},{"$f":"AVERAGE(I5:I116)","v":159.59803571428574},{"$f":"AVERAGE(J5:J116)","v":157.45366071428575},{"$f":"AVERAGE(K5:K116)","v":155.29223214285716},null,{"$f":"AVERAGE(M5:M116)","v":152.17928571428573},null,"(A * B)","(86% of C)","(10% of C)",null,2013,2014,2015,2016,2017,null,2019,null,null,"Combined",{"$f":"AVERAGE(AC5:AC290)","v":1.1671543644863598},"wheat",{"$f":"AVERAGE(AC213:AC290)","v":1.1034565143825839}]
["ST_Cty","State Name","County Name","Crop Name","Combined Helper Column","ARC-CO Yield Designation","2013 trend adjusted (county yield or 80% of T)","2014 trend adjusted (county yield or 80% of T)","2015 trend adjusted (county yield or 80% of T)","2016 trend adjusted (county yield or 80% of T)","2017 trend adjusted (county yield or 80% of T)",null,"2019 Bench Mark \n(2013-17 olympic avg)","2019 Bench Mark Price \n(2013-17 olympic avg)","2019 Benchmark Revenue","2019 Guarantee Revenue"," 2019 Maximum Payment Rate",null,"Actual","Actual","Actual","Actual","Actual","Ratio 13","Ratio 14","Ratio 15","Ratio 16","Ratio 17","Average Ratio"]
["26001","Michigan","Alcona","Corn",{"$f":"C5&D5&F5","v":"AlconaCornAll"},"All",129.65,79.5,155.36000000000001,118.6,130.07,null,126.11,3.7,466.61,401.28,46.66,null,{"$f":"VLOOKUP($E5,'FSA 18'!$E$5:$O$248,3,0)","v":73},{"$f":"VLOOKUP($E5,'FSA 18'!$E$5:$O$248,4,0)","v":131},{"$f":"VLOOKUP($E5,'FSA 18'!$E$5:$O$248,5,0)","v":80},{"$f":"VLOOKUP($E5,'FSA 18'!$E$5:$O$248,6,0)","v":69},{"$f":"VLOOKUP($E5,'FSA 18'!$E$5:$O$248,7,0)","v":120},{"$f":"G5/S5","v":1.776027397260274},{"$f":"H5/T5","v":0.60687022900763354},{"$f":"I5/U5","v":1.9420000000000002},{"$f":"J5/V5","v":1.7188405797101449},{"$f":"K5/W5","v":1.0839166666666666},{"$f":"IFERROR(AVERAGE(X5:AB5),\"\")","v":1.4255309745289437}]
["26003","Michigan","Alger","Corn",{"$f":"C6&D6&F6","v":"AlgerCornAll"},"All",120,52.8,132,87,58.4,null,88.47,3.7,327.33999999999997,281.51,32.729999999999997,null,{"$f":"VLOOKUP($E6,'FSA 18'!$E$5:$O$248,3,0)","v":46},{"$f":"VLOOKUP($E6,'FSA 18'!$E$5:$O$248,4,0)","v":127},{"$f":"VLOOKUP($E6,'FSA 18'!$E$5:$O$248,5,0)","v":46},{"$f":"VLOOKUP($E6,'FSA 18'!$E$5:$O$248,6,0)","v":84},{"$f":"VLOOKUP($E6,'FSA 18'!$E$5:$O$248,7,0)","v":120},{"$f":"G6/S6","v":2.6086956521739131},0.41574803149606299,2.8695652173913042,1.0357142857142858,0.48666666666666664,1.4832779706884465]
["26005","Michigan","Allegan","Corn","AlleganCornIrrigated","Irrigated",217.16,228.69,182.78,222.1,225.31,null,221.52,3.7,819.62,704.87,81.96,null,{"$f":"VLOOKUP($E7,'FSA 18'!$E$5:$O$248,3,0)","v":{"$error":"#N/A"}},{"$f":"VLOOKUP($E7,'FSA 18'!$E$5:$O$248,4,0)","v":{"$error":"#N/A"}},{"$f":"VLOOKUP($E7,'FSA 18'!$E$5:$O$248,5,0)","v":{"$error":"#N/A"}},{"$f":"VLOOKUP($E7,'FSA 18'!$E$5:$O$248,6,0)","v":{"$error":"#N/A"}},{"$f":"VLOOKUP($E7,'FSA 18'!$E$5:$O$248,7,0)","v":{"$error":"#N/A"}},{"$error":"#N/A"},{"$error":"#N/A"},{"$error":"#N/A"},{"$error":"#N/A"},{"$error":"#N/A"},""]
["26005","Michigan","Allegan","Corn","AlleganCornNonirrigated","Nonirrigated",166.56,171.71,160.30000000000001,176.14,182,null,171.47,3.7,634.44000000000005,545.62,63.44,null,{"$f":"VLOOKUP($E8,'FSA 18'!$E$5:$O$248,3,0)","v":{"$error":"#N/A"}},{"$f":"VLOOKUP($E8,'FSA 18'!$E$5:$O$248,4,0)","v":{"$error":"#N/A"}},{"$f":"VLOOKUP($E8,'FSA 18'!$E$5:$O$248,5,0)","v":{"$error":"#N/A"}},{"$f":"VLOOKUP($E8,'FSA 18'!$E$5:$O$248,6,0)","v":{"$error":"#N/A"}},{"$f":"VLOOKUP($E8,'FSA 18'!$E$5:$O$248,7,0)","v":{"$error":"#N/A"}},{"$error":"#N/A"},{"$error":"#N/A"},{"$error":"#N/A"},{"$error":"#N/A"},{"$error":"#N/A"},""]
["26007","Michigan","Alpena","Corn","AlpenaCornAll","All",108.34,107.6,140.25,100.14,144.77000000000001,null,118.73,3.7,439.3,377.8,43.93,null,{"$f":"VLOOKUP($E9,'FSA 18'!$E$5:$O$248,3,0)","v":97},{"$f":"VLOOKUP($E9,'FSA 18'!$E$5:$O$248,4,0)","v":126},{"$f":"VLOOKUP($E9,'FSA 18'!$E$5:$O$248,5,0)","v":111},{"$f":"VLOOKUP($E9,'FSA 18'!$E$5:$O$248,6,0)","v":108},{"$f":"VLOOKUP($E9,'FSA 18'!$E$5:$O$248,7,0)","v":99},1.1169072164948455,0.85396825396825393,1.2635135135135136,0.92722222222222228,1.4623232323232325,1.1247868877044136]
["26009","Michigan","Antrim","Corn","AntrimCornAll","All",135.88,99.8,104.57,101.34,137.55000000000001,null,113.93,3.7,421.54,362.52,42.15,null,{"$f":"VLOOKUP($E10,'FSA 18'!$E$5:$O$248,3,0)","v":95},{"$f":"VLOOKUP($E10,'FSA 18'!$E$5:$O$248,4,0)","v":121},{"$f":"VLOOKUP($E10,'FSA 18'!$E$5:$O$248,5,0)","v":103},{"$f":"VLOOKUP($E10,'FSA 18'!$E$5:$O$248,6,0)","v":92},{"$f":"VLOOKUP($E10,'FSA 18'!$E$5:$O$248,7,0)","v":97},1.4303157894736842,0.82479338842975203,1.015242718446602,1.1015217391304348,1.4180412371134021,1.1579829745187751]
["26011","Michigan","Arenac","Corn","ArenacCornAll","All",141.19999999999999,147.79,165.26,148.44999999999999,169.14,null,153.83000000000001,3.7,569.16999999999996,489.49,56.92,null,{"$f":"VLOOKUP($E11,'FSA 18'!$E$5:$O$248,3,0)","v":139},{"$f":"VLOOKUP($E11,'FSA 18'!$E$5:$O$248,4,0)","v":151},{"$f":"VLOOKUP($E11,'FSA 18'!$E$5:$O$248,5,0)","v":160},{"$f":"VLOOKUP($E11,'FSA 18'!$E$5:$O$248,6,0)","v":142},{"$f":"VLOOKUP($E11,'FSA 18'!$E$5:$O$248,7,0)","v":114},1.0158273381294962,0.97874172185430464,1.032875,1.0454225352112676,1.4836842105263157,1.1113101611442768]
["26013","Michigan","Baraga","Corn","BaragaCornAll","All",120,69.599999999999994,132,87,84,null,97,3.7,358.9,308.64999999999998,35.89,null,{"$f":"VLOOKUP($E12,'FSA 18'!$E$5:$O$248,3,0)","v":52},{"$f":"VLOOKUP($E12,'FSA 18'!$E$5:$O$248,4,0)","v":127},{"$f":"VLOOKUP($E12,'FSA 18'!$E$5:$O$248,5,0)","v":52},{"$f":"VLOOKUP($E12,'FSA 18'!$E$5:$O$248,6,0)","v":84},{"$f":"VLOOKUP($E12,'FSA 18'!$E$5:$O$248,7,0)","v":120},2.3076923076923075,0.54803149606299206,2.5384615384615383,1.0357142857142858,0.7,1.4259799255862249]
["26015","Michigan","Barry","Corn","BarryCornIrrigated","Irrigated",206.55,183.25,195.94,186.71,201.61,null,194.75,3.7,720.58,619.70000000000005,72.06,null,{"$f":"VLOOKUP($E13,'FSA 18'!$E$5:$O$248,3,0)","v":{"$error":"#N/A"}},{"$f":"VLOOKUP($E13,'FSA 18'!$E$5:$O$248,4,0)","v":{"$error":"#N/A"}},{"$f":"VLOOKUP($E13,'FSA 18'!$E$5:$O$248,5,0)","v":{"$error":"#N/A"}},{"$f":"VLOOKUP($E13,'FSA 18'!$E$5:$O$248,6,0)","v":{"$error":"#N/A"}},{"$f":"VLOOKUP($E13,'FSA 18'!$E$5:$O$248,7,0)","v":{"$error":"#N/A"}},{"$error":"#N/A"},{"$error":"#N/A"},{"$error":"#N/A"},{"$error":"#N/A"},{"$error":"#N/A"},""]
["26015","Michigan","Barry","Corn","BarryCornNonirrigated","Nonirrigated",172.42,171,162.33000000000001,146.19999999999999,170.37,null,167.9,3.7,621.23,534.26,62.12,null,{"$f":"VLOOKUP($E14,'FSA 18'!$E$5:$O$248,3,0)","v":{"$error":"#N/A"}},{"$f":"VLOOKUP($E14,'FSA 18'!$E$5:$O$248,4,0)","v":{"$error":"#N/A"}},{"$f":"VLOOKUP($E14,'FSA 18'!$E$5:$O$248,5,0)","v":{"$error":"#N/A"}},{"$f":"VLOOKUP($E14,'FSA 18'!$E$5:$O$248,6,0)","v":{"$error":"#N/A"}},{"$f":"VLOOKUP($E14,'FSA 18'!$E$5:$O$248,7,0)","v":{"$error":"#N/A"}},{"$error":"#N/A"},{"$error":"#N/A"},{"$error":"#N/A"},{"$error":"#N/A"},{"$error":"#N/A"},""]
["26017","Michigan","Bay","Corn","BayCornIrrigated","Irrigated",184.25,203.45,206.56,198.59,182.62,null,195.43,3.7,723.09,621.86,72.31,null,{"$f":"VLOOKUP($E15,'FSA 18'!$E$5:$O$248,3,0)","v":{"$error":"#N/A"}},{"$f":"VLOOKUP($E15,'FSA 18'!$E$5:$O$248,4,0)","v":{"$error":"#N/A"}},{"$f":"VLOOKUP($E15,'FSA 18'!$E$5:$O$248,5,0)","v":{"$error":"#N/A"}},{"$f":"VLOOKUP($E15,'FSA 18'!$E$5:$O$248,6,0)","v":{"$error":"#N/A"}},{"$f":"VLOOKUP($E15,'FSA 18'!$E$5:$O$248,7,0)","v":{"$error":"#N/A"}},{"$error":"#N/A"},{"$error":"#N/A"},{"$error":"#N/A"},{"$error":"#N/A"},{"$error":"#N/A"},""]
["26017","Michigan","Bay","Corn","BayCornNonirrigated","Nonirrigated",161.54,184.5,186.74,172.96,172.05,null,176.5,3.7,653.04999999999995,561.62,65.31,null,{"$f":"VLOOKUP($E16,'FSA 18'!$E$5:$O$248,3,0)","v":{"$error":"#N/A"}},{"$f":"VLOOKUP($E16,'FSA 18'!$E$5:$O$248,4,0)","v":{"$error":"#N/A"}},{"$f":"VLOOKUP($E16,'FSA 18'!$E$5:$O$248,5,0)","v":{"$error":"#N/A"}},{"$f":"VLOOKUP($E16,'FSA 18'!$E$5:$O$248,6,0)","v":{"$error":"#N/A"}},{"$f":"VLOOKUP($E16,'FSA 18'!$E$5:$O$248,7,0)","v":{"$error":"#N/A"}},{"$error":"#N/A"},{"$error":"#N/A"},{"$error":"#N/A"},{"$error":"#N/A"},{"$error":"#N/A"},""]
["26019","Michigan","Benzie","Corn","BenzieCornAll","All",120.72,101.42,86.28,102.61,129.04,null,108.25,3.7,400.53,344.46,40.049999999999997,null,{"$f":"VLOOKUP($E17,'FSA 18'!$E$5:$O$248,3,0)","v":108},{"$f":"VLOOKUP($E17,'FSA 18'!$E$5:$O$248,4,0)","v":110},{"$f":"VLOOKUP($E17,'FSA 18'!$E$5:$O$248,5,0)","v":74},{"$f":"VLOOKUP($E17,'FSA 18'!$E$5:$O$248,6,0)","v":61},{"$f":"VLOOKUP($E17,'FSA 18'!$E$5:$O$248,7,0)","v":105},1.1177777777777778,0.92200000000000004,1.165945945945946,1.6821311475409837,1.2289523809523808,1.2233614504434176]
["26021","Michigan","Berrien","Corn","BerrienCornIrrigated","Irrigated",216.35,203.91,221.29,205.81,234.01,null,214.48,3.7,793.58,682.48,79.36,null,{"$f":"VLOOKUP($E18,'FSA 18'!$E$5:$O$248,3,0)","v":{"$error":"#N/A"}},{"$f":"VLOOKUP($E18,'FSA 18'!$E$5:$O$248,4,0)","v":{"$error":"#N/A"}},{"$f":"VLOOKUP($E18,'FSA 18'!$E$5:$O$248,5,0)","v":{"$error":"#N/A"}},{"$f":"VLOOKUP($E18,'FSA 18'!$E$5:$O$248,6,0)","v":{"$error":"#N/A"}},{"$f":"VLOOKUP($E18,'FSA 18'!$E$5:$O$248,7,0)","v":{"$error":"#N/A"}},{"$error":"#N/A"},{"$error":"#N/A"},{"$error":"#N/A"},{"$error":"#N/A"},{"$error":"#N/A"},""]
["26021","Michigan","Berrien","Corn","BerrienCornNonirrigated","Nonirrigated",167.56,166.52,179.46,167.33,175.69,null,170.19,3.7,629.70000000000005,541.54,62.97,null,{"$f":"VLOOKUP($E19,'FSA 18'!$E$5:$O$248,3,0)","v":{"$error":"#N/A"}},{"$f":"VLOOKUP($E19,'FSA 18'!$E$5:$O$248,4,0)","v":{"$error":"#N/A"}},{"$f":"VLOOKUP($E19,'FSA 18'!$E$5:$O$248,5,0)","v":{"$error":"#N/A"}},{"$f":"VLOOKUP($E19,'FSA 18'!$E$5:$O$248,6,0)","v":{"$error":"#N/A"}},{"$f":"VLOOKUP($E19,'FSA 18'!$E$5:$O$248,7,0)","v":{"$error":"#N/A"}},{"$error":"#N/A"},{"$error":"#N/A"},{"$error":"#N/A"},{"$error":"#N/A"},{"$error":"#N/A"},""]
["26023","Michigan","Branch","Corn","BranchCornIrrigated","Irrigated",193.3,188.28,191.66,192.69,197.26,null,192.55,3.7,712.44,612.70000000000005,71.239999999999995,null,{"$f":"VLOOKUP($E20,'FSA 18'!$E$5:$O$248,3,0)","v":135},{"$f":"VLOOKUP($E20,'FSA 18'!$E$5:$O$248,4,0)","v":154},{"$f":"VLOOKUP($E20,'FSA 18'!$E$5:$O$248,5,0)","v":156},{"$f":"VLOOKUP($E20,'FSA 18'!$E$5:$O$248,6,0)","v":136},{"$f":"VLOOKUP($E20,'FSA 18'!$E$5:$O$248,7,0)","v":183},1.4318518518518519,1.2225974025974027,1.2285897435897435,1.4168382352941176,1.0779234972677596,1.2755601461201751]
["26023","Michigan","Branch","Corn","BranchCornNonirrigated","Nonirrigated",173.68,158.22,161.56,163.99,159.6,null,161.72,3.7,598.36,514.59,59.84,null,{"$f":"VLOOKUP($E21,'FSA 18'!$E$5:$O$248,3,0)","v":113},{"$f":"VLOOKUP($E21,'FSA 18'!$E$5:$O$248,4,0)","v":140},{"$f":"VLOOKUP($E21,'FSA 18'!$E$5:$O$248,5,0)","v":137},{"$f":"VLOOKUP($E21,'FSA 18'!$E$5:$O$248,6,0)","v":99},{"$f":"VLOOKUP($E21,'FSA 18'!$E$5:$O$248,7,0)","v":164},1.536991150442478,1.1301428571428571,1.1792700729927008,1.6564646464646466,0.97317073170731705,1.2952078917500001]
["26025","Michigan","Calhoun","Corn","CalhounCornIrrigated","Irrigated",218.96,214.95,208.52,194.15,194.96,null,206.14,3.7,762.72,655.94,76.27,null,{"$f":"VLOOKUP($E22,'FSA 18'!$E$5:$O$248,3,0)","v":{"$error":"#N/A"}},{"$f":"VLOOKUP($E22,'FSA 18'!$E$5:$O$248,4,0)","v":{"$error":"#N/A"}},{"$f":"VLOOKUP($E22,'FSA 18'!$E$5:$O$248,5,0)","v":{"$error":"#N/A"}},{"$f":"VLOOKUP($E22,'FSA 18'!$E$5:$O$248,6,0)","v":{"$error":"#N/A"}},{"$f":"VLOOKUP($E22,'FSA 18'!$E$5:$O$248,7,0)","v":{"$error":"#N/A"}},{"$error":"#N/A"},{"$error":"#N/A"},{"$error":"#N/A"},{"$error":"#N/A"},{"$error":"#N/A"},""]
["26025","Michigan","Calhoun","Corn","CalhounCornNonirrigated","Nonirrigated",178.96,157.58000000000001,160.53,139.96,140.26,null,152.79,3.7,565.32000000000005,486.18,56.53,null,{"$f":"VLOOKUP($E23,'FSA 18'!$E$5:$O$248,3,0)","v":{"$error":"#N/A"}},{"$f":"VLOOKUP($E23,'FSA 18'!$E$5:$O$248,4,0)","v":{"$error":"#N/A"}},{"$f":"VLOOKUP($E23,'FSA 18'!$E$5:$O$248,5,0)","v":{"$error":"#N/A"}},{"$f":"VLOOKUP($E23,'FSA 18'!$E$5:$O$248,6,0)","v":{"$error":"#N/A"}},{"$f":"VLOOKUP($E23,'FSA 18'!$E$5:$O$248,7,0)","v":{"$error":"#N/A"}},{"$error":"#N/A"},{"$error":"#N/A"},{"$error":"#N/A"},{"$error":"#N/A"},{"$error":"#N/A"},""]
["26027","Michigan","Cass","Corn","CassCornIrrigated","Irrigated",211.75,207.71,206,194.12,216.61,null,208.49,3.7,771.41,663.41,77.14,null,{"$f":"VLOOKUP($E24,'FSA 18'!$E$5:$O$248,3,0)","v":178},{"$f":"VLOOKUP($E24,'FSA 18'!$E$5:$O$248,4,0)","v":180},{"$f":"VLOOKUP($E24,'FSA 18'!$E$5:$O$248,5,0)","v":187},{"$f":"VLOOKUP($E24,'FSA 18'!$E$5:$O$248,6,0)","v":187},{"$f":"VLOOKUP($E24,'FSA 18'!$E$5:$O$248,7,0)","v":200},1.1896067415730338,1.1539444444444444,1.1016042780748663,1.0380748663101604,1.0830500000000001,1.1132560660805011]
["26027","Michigan","Cass","Corn","CassCornNonirrigated","Nonirrigated",155.15,151.28,155.41999999999999,124.35,157.53,null,153.94999999999999,3.7,569.62,489.87,56.96,null,{"$f":"VLOOKUP($E25,'FSA 18'!$E$5:$O$248,3,0)","v":120},{"$f":"VLOOKUP($E25,'FSA 18'!$E$5:$O$248,4,0)","v":147},{"$f":"VLOOKUP($E25,'FSA 18'!$E$5:$O$248,5,0)","v":142},{"$f":"VLOOKUP($E25,'FSA 18'!$E$5:$O$248,6,0)","v":98},{"$f":"VLOOKUP($E25,'FSA 18'!$E$5:$O$248,7,0)","v":145},1.2929166666666667,1.0291156462585034,1.094507042253521,1.268877551020408,1.0864137931034483,1.1543661398605094]
["26029","Michigan","Charlevoix","Corn","CharlevoixCornAll","All",116.49,101.03,106.83,105.68,116.3,null,109.6,3.7,405.52,348.75,40.549999999999997,null,{"$f":"VLOOKUP($E26,'FSA 18'!$E$5:$O$248,3,0)","v":116},{"$f":"VLOOKUP($E26,'FSA 18'!$E$5:$O$248,4,0)","v":115},{"$f":"VLOOKUP($E26,'FSA 18'!$E$5:$O$248,5,0)","v":106},{"$f":"VLOOKUP($E26,'FSA 18'!$E$5:$O$248,6,0)","v":111},{"$f":"VLOOKUP($E26,'FSA 18'!$E$5:$O$248,7,0)","v":122},1.0042241379310344,0.87852173913043474,1.0078301886792453,0.95207207207207212,0.95327868852459019,0.95918536526747533]
["26031","Michigan","Cheboygan","Corn","CheboyganCornAll","All",112.79,138.5,100.9,97,131,null,114.9,3.7,425.13,365.61,42.51,null,{"$f":"VLOOKUP($E27,'FSA 18'!$E$5:$O$248,3,0)","v":64},{"$f":"VLOOKUP($E27,'FSA 18'!$E$5:$O$248,4,0)","v":133},{"$f":"VLOOKUP($E27,'FSA 18'!$E$5:$O$248,5,0)","v":110},{"$f":"VLOOKUP($E27,'FSA 18'!$E$5:$O$248,6,0)","v":120},{"$f":"VLOOKUP($E27,'FSA 18'!$E$5:$O$248,7,0)","v":113},1.7623437500000001,1.0413533834586466,0.91727272727272735,0.80833333333333335,1.1592920353982301,1.1377190458925874]
["26033","Michigan","Chippewa","Corn","ChippewaCornAll","All",119,69.599999999999994,132,884,84,null,111.67,3.7,413.18,355.33,41.32,null,{"$f":"VLOOKUP($E28,'FSA 18'!$E$5:$O$248,3,0)","v":52},{"$f":"VLOOKUP($E28,'FSA 18'!$E$5:$O$248,4,0)","v":127},{"$f":"VLOOKUP($E28,'FSA 18'!$E$5:$O$248,5,0)","v":52},{"$f":"VLOOKUP($E28,'FSA 18'!$E$5:$O$248,6,0)","v":84},{"$f":"VLOOKUP($E28,'FSA 18'!$E$5:$O$248,7,0)","v":119},2.2884615384615383,0.54803149606299206,2.5384615384615383,10.523809523809524,0.70588235294117652,3.3209292899473537]
["26035","Michigan","Clare","Corn","ClareCornAll","All",115.14,135.46,133.37,121.67,134.29,null,129.78,3.7,480.19,412.96,48.02,null,{"$f":"VLOOKUP($E29,'FSA 18'!$E$5:$O$248,3,0)","v":68},{"$f":"VLOOKUP($E29,'FSA 18'!$E$5:$O$248,4,0)","v":127},{"$f":"VLOOKUP($E29,'FSA 18'!$E$5:$O$248,5,0)","v":123},{"$f":"VLOOKUP($E29,'FSA 18'!$E$5:$O$248,6,0)","v":128},{"$f":"VLOOKUP($E29,'FSA 18'!$E$5:$O$248,7,0)","v":104},1.6932352941176472,1.0666141732283465,1.0843089430894308,0.95054687500000001,1.29125,1.2171910570870847]
["26037","Michigan","Clinton","Corn","ClintonCornIrrigated","Irrigated",204.15,216.29,216.14,184.98,192.17,null,204.15,3.7,755.36,649.61,75.540000000000006,null,{"$f":"VLOOKUP($E30,'FSA 18'!$E$5:$O$248,3,0)","v":{"$error":"#N/A"}},{"$f":"VLOOKUP($E30,'FSA 18'!$E$5:$O$248,4,0)","v":{"$error":"#N/A"}},{"$f":"VLOOKUP($E30,'FSA 18'!$E$5:$O$248,5,0)","v":{"$error":"#N/A"}},{"$f":"VLOOKUP($E30,'FSA 18'!$E$5:$O$248,6,0)","v":{"$error":"#N/A"}},{"$f":"VLOOKUP($E30,'FSA 18'!$E$5:$O$248,7,0)","v":{"$error":"#N/A"}},{"$error":"#N/A"},{"$error":"#N/A"},{"$error":"#N/A"},{"$error":"#N/A"},{"$error":"#N/A"},""]
["26037","Michigan","Clinton","Corn","ClintonCornNonirrigated","Nonirrigated",155.38999999999999,168,179.81,159.46,154.06,null,160.94999999999999,3.7,595.52,512.15,59.55,null,{"$f":"VLOOKUP($E31,'FSA 18'!$E$5:$O$248,3,0)","v":{"$error":"#N/A"}},{"$f":"VLOOKUP($E31,'FSA 18'!$E$5:$O$248,4,0)","v":{"$error":"#N/A"}},{"$f":"VLOOKUP($E31,'FSA 18'!$E$5:$O$248,5,0)","v":{"$error":"#N/A"}},{"$f":"VLOOKUP($E31,'FSA 18'!$E$5:$O$248,6,0)","v":{"$error":"#N/A"}},{"$f":"VLOOKUP($E31,'FSA 18'!$E$5:$O$248,7,0)","v":{"$error":"#N/A"}},{"$error":"#N/A"},{"$error":"#N/A"},{"$error":"#N/A"},{"$error":"#N/A"},{"$error":"#N/A"},""]
["26041","Michigan","Delta","Corn","DeltaCornAll","All",126.7,53.95,138.9,118.6,55.18,null,100.16,3.7,370.59,318.70999999999998,37.06,null,{"$f":"VLOOKUP($E32,'FSA 18'!$E$5:$O$248,3,0)","v":49},{"$f":"VLOOKUP($E32,'FSA 18'!$E$5:$O$248,4,0)","v":133},{"$f":"VLOOKUP($E32,'FSA 18'!$E$5:$O$248,5,0)","v":58},{"$f":"VLOOKUP($E32,'FSA 18'!$E$5:$O$248,6,0)","v":99},{"$f":"VLOOKUP($E32,'FSA 18'!$E$5:$O$248,7,0)","v":120},2.5857142857142859,0.40563909774436091,2.3948275862068966,1.1979797979797979,0.45983333333333332,1.4087988201957349]
["26043","Michigan","Dickinson","Corn","DickinsonCornAll","All",116.62,56,170.29,66.099999999999994,80.84,null,87.85,3.7,325.05,279.54000000000002,32.51,null,{"$f":"VLOOKUP($E33,'FSA 18'!$E$5:$O$248,3,0)","v":49},{"$f":"VLOOKUP($E33,'FSA 18'!$E$5:$O$248,4,0)","v":139},{"$f":"VLOOKUP($E33,'FSA 18'!$E$5:$O$248,5,0)","v":49},{"$f":"VLOOKUP($E33,'FSA 18'!$E$5:$O$248,6,0)","v":102},{"$f":"VLOOKUP($E33,'FSA 18'!$E$5:$O$248,7,0)","v":117},2.38,0.40287769784172661,3.4753061224489796,0.64803921568627443,0.69094017094017102,1.5194326413834303]
["26045","Michigan","Eaton","Corn","EatonCornAll","All",187.02,177.62,171.02,149.97,178.21,null,175.62,3.7,649.79,558.82000000000005,64.98,null,{"$f":"VLOOKUP($E34,'FSA 18'!$E$5:$O$248,3,0)","v":152},{"$f":"VLOOKUP($E34,'FSA 18'!$E$5:$O$248,4,0)","v":162},{"$f":"VLOOKUP($E34,'FSA 18'!$E$5:$O$248,5,0)","v":147},{"$f":"VLOOKUP($E34,'FSA 18'!$E$5:$O$248,6,0)","v":124},{"$f":"VLOOKUP($E34,'FSA 18'!$E$5:$O$248,7,0)","v":170},1.2303947368421053,1.0964197530864197,1.1634013605442177,1.2094354838709678,1.0482941176470588,1.149589090398154]
["26047","Michigan","Emmet","Corn","EmmetCornAll","All",85.56,97.6,117.04,110.48,122.52,null,108.37,3.7,400.97,344.83,40.1,null,{"$f":"VLOOKUP($E35,'FSA 18'!$E$5:$O$248,3,0)","v":84},{"$f":"VLOOKUP($E35,'FSA 18'!$E$5:$O$248,4,0)","v":127},{"$f":"VLOOKUP($E35,'FSA 18'!$E$5:$O$248,5,0)","v":109},{"$f":"VLOOKUP($E35,'FSA 18'!$E$5:$O$248,6,0)","v":117},{"$f":"VLOOKUP($E35,'FSA 18'!$E$5:$O$248,7,0)","v":78},1.0185714285714287,0.76850393700787401,1.0737614678899083,0.94427350427350432,1.5707692307692307,1.0751759137023893]
["26049","Michigan","Genesee","Corn","GeneseeCornAll","All",157.91,148.1,180.95,156.33000000000001,171.63,null,161.96,3.7,599.25,515.36,59.93,null,{"$f":"VLOOKUP($E36,'FSA 18'!$E$5:$O$248,3,0)","v":123},{"$f":"VLOOKUP($E36,'FSA 18'!$E$5:$O$248,4,0)","v":131},{"$f":"VLOOKUP($E36,'FSA 18'!$E$5:$O$248,5,0)","v":132},{"$f":"VLOOKUP($E36,'FSA 18'!$E$5:$O$248,6,0)","v":134},{"$f":"VLOOKUP($E36,'FSA 18'!$E$5:$O$248,7,0)","v":141},1.283821138211382,1.1305343511450381,1.3708333333333333,1.1666417910447762,1.2172340425531916,1.2338129312575441]
["26051","Michigan","Gladwin","Corn","GladwinCornAll","All",122.06,140.86000000000001,153.09,150.30000000000001,146.08000000000001,null,145.75,3.7,539.28,463.78,53.93,null,{"$f":"VLOOKUP($E37,'FSA 18'!$E$5:$O$248,3,0)","v":116},{"$f":"VLOOKUP($E37,'FSA 18'!$E$5:$O$248,4,0)","v":153},{"$f":"VLOOKUP($E37,'FSA 18'!$E$5:$O$248,5,0)","v":156},{"$f":"VLOOKUP($E37,'FSA 18'!$E$5:$O$248,6,0)","v":148},{"$f":"VLOOKUP($E37,'FSA 18'!$E$5:$O$248,7,0)","v":117},1.0522413793103449,0.92065359477124187,0.98134615384615387,1.0155405405405407,1.2485470085470087,1.0436657354030578]
["26055","Michigan","Grand Traverse","Corn","Grand TraverseCornAll","All",85.83,71.150000000000006,106.54,80.989999999999995,129.5,null,91.12,3.7,337.14,289.94,33.71,null,{"$f":"VLOOKUP($E38,'FSA 18'!$E$5:$O$248,3,0)","v":91},{"$f":"VLOOKUP($E38,'FSA 18'!$E$5:$O$248,4,0)","v":116},{"$f":"VLOOKUP($E38,'FSA 18'!$E$5:$O$248,5,0)","v":102},{"$f":"VLOOKUP($E38,'FSA 18'!$E$5:$O$248,6,0)","v":65},{"$f":"VLOOKUP($E38,'FSA 18'!$E$5:$O$248,7,0)","v":81},0.94318681318681319,0.61336206896551726,1.0445098039215688,1.246,1.5987654320987654,1.0891648236345328]
["26057","Michigan","Gratiot","Corn","GratiotCornIrrigated","Irrigated",173.36,165.62,179.4,184.6,181.74,null,178.17,3.7,659.23,566.94000000000005,65.92,null,{"$f":"VLOOKUP($E39,'FSA 18'!$E$5:$O$248,3,0)","v":{"$error":"#N/A"}},{"$f":"VLOOKUP($E39,'FSA 18'!$E$5:$O$248,4,0)","v":{"$error":"#N/A"}},{"$f":"VLOOKUP($E39,'FSA 18'!$E$5:$O$248,5,0)","v":{"$error":"#N/A"}},{"$f":"VLOOKUP($E39,'FSA 18'!$E$5:$O$248,6,0)","v":{"$error":"#N/A"}},{"$f":"VLOOKUP($E39,'FSA 18'!$E$5:$O$248,7,0)","v":{"$error":"#N/A"}},{"$error":"#N/A"},{"$error":"#N/A"},{"$error":"#N/A"},{"$error":"#N/A"},{"$error":"#N/A"},""]
["26057","Michigan","Gratiot","Corn","GratiotCornNonirrigated","Nonirrigated",158.22999999999999,161.22,178.93,174.34,159.75,null,165.1,3.7,610.87,525.35,61.09,null,{"$f":"VLOOKUP($E40,'FSA 18'!$E$5:$O$248,3,0)","v":{"$error":"#N/A"}},{"$f":"VLOOKUP($E40,'FSA 18'!$E$5:$O$248,4,0)","v":{"$error":"#N/A"}},{"$f":"VLOOKUP($E40,'FSA 18'!$E$5:$O$248,5,0)","v":{"$error":"#N/A"}},{"$f":"VLOOKUP($E40,'FSA 18'!$E$5:$O$248,6,0)","v":{"$error":"#N/A"}},{"$f":"VLOOKUP($E40,'FSA 18'!$E$5:$O$248,7,0)","v":{"$error":"#N/A"}},{"$error":"#N/A"},{"$error":"#N/A"},{"$error":"#N/A"},{"$error":"#N/A"},{"$error":"#N/A"},""]
["26059","Michigan","Hillsdale","Corn","HillsdaleCornIrrigated","Irrigated",212.98,191.6,186.64,189.19,196.89,null,192.56,3.7,712.47,612.72,71.25,null,{"$f":"VLOOKUP($E41,'FSA 18'!$E$5:$O$248,3,0)","v":{"$error":"#N/A"}},{"$f":"VLOOKUP($E41,'FSA 18'!$E$5:$O$248,4,0)","v":{"$error":"#N/A"}},{"$f":"VLOOKUP($E41,'FSA 18'!$E$5:$O$248,5,0)","v":{"$error":"#N/A"}},{"$f":"VLOOKUP($E41,'FSA 18'!$E$5:$O$248,6,0)","v":{"$error":"#N/A"}},{"$f":"VLOOKUP($E41,'FSA 18'!$E$5:$O$248,7,0)","v":{"$error":"#N/A"}},{"$error":"#N/A"},{"$error":"#N/A"},{"$error":"#N/A"},{"$error":"#N/A"},{"$error":"#N/A"},""]
["26059","Michigan","Hillsdale","Corn","HillsdaleCornNonirrigated","Nonirrigated",186.59,154.07,160.69,168.04,165.34,null,164.69,3.7,609.35,524.04,60.94,null,{"$f":"VLOOKUP($E42,'FSA 18'!$E$5:$O$248,3,0)","v":{"$error":"#N/A"}},{"$f":"VLOOKUP($E42,'FSA 18'!$E$5:$O$248,4,0)","v":{"$error":"#N/A"}},{"$f":"VLOOKUP($E42,'FSA 18'!$E$5:$O$248,5,0)","v":{"$error":"#N/A"}},{"$f":"VLOOKUP($E42,'FSA 18'!$E$5:$O$248,6,0)","v":{"$error":"#N/A"}},{"$f":"VLOOKUP($E42,'FSA 18'!$E$5:$O$248,7,0)","v":{"$error":"#N/A"}},{"$error":"#N/A"},{"$error":"#N/A"},{"$error":"#N/A"},{"$error":"#N/A"},{"$error":"#N/A"},""]
["26061","Michigan","Houghton","Corn","HoughtonCornAll","All",120,52.8,132,87,58.4,null,88.47,3.7,327.33999999999997,281.51,32.729999999999997,null,{"$f":"VLOOKUP($E43,'FSA 18'!$E$5:$O$248,3,0)","v":46},{"$f":"VLOOKUP($E43,'FSA 18'!$E$5:$O$248,4,0)","v":127},{"$f":"VLOOKUP($E43,'FSA 18'!$E$5:$O$248,5,0)","v":46},{"$f":"VLOOKUP($E43,'FSA 18'!$E$5:$O$248,6,0)","v":84},{"$f":"VLOOKUP($E43,'FSA 18'!$E$5:$O$248,7,0)","v":120},2.6086956521739131,0.41574803149606299,2.8695652173913042,1.0357142857142858,0.48666666666666664,1.4832779706884465]
["26063","Michigan","Huron","Corn","HuronCornIrrigated","Irrigated",215.44,205.7,228.16,236.83,202.15,null,216.43,3.7,800.79,688.68,80.08,null,{"$f":"VLOOKUP($E44,'FSA 18'!$E$5:$O$248,3,0)","v":{"$error":"#N/A"}},{"$f":"VLOOKUP($E44,'FSA 18'!$E$5:$O$248,4,0)","v":{"$error":"#N/A"}},{"$f":"VLOOKUP($E44,'FSA 18'!$E$5:$O$248,5,0)","v":{"$error":"#N/A"}},{"$f":"VLOOKUP($E44,'FSA 18'!$E$5:$O$248,6,0)","v":{"$error":"#N/A"}},{"$f":"VLOOKUP($E44,'FSA 18'!$E$5:$O$248,7,0)","v":{"$error":"#N/A"}},{"$error":"#N/A"},{"$error":"#N/A"},{"$error":"#N/A"},{"$error":"#N/A"},{"$error":"#N/A"},""]
["26063","Michigan","Huron","Corn","HuronCornNonirrigated","Nonirrigated",190.68,181.17,206.26,170.63,198.98,null,190.28,3.7,704.04,605.47,70.400000000000006,null,{"$f":"VLOOKUP($E45,'FSA 18'!$E$5:$O$248,3,0)","v":{"$error":"#N/A"}},{"$f":"VLOOKUP($E45,'FSA 18'!$E$5:$O$248,4,0)","v":{"$error":"#N/A"}},{"$f":"VLOOKUP($E45,'FSA 18'!$E$5:$O$248,5,0)","v":{"$error":"#N/A"}},{"$f":"VLOOKUP($E45,'FSA 18'!$E$5:$O$248,6,0)","v":{"$error":"#N/A"}},{"$f":"VLOOKUP($E45,'FSA 18'!$E$5:$O$248,7,0)","v":{"$error":"#N/A"}},{"$error":"#N/A"},{"$error":"#N/A"},{"$error":"#N/A"},{"$error":"#N/A"},{"$error":"#N/A"},""]
["26065","Michigan","Ingham","Corn","InghamCornAll","All",179.59,179.52,178.42,160.84,164.74,null,174.23,3.7,644.65,554.4,64.47,null,{"$f":"VLOOKUP($E46,'FSA 18'!$E$5:$O$248,3,0)","v":151},{"$f":"VLOOKUP($E46,'FSA 18'!$E$5:$O$248,4,0)","v":159},{"$f":"VLOOKUP($E46,'FSA 18'!$E$5:$O$248,5,0)","v":148},{"$f":"VLOOKUP($E46,'FSA 18'!$E$5:$O$248,6,0)","v":116},{"$f":"VLOOKUP($E46,'FSA 18'!$E$5:$O$248,7,0)","v":161},1.1893377483443708,1.129056603773585,1.2055405405405404,1.386551724137931,1.0232298136645963,1.1867432860922047]
["26067","Michigan","Ionia","Corn","IoniaCornIrrigated","Irrigated",176.29,154.53,228.17,218.63,203.56,null,199.49,3.7,738.11,634.77,73.81,null,{"$f":"VLOOKUP($E47,'FSA 18'!$E$5:$O$248,3,0)","v":{"$error":"#N/A"}},{"$f":"VLOOKUP($E47,'FSA 18'!$E$5:$O$248,4,0)","v":{"$error":"#N/A"}},{"$f":"VLOOKUP($E47,'FSA 18'!$E$5:$O$248,5,0)","v":{"$error":"#N/A"}},{"$f":"VLOOKUP($E47,'FSA 18'!$E$5:$O$248,6,0)","v":{"$error":"#N/A"}},{"$f":"VLOOKUP($E47,'FSA 18'!$E$5:$O$248,7,0)","v":{"$error":"#N/A"}},{"$error":"#N/A"},{"$error":"#N/A"},{"$error":"#N/A"},{"$error":"#N/A"},{"$error":"#N/A"},""]
["26067","Michigan","Ionia","Corn","IoniaCornNonirrigated","Nonirrigated",176.78,171.49,190.63,177.39,169.59,null,175.22,3.7,648.30999999999995,557.54999999999995,64.83,null,{"$f":"VLOOKUP($E48,'FSA 18'!$E$5:$O$248,3,0)","v":{"$error":"#N/A"}},{"$f":"VLOOKUP($E48,'FSA 18'!$E$5:$O$248,4,0)","v":{"$error":"#N/A"}},{"$f":"VLOOKUP($E48,'FSA 18'!$E$5:$O$248,5,0)","v":{"$error":"#N/A"}},{"$f":"VLOOKUP($E48,'FSA 18'!$E$5:$O$248,6,0)","v":{"$error":"#N/A"}},{"$f":"VLOOKUP($E48,'FSA 18'!$E$5:$O$248,7,0)","v":{"$error":"#N/A"}},{"$error":"#N/A"},{"$error":"#N/A"},{"$error":"#N/A"},{"$error":"#N/A"},{"$error":"#N/A"},""]
["26069","Michigan","Iosco","Corn","IoscoCornAll","All",132.4,127.58,148.41999999999999,139.16999999999999,169.6,null,140,3.7,518,445.48,51.8,null,{"$f":"VLOOKUP($E49,'FSA 18'!$E$5:$O$248,3,0)","v":119},{"$f":"VLOOKUP($E49,'FSA 18'!$E$5:$O$248,4,0)","v":146},{"$f":"VLOOKUP($E49,'FSA 18'!$E$5:$O$248,5,0)","v":150},{"$f":"VLOOKUP($E49,'FSA 18'!$E$5:$O$248,6,0)","v":133},{"$f":"VLOOKUP($E49,'FSA 18'!$E$5:$O$248,7,0)","v":122},1.1126050420168068,0.87383561643835617,0.98946666666666661,1.0463909774436089,1.3901639344262295,1.0824924473983337]
["26071","Michigan","Iron","Corn","IronCornAll","All",120,69.599999999999994,132,87,84,null,97,3.7,358.9,308.64999999999998,35.89,null,{"$f":"VLOOKUP($E50,'FSA 18'!$E$5:$O$248,3,0)","v":52},{"$f":"VLOOKUP($E50,'FSA 18'!$E$5:$O$248,4,0)","v":127},{"$f":"VLOOKUP($E50,'FSA 18'!$E$5:$O$248,5,0)","v":52},{"$f":"VLOOKUP($E50,'FSA 18'!$E$5:$O$248,6,0)","v":84},{"$f":"VLOOKUP($E50,'FSA 18'!$E$5:$O$248,7,0)","v":120},2.3076923076923075,0.54803149606299206,2.5384615384615383,1.0357142857142858,0.7,1.4259799255862249]
["26073","Michigan","Isabella","Corn","IsabellaCornIrrigated","Irrigated",174.28,148.91999999999999,148.4,158.88999999999999,175.57,null,160.69999999999999,3.7,594.59,511.35,59.46,null,{"$f":"VLOOKUP($E51,'FSA 18'!$E$5:$O$248,3,0)","v":{"$error":"#N/A"}},{"$f":"VLOOKUP($E51,'FSA 18'!$E$5:$O$248,4,0)","v":{"$error":"#N/A"}},{"$f":"VLOOKUP($E51,'FSA 18'!$E$5:$O$248,5,0)","v":{"$error":"#N/A"}},{"$f":"VLOOKUP($E51,'FSA 18'!$E$5:$O$248,6,0)","v":{"$error":"#N/A"}},{"$f":"VLOOKUP($E51,'FSA 18'!$E$5:$O$248,7,0)","v":{"$error":"#N/A"}},{"$error":"#N/A"},{"$error":"#N/A"},{"$error":"#N/A"},{"$error":"#N/A"},{"$error":"#N/A"},""]
["26073","Michigan","Isabella","Corn","IsabellaCornNonirrigated","Nonirrigated",152.25,159,161.72999999999999,161.19999999999999,157.35,null,159.18,3.7,588.97,506.51,58.9,null,{"$f":"VLOOKUP($E52,'FSA 18'!$E$5:$O$248,3,0)","v":{"$error":"#N/A"}},{"$f":"VLOOKUP($E52,'FSA 18'!$E$5:$O$248,4,0)","v":{"$error":"#N/A"}},{"$f":"VLOOKUP($E52,'FSA 18'!$E$5:$O$248,5,0)","v":{"$error":"#N/A"}},{"$f":"VLOOKUP($E52,'FSA 18'!$E$5:$O$248,6,0)","v":{"$error":"#N/A"}},{"$f":"VLOOKUP($E52,'FSA 18'!$E$5:$O$248,7,0)","v":{"$error":"#N/A"}},{"$error":"#N/A"},{"$error":"#N/A"},{"$error":"#N/A"},{"$error":"#N/A"},{"$error":"#N/A"},""]
["26075","Michigan","Jackson","Corn","JacksonCornIrrigated","Irrigated",198.77,194.38,196.55,202.37,226.13,null,199.23,3.7,737.15,633.95000000000005,73.72,null,{"$f":"VLOOKUP($E53,'FSA 18'!$E$5:$O$248,3,0)","v":{"$error":"#N/A"}},{"$f":"VLOOKUP($E53,'FSA 18'!$E$5:$O$248,4,0)","v":{"$error":"#N/A"}},{"$f":"VLOOKUP($E53,'FSA 18'!$E$5:$O$248,5,0)","v":{"$error":"#N/A"}},{"$f":"VLOOKUP($E53,'FSA 18'!$E$5:$O$248,6,0)","v":{"$error":"#N/A"}},{"$f":"VLOOKUP($E53,'FSA 18'!$E$5:$O$248,7,0)","v":{"$error":"#N/A"}},{"$error":"#N/A"},{"$error":"#N/A"},{"$error":"#N/A"},{"$error":"#N/A"},{"$error":"#N/A"},""]
["26075","Michigan","Jackson","Corn","JacksonCornNonirrigated","Nonirrigated",173.96,164.4,151.04,119.91,128.87,null,148.1,3.7,547.97,471.25,54.8,null,{"$f":"VLOOKUP($E54,'FSA 18'!$E$5:$O$248,3,0)","v":{"$error":"#N/A"}},{"$f":"VLOOKUP($E54,'FSA 18'!$E$5:$O$248,4,0)","v":{"$error":"#N/A"}},{"$f":"VLOOKUP($E54,'FSA 18'!$E$5:$O$248,5,0)","v":{"$error":"#N/A"}},{"$f":"VLOOKUP($E54,'FSA 18'!$E$5:$O$248,6,0)","v":{"$error":"#N/A"}},{"$f":"VLOOKUP($E54,'FSA 18'!$E$5:$O$248,7,0)","v":{"$error":"#N/A"}},{"$error":"#N/A"},{"$error":"#N/A"},{"$error":"#N/A"},{"$error":"#N/A"},{"$error":"#N/A"},""]
["26077","Michigan","Kalamazoo","Corn","KalamazooCornIrrigated","Irrigated",222.36,209.5,207.49,210.62,214.25,null,211.46,3.7,782.4,672.86,78.239999999999995,null,{"$f":"VLOOKUP($E55,'FSA 18'!$E$5:$O$248,3,0)","v":163},{"$f":"VLOOKUP($E55,'FSA 18'!$E$5:$O$248,4,0)","v":203},{"$f":"VLOOKUP($E55,'FSA 18'!$E$5:$O$248,5,0)","v":199},{"$f":"VLOOKUP($E55,'FSA 18'!$E$5:$O$248,6,0)","v":150},{"$f":"VLOOKUP($E55,'FSA 18'!$E$5:$O$248,7,0)","v":210},1.3641717791411043,1.0320197044334976,1.0426633165829147,1.4041333333333335,1.0202380952380952,1.1726452457457888]
["26077","Michigan","Kalamazoo","Corn","KalamazooCornNonirrigated","Nonirrigated",185.13,156.62,166.25,158.31,146.31,null,160.38999999999999,3.7,593.44000000000005,510.36,59.34,null,{"$f":"VLOOKUP($E56,'FSA 18'!$E$5:$O$248,3,0)","v":105},{"$f":"VLOOKUP($E56,'FSA 18'!$E$5:$O$248,4,0)","v":154},{"$f":"VLOOKUP($E56,'FSA 18'!$E$5:$O$248,5,0)","v":152},{"$f":"VLOOKUP($E56,'FSA 18'!$E$5:$O$248,6,0)","v":88},{"$f":"VLOOKUP($E56,'FSA 18'!$E$5:$O$248,7,0)","v":175},1.7631428571428571,1.0170129870129871,1.09375,1.7989772727272728,0.83605714285714283,1.301788051948052]
["26079","Michigan","Kalkaska","Corn","KalkaskaCornAll","All",88.15,100.86,95.92,68,129,null,94.98,3.7,351.43,302.23,35.14,null,{"$f":"VLOOKUP($E57,'FSA 18'!$E$5:$O$248,3,0)","v":78},{"$f":"VLOOKUP($E57,'FSA 18'!$E$5:$O$248,4,0)","v":115},{"$f":"VLOOKUP($E57,'FSA 18'!$E$5:$O$248,5,0)","v":80},{"$f":"VLOOKUP($E57,'FSA 18'!$E$5:$O$248,6,0)","v":61},{"$f":"VLOOKUP($E57,'FSA 18'!$E$5:$O$248,7,0)","v":102},1.1301282051282051,0.87704347826086959,1.1990000000000001,1.1147540983606556,1.2647058823529411,1.1171263328205343]
["26081","Michigan","Kent","Corn","KentCornIrrigated","Irrigated",204.2,164.53,176.39,194.95,199.42,null,190.25,3.7,703.93,605.38,70.39,null,{"$f":"VLOOKUP($E58,'FSA 18'!$E$5:$O$248,3,0)","v":{"$error":"#N/A"}},{"$f":"VLOOKUP($E58,'FSA 18'!$E$5:$O$248,4,0)","v":{"$error":"#N/A"}},{"$f":"VLOOKUP($E58,'FSA 18'!$E$5:$O$248,5,0)","v":{"$error":"#N/A"}},{"$f":"VLOOKUP($E58,'FSA 18'!$E$5:$O$248,6,0)","v":{"$error":"#N/A"}},{"$f":"VLOOKUP($E58,'FSA 18'!$E$5:$O$248,7,0)","v":{"$error":"#N/A"}},{"$error":"#N/A"},{"$error":"#N/A"},{"$error":"#N/A"},{"$error":"#N/A"},{"$error":"#N/A"},""]
["26081","Michigan","Kent","Corn","KentCornNonirrigated","Nonirrigated",158.34,145.06,169.65,166.86,152.41999999999999,null,159.21,3.7,589.08000000000004,506.61,58.91,null,{"$f":"VLOOKUP($E59,'FSA 18'!$E$5:$O$248,3,0)","v":{"$error":"#N/A"}},{"$f":"VLOOKUP($E59,'FSA 18'!$E$5:$O$248,4,0)","v":{"$error":"#N/A"}},{"$f":"VLOOKUP($E59,'FSA 18'!$E$5:$O$248,5,0)","v":{"$error":"#N/A"}},{"$f":"VLOOKUP($E59,'FSA 18'!$E$5:$O$248,6,0)","v":{"$error":"#N/A"}},{"$f":"VLOOKUP($E59,'FSA 18'!$E$5:$O$248,7,0)","v":{"$error":"#N/A"}},{"$error":"#N/A"},{"$error":"#N/A"},{"$error":"#N/A"},{"$error":"#N/A"},{"$error":"#N/A"},""]
["26085","Michigan","Lake","Corn","LakeCornAll","All",80.989999999999995,69.599999999999994,87.69,152.08000000000001,140,null,102.89,3.7,380.69,327.39,38.07,null,{"$f":"VLOOKUP($E60,'FSA 18'!$E$5:$O$248,3,0)","v":93},{"$f":"VLOOKUP($E60,'FSA 18'!$E$5:$O$248,4,0)","v":144},{"$f":"VLOOKUP($E60,'FSA 18'!$E$5:$O$248,5,0)","v":138},{"$f":"VLOOKUP($E60,'FSA 18'!$E$5:$O$248,6,0)","v":124},{"$f":"VLOOKUP($E60,'FSA 18'!$E$5:$O$248,7,0)","v":94},0.87086021505376343,0.48333333333333328,0.63543478260869568,1.2264516129032259,1.4893617021276595,0.94108832920533558]
["26087","Michigan","Lapeer","Corn","LapeerCornAll","All",162.28,153.56,186.23,176.26,185.12,null,174.55,3.7,645.84,555.41999999999996,64.58,null,{"$f":"VLOOKUP($E61,'FSA 18'!$E$5:$O$248,3,0)","v":{"$error":"#N/A"}},{"$f":"VLOOKUP($E61,'FSA 18'!$E$5:$O$248,4,0)","v":{"$error":"#N/A"}},{"$f":"VLOOKUP($E61,'FSA 18'!$E$5:$O$248,5,0)","v":{"$error":"#N/A"}},{"$f":"VLOOKUP($E61,'FSA 18'!$E$5:$O$248,6,0)","v":{"$error":"#N/A"}},{"$f":"VLOOKUP($E61,'FSA 18'!$E$5:$O$248,7,0)","v":{"$error":"#N/A"}},{"$error":"#N/A"},{"$error":"#N/A"},{"$error":"#N/A"},{"$error":"#N/A"},{"$error":"#N/A"},""]
["26089","Michigan","Leelanau","Corn","LeelanauCornAll","All",126.2,66.95,79.12,64.81,114.09,null,86.72,3.7,320.86,275.94,32.090000000000003,null,{"$f":"VLOOKUP($E62,'FSA 18'!$E$5:$O$248,3,0)","v":{"$error":"#N/A"}},{"$f":"VLOOKUP($E62,'FSA 18'!$E$5:$O$248,4,0)","v":{"$error":"#N/A"}},{"$f":"VLOOKUP($E62,'FSA 18'!$E$5:$O$248,5,0)","v":{"$error":"#N/A"}},{"$f":"VLOOKUP($E62,'FSA 18'!$E$5:$O$248,6,0)","v":{"$error":"#N/A"}},{"$f":"VLOOKUP($E62,'FSA 18'!$E$5:$O$248,7,0)","v":{"$error":"#N/A"}},{"$error":"#N/A"},{"$error":"#N/A"},{"$error":"#N/A"},{"$error":"#N/A"},{"$error":"#N/A"},""]
["26091","Michigan","Lenawee","Corn","LenaweeCornIrrigated","Irrigated",216.81,218.91,199.99,200.58,226.68,null,212.1,3.7,784.77,674.9,78.48,null,{"$f":"VLOOKUP($E63,'FSA 18'!$E$5:$O$248,3,0)","v":{"$error":"#N/A"}},{"$f":"VLOOKUP($E63,'FSA 18'!$E$5:$O$248,4,0)","v":{"$error":"#N/A"}},{"$f":"VLOOKUP($E63,'FSA 18'!$E$5:$O$248,5,0)","v":{"$error":"#N/A"}},{"$f":"VLOOKUP($E63,'FSA 18'!$E$5:$O$248,6,0)","v":{"$error":"#N/A"}},{"$f":"VLOOKUP($E63,'FSA 18'!$E$5:$O$248,7,0)","v":{"$error":"#N/A"}},{"$error":"#N/A"},{"$error":"#N/A"},{"$error":"#N/A"},{"$error":"#N/A"},{"$error":"#N/A"},""]
["26091","Michigan","Lenawee","Corn","LenaweeCornNonirrigated","Nonirrigated",198.73,178.1,175.94,179.98,183.62,null,180.57,3.7,668.11,574.57000000000005,66.81,null,{"$f":"VLOOKUP($E64,'FSA 18'!$E$5:$O$248,3,0)","v":{"$error":"#N/A"}},{"$f":"VLOOKUP($E64,'FSA 18'!$E$5:$O$248,4,0)","v":{"$error":"#N/A"}},{"$f":"VLOOKUP($E64,'FSA 18'!$E$5:$O$248,5,0)","v":{"$error":"#N/A"}},{"$f":"VLOOKUP($E64,'FSA 18'!$E$5:$O$248,6,0)","v":{"$error":"#N/A"}},{"$f":"VLOOKUP($E64,'FSA 18'!$E$5:$O$248,7,0)","v":{"$error":"#N/A"}},{"$error":"#N/A"},{"$error":"#N/A"},{"$error":"#N/A"},{"$error":"#N/A"},{"$error":"#N/A"},""]
["26093","Michigan","Livingston","Corn","LivingstonCornAll","All",174.07,160.13,179.39,151.27000000000001,160.22,null,164.81,3.7,609.79999999999995,524.42999999999995,60.98,null,{"$f":"VLOOKUP($E65,'FSA 18'!$E$5:$O$248,3,0)","v":{"$error":"#N/A"}},{"$f":"VLOOKUP($E65,'FSA 18'!$E$5:$O$248,4,0)","v":{"$error":"#N/A"}},{"$f":"VLOOKUP($E65,'FSA 18'!$E$5:$O$248,5,0)","v":{"$error":"#N/A"}},{"$f":"VLOOKUP($E65,'FSA 18'!$E$5:$O$248,6,0)","v":{"$error":"#N/A"}},{"$f":"VLOOKUP($E65,'FSA 18'!$E$5:$O$248,7,0)","v":{"$error":"#N/A"}},{"$error":"#N/A"},{"$error":"#N/A"},{"$error":"#N/A"},{"$error":"#N/A"},{"$error":"#N/A"},""]
["26095","Michigan","Luce","Corn","LuceCornAll","All",120,56,132,87,61.6,null,89.53,3.7,331.26,284.88,33.130000000000003,null,{"$f":"VLOOKUP($E66,'FSA 18'!$E$5:$O$248,3,0)","v":{"$error":"#N/A"}},{"$f":"VLOOKUP($E66,'FSA 18'!$E$5:$O$248,4,0)","v":{"$error":"#N/A"}},{"$f":"VLOOKUP($E66,'FSA 18'!$E$5:$O$248,5,0)","v":{"$error":"#N/A"}},{"$f":"VLOOKUP($E66,'FSA 18'!$E$5:$O$248,6,0)","v":{"$error":"#N/A"}},{"$f":"VLOOKUP($E66,'FSA 18'!$E$5:$O$248,7,0)","v":{"$error":"#N/A"}},{"$error":"#N/A"},{"$error":"#N/A"},{"$error":"#N/A"},{"$error":"#N/A"},{"$error":"#N/A"},""]
["26097","Michigan","Mackinac","Corn","MackinacCornAll","All",120,56,132,87,61.6,null,89.53,3.7,331.26,284.88,33.130000000000003,null,{"$f":"VLOOKUP($E67,'FSA 18'!$E$5:$O$248,3,0)","v":{"$error":"#N/A"}},{"$f":"VLOOKUP($E67,'FSA 18'!$E$5:$O$248,4,0)","v":{"$error":"#N/A"}},{"$f":"VLOOKUP($E67,'FSA 18'!$E$5:$O$248,5,0)","v":{"$error":"#N/A"}},{"$f":"VLOOKUP($E67,'FSA 18'!$E$5:$O$248,6,0)","v":{"$error":"#N/A"}},{"$f":"VLOOKUP($E67,'FSA 18'!$E$5:$O$248,7,0)","v":{"$error":"#N/A"}},{"$error":"#N/A"},{"$error":"#N/A"},{"$error":"#N/A"},{"$error":"#N/A"},{"$error":"#N/A"},""]
["26099","Michigan","Macomb","Corn","MacombCornAll","All",168.89,165.96,165.88,184.18,181.4,null,172.08,3.7,636.70000000000005,547.55999999999995,63.67,null,{"$f":"VLOOKUP($E68,'FSA 18'!$E$5:$O$248,3,0)","v":{"$error":"#N/A"}},{"$f":"VLOOKUP($E68,'FSA 18'!$E$5:$O$248,4,0)","v":{"$error":"#N/A"}},{"$f":"VLOOKUP($E68,'FSA 18'!$E$5:$O$248,5,0)","v":{"$error":"#N/A"}},{"$f":"VLOOKUP($E68,'FSA 18'!$E$5:$O$248,6,0)","v":{"$error":"#N/A"}},{"$f":"VLOOKUP($E68,'FSA 18'!$E$5:$O$248,7,0)","v":{"$error":"#N/A"}},{"$error":"#N/A"},{"$error":"#N/A"},{"$error":"#N/A"},{"$error":"#N/A"},{"$error":"#N/A"},""]
["26101","Michigan","Manistee","Corn","ManisteeCornAll","All",110.58,95.99,137.35,150.59,120.78,null,122.9,3.7,454.73,391.07,45.47,null,{"$f":"VLOOKUP($E69,'FSA 18'!$E$5:$O$248,3,0)","v":{"$error":"#N/A"}},{"$f":"VLOOKUP($E69,'FSA 18'!$E$5:$O$248,4,0)","v":{"$error":"#N/A"}},{"$f":"VLOOKUP($E69,'FSA 18'!$E$5:$O$248,5,0)","v":{"$error":"#N/A"}},{"$f":"VLOOKUP($E69,'FSA 18'!$E$5:$O$248,6,0)","v":{"$error":"#N/A"}},{"$f":"VLOOKUP($E69,'FSA 18'!$E$5:$O$248,7,0)","v":{"$error":"#N/A"}},{"$error":"#N/A"},{"$f":"H69/T69","v":{"$error":"#N/A"}},{"$f":"I69/U69","v":{"$error":"#N/A"}},{"$f":"J69/V69","v":{"$error":"#N/A"}},{"$f":"K69/W69","v":{"$error":"#N/A"}},{"$f":"IFERROR(AVERAGE(X69:AB69),\"\")","v":""}]
["26103","Michigan","Marquette","Corn",{"$f":"C70&D70&F70","v":"MarquetteCornAll"},"All",120,52.8,132,87,58.4,null,88.47,3.7,327.33999999999997,281.51,32.729999999999997,null,{"$f":"VLOOKUP($E70,'FSA 18'!$E$5:$O$248,3,0)","v":{"$error":"#N/A"}},{"$f":"VLOOKUP($E70,'FSA 18'!$E$5:$O$248,4,0)","v":{"$error":"#N/A"}},{"$f":"VLOOKUP($E70,'FSA 18'!$E$5:$O$248,5,0)","v":{"$error":"#N/A"}},{"$f":"VLOOKUP($E70,'FSA 18'!$E$5:$O$248,6,0)","v":{"$error":"#N/A"}},{"$f":"VLOOKUP($E70,'FSA 18'!$E$5:$O$248,7,0)","v":{"$error":"#N/A"}},{"$f":"G70/S70","v":{"$error":"#N/A"}},{"$error":"#N/A"},{"$error":"#N/A"},{"$error":"#N/A"},{"$error":"#N/A"},""]
["26105","Michigan","Mason","Corn","MasonCornIrrigated","Irrigated",182.62,123.9,180.99,184.94,199.5,null,182.85,3.7,676.55,581.83000000000004,67.66,null,{"$f":"VLOOKUP($E71,'FSA 18'!$E$5:$O$248,3,0)","v":{"$error":"#N/A"}},{"$f":"VLOOKUP($E71,'FSA 18'!$E$5:$O$248,4,0)","v":{"$error":"#N/A"}},{"$f":"VLOOKUP($E71,'FSA 18'!$E$5:$O$248,5,0)","v":{"$error":"#N/A"}},{"$f":"VLOOKUP($E71,'FSA 18'!$E$5:$O$248,6,0)","v":{"$error":"#N/A"}},{"$f":"VLOOKUP($E71,'FSA 18'!$E$5:$O$248,7,0)","v":{"$error":"#N/A"}},{"$error":"#N/A"},{"$error":"#N/A"},{"$error":"#N/A"},{"$error":"#N/A"},{"$error":"#N/A"},""]
["26105","Michigan","Mason","Corn","MasonCornNonirrigated","Nonirrigated",123.81,102.43,143.13,150.66999999999999,170.85,null,139.19999999999999,3.7,515.04,442.93,51.5,null,{"$f":"VLOOKUP($E72,'FSA 18'!$E$5:$O$248,3,0)","v":{"$error":"#N/A"}},{"$f":"VLOOKUP($E72,'FSA 18'!$E$5:$O$248,4,0)","v":{"$error":"#N/A"}},{"$f":"VLOOKUP($E72,'FSA 18'!$E$5:$O$248,5,0)","v":{"$error":"#N/A"}},{"$f":"VLOOKUP($E72,'FSA 18'!$E$5:$O$248,6,0)","v":{"$error":"#N/A"}},{"$f":"VLOOKUP($E72,'FSA 18'!$E$5:$O$248,7,0)","v":{"$error":"#N/A"}},{"$error":"#N/A"},{"$error":"#N/A"},{"$error":"#N/A"},{"$error":"#N/A"},{"$error":"#N/A"},""]
["26107","Michigan","Mecosta","Corn","MecostaCornIrrigated","Irrigated",166.95,159.1,173.85,176.06,190.09,null,172.29,3.7,637.47,548.22,63.75,null,{"$f":"VLOOKUP($E73,'FSA 18'!$E$5:$O$248,3,0)","v":{"$error":"#N/A"}},{"$f":"VLOOKUP($E73,'FSA 18'!$E$5:$O$248,4,0)","v":{"$error":"#N/A"}},{"$f":"VLOOKUP($E73,'FSA 18'!$E$5:$O$248,5,0)","v":{"$error":"#N/A"}},{"$f":"VLOOKUP($E73,'FSA 18'!$E$5:$O$248,6,0)","v":{"$error":"#N/A"}},{"$f":"VLOOKUP($E73,'FSA 18'!$E$5:$O$248,7,0)","v":{"$error":"#N/A"}},{"$error":"#N/A"},{"$error":"#N/A"},{"$error":"#N/A"},{"$error":"#N/A"},{"$error":"#N/A"},""]
["26107","Michigan","Mecosta","Corn","MecostaCornNonirrigated","Nonirrigated",121.11,113.34,120.67,135.56,128.34,null,123.37,3.7,456.47,392.56,45.65,null,{"$f":"VLOOKUP($E74,'FSA 18'!$E$5:$O$248,3,0)","v":{"$error":"#N/A"}},{"$f":"VLOOKUP($E74,'FSA 18'!$E$5:$O$248,4,0)","v":{"$error":"#N/A"}},{"$f":"VLOOKUP($E74,'FSA 18'!$E$5:$O$248,5,0)","v":{"$error":"#N/A"}},{"$f":"VLOOKUP($E74,'FSA 18'!$E$5:$O$248,6,0)","v":{"$error":"#N/A"}},{"$f":"VLOOKUP($E74,'FSA 18'!$E$5:$O$248,7,0)","v":{"$error":"#N/A"}},{"$error":"#N/A"},{"$error":"#N/A"},{"$error":"#N/A"},{"$error":"#N/A"},{"$error":"#N/A"},""]
["26109","Michigan","Menominee","Corn","MenomineeCornAll","All",142.66,61.85,146.96,131.94,65.38,null,113.33,3.7,419.32,360.62,41.93,null,{"$f":"VLOOKUP($E75,'FSA 18'!$E$5:$O$248,3,0)","v":{"$error":"#N/A"}},{"$f":"VLOOKUP($E75,'FSA 18'!$E$5:$O$248,4,0)","v":{"$error":"#N/A"}},{"$f":"VLOOKUP($E75,'FSA 18'!$E$5:$O$248,5,0)","v":{"$error":"#N/A"}},{"$f":"VLOOKUP($E75,'FSA 18'!$E$5:$O$248,6,0)","v":{"$error":"#N/A"}},{"$f":"VLOOKUP($E75,'FSA 18'!$E$5:$O$248,7,0)","v":{"$error":"#N/A"}},{"$error":"#N/A"},{"$error":"#N/A"},{"$error":"#N/A"},{"$error":"#N/A"},{"$error":"#N/A"},""]
["26111","Michigan","Midland","Corn","MidlandCornIrrigated","Irrigated",189.84,186.84,184.15,186.58,174.84,null,185.86,3.7,687.68,591.4,68.77,null,{"$f":"VLOOKUP($E76,'FSA 18'!$E$5:$O$248,3,0)","v":{"$error":"#N/A"}},{"$f":"VLOOKUP($E76,'FSA 18'!$E$5:$O$248,4,0)","v":{"$error":"#N/A"}},{"$f":"VLOOKUP($E76,'FSA 18'!$E$5:$O$248,5,0)","v":{"$error":"#N/A"}},{"$f":"VLOOKUP($E76,'FSA 18'!$E$5:$O$248,6,0)","v":{"$error":"#N/A"}},{"$f":"VLOOKUP($E76,'FSA 18'!$E$5:$O$248,7,0)","v":{"$error":"#N/A"}},{"$error":"#N/A"},{"$error":"#N/A"},{"$error":"#N/A"},{"$error":"#N/A"},{"$error":"#N/A"},""]
["26111","Michigan","Midland","Corn","MidlandCornNonirrigated","Nonirrigated",163.54,174.14,170.97,169.14,159.51,null,167.88,3.7,621.16,534.20000000000005,62.12,null,{"$f":"VLOOKUP($E77,'FSA 18'!$E$5:$O$248,3,0)","v":{"$error":"#N/A"}},{"$f":"VLOOKUP($E77,'FSA 18'!$E$5:$O$248,4,0)","v":{"$error":"#N/A"}},{"$f":"VLOOKUP($E77,'FSA 18'!$E$5:$O$248,5,0)","v":{"$error":"#N/A"}},{"$f":"VLOOKUP($E77,'FSA 18'!$E$5:$O$248,6,0)","v":{"$error":"#N/A"}},{"$f":"VLOOKUP($E77,'FSA 18'!$E$5:$O$248,7,0)","v":{"$error":"#N/A"}},{"$error":"#N/A"},{"$error":"#N/A"},{"$error":"#N/A"},{"$error":"#N/A"},{"$error":"#N/A"},""]
["26113","Michigan","Missaukee","Corn","MissaukeeCornIrrigated","Irrigated",165.78,92.4,174.11,179.23,198.02,null,173.04,3.7,640.25,550.62,64.03,null,{"$f":"VLOOKUP($E78,'FSA 18'!$E$5:$O$248,3,0)","v":{"$error":"#N/A"}},{"$f":"VLOOKUP($E78,'FSA 18'!$E$5:$O$248,4,0)","v":{"$error":"#N/A"}},{"$f":"VLOOKUP($E78,'FSA 18'!$E$5:$O$248,5,0)","v":{"$error":"#N/A"}},{"$f":"VLOOKUP($E78,'FSA 18'!$E$5:$O$248,6,0)","v":{"$error":"#N/A"}},{"$f":"VLOOKUP($E78,'FSA 18'!$E$5:$O$248,7,0)","v":{"$error":"#N/A"}},{"$error":"#N/A"},{"$error":"#N/A"},{"$error":"#N/A"},{"$error":"#N/A"},{"$error":"#N/A"},""]
["26113","Michigan","Missaukee","Corn","MissaukeeCornNonirrigated","Nonirrigated",112.29,127.69,156.22,137.03,154.44999999999999,null,139.72,3.7,516.96,444.59,51.7,null,{"$f":"VLOOKUP($E79,'FSA 18'!$E$5:$O$248,3,0)","v":{"$error":"#N/A"}},{"$f":"VLOOKUP($E79,'FSA 18'!$E$5:$O$248,4,0)","v":{"$error":"#N/A"}},{"$f":"VLOOKUP($E79,'FSA 18'!$E$5:$O$248,5,0)","v":{"$error":"#N/A"}},{"$f":"VLOOKUP($E79,'FSA 18'!$E$5:$O$248,6,0)","v":{"$error":"#N/A"}},{"$f":"VLOOKUP($E79,'FSA 18'!$E$5:$O$248,7,0)","v":{"$error":"#N/A"}},{"$error":"#N/A"},{"$error":"#N/A"},{"$error":"#N/A"},{"$error":"#N/A"},{"$error":"#N/A"},""]
["26115","Michigan","Monroe","Corn","MonroeCornIrrigated","Irrigated",192.09,216.94,175.19,209.14,221.52,null,206.06,3.7,762.42,655.68,76.239999999999995,null,{"$f":"VLOOKUP($E80,'FSA 18'!$E$5:$O$248,3,0)","v":{"$error":"#N/A"}},{"$f":"VLOOKUP($E80,'FSA 18'!$E$5:$O$248,4,0)","v":{"$error":"#N/A"}},{"$f":"VLOOKUP($E80,'FSA 18'!$E$5:$O$248,5,0)","v":{"$error":"#N/A"}},{"$f":"VLOOKUP($E80,'FSA 18'!$E$5:$O$248,6,0)","v":{"$error":"#N/A"}},{"$f":"VLOOKUP($E80,'FSA 18'!$E$5:$O$248,7,0)","v":{"$error":"#N/A"}},{"$error":"#N/A"},{"$error":"#N/A"},{"$error":"#N/A"},{"$error":"#N/A"},{"$error":"#N/A"},""]
["26115","Michigan","Monroe","Corn","MonroeCornNonirrigated","Nonirrigated",168.57,186.45,151.78,179.58,194.82,null,178.2,3.7,659.34,567.03,65.930000000000007,null,{"$f":"VLOOKUP($E81,'FSA 18'!$E$5:$O$248,3,0)","v":{"$error":"#N/A"}},{"$f":"VLOOKUP($E81,'FSA 18'!$E$5:$O$248,4,0)","v":{"$error":"#N/A"}},{"$f":"VLOOKUP($E81,'FSA 18'!$E$5:$O$248,5,0)","v":{"$error":"#N/A"}},{"$f":"VLOOKUP($E81,'FSA 18'!$E$5:$O$248,6,0)","v":{"$error":"#N/A"}},{"$f":"VLOOKUP($E81,'FSA 18'!$E$5:$O$248,7,0)","v":{"$error":"#N/A"}},{"$error":"#N/A"},{"$error":"#N/A"},{"$error":"#N/A"},{"$error":"#N/A"},{"$error":"#N/A"},""]
["26117","Michigan","Montcalm","Corn","MontcalmCornIrrigated","Irrigated",189.41,172.04,183.82,197.07,188.14,null,187.12,3.7,692.34,595.41,69.23,null,{"$f":"VLOOKUP($E82,'FSA 18'!$E$5:$O$248,3,0)","v":{"$error":"#N/A"}},{"$f":"VLOOKUP($E82,'FSA 18'!$E$5:$O$248,4,0)","v":{"$error":"#N/A"}},{"$f":"VLOOKUP($E82,'FSA 18'!$E$5:$O$248,5,0)","v":{"$error":"#N/A"}},{"$f":"VLOOKUP($E82,'FSA 18'!$E$5:$O$248,6,0)","v":{"$error":"#N/A"}},{"$f":"VLOOKUP($E82,'FSA 18'!$E$5:$O$248,7,0)","v":{"$error":"#N/A"}},{"$error":"#N/A"},{"$error":"#N/A"},{"$error":"#N/A"},{"$error":"#N/A"},{"$error":"#N/A"},""]
["26117","Michigan","Montcalm","Corn","MontcalmCornNonirrigated","Nonirrigated",122.46,139.32,153.41,155.59,135.88,null,142.87,3.7,528.62,454.61,52.86,null,{"$f":"VLOOKUP($E83,'FSA 18'!$E$5:$O$248,3,0)","v":{"$error":"#N/A"}},{"$f":"VLOOKUP($E83,'FSA 18'!$E$5:$O$248,4,0)","v":{"$error":"#N/A"}},{"$f":"VLOOKUP($E83,'FSA 18'!$E$5:$O$248,5,0)","v":{"$error":"#N/A"}},{"$f":"VLOOKUP($E83,'FSA 18'!$E$5:$O$248,6,0)","v":{"$error":"#N/A"}},{"$f":"VLOOKUP($E83,'FSA 18'!$E$5:$O$248,7,0)","v":{"$error":"#N/A"}},{"$error":"#N/A"},{"$error":"#N/A"},{"$error":"#N/A"},{"$error":"#N/A"},{"$error":"#N/A"},""]
["26119","Michigan","Montmorency","Corn","MontmorencyCornAll","All",111.08,113.15,131.28,81.510000000000005,143.13999999999999,null,118.5,3.7,438.45,377.07,43.85,null,{"$f":"VLOOKUP($E84,'FSA 18'!$E$5:$O$248,3,0)","v":{"$error":"#N/A"}},{"$f":"VLOOKUP($E84,'FSA 18'!$E$5:$O$248,4,0)","v":{"$error":"#N/A"}},{"$f":"VLOOKUP($E84,'FSA 18'!$E$5:$O$248,5,0)","v":{"$error":"#N/A"}},{"$f":"VLOOKUP($E84,'FSA 18'!$E$5:$O$248,6,0)","v":{"$error":"#N/A"}},{"$f":"VLOOKUP($E84,'FSA 18'!$E$5:$O$248,7,0)","v":{"$error":"#N/A"}},{"$error":"#N/A"},{"$error":"#N/A"},{"$error":"#N/A"},{"$error":"#N/A"},{"$error":"#N/A"},""]
["26121","Michigan","Muskegon","Corn","MuskegonCornIrrigated","Irrigated",151.04,153.16999999999999,155.30000000000001,186.13,170.59,null,159.69,3.7,590.85,508.13,59.09,null,{"$f":"VLOOKUP($E85,'FSA 18'!$E$5:$O$248,3,0)","v":{"$error":"#N/A"}},{"$f":"VLOOKUP($E85,'FSA 18'!$E$5:$O$248,4,0)","v":{"$error":"#N/A"}},{"$f":"VLOOKUP($E85,'FSA 18'!$E$5:$O$248,5,0)","v":{"$error":"#N/A"}},{"$f":"VLOOKUP($E85,'FSA 18'!$E$5:$O$248,6,0)","v":{"$error":"#N/A"}},{"$f":"VLOOKUP($E85,'FSA 18'!$E$5:$O$248,7,0)","v":{"$error":"#N/A"}},{"$error":"#N/A"},{"$error":"#N/A"},{"$error":"#N/A"},{"$error":"#N/A"},{"$error":"#N/A"},""]
["26121","Michigan","Muskegon","Corn","MuskegonCornNonirrigated","Nonirrigated",120.69,118.35,141.82,158.59,142.76,null,135.09,3.7,499.83,429.85,49.98,null,{"$f":"VLOOKUP($E86,'FSA 18'!$E$5:$O$248,3,0)","v":{"$error":"#N/A"}},{"$f":"VLOOKUP($E86,'FSA 18'!$E$5:$O$248,4,0)","v":{"$error":"#N/A"}},{"$f":"VLOOKUP($E86,'FSA 18'!$E$5:$O$248,5,0)","v":{"$error":"#N/A"}},{"$f":"VLOOKUP($E86,'FSA 18'!$E$5:$O$248,6,0)","v":{"$error":"#N/A"}},{"$f":"VLOOKUP($E86,'FSA 18'!$E$5:$O$248,7,0)","v":{"$error":"#N/A"}},{"$error":"#N/A"},{"$error":"#N/A"},{"$error":"#N/A"},{"$error":"#N/A"},{"$error":"#N/A"},""]
["26123","Michigan","Newaygo","Corn","NewaygoCornIrrigated","Irrigated",169.75,156.69999999999999,173.5,197,187.83,null,177.03,3.7,655.01,563.30999999999995,65.5,null,{"$f":"VLOOKUP($E87,'FSA 18'!$E$5:$O$248,3,0)","v":{"$error":"#N/A"}},{"$f":"VLOOKUP($E87,'FSA 18'!$E$5:$O$248,4,0)","v":{"$error":"#N/A"}},{"$f":"VLOOKUP($E87,'FSA 18'!$E$5:$O$248,5,0)","v":{"$error":"#N/A"}},{"$f":"VLOOKUP($E87,'FSA 18'!$E$5:$O$248,6,0)","v":{"$error":"#N/A"}},{"$f":"VLOOKUP($E87,'FSA 18'!$E$5:$O$248,7,0)","v":{"$error":"#N/A"}},{"$error":"#N/A"},{"$error":"#N/A"},{"$error":"#N/A"},{"$error":"#N/A"},{"$error":"#N/A"},""]
["26123","Michigan","Newaygo","Corn","NewaygoCornNonirrigated","Nonirrigated",114.84,111.8,127,160.91,135.97,null,125.94,3.7,465.98,400.74,46.6,null,{"$f":"VLOOKUP($E88,'FSA 18'!$E$5:$O$248,3,0)","v":{"$error":"#N/A"}},{"$f":"VLOOKUP($E88,'FSA 18'!$E$5:$O$248,4,0)","v":{"$error":"#N/A"}},{"$f":"VLOOKUP($E88,'FSA 18'!$E$5:$O$248,5,0)","v":{"$error":"#N/A"}},{"$f":"VLOOKUP($E88,'FSA 18'!$E$5:$O$248,6,0)","v":{"$error":"#N/A"}},{"$f":"VLOOKUP($E88,'FSA 18'!$E$5:$O$248,7,0)","v":{"$error":"#N/A"}},{"$error":"#N/A"},{"$error":"#N/A"},{"$error":"#N/A"},{"$error":"#N/A"},{"$error":"#N/A"},""]
["26125","Michigan","Oakland","Corn","OaklandCornAll","All",156.4,135.81,173.85,153.29,147.43,null,152.37,3.7,563.77,484.84,56.38,null,{"$f":"VLOOKUP($E89,'FSA 18'!$E$5:$O$248,3,0)","v":{"$error":"#N/A"}},{"$f":"VLOOKUP($E89,'FSA 18'!$E$5:$O$248,4,0)","v":{"$error":"#N/A"}},{"$f":"VLOOKUP($E89,'FSA 18'!$E$5:$O$248,5,0)","v":{"$error":"#N/A"}},{"$f":"VLOOKUP($E89,'FSA 18'!$E$5:$O$248,6,0)","v":{"$error":"#N/A"}},{"$f":"VLOOKUP($E89,'FSA 18'!$E$5:$O$248,7,0)","v":{"$error":"#N/A"}},{"$error":"#N/A"},{"$error":"#N/A"},{"$error":"#N/A"},{"$error":"#N/A"},{"$error":"#N/A"},""]
["26127","Michigan","Oceana","Corn","OceanaCornIrrigated","Irrigated",149.9,136.16999999999999,147.28,166.44,164.65,null,153.94,3.7,569.58000000000004,489.84,56.96,null,{"$f":"VLOOKUP($E90,'FSA 18'!$E$5:$O$248,3,0)","v":{"$error":"#N/A"}},{"$f":"VLOOKUP($E90,'FSA 18'!$E$5:$O$248,4,0)","v":{"$error":"#N/A"}},{"$f":"VLOOKUP($E90,'FSA 18'!$E$5:$O$248,5,0)","v":{"$error":"#N/A"}},{"$f":"VLOOKUP($E90,'FSA 18'!$E$5:$O$248,6,0)","v":{"$error":"#N/A"}},{"$f":"VLOOKUP($E90,'FSA 18'!$E$5:$O$248,7,0)","v":{"$error":"#N/A"}},{"$error":"#N/A"},{"$error":"#N/A"},{"$error":"#N/A"},{"$error":"#N/A"},{"$error":"#N/A"},""]
["26127","Michigan","Oceana","Corn","OceanaCornNonirrigated","Nonirrigated",115.44,91.45,107.54,133.28,138.65,null,118.75,3.7,439.38,377.87,43.94,null,{"$f":"VLOOKUP($E91,'FSA 18'!$E$5:$O$248,3,0)","v":{"$error":"#N/A"}},{"$f":"VLOOKUP($E91,'FSA 18'!$E$5:$O$248,4,0)","v":{"$error":"#N/A"}},{"$f":"VLOOKUP($E91,'FSA 18'!$E$5:$O$248,5,0)","v":{"$error":"#N/A"}},{"$f":"VLOOKUP($E91,'FSA 18'!$E$5:$O$248,6,0)","v":{"$error":"#N/A"}},{"$f":"VLOOKUP($E91,'FSA 18'!$E$5:$O$248,7,0)","v":{"$error":"#N/A"}},{"$error":"#N/A"},{"$error":"#N/A"},{"$error":"#N/A"},{"$error":"#N/A"},{"$error":"#N/A"},""]
["26129","Michigan","Ogemaw","Corn","OgemawCornAll","All",123.92,117.08,148.85,145.16,152.5,null,139.31,3.7,515.45000000000005,443.29,51.55,null,{"$f":"VLOOKUP($E92,'FSA 18'!$E$5:$O$248,3,0)","v":{"$error":"#N/A"}},{"$f":"VLOOKUP($E92,'FSA 18'!$E$5:$O$248,4,0)","v":{"$error":"#N/A"}},{"$f":"VLOOKUP($E92,'FSA 18'!$E$5:$O$248,5,0)","v":{"$error":"#N/A"}},{"$f":"VLOOKUP($E92,'FSA 18'!$E$5:$O$248,6,0)","v":{"$error":"#N/A"}},{"$f":"VLOOKUP($E92,'FSA 18'!$E$5:$O$248,7,0)","v":{"$error":"#N/A"}},{"$error":"#N/A"},{"$error":"#N/A"},{"$error":"#N/A"},{"$error":"#N/A"},{"$error":"#N/A"},""]
["26131","Michigan","Ontonagon","Corn","OntonagonCornAll","All",120,52.8,132,87,58.4,null,88.47,3.7,327.33999999999997,281.51,32.729999999999997,null,{"$f":"VLOOKUP($E93,'FSA 18'!$E$5:$O$248,3,0)","v":{"$error":"#N/A"}},{"$f":"VLOOKUP($E93,'FSA 18'!$E$5:$O$248,4,0)","v":{"$error":"#N/A"}},{"$f":"VLOOKUP($E93,'FSA 18'!$E$5:$O$248,5,0)","v":{"$error":"#N/A"}},{"$f":"VLOOKUP($E93,'FSA 18'!$E$5:$O$248,6,0)","v":{"$error":"#N/A"}},{"$f":"VLOOKUP($E93,'FSA 18'!$E$5:$O$248,7,0)","v":{"$error":"#N/A"}},{"$error":"#N/A"},{"$error":"#N/A"},{"$error":"#N/A"},{"$error":"#N/A"},{"$error":"#N/A"},""]
["26133","Michigan","Osceola","Corn","OsceolaCornAll","All",116,130.58000000000001,135.86000000000001,127.2,163.03,null,131.21,3.7,485.48,417.51,48.55,null,{"$f":"VLOOKUP($E94,'FSA 18'!$E$5:$O$248,3,0)","v":{"$error":"#N/A"}},{"$f":"VLOOKUP($E94,'FSA 18'!$E$5:$O$248,4,0)","v":{"$error":"#N/A"}},{"$f":"VLOOKUP($E94,'FSA 18'!$E$5:$O$248,5,0)","v":{"$error":"#N/A"}},{"$f":"VLOOKUP($E94,'FSA 18'!$E$5:$O$248,6,0)","v":{"$error":"#N/A"}},{"$f":"VLOOKUP($E94,'FSA 18'!$E$5:$O$248,7,0)","v":{"$error":"#N/A"}},{"$error":"#N/A"},{"$error":"#N/A"},{"$error":"#N/A"},{"$error":"#N/A"},{"$error":"#N/A"},""]
["26135","Michigan","Oscoda","Corn","OscodaCornAll","All",120,102,124,117,131,null,120.33,3.7,445.22,382.89,44.52,null,{"$f":"VLOOKUP($E95,'FSA 18'!$E$5:$O$248,3,0)","v":{"$error":"#N/A"}},{"$f":"VLOOKUP($E95,'FSA 18'!$E$5:$O$248,4,0)","v":{"$error":"#N/A"}},{"$f":"VLOOKUP($E95,'FSA 18'!$E$5:$O$248,5,0)","v":{"$error":"#N/A"}},{"$f":"VLOOKUP($E95,'FSA 18'!$E$5:$O$248,6,0)","v":{"$error":"#N/A"}},{"$f":"VLOOKUP($E95,'FSA 18'!$E$5:$O$248,7,0)","v":{"$error":"#N/A"}},{"$error":"#N/A"},{"$error":"#N/A"},{"$error":"#N/A"},{"$error":"#N/A"},{"$error":"#N/A"},""]
["26137","Michigan","Otsego","Corn","OtsegoCornAll","All",82.18,109.15,107.2,79.290000000000006,134.26,null,99.51,3.7,368.19,316.64,36.82,null,{"$f":"VLOOKUP($E96,'FSA 18'!$E$5:$O$248,3,0)","v":{"$error":"#N/A"}},{"$f":"VLOOKUP($E96,'FSA 18'!$E$5:$O$248,4,0)","v":{"$error":"#N/A"}},{"$f":"VLOOKUP($E96,'FSA 18'!$E$5:$O$248,5,0)","v":{"$error":"#N/A"}},{"$f":"VLOOKUP($E96,'FSA 18'!$E$5:$O$248,6,0)","v":{"$error":"#N/A"}},{"$f":"VLOOKUP($E96,'FSA 18'!$E$5:$O$248,7,0)","v":{"$error":"#N/A"}},{"$error":"#N/A"},{"$error":"#N/A"},{"$error":"#N/A"},{"$error":"#N/A"},{"$error":"#N/A"},""]
["26139","Michigan","Ottawa","Corn","OttawaCornIrrigated","Irrigated",171.16,186.05,184.47,200.67,188.9,null,186.47,3.7,689.94,593.35,68.989999999999995,null,{"$f":"VLOOKUP($E97,'FSA 18'!$E$5:$O$248,3,0)","v":{"$error":"#N/A"}},{"$f":"VLOOKUP($E97,'FSA 18'!$E$5:$O$248,4,0)","v":{"$error":"#N/A"}},{"$f":"VLOOKUP($E97,'FSA 18'!$E$5:$O$248,5,0)","v":{"$error":"#N/A"}},{"$f":"VLOOKUP($E97,'FSA 18'!$E$5:$O$248,6,0)","v":{"$error":"#N/A"}},{"$f":"VLOOKUP($E97,'FSA 18'!$E$5:$O$248,7,0)","v":{"$error":"#N/A"}},{"$error":"#N/A"},{"$error":"#N/A"},{"$error":"#N/A"},{"$error":"#N/A"},{"$error":"#N/A"},""]
["26139","Michigan","Ottawa","Corn","OttawaCornNonirrigated","Nonirrigated",142.69,167.84,163.35,184.31,168.44,null,166.54,3.7,616.20000000000005,529.92999999999995,61.62,null,{"$f":"VLOOKUP($E98,'FSA 18'!$E$5:$O$248,3,0)","v":{"$error":"#N/A"}},{"$f":"VLOOKUP($E98,'FSA 18'!$E$5:$O$248,4,0)","v":{"$error":"#N/A"}},{"$f":"VLOOKUP($E98,'FSA 18'!$E$5:$O$248,5,0)","v":{"$error":"#N/A"}},{"$f":"VLOOKUP($E98,'FSA 18'!$E$5:$O$248,6,0)","v":{"$error":"#N/A"}},{"$f":"VLOOKUP($E98,'FSA 18'!$E$5:$O$248,7,0)","v":{"$error":"#N/A"}},{"$error":"#N/A"},{"$error":"#N/A"},{"$error":"#N/A"},{"$error":"#N/A"},{"$error":"#N/A"},""]
["26141","Michigan","Presque Isle","Corn","Presque IsleCornAll","All",104.7,101.02,115.26,76.760000000000005,126.21,null,106.99,3.7,395.86,340.44,39.590000000000003,null,{"$f":"VLOOKUP($E99,'FSA 18'!$E$5:$O$248,3,0)","v":{"$error":"#N/A"}},{"$f":"VLOOKUP($E99,'FSA 18'!$E$5:$O$248,4,0)","v":{"$error":"#N/A"}},{"$f":"VLOOKUP($E99,'FSA 18'!$E$5:$O$248,5,0)","v":{"$error":"#N/A"}},{"$f":"VLOOKUP($E99,'FSA 18'!$E$5:$O$248,6,0)","v":{"$error":"#N/A"}},{"$f":"VLOOKUP($E99,'FSA 18'!$E$5:$O$248,7,0)","v":{"$error":"#N/A"}},{"$error":"#N/A"},{"$error":"#N/A"},{"$error":"#N/A"},{"$error":"#N/A"},{"$error":"#N/A"},""]
["26143","Michigan","Roscommon","Corn","RoscommonCornAll","All",120,102,124,117,131,null,120.33,3.7,445.22,382.89,44.52,null,{"$f":"VLOOKUP($E100,'FSA 18'!$E$5:$O$248,3,0)","v":{"$error":"#N/A"}},{"$f":"VLOOKUP($E100,'FSA 18'!$E$5:$O$248,4,0)","v":{"$error":"#N/A"}},{"$f":"VLOOKUP($E100,'FSA 18'!$E$5:$O$248,5,0)","v":{"$error":"#N/A"}},{"$f":"VLOOKUP($E100,'FSA 18'!$E$5:$O$248,6,0)","v":{"$error":"#N/A"}},{"$f":"VLOOKUP($E100,'FSA 18'!$E$5:$O$248,7,0)","v":{"$error":"#N/A"}},{"$error":"#N/A"},{"$error":"#N/A"},{"$error":"#N/A"},{"$error":"#N/A"},{"$error":"#N/A"},""]
["26145","Michigan","Saginaw","Corn","SaginawCornAll","All",169.75,174.15,184.75,180.27,170.15,null,174.86,3.7,646.98,556.4,64.7,null,{"$f":"VLOOKUP($E101,'FSA 18'!$E$5:$O$248,3,0)","v":{"$error":"#N/A"}},{"$f":"VLOOKUP($E101,'FSA 18'!$E$5:$O$248,4,0)","v":{"$error":"#N/A"}},{"$f":"VLOOKUP($E101,'FSA 18'!$E$5:$O$248,5,0)","v":{"$error":"#N/A"}},{"$f":"VLOOKUP($E101,'FSA 18'!$E$5:$O$248,6,0)","v":{"$error":"#N/A"}},{"$f":"VLOOKUP($E101,'FSA 18'!$E$5:$O$248,7,0)","v":{"$error":"#N/A"}},{"$error":"#N/A"},{"$error":"#N/A"},{"$error":"#N/A"},{"$error":"#N/A"},{"$error":"#N/A"},""]
["26147","Michigan","St. Clair","Corn","St. ClairCornAll","All",167.17,167.31,169.24,170.49,168.16,null,168.24,3.7,622.49,535.34,62.25,null,{"$f":"VLOOKUP($E102,'FSA 18'!$E$5:$O$248,3,0)","v":{"$error":"#N/A"}},{"$f":"VLOOKUP($E102,'FSA 18'!$E$5:$O$248,4,0)","v":{"$error":"#N/A"}},{"$f":"VLOOKUP($E102,'FSA 18'!$E$5:$O$248,5,0)","v":{"$error":"#N/A"}},{"$f":"VLOOKUP($E102,'FSA 18'!$E$5:$O$248,6,0)","v":{"$error":"#N/A"}},{"$f":"VLOOKUP($E102,'FSA 18'!$E$5:$O$248,7,0)","v":{"$error":"#N/A"}},{"$error":"#N/A"},{"$error":"#N/A"},{"$error":"#N/A"},{"$error":"#N/A"},{"$error":"#N/A"},""]
["26149","Michigan","St. Joseph","Corn","St. JosephCornIrrigated","Irrigated",194.5,187.75,174,153.25,146.5,null,171.67,3.7,635.17999999999995,546.25,63.52,null,{"$f":"VLOOKUP($E103,'FSA 18'!$E$5:$O$248,3,0)","v":{"$error":"#N/A"}},{"$f":"VLOOKUP($E103,'FSA 18'!$E$5:$O$248,4,0)","v":{"$error":"#N/A"}},{"$f":"VLOOKUP($E103,'FSA 18'!$E$5:$O$248,5,0)","v":{"$error":"#N/A"}},{"$f":"VLOOKUP($E103,'FSA 18'!$E$5:$O$248,6,0)","v":{"$error":"#N/A"}},{"$f":"VLOOKUP($E103,'FSA 18'!$E$5:$O$248,7,0)","v":{"$error":"#N/A"}},{"$error":"#N/A"},{"$error":"#N/A"},{"$error":"#N/A"},{"$error":"#N/A"},{"$error":"#N/A"},""]
["26149","Michigan","St. Joseph","Corn","St. JosephCornNonirrigated","Nonirrigated",138.94,134.44999999999999,123.96,107.47,103.98,null,121.96,3.7,451.25,388.08,45.13,null,{"$f":"VLOOKUP($E104,'FSA 18'!$E$5:$O$248,3,0)","v":{"$error":"#N/A"}},{"$f":"VLOOKUP($E104,'FSA 18'!$E$5:$O$248,4,0)","v":{"$error":"#N/A"}},{"$f":"VLOOKUP($E104,'FSA 18'!$E$5:$O$248,5,0)","v":{"$error":"#N/A"}},{"$f":"VLOOKUP($E104,'FSA 18'!$E$5:$O$248,6,0)","v":{"$error":"#N/A"}},{"$f":"VLOOKUP($E104,'FSA 18'!$E$5:$O$248,7,0)","v":{"$error":"#N/A"}},{"$error":"#N/A"},{"$error":"#N/A"},{"$error":"#N/A"},{"$error":"#N/A"},{"$error":"#N/A"},""]
["26151","Michigan","Sanilac","Corn","SanilacCornAll","All",188.83,176.75,198.57,196.47,196.75,null,194.02,3.7,717.87,617.37,71.790000000000006,null,{"$f":"VLOOKUP($E105,'FSA 18'!$E$5:$O$248,3,0)","v":{"$error":"#N/A"}},{"$f":"VLOOKUP($E105,'FSA 18'!$E$5:$O$248,4,0)","v":{"$error":"#N/A"}},{"$f":"VLOOKUP($E105,'FSA 18'!$E$5:$O$248,5,0)","v":{"$error":"#N/A"}},{"$f":"VLOOKUP($E105,'FSA 18'!$E$5:$O$248,6,0)","v":{"$error":"#N/A"}},{"$f":"VLOOKUP($E105,'FSA 18'!$E$5:$O$248,7,0)","v":{"$error":"#N/A"}},{"$error":"#N/A"},{"$error":"#N/A"},{"$error":"#N/A"},{"$error":"#N/A"},{"$error":"#N/A"},""]
["26153","Michigan","Schoolcraft","Corn","SchoolcraftCornAll","All",120,56,132,87,61.6,null,89.53,3.7,331.26,284.88,33.130000000000003,null,{"$f":"VLOOKUP($E106,'FSA 18'!$E$5:$O$248,3,0)","v":{"$error":"#N/A"}},{"$f":"VLOOKUP($E106,'FSA 18'!$E$5:$O$248,4,0)","v":{"$error":"#N/A"}},{"$f":"VLOOKUP($E106,'FSA 18'!$E$5:$O$248,5,0)","v":{"$error":"#N/A"}},{"$f":"VLOOKUP($E106,'FSA 18'!$E$5:$O$248,6,0)","v":{"$error":"#N/A"}},{"$f":"VLOOKUP($E106,'FSA 18'!$E$5:$O$248,7,0)","v":{"$error":"#N/A"}},{"$error":"#N/A"},{"$error":"#N/A"},{"$error":"#N/A"},{"$error":"#N/A"},{"$error":"#N/A"},""]
["26155","Michigan","Shiawassee","Corn","ShiawasseeCornAll","All",163.86,154.97999999999999,180.86,157.91,157.81,null,159.86000000000001,3.7,591.48,508.67,59.15,null,{"$f":"VLOOKUP($E107,'FSA 18'!$E$5:$O$248,3,0)","v":{"$error":"#N/A"}},{"$f":"VLOOKUP($E107,'FSA 18'!$E$5:$O$248,4,0)","v":{"$error":"#N/A"}},{"$f":"VLOOKUP($E107,'FSA 18'!$E$5:$O$248,5,0)","v":{"$error":"#N/A"}},{"$f":"VLOOKUP($E107,'FSA 18'!$E$5:$O$248,6,0)","v":{"$error":"#N/A"}},{"$f":"VLOOKUP($E107,'FSA 18'!$E$5:$O$248,7,0)","v":{"$error":"#N/A"}},{"$error":"#N/A"},{"$error":"#N/A"},{"$error":"#N/A"},{"$error":"#N/A"},{"$error":"#N/A"},""]
["26157","Michigan","Tuscola","Corn","TuscolaCornIrrigated","Irrigated",187.17,190.69,212.35,191.67,184.9,null,189.84,3.7,702.41,604.07000000000005,70.239999999999995,null,{"$f":"VLOOKUP($E108,'FSA 18'!$E$5:$O$248,3,0)","v":{"$error":"#N/A"}},{"$f":"VLOOKUP($E108,'FSA 18'!$E$5:$O$248,4,0)","v":{"$error":"#N/A"}},{"$f":"VLOOKUP($E108,'FSA 18'!$E$5:$O$248,5,0)","v":{"$error":"#N/A"}},{"$f":"VLOOKUP($E108,'FSA 18'!$E$5:$O$248,6,0)","v":{"$error":"#N/A"}},{"$f":"VLOOKUP($E108,'FSA 18'!$E$5:$O$248,7,0)","v":{"$error":"#N/A"}},{"$error":"#N/A"},{"$error":"#N/A"},{"$error":"#N/A"},{"$error":"#N/A"},{"$error":"#N/A"},""]
["26157","Michigan","Tuscola","Corn","TuscolaCornNonirrigated","Nonirrigated",167.21,187.83,196.95,184.94,173.99,null,182.25,3.7,674.33,579.91999999999996,67.430000000000007,null,{"$f":"VLOOKUP($E109,'FSA 18'!$E$5:$O$248,3,0)","v":{"$error":"#N/A"}},{"$f":"VLOOKUP($E109,'FSA 18'!$E$5:$O$248,4,0)","v":{"$error":"#N/A"}},{"$f":"VLOOKUP($E109,'FSA 18'!$E$5:$O$248,5,0)","v":{"$error":"#N/A"}},{"$f":"VLOOKUP($E109,'FSA 18'!$E$5:$O$248,6,0)","v":{"$error":"#N/A"}},{"$f":"VLOOKUP($E109,'FSA 18'!$E$5:$O$248,7,0)","v":{"$error":"#N/A"}},{"$error":"#N/A"},{"$error":"#N/A"},{"$error":"#N/A"},{"$error":"#N/A"},{"$error":"#N/A"},""]
["26159","Michigan","Van Buren","Corn","Van BurenCornIrrigated","Irrigated",225.88,227.45,205.41,224.89,206.18,null,218.98,3.7,810.23,696.8,81.02,null,{"$f":"VLOOKUP($E110,'FSA 18'!$E$5:$O$248,3,0)","v":{"$error":"#N/A"}},{"$f":"VLOOKUP($E110,'FSA 18'!$E$5:$O$248,4,0)","v":{"$error":"#N/A"}},{"$f":"VLOOKUP($E110,'FSA 18'!$E$5:$O$248,5,0)","v":{"$error":"#N/A"}},{"$f":"VLOOKUP($E110,'FSA 18'!$E$5:$O$248,6,0)","v":{"$error":"#N/A"}},{"$f":"VLOOKUP($E110,'FSA 18'!$E$5:$O$248,7,0)","v":{"$error":"#N/A"}},{"$error":"#N/A"},{"$error":"#N/A"},{"$error":"#N/A"},{"$error":"#N/A"},{"$error":"#N/A"},""]
["26159","Michigan","Van Buren","Corn","Van BurenCornNonirrigated","Nonirrigated",171.9,170.56,166.65,158.08000000000001,160.21,null,165.81,3.7,613.5,527.61,61.35,null,{"$f":"VLOOKUP($E111,'FSA 18'!$E$5:$O$248,3,0)","v":{"$error":"#N/A"}},{"$f":"VLOOKUP($E111,'FSA 18'!$E$5:$O$248,4,0)","v":{"$error":"#N/A"}},{"$f":"VLOOKUP($E111,'FSA 18'!$E$5:$O$248,5,0)","v":{"$error":"#N/A"}},{"$f":"VLOOKUP($E111,'FSA 18'!$E$5:$O$248,6,0)","v":{"$error":"#N/A"}},{"$f":"VLOOKUP($E111,'FSA 18'!$E$5:$O$248,7,0)","v":{"$error":"#N/A"}},{"$error":"#N/A"},{"$error":"#N/A"},{"$error":"#N/A"},{"$error":"#N/A"},{"$error":"#N/A"},""]
["26161","Michigan","Washtenaw","Corn","WashtenawCornIrrigated","Irrigated",200.54,183.19,208.47,212.65,223.08,null,207.22,3.7,766.71,659.37,76.67,null,{"$f":"VLOOKUP($E112,'FSA 18'!$E$5:$O$248,3,0)","v":{"$error":"#N/A"}},{"$f":"VLOOKUP($E112,'FSA 18'!$E$5:$O$248,4,0)","v":{"$error":"#N/A"}},{"$f":"VLOOKUP($E112,'FSA 18'!$E$5:$O$248,5,0)","v":{"$error":"#N/A"}},{"$f":"VLOOKUP($E112,'FSA 18'!$E$5:$O$248,6,0)","v":{"$error":"#N/A"}},{"$f":"VLOOKUP($E112,'FSA 18'!$E$5:$O$248,7,0)","v":{"$error":"#N/A"}},{"$error":"#N/A"},{"$error":"#N/A"},{"$error":"#N/A"},{"$error":"#N/A"},{"$error":"#N/A"},""]
["26161","Michigan","Washtenaw","Corn","WashtenawCornNonirrigated","Nonirrigated",176.04,168.58,161.41,140.85,152.19999999999999,null,160.72999999999999,3.7,594.70000000000005,511.44,59.47,null,{"$f":"VLOOKUP($E113,'FSA 18'!$E$5:$O$248,3,0)","v":{"$error":"#N/A"}},{"$f":"VLOOKUP($E113,'FSA 18'!$E$5:$O$248,4,0)","v":{"$error":"#N/A"}},{"$f":"VLOOKUP($E113,'FSA 18'!$E$5:$O$248,5,0)","v":{"$error":"#N/A"}},{"$f":"VLOOKUP($E113,'FSA 18'!$E$5:$O$248,6,0)","v":{"$error":"#N/A"}},{"$f":"VLOOKUP($E113,'FSA 18'!$E$5:$O$248,7,0)","v":{"$error":"#N/A"}},{"$error":"#N/A"},{"$error":"#N/A"},{"$error":"#N/A"},{"$error":"#N/A"},{"$error":"#N/A"},""]
["26163","Michigan","Wayne","Corn","WayneCornAll","All",111.6,146.88999999999999,108,112.39,140.6,null,121.53,3.7,449.66,386.71,44.97,null,{"$f":"VLOOKUP($E114,'FSA 18'!$E$5:$O$248,3,0)","v":{"$error":"#N/A"}},{"$f":"VLOOKUP($E114,'FSA 18'!$E$5:$O$248,4,0)","v":{"$error":"#N/A"}},{"$f":"VLOOKUP($E114,'FSA 18'!$E$5:$O$248,5,0)","v":{"$error":"#N/A"}},{"$f":"VLOOKUP($E114,'FSA 18'!$E$5:$O$248,6,0)","v":{"$error":"#N/A"}},{"$f":"VLOOKUP($E114,'FSA 18'!$E$5:$O$248,7,0)","v":{"$error":"#N/A"}},{"$error":"#N/A"},{"$error":"#N/A"},{"$error":"#N/A"},{"$error":"#N/A"},{"$error":"#N/A"},""]
["26165","Michigan","Wexford","Corn","WexfordCornIrrigated","Irrigated",115.56,132.30000000000001,168.04,118.78,185.52,null,139.71,3.7,516.92999999999995,444.56,51.69,null,{"$f":"VLOOKUP($E115,'FSA 18'!$E$5:$O$248,3,0)","v":{"$error":"#N/A"}},{"$f":"VLOOKUP($E115,'FSA 18'!$E$5:$O$248,4,0)","v":{"$error":"#N/A"}},{"$f":"VLOOKUP($E115,'FSA 18'!$E$5:$O$248,5,0)","v":{"$error":"#N/A"}},{"$f":"VLOOKUP($E115,'FSA 18'!$E$5:$O$248,6,0)","v":{"$error":"#N/A"}},{"$f":"VLOOKUP($E115,'FSA 18'!$E$5:$O$248,7,0)","v":{"$error":"#N/A"}},{"$error":"#N/A"},{"$error":"#N/A"},{"$error":"#N/A"},{"$error":"#N/A"},{"$error":"#N/A"},""]
["26165","Michigan","Wexford","Corn","WexfordCornNonirrigated","Nonirrigated",100.25,114.32,144.09,102.31,158.80000000000001,null,120.24,3.7,444.89,382.61,44.49,null,{"$f":"VLOOKUP($E116,'FSA 18'!$E$5:$O$248,3,0)","v":{"$error":"#N/A"}},{"$f":"VLOOKUP($E116,'FSA 18'!$E$5:$O$248,4,0)","v":{"$error":"#N/A"}},{"$f":"VLOOKUP($E116,'FSA 18'!$E$5:$O$248,5,0)","v":{"$error":"#N/A"}},{"$f":"VLOOKUP($E116,'FSA 18'!$E$5:$O$248,6,0)","v":{"$error":"#N/A"}},{"$f":"VLOOKUP($E116,'FSA 18'!$E$5:$O$248,7,0)","v":{"$error":"#N/A"}},{"$error":"#N/A"},{"$error":"#N/A"},{"$error":"#N/A"},{"$error":"#N/A"},{"$error":"#N/A"},""]
["26001","Michigan","Alcona","Soybeans","AlconaSoybeansAll","All",29.17,23.2,35.93,40,37,null,34.03,9.6300000000000008,327.71,281.83,32.770000000000003,null,{"$f":"VLOOKUP($E117,'FSA 18'!$E$5:$O$248,3,0)","v":29},{"$f":"VLOOKUP($E117,'FSA 18'!$E$5:$O$248,4,0)","v":37},{"$f":"VLOOKUP($E117,'FSA 18'!$E$5:$O$248,5,0)","v":20},{"$f":"VLOOKUP($E117,'FSA 18'!$E$5:$O$248,6,0)","v":29},{"$f":"VLOOKUP($E117,'FSA 18'!$E$5:$O$248,7,0)","v":29},1.0058620689655173,0.62702702702702706,1.7965,1.3793103448275863,1.2758620689655173,1.2169123019571295]
["26005","Michigan","Allegan","Soybeans","AlleganSoybeansIrrigated","Irrigated",56.25,51.61,57.93,61.69,57.21,null,57.13,9.6300000000000008,550.16,473.14,55.02,null,{"$f":"VLOOKUP($E118,'FSA 18'!$E$5:$O$248,3,0)","v":{"$error":"#N/A"}},{"$f":"VLOOKUP($E118,'FSA 18'!$E$5:$O$248,4,0)","v":{"$error":"#N/A"}},{"$f":"VLOOKUP($E118,'FSA 18'!$E$5:$O$248,5,0)","v":{"$error":"#N/A"}},{"$f":"VLOOKUP($E118,'FSA 18'!$E$5:$O$248,6,0)","v":{"$error":"#N/A"}},{"$f":"VLOOKUP($E118,'FSA 18'!$E$5:$O$248,7,0)","v":{"$error":"#N/A"}},{"$error":"#N/A"},{"$error":"#N/A"},{"$error":"#N/A"},{"$error":"#N/A"},{"$error":"#N/A"},""]
["26005","Michigan","Allegan","Soybeans","AlleganSoybeansNonirrigated","Nonirrigated",50.36,44.18,47.18,53.64,48.63,null,48.72,9.6300000000000008,469.17,403.49,46.92,null,{"$f":"VLOOKUP($E119,'FSA 18'!$E$5:$O$248,3,0)","v":{"$error":"#N/A"}},{"$f":"VLOOKUP($E119,'FSA 18'!$E$5:$O$248,4,0)","v":{"$error":"#N/A"}},{"$f":"VLOOKUP($E119,'FSA 18'!$E$5:$O$248,5,0)","v":{"$error":"#N/A"}},{"$f":"VLOOKUP($E119,'FSA 18'!$E$5:$O$248,6,0)","v":{"$error":"#N/A"}},{"$f":"VLOOKUP($E119,'FSA 18'!$E$5:$O$248,7,0)","v":{"$error":"#N/A"}},{"$error":"#N/A"},{"$error":"#N/A"},{"$error":"#N/A"},{"$error":"#N/A"},{"$error":"#N/A"},""]
["26007","Michigan","Alpena","Soybeans","AlpenaSoybeansAll","All",24.34,24.82,38.26,27.99,34.590000000000003,null,29.13,9.6300000000000008,280.52,241.25,28.05,null,{"$f":"VLOOKUP($E120,'FSA 18'!$E$5:$O$248,3,0)","v":30},{"$f":"VLOOKUP($E120,'FSA 18'!$E$5:$O$248,4,0)","v":38},{"$f":"VLOOKUP($E120,'FSA 18'!$E$5:$O$248,5,0)","v":31},{"$f":"VLOOKUP($E120,'FSA 18'!$E$5:$O$248,6,0)","v":34},{"$f":"VLOOKUP($E120,'FSA 18'!$E$5:$O$248,7,0)","v":23},0.81133333333333335,0.65315789473684216,1.2341935483870967,0.82323529411764707,1.503913043478261,1.005166622810636]
["26009","Michigan","Antrim","Soybeans","AntrimSoybeansAll","All",28.8,45.2,36,36,37,null,36.33,9.6300000000000008,349.86,300.88,34.99,null,{"$f":"VLOOKUP($E121,'FSA 18'!$E$5:$O$248,3,0)","v":27},{"$f":"VLOOKUP($E121,'FSA 18'!$E$5:$O$248,4,0)","v":38},{"$f":"VLOOKUP($E121,'FSA 18'!$E$5:$O$248,5,0)","v":32},{"$f":"VLOOKUP($E121,'FSA 18'!$E$5:$O$248,6,0)","v":36},{"$f":"VLOOKUP($E121,'FSA 18'!$E$5:$O$248,7,0)","v":28},1.0666666666666667,1.1894736842105265,1.125,1,1.3214285714285714,1.1405137844611528]
["26011","Michigan","Arenac","Soybeans","ArenacSoybeansAll","All",41.78,39.299999999999997,49.44,47.12,42.65,null,43.85,9.6300000000000008,422.28,363.16,42.23,null,{"$f":"VLOOKUP($E122,'FSA 18'!$E$5:$O$248,3,0)","v":37},{"$f":"VLOOKUP($E122,'FSA 18'!$E$5:$O$248,4,0)","v":46},{"$f":"VLOOKUP($E122,'FSA 18'!$E$5:$O$248,5,0)","v":44},{"$f":"VLOOKUP($E122,'FSA 18'!$E$5:$O$248,6,0)","v":51},{"$f":"VLOOKUP($E122,'FSA 18'!$E$5:$O$248,7,0)","v":36},1.1291891891891892,0.85434782608695647,1.1236363636363635,0.9239215686274509,1.1847222222222222,1.0431634339524365]
["26015","Michigan","Barry","Soybeans","BarrySoybeansIrrigated","Irrigated",53.33,46.1,55.54,62.75,57.34,null,55.4,9.6300000000000008,533.5,458.81,53.35,null,{"$f":"VLOOKUP($E123,'FSA 18'!$E$5:$O$248,3,0)","v":{"$error":"#N/A"}},{"$f":"VLOOKUP($E123,'FSA 18'!$E$5:$O$248,4,0)","v":{"$error":"#N/A"}},{"$f":"VLOOKUP($E123,'FSA 18'!$E$5:$O$248,5,0)","v":{"$error":"#N/A"}},{"$f":"VLOOKUP($E123,'FSA 18'!$E$5:$O$248,6,0)","v":{"$error":"#N/A"}},{"$f":"VLOOKUP($E123,'FSA 18'!$E$5:$O$248,7,0)","v":{"$error":"#N/A"}},{"$error":"#N/A"},{"$error":"#N/A"},{"$error":"#N/A"},{"$error":"#N/A"},{"$error":"#N/A"},""]
["26015","Michigan","Barry","Soybeans","BarrySoybeansNonirrigated","Nonirrigated",50.5,44.92,48.21,50.8,44.44,null,47.88,9.6300000000000008,461.08,396.53,46.11,null,{"$f":"VLOOKUP($E124,'FSA 18'!$E$5:$O$248,3,0)","v":{"$error":"#N/A"}},{"$f":"VLOOKUP($E124,'FSA 18'!$E$5:$O$248,4,0)","v":{"$error":"#N/A"}},{"$f":"VLOOKUP($E124,'FSA 18'!$E$5:$O$248,5,0)","v":{"$error":"#N/A"}},{"$f":"VLOOKUP($E124,'FSA 18'!$E$5:$O$248,6,0)","v":{"$error":"#N/A"}},{"$f":"VLOOKUP($E124,'FSA 18'!$E$5:$O$248,7,0)","v":{"$error":"#N/A"}},{"$error":"#N/A"},{"$error":"#N/A"},{"$error":"#N/A"},{"$error":"#N/A"},{"$error":"#N/A"},""]
["26017","Michigan","Bay","Soybeans","BaySoybeansIrrigated","Irrigated",51.59,55.65,61.7,62.59,40.479999999999997,null,56.31,9.6300000000000008,542.27,466.35,54.23,null,{"$f":"VLOOKUP($E125,'FSA 18'!$E$5:$O$248,3,0)","v":{"$error":"#N/A"}},{"$f":"VLOOKUP($E125,'FSA 18'!$E$5:$O$248,4,0)","v":{"$error":"#N/A"}},{"$f":"VLOOKUP($E125,'FSA 18'!$E$5:$O$248,5,0)","v":{"$error":"#N/A"}},{"$f":"VLOOKUP($E125,'FSA 18'!$E$5:$O$248,6,0)","v":{"$error":"#N/A"}},{"$f":"VLOOKUP($E125,'FSA 18'!$E$5:$O$248,7,0)","v":{"$error":"#N/A"}},{"$error":"#N/A"},{"$error":"#N/A"},{"$error":"#N/A"},{"$error":"#N/A"},{"$error":"#N/A"},""]
["26017","Michigan","Bay","Soybeans","BaySoybeansNonirrigated","Nonirrigated",47.17,51.45,57.18,57.63,48.48,null,52.37,9.6300000000000008,504.32,433.72,50.43,null,{"$f":"VLOOKUP($E126,'FSA 18'!$E$5:$O$248,3,0)","v":{"$error":"#N/A"}},{"$f":"VLOOKUP($E126,'FSA 18'!$E$5:$O$248,4,0)","v":{"$error":"#N/A"}},{"$f":"VLOOKUP($E126,'FSA 18'!$E$5:$O$248,5,0)","v":{"$error":"#N/A"}},{"$f":"VLOOKUP($E126,'FSA 18'!$E$5:$O$248,6,0)","v":{"$error":"#N/A"}},{"$f":"VLOOKUP($E126,'FSA 18'!$E$5:$O$248,7,0)","v":{"$error":"#N/A"}},{"$error":"#N/A"},{"$error":"#N/A"},{"$error":"#N/A"},{"$error":"#N/A"},{"$error":"#N/A"},""]
["26021","Michigan","Berrien","Soybeans","BerrienSoybeansIrrigated","Irrigated",55.31,56.55,60.27,68.34,56.06,null,57.63,9.6300000000000008,554.98,477.28,55.5,null,{"$f":"VLOOKUP($E127,'FSA 18'!$E$5:$O$248,3,0)","v":{"$error":"#N/A"}},{"$f":"VLOOKUP($E127,'FSA 18'!$E$5:$O$248,4,0)","v":{"$error":"#N/A"}},{"$f":"VLOOKUP($E127,'FSA 18'!$E$5:$O$248,5,0)","v":{"$error":"#N/A"}},{"$f":"VLOOKUP($E127,'FSA 18'!$E$5:$O$248,6,0)","v":{"$error":"#N/A"}},{"$f":"VLOOKUP($E127,'FSA 18'!$E$5:$O$248,7,0)","v":{"$error":"#N/A"}},{"$error":"#N/A"},{"$error":"#N/A"},{"$error":"#N/A"},{"$error":"#N/A"},{"$error":"#N/A"},""]
["26021","Michigan","Berrien","Soybeans","BerrienSoybeansNonirrigated","Nonirrigated",44.87,44.03,51.32,52.67,42.21,null,46.74,9.6300000000000008,450.11,387.09,45.01,null,{"$f":"VLOOKUP($E128,'FSA 18'!$E$5:$O$248,3,0)","v":{"$error":"#N/A"}},{"$f":"VLOOKUP($E128,'FSA 18'!$E$5:$O$248,4,0)","v":{"$error":"#N/A"}},{"$f":"VLOOKUP($E128,'FSA 18'!$E$5:$O$248,5,0)","v":{"$error":"#N/A"}},{"$f":"VLOOKUP($E128,'FSA 18'!$E$5:$O$248,6,0)","v":{"$error":"#N/A"}},{"$f":"VLOOKUP($E128,'FSA 18'!$E$5:$O$248,7,0)","v":{"$error":"#N/A"}},{"$error":"#N/A"},{"$error":"#N/A"},{"$error":"#N/A"},{"$error":"#N/A"},{"$error":"#N/A"},""]
["26023","Michigan","Branch","Soybeans","BranchSoybeansIrrigated","Irrigated",51.41,50.09,55.91,58.56,52.38,null,53.23,9.6300000000000008,512.6,440.84,51.26,null,{"$f":"VLOOKUP($E129,'FSA 18'!$E$5:$O$248,3,0)","v":43},{"$f":"VLOOKUP($E129,'FSA 18'!$E$5:$O$248,4,0)","v":49},{"$f":"VLOOKUP($E129,'FSA 18'!$E$5:$O$248,5,0)","v":48},{"$f":"VLOOKUP($E129,'FSA 18'!$E$5:$O$248,6,0)","v":47},{"$f":"VLOOKUP($E129,'FSA 18'!$E$5:$O$248,7,0)","v":49},1.1955813953488372,1.0222448979591838,1.1647916666666667,1.2459574468085106,1.0689795918367349,1.1395109997239867]
["26023","Michigan","Branch","Soybeans","BranchSoybeansNonirrigated","Nonirrigated",48.13,42.02,47.12,52.7,40.24,null,45.76,9.6300000000000008,440.67,378.98,44.07,null,{"$f":"VLOOKUP($E130,'FSA 18'!$E$5:$O$248,3,0)","v":34},{"$f":"VLOOKUP($E130,'FSA 18'!$E$5:$O$248,4,0)","v":45},{"$f":"VLOOKUP($E130,'FSA 18'!$E$5:$O$248,5,0)","v":44},{"$f":"VLOOKUP($E130,'FSA 18'!$E$5:$O$248,6,0)","v":42},{"$f":"VLOOKUP($E130,'FSA 18'!$E$5:$O$248,7,0)","v":45},1.4155882352941178,0.93377777777777782,1.0709090909090908,1.2547619047619047,0.89422222222222225,1.1138518461930225]
["26025","Michigan","Calhoun","Soybeans","CalhounSoybeansIrrigated","Irrigated",57.75,44.78,55.33,62.76,53.84,null,55.64,9.6300000000000008,535.80999999999995,460.8,53.58,null,{"$f":"VLOOKUP($E131,'FSA 18'!$E$5:$O$248,3,0)","v":{"$error":"#N/A"}},{"$f":"VLOOKUP($E131,'FSA 18'!$E$5:$O$248,4,0)","v":{"$error":"#N/A"}},{"$f":"VLOOKUP($E131,'FSA 18'!$E$5:$O$248,5,0)","v":{"$error":"#N/A"}},{"$f":"VLOOKUP($E131,'FSA 18'!$E$5:$O$248,6,0)","v":{"$error":"#N/A"}},{"$f":"VLOOKUP($E131,'FSA 18'!$E$5:$O$248,7,0)","v":{"$error":"#N/A"}},{"$error":"#N/A"},{"$error":"#N/A"},{"$error":"#N/A"},{"$error":"#N/A"},{"$error":"#N/A"},""]
["26025","Michigan","Calhoun","Soybeans","CalhounSoybeansNonirrigated","Nonirrigated",52.83,42.19,46.86,48.51,33.049999999999997,null,45.85,9.6300000000000008,441.54,379.72,44.15,null,{"$f":"VLOOKUP($E132,'FSA 18'!$E$5:$O$248,3,0)","v":{"$error":"#N/A"}},{"$f":"VLOOKUP($E132,'FSA 18'!$E$5:$O$248,4,0)","v":{"$error":"#N/A"}},{"$f":"VLOOKUP($E132,'FSA 18'!$E$5:$O$248,5,0)","v":{"$error":"#N/A"}},{"$f":"VLOOKUP($E132,'FSA 18'!$E$5:$O$248,6,0)","v":{"$error":"#N/A"}},{"$f":"VLOOKUP($E132,'FSA 18'!$E$5:$O$248,7,0)","v":{"$error":"#N/A"}},{"$error":"#N/A"},{"$error":"#N/A"},{"$error":"#N/A"},{"$error":"#N/A"},{"$error":"#N/A"},""]
["26027","Michigan","Cass","Soybeans","CassSoybeansIrrigated","Irrigated",55.41,60.23,61.27,65.790000000000006,57.88,null,59.79,9.6300000000000008,575.78,495.17,57.58,null,{"$f":"VLOOKUP($E133,'FSA 18'!$E$5:$O$248,3,0)","v":46},{"$f":"VLOOKUP($E133,'FSA 18'!$E$5:$O$248,4,0)","v":56},{"$f":"VLOOKUP($E133,'FSA 18'!$E$5:$O$248,5,0)","v":53},{"$f":"VLOOKUP($E133,'FSA 18'!$E$5:$O$248,6,0)","v":54},{"$f":"VLOOKUP($E133,'FSA 18'!$E$5:$O$248,7,0)","v":52},1.2045652173913042,{"$f":"H133/T133","v":1.0755357142857143},{"$f":"I133/U133","v":1.1560377358490566},{"$f":"J133/V133","v":1.2183333333333335},{"$f":"K133/W133","v":1.1130769230769231},{"$f":"IFERROR(AVERAGE(X133:AB133),\"\")","v":1.1535097847872664}]
["26027","Michigan","Cass","Soybeans",{"$f":"C134&D134&F134","v":"CassSoybeansNonirrigated"},"Nonirrigated",40.74,42.82,46.19,43.58,42.37,null,42.92,9.6300000000000008,413.32,355.46,41.33,null,{"$f":"VLOOKUP($E134,'FSA 18'!$E$5:$O$248,3,0)","v":33},{"$f":"VLOOKUP($E134,'FSA 18'!$E$5:$O$248,4,0)","v":43},{"$f":"VLOOKUP($E134,'FSA 18'!$E$5:$O$248,5,0)","v":40},{"$f":"VLOOKUP($E134,'FSA 18'!$E$5:$O$248,6,0)","v":38},{"$f":"VLOOKUP($E134,'FSA 18'!$E$5:$O$248,7,0)","v":38},{"$f":"G134/S134","v":1.2345454545454546},0.99581395348837209,1.1547499999999999,1.1468421052631579,1.115,1.129390302659397]
["26029","Michigan","Charlevoix","Soybeans","CharlevoixSoybeansAll","All",40.799999999999997,47.2,47.2,44,40.799999999999997,null,44,9.6300000000000008,423.72,364.4,42.37,null,{"$f":"VLOOKUP($E135,'FSA 18'!$E$5:$O$248,3,0)","v":28},{"$f":"VLOOKUP($E135,'FSA 18'!$E$5:$O$248,4,0)","v":38},{"$f":"VLOOKUP($E135,'FSA 18'!$E$5:$O$248,5,0)","v":32},{"$f":"VLOOKUP($E135,'FSA 18'!$E$5:$O$248,6,0)","v":36},{"$f":"VLOOKUP($E135,'FSA 18'!$E$5:$O$248,7,0)","v":28},1.4571428571428571,1.2421052631578948,1.4750000000000001,1.2222222222222223,1.4571428571428571,1.3707226399331662]
["26031","Michigan","Cheboygan","Soybeans","CheboyganSoybeansAll","All",39.200000000000003,45.6,45.6,44.8,40.799999999999997,null,43.73,9.6300000000000008,421.12,362.16,42.11,null,{"$f":"VLOOKUP($E136,'FSA 18'!$E$5:$O$248,3,0)","v":29},{"$f":"VLOOKUP($E136,'FSA 18'!$E$5:$O$248,4,0)","v":38},{"$f":"VLOOKUP($E136,'FSA 18'!$E$5:$O$248,5,0)","v":32},{"$f":"VLOOKUP($E136,'FSA 18'!$E$5:$O$248,6,0)","v":35},{"$f":"VLOOKUP($E136,'FSA 18'!$E$5:$O$248,7,0)","v":28},1.3517241379310345,1.2,1.425,1.28,1.4571428571428571,1.3427733990147783]
["26033","Michigan","Chippewa","Soybeans","ChippewaSoybeansAll","All",28,25.6,36,35,37,null,33,9.6300000000000008,317.79000000000002,273.3,31.78,null,{"$f":"VLOOKUP($E137,'FSA 18'!$E$5:$O$248,3,0)","v":29},{"$f":"VLOOKUP($E137,'FSA 18'!$E$5:$O$248,4,0)","v":38},{"$f":"VLOOKUP($E137,'FSA 18'!$E$5:$O$248,5,0)","v":32},{"$f":"VLOOKUP($E137,'FSA 18'!$E$5:$O$248,6,0)","v":36},{"$f":"VLOOKUP($E137,'FSA 18'!$E$5:$O$248,7,0)","v":28},0.96551724137931039,0.67368421052631577,1.125,0.97222222222222221,1.3214285714285714,1.011570449111284]
["26035","Michigan","Clare","Soybeans","ClareSoybeansAll","All",30.32,29.51,33.28,39.47,34.130000000000003,null,32.58,9.6300000000000008,313.75,269.83,31.38,null,{"$f":"VLOOKUP($E138,'FSA 18'!$E$5:$O$248,3,0)","v":31},{"$f":"VLOOKUP($E138,'FSA 18'!$E$5:$O$248,4,0)","v":43},{"$f":"VLOOKUP($E138,'FSA 18'!$E$5:$O$248,5,0)","v":34},{"$f":"VLOOKUP($E138,'FSA 18'!$E$5:$O$248,6,0)","v":47},{"$f":"VLOOKUP($E138,'FSA 18'!$E$5:$O$248,7,0)","v":30},0.97806451612903222,0.68627906976744191,0.97882352941176476,0.83978723404255318,1.1376666666666668,0.92412420320349187]
["26037","Michigan","Clinton","Soybeans","ClintonSoybeansIrrigated","Irrigated",38.99,52.5,61.84,64.38,51.05,null,55.13,9.6300000000000008,530.9,456.57,53.09,null,{"$f":"VLOOKUP($E139,'FSA 18'!$E$5:$O$248,3,0)","v":{"$error":"#N/A"}},{"$f":"VLOOKUP($E139,'FSA 18'!$E$5:$O$248,4,0)","v":{"$error":"#N/A"}},{"$f":"VLOOKUP($E139,'FSA 18'!$E$5:$O$248,5,0)","v":{"$error":"#N/A"}},{"$f":"VLOOKUP($E139,'FSA 18'!$E$5:$O$248,6,0)","v":{"$error":"#N/A"}},{"$f":"VLOOKUP($E139,'FSA 18'!$E$5:$O$248,7,0)","v":{"$error":"#N/A"}},{"$error":"#N/A"},{"$error":"#N/A"},{"$error":"#N/A"},{"$error":"#N/A"},{"$error":"#N/A"},""]
["26037","Michigan","Clinton","Soybeans","ClintonSoybeansNonirrigated","Nonirrigated",45.1,47.15,54.32,56.36,41.27,null,48.86,9.6300000000000008,470.52,404.65,47.05,null,{"$f":"VLOOKUP($E140,'FSA 18'!$E$5:$O$248,3,0)","v":{"$error":"#N/A"}},{"$f":"VLOOKUP($E140,'FSA 18'!$E$5:$O$248,4,0)","v":{"$error":"#N/A"}},{"$f":"VLOOKUP($E140,'FSA 18'!$E$5:$O$248,5,0)","v":{"$error":"#N/A"}},{"$f":"VLOOKUP($E140,'FSA 18'!$E$5:$O$248,6,0)","v":{"$error":"#N/A"}},{"$f":"VLOOKUP($E140,'FSA 18'!$E$5:$O$248,7,0)","v":{"$error":"#N/A"}},{"$error":"#N/A"},{"$error":"#N/A"},{"$error":"#N/A"},{"$error":"#N/A"},{"$error":"#N/A"},""]
["26041","Michigan","Delta","Soybeans","DeltaSoybeansAll","All",28,24,36,35,37,null,33,9.6300000000000008,317.79000000000002,273.3,31.78,null,{"$f":"VLOOKUP($E141,'FSA 18'!$E$5:$O$248,3,0)","v":29},{"$f":"VLOOKUP($E141,'FSA 18'!$E$5:$O$248,4,0)","v":38},{"$f":"VLOOKUP($E141,'FSA 18'!$E$5:$O$248,5,0)","v":32},{"$f":"VLOOKUP($E141,'FSA 18'!$E$5:$O$248,6,0)","v":36},{"$f":"VLOOKUP($E141,'FSA 18'!$E$5:$O$248,7,0)","v":28},0.96551724137931039,0.63157894736842102,1.125,0.97222222222222221,1.3214285714285714,1.0031493964797051]
["26045","Michigan","Eaton","Soybeans","EatonSoybeansIrrigated","Irrigated",39.82,36.44,47.77,50.14,52.17,null,45.91,9.6300000000000008,442.11,380.21,44.21,null,{"$f":"VLOOKUP($E142,'FSA 18'!$E$5:$O$248,3,0)","v":{"$error":"#N/A"}},{"$f":"VLOOKUP($E142,'FSA 18'!$E$5:$O$248,4,0)","v":{"$error":"#N/A"}},{"$f":"VLOOKUP($E142,'FSA 18'!$E$5:$O$248,5,0)","v":{"$error":"#N/A"}},{"$f":"VLOOKUP($E142,'FSA 18'!$E$5:$O$248,6,0)","v":{"$error":"#N/A"}},{"$f":"VLOOKUP($E142,'FSA 18'!$E$5:$O$248,7,0)","v":{"$error":"#N/A"}},{"$error":"#N/A"},{"$error":"#N/A"},{"$error":"#N/A"},{"$error":"#N/A"},{"$error":"#N/A"},""]
["26045","Michigan","Eaton","Soybeans","EatonSoybeansNonirrigated","Nonirrigated",52.7,46.25,48.56,52.58,43.39,null,49.13,9.6300000000000008,473.12,406.88,47.31,null,{"$f":"VLOOKUP($E143,'FSA 18'!$E$5:$O$248,3,0)","v":{"$error":"#N/A"}},{"$f":"VLOOKUP($E143,'FSA 18'!$E$5:$O$248,4,0)","v":{"$error":"#N/A"}},{"$f":"VLOOKUP($E143,'FSA 18'!$E$5:$O$248,5,0)","v":{"$error":"#N/A"}},{"$f":"VLOOKUP($E143,'FSA 18'!$E$5:$O$248,6,0)","v":{"$error":"#N/A"}},{"$f":"VLOOKUP($E143,'FSA 18'!$E$5:$O$248,7,0)","v":{"$error":"#N/A"}},{"$error":"#N/A"},{"$error":"#N/A"},{"$error":"#N/A"},{"$error":"#N/A"},{"$error":"#N/A"},""]
["26047","Michigan","Emmet","Soybeans","EmmetSoybeansAll","All",38.4,44.8,44.8,41.6,40.799999999999997,null,42.4,9.6300000000000008,408.31,351.15,40.83,null,{"$f":"VLOOKUP($E144,'FSA 18'!$E$5:$O$248,3,0)","v":" "},{"$f":"VLOOKUP($E144,'FSA 18'!$E$5:$O$248,4,0)","v":38},{"$f":"VLOOKUP($E144,'FSA 18'!$E$5:$O$248,5,0)","v":32},{"$f":"VLOOKUP($E144,'FSA 18'!$E$5:$O$248,6,0)","v":36},{"$f":"VLOOKUP($E144,'FSA 18'!$E$5:$O$248,7,0)","v":28},{"$error":"#VALUE!"},1.1789473684210525,1.4,1.1555555555555557,1.4571428571428571,""]
["26049","Michigan","Genesee","Soybeans","GeneseeSoybeansAll","All",43,40.69,49.65,44.58,41.41,null,43,9.6300000000000008,414.09,356.12,41.41,null,{"$f":"VLOOKUP($E145,'FSA 18'!$E$5:$O$248,3,0)","v":33},{"$f":"VLOOKUP($E145,'FSA 18'!$E$5:$O$248,4,0)","v":38},{"$f":"VLOOKUP($E145,'FSA 18'!$E$5:$O$248,5,0)","v":37},{"$f":"VLOOKUP($E145,'FSA 18'!$E$5:$O$248,6,0)","v":42},{"$f":"VLOOKUP($E145,'FSA 18'!$E$5:$O$248,7,0)","v":41},1.303030303030303,1.0707894736842105,1.3418918918918918,1.0614285714285714,1.01,1.1574280480069952]
["26051","Michigan","Gladwin","Soybeans","GladwinSoybeansAll","All",39.75,38.79,44.11,44.01,39.659999999999997,null,41.14,9.6300000000000008,396.18,340.71,39.619999999999997,null,{"$f":"VLOOKUP($E146,'FSA 18'!$E$5:$O$248,3,0)","v":36},{"$f":"VLOOKUP($E146,'FSA 18'!$E$5:$O$248,4,0)","v":49},{"$f":"VLOOKUP($E146,'FSA 18'!$E$5:$O$248,5,0)","v":45},{"$f":"VLOOKUP($E146,'FSA 18'!$E$5:$O$248,6,0)","v":52},{"$f":"VLOOKUP($E146,'FSA 18'!$E$5:$O$248,7,0)","v":37},1.1041666666666667,0.79163265306122443,0.98022222222222222,0.84634615384615386,1.0718918918918918,0.95885191753763177]
["26055","Michigan","Grand Traverse","Soybeans","Grand TraverseSoybeansAll","All",26.69,19.48,27.09,30.48,34.869999999999997,null,28.09,9.6300000000000008,270.51,232.64,27.05,null,{"$f":"VLOOKUP($E147,'FSA 18'!$E$5:$O$248,3,0)","v":28},{"$f":"VLOOKUP($E147,'FSA 18'!$E$5:$O$248,4,0)","v":33},{"$f":"VLOOKUP($E147,'FSA 18'!$E$5:$O$248,5,0)","v":35},{"$f":"VLOOKUP($E147,'FSA 18'!$E$5:$O$248,6,0)","v":28},{"$f":"VLOOKUP($E147,'FSA 18'!$E$5:$O$248,7,0)","v":27},0.95321428571428579,0.59030303030303033,0.77400000000000002,1.0885714285714285,1.2914814814814815,0.93951404521404525]
["26057","Michigan","Gratiot","Soybeans","GratiotSoybeansIrrigated","Irrigated",44.73,40.99,54.07,58.31,49.19,null,49.33,9.6300000000000008,475.05,408.54,47.51,null,{"$f":"VLOOKUP($E148,'FSA 18'!$E$5:$O$248,3,0)","v":{"$error":"#N/A"}},{"$f":"VLOOKUP($E148,'FSA 18'!$E$5:$O$248,4,0)","v":{"$error":"#N/A"}},{"$f":"VLOOKUP($E148,'FSA 18'!$E$5:$O$248,5,0)","v":{"$error":"#N/A"}},{"$f":"VLOOKUP($E148,'FSA 18'!$E$5:$O$248,6,0)","v":{"$error":"#N/A"}},{"$f":"VLOOKUP($E148,'FSA 18'!$E$5:$O$248,7,0)","v":{"$error":"#N/A"}},{"$error":"#N/A"},{"$error":"#N/A"},{"$error":"#N/A"},{"$error":"#N/A"},{"$error":"#N/A"},""]
["26057","Michigan","Gratiot","Soybeans","GratiotSoybeansNonirrigated","Nonirrigated",46.39,46,55.36,56.31,43.35,null,49.25,9.6300000000000008,474.28,407.88,47.43,null,{"$f":"VLOOKUP($E149,'FSA 18'!$E$5:$O$248,3,0)","v":{"$error":"#N/A"}},{"$f":"VLOOKUP($E149,'FSA 18'!$E$5:$O$248,4,0)","v":{"$error":"#N/A"}},{"$f":"VLOOKUP($E149,'FSA 18'!$E$5:$O$248,5,0)","v":{"$error":"#N/A"}},{"$f":"VLOOKUP($E149,'FSA 18'!$E$5:$O$248,6,0)","v":{"$error":"#N/A"}},{"$f":"VLOOKUP($E149,'FSA 18'!$E$5:$O$248,7,0)","v":{"$error":"#N/A"}},{"$error":"#N/A"},{"$error":"#N/A"},{"$error":"#N/A"},{"$error":"#N/A"},{"$error":"#N/A"},""]
["26059","Michigan","Hillsdale","Soybeans","HillsdaleSoybeansIrrigated","Irrigated",62.84,49.07,54.99,58.31,50.8,null,54.7,9.6300000000000008,526.76,453.01,52.68,null,{"$f":"VLOOKUP($E150,'FSA 18'!$E$5:$O$248,3,0)","v":{"$error":"#N/A"}},{"$f":"VLOOKUP($E150,'FSA 18'!$E$5:$O$248,4,0)","v":{"$error":"#N/A"}},{"$f":"VLOOKUP($E150,'FSA 18'!$E$5:$O$248,5,0)","v":{"$error":"#N/A"}},{"$f":"VLOOKUP($E150,'FSA 18'!$E$5:$O$248,6,0)","v":{"$error":"#N/A"}},{"$f":"VLOOKUP($E150,'FSA 18'!$E$5:$O$248,7,0)","v":{"$error":"#N/A"}},{"$error":"#N/A"},{"$error":"#N/A"},{"$error":"#N/A"},{"$error":"#N/A"},{"$error":"#N/A"},""]
["26059","Michigan","Hillsdale","Soybeans","HillsdaleSoybeansNonirrigated","Nonirrigated",52.11,41,47.44,56.31,44.32,null,47.96,9.6300000000000008,461.85,397.19,46.19,null,{"$f":"VLOOKUP($E151,'FSA 18'!$E$5:$O$248,3,0)","v":{"$error":"#N/A"}},{"$f":"VLOOKUP($E151,'FSA 18'!$E$5:$O$248,4,0)","v":{"$error":"#N/A"}},{"$f":"VLOOKUP($E151,'FSA 18'!$E$5:$O$248,5,0)","v":{"$error":"#N/A"}},{"$f":"VLOOKUP($E151,'FSA 18'!$E$5:$O$248,6,0)","v":{"$error":"#N/A"}},{"$f":"VLOOKUP($E151,'FSA 18'!$E$5:$O$248,7,0)","v":{"$error":"#N/A"}},{"$error":"#N/A"},{"$error":"#N/A"},{"$error":"#N/A"},{"$error":"#N/A"},{"$error":"#N/A"},""]
["26063","Michigan","Huron","Soybeans","HuronSoybeansIrrigated","Irrigated",50.35,40.57,56.15,54.41,48.32,null,51.03,9.6300000000000008,491.42,422.62,49.14,null,{"$f":"VLOOKUP($E152,'FSA 18'!$E$5:$O$248,3,0)","v":{"$error":"#N/A"}},{"$f":"VLOOKUP($E152,'FSA 18'!$E$5:$O$248,4,0)","v":{"$error":"#N/A"}},{"$f":"VLOOKUP($E152,'FSA 18'!$E$5:$O$248,5,0)","v":{"$error":"#N/A"}},{"$f":"VLOOKUP($E152,'FSA 18'!$E$5:$O$248,6,0)","v":{"$error":"#N/A"}},{"$f":"VLOOKUP($E152,'FSA 18'!$E$5:$O$248,7,0)","v":{"$error":"#N/A"}},{"$error":"#N/A"},{"$error":"#N/A"},{"$error":"#N/A"},{"$error":"#N/A"},{"$error":"#N/A"},""]
["26063","Michigan","Huron","Soybeans","HuronSoybeansNonirrigated","Nonirrigated",51.2,43.4,55.92,58.49,54.66,null,53.93,9.6300000000000008,519.35,446.64,51.94,null,{"$f":"VLOOKUP($E153,'FSA 18'!$E$5:$O$248,3,0)","v":{"$error":"#N/A"}},{"$f":"VLOOKUP($E153,'FSA 18'!$E$5:$O$248,4,0)","v":{"$error":"#N/A"}},{"$f":"VLOOKUP($E153,'FSA 18'!$E$5:$O$248,5,0)","v":{"$error":"#N/A"}},{"$f":"VLOOKUP($E153,'FSA 18'!$E$5:$O$248,6,0)","v":{"$error":"#N/A"}},{"$f":"VLOOKUP($E153,'FSA 18'!$E$5:$O$248,7,0)","v":{"$error":"#N/A"}},{"$error":"#N/A"},{"$error":"#N/A"},{"$error":"#N/A"},{"$error":"#N/A"},{"$error":"#N/A"},""]
["26065","Michigan","Ingham","Soybeans","InghamSoybeansIrrigated","Irrigated",58.76,39.21,60.84,46.27,40.01,null,48.35,9.6300000000000008,465.61,400.42,46.56,null,{"$f":"VLOOKUP($E154,'FSA 18'!$E$5:$O$248,3,0)","v":{"$error":"#N/A"}},{"$f":"VLOOKUP($E154,'FSA 18'!$E$5:$O$248,4,0)","v":{"$error":"#N/A"}},{"$f":"VLOOKUP($E154,'FSA 18'!$E$5:$O$248,5,0)","v":{"$error":"#N/A"}},{"$f":"VLOOKUP($E154,'FSA 18'!$E$5:$O$248,6,0)","v":{"$error":"#N/A"}},{"$f":"VLOOKUP($E154,'FSA 18'!$E$5:$O$248,7,0)","v":{"$error":"#N/A"}},{"$error":"#N/A"},{"$error":"#N/A"},{"$error":"#N/A"},{"$error":"#N/A"},{"$error":"#N/A"},""]
["26065","Michigan","Ingham","Soybeans","InghamSoybeansNonirrigated","Nonirrigated",50.95,49.44,52.66,54.49,48.46,null,51.02,9.6300000000000008,491.32,422.54,49.13,null,{"$f":"VLOOKUP($E155,'FSA 18'!$E$5:$O$248,3,0)","v":{"$error":"#N/A"}},{"$f":"VLOOKUP($E155,'FSA 18'!$E$5:$O$248,4,0)","v":{"$error":"#N/A"}},{"$f":"VLOOKUP($E155,'FSA 18'!$E$5:$O$248,5,0)","v":{"$error":"#N/A"}},{"$f":"VLOOKUP($E155,'FSA 18'!$E$5:$O$248,6,0)","v":{"$error":"#N/A"}},{"$f":"VLOOKUP($E155,'FSA 18'!$E$5:$O$248,7,0)","v":{"$error":"#N/A"}},{"$error":"#N/A"},{"$error":"#N/A"},{"$error":"#N/A"},{"$error":"#N/A"},{"$error":"#N/A"},""]
["26067","Michigan","Ionia","Soybeans","IoniaSoybeansIrrigated","Irrigated",47.92,44.48,62.62,61.66,57.48,null,55.69,9.6300000000000008,536.29,461.21,53.63,null,{"$f":"VLOOKUP($E156,'FSA 18'!$E$5:$O$248,3,0)","v":{"$error":"#N/A"}},{"$f":"VLOOKUP($E156,'FSA 18'!$E$5:$O$248,4,0)","v":{"$error":"#N/A"}},{"$f":"VLOOKUP($E156,'FSA 18'!$E$5:$O$248,5,0)","v":{"$error":"#N/A"}},{"$f":"VLOOKUP($E156,'FSA 18'!$E$5:$O$248,6,0)","v":{"$error":"#N/A"}},{"$f":"VLOOKUP($E156,'FSA 18'!$E$5:$O$248,7,0)","v":{"$error":"#N/A"}},{"$error":"#N/A"},{"$error":"#N/A"},{"$error":"#N/A"},{"$error":"#N/A"},{"$error":"#N/A"},""]
["26067","Michigan","Ionia","Soybeans","IoniaSoybeansNonirrigated","Nonirrigated",50.76,46.26,56.22,57.88,44.58,null,51.08,9.6300000000000008,491.9,423.03,49.19,null,{"$f":"VLOOKUP($E157,'FSA 18'!$E$5:$O$248,3,0)","v":{"$error":"#N/A"}},{"$f":"VLOOKUP($E157,'FSA 18'!$E$5:$O$248,4,0)","v":{"$error":"#N/A"}},{"$f":"VLOOKUP($E157,'FSA 18'!$E$5:$O$248,5,0)","v":{"$error":"#N/A"}},{"$f":"VLOOKUP($E157,'FSA 18'!$E$5:$O$248,6,0)","v":{"$error":"#N/A"}},{"$f":"VLOOKUP($E157,'FSA 18'!$E$5:$O$248,7,0)","v":{"$error":"#N/A"}},{"$error":"#N/A"},{"$error":"#N/A"},{"$error":"#N/A"},{"$error":"#N/A"},{"$error":"#N/A"},""]
["26069","Michigan","Iosco","Soybeans","IoscoSoybeansAll","All",34.82,32.92,40.130000000000003,42.47,36.96,null,37.299999999999997,9.6300000000000008,359.2,308.91000000000003,35.92,null,{"$f":"VLOOKUP($E158,'FSA 18'!$E$5:$O$248,3,0)","v":35},{"$f":"VLOOKUP($E158,'FSA 18'!$E$5:$O$248,4,0)","v":44},{"$f":"VLOOKUP($E158,'FSA 18'!$E$5:$O$248,5,0)","v":34},{"$f":"VLOOKUP($E158,'FSA 18'!$E$5:$O$248,6,0)","v":43},{"$f":"VLOOKUP($E158,'FSA 18'!$E$5:$O$248,7,0)","v":33},0.99485714285714288,0.74818181818181817,1.1802941176470589,0.98767441860465111,1.1200000000000001,1.0062014994581343]
["26073","Michigan","Isabella","Soybeans","IsabellaSoybeansIrrigated","Irrigated",48.04,37.700000000000003,48.04,53.35,45.89,null,47.32,9.6300000000000008,455.69,391.89,45.57,null,{"$f":"VLOOKUP($E159,'FSA 18'!$E$5:$O$248,3,0)","v":{"$error":"#N/A"}},{"$f":"VLOOKUP($E159,'FSA 18'!$E$5:$O$248,4,0)","v":{"$error":"#N/A"}},{"$f":"VLOOKUP($E159,'FSA 18'!$E$5:$O$248,5,0)","v":{"$error":"#N/A"}},{"$f":"VLOOKUP($E159,'FSA 18'!$E$5:$O$248,6,0)","v":{"$error":"#N/A"}},{"$f":"VLOOKUP($E159,'FSA 18'!$E$5:$O$248,7,0)","v":{"$error":"#N/A"}},{"$error":"#N/A"},{"$error":"#N/A"},{"$error":"#N/A"},{"$error":"#N/A"},{"$error":"#N/A"},""]
["26073","Michigan","Isabella","Soybeans","IsabellaSoybeansNonirrigated","Nonirrigated",45.93,40.04,47.4,50.14,39.770000000000003,null,44.46,9.6300000000000008,428.15,368.21,42.82,null,{"$f":"VLOOKUP($E160,'FSA 18'!$E$5:$O$248,3,0)","v":{"$error":"#N/A"}},{"$f":"VLOOKUP($E160,'FSA 18'!$E$5:$O$248,4,0)","v":{"$error":"#N/A"}},{"$f":"VLOOKUP($E160,'FSA 18'!$E$5:$O$248,5,0)","v":{"$error":"#N/A"}},{"$f":"VLOOKUP($E160,'FSA 18'!$E$5:$O$248,6,0)","v":{"$error":"#N/A"}},{"$f":"VLOOKUP($E160,'FSA 18'!$E$5:$O$248,7,0)","v":{"$error":"#N/A"}},{"$error":"#N/A"},{"$error":"#N/A"},{"$error":"#N/A"},{"$error":"#N/A"},{"$error":"#N/A"},""]
["26075","Michigan","Jackson","Soybeans","JacksonSoybeansIrrigated","Irrigated",49.58,56.86,55.55,51.77,58.31,null,54.73,9.6300000000000008,527.04999999999995,453.26,52.71,null,{"$f":"VLOOKUP($E161,'FSA 18'!$E$5:$O$248,3,0)","v":{"$error":"#N/A"}},{"$f":"VLOOKUP($E161,'FSA 18'!$E$5:$O$248,4,0)","v":{"$error":"#N/A"}},{"$f":"VLOOKUP($E161,'FSA 18'!$E$5:$O$248,5,0)","v":{"$error":"#N/A"}},{"$f":"VLOOKUP($E161,'FSA 18'!$E$5:$O$248,6,0)","v":{"$error":"#N/A"}},{"$f":"VLOOKUP($E161,'FSA 18'!$E$5:$O$248,7,0)","v":{"$error":"#N/A"}},{"$error":"#N/A"},{"$error":"#N/A"},{"$error":"#N/A"},{"$error":"#N/A"},{"$error":"#N/A"},""]
["26075","Michigan","Jackson","Soybeans","JacksonSoybeansNonirrigated","Nonirrigated",50.01,42.11,42.84,47.34,33.83,null,44.1,9.6300000000000008,424.68,365.22,42.47,null,{"$f":"VLOOKUP($E162,'FSA 18'!$E$5:$O$248,3,0)","v":{"$error":"#N/A"}},{"$f":"VLOOKUP($E162,'FSA 18'!$E$5:$O$248,4,0)","v":{"$error":"#N/A"}},{"$f":"VLOOKUP($E162,'FSA 18'!$E$5:$O$248,5,0)","v":{"$error":"#N/A"}},{"$f":"VLOOKUP($E162,'FSA 18'!$E$5:$O$248,6,0)","v":{"$error":"#N/A"}},{"$f":"VLOOKUP($E162,'FSA 18'!$E$5:$O$248,7,0)","v":{"$error":"#N/A"}},{"$error":"#N/A"},{"$error":"#N/A"},{"$error":"#N/A"},{"$error":"#N/A"},{"$error":"#N/A"},""]
["26077","Michigan","Kalamazoo","Soybeans","KalamazooSoybeansIrrigated","Irrigated",60.92,61.73,64.650000000000006,64.61,55.4,null,62.42,9.6300000000000008,601.1,516.95000000000005,60.11,null,{"$f":"VLOOKUP($E163,'FSA 18'!$E$5:$O$248,3,0)","v":53},{"$f":"VLOOKUP($E163,'FSA 18'!$E$5:$O$248,4,0)","v":60},{"$f":"VLOOKUP($E163,'FSA 18'!$E$5:$O$248,5,0)","v":56},{"$f":"VLOOKUP($E163,'FSA 18'!$E$5:$O$248,6,0)","v":45},{"$f":"VLOOKUP($E163,'FSA 18'!$E$5:$O$248,7,0)","v":58},1.149433962264151,1.0288333333333333,1.1544642857142857,1.4357777777777778,0.95517241379310347,1.1447363545765303]
["26077","Michigan","Kalamazoo","Soybeans","KalamazooSoybeansNonirrigated","Nonirrigated",51.64,43.43,47.7,49.98,37.25,null,47.04,9.6300000000000008,453,389.58,45.3,null,{"$f":"VLOOKUP($E164,'FSA 18'!$E$5:$O$248,3,0)","v":38},{"$f":"VLOOKUP($E164,'FSA 18'!$E$5:$O$248,4,0)","v":49},{"$f":"VLOOKUP($E164,'FSA 18'!$E$5:$O$248,5,0)","v":46},{"$f":"VLOOKUP($E164,'FSA 18'!$E$5:$O$248,6,0)","v":33},{"$f":"VLOOKUP($E164,'FSA 18'!$E$5:$O$248,7,0)","v":48},1.3589473684210527,0.88632653061224487,1.0369565217391306,1.5145454545454544,0.77604166666666663,1.1145635083969099]
["26079","Michigan","Kalkaska","Soybeans","KalkaskaSoybeansAll","All",28,36,36,36,37,null,36,9.6300000000000008,346.68,298.14,34.67,null,{"$f":"VLOOKUP($E165,'FSA 18'!$E$5:$O$248,3,0)","v":28},{"$f":"VLOOKUP($E165,'FSA 18'!$E$5:$O$248,4,0)","v":38},{"$f":"VLOOKUP($E165,'FSA 18'!$E$5:$O$248,5,0)","v":32},{"$f":"VLOOKUP($E165,'FSA 18'!$E$5:$O$248,6,0)","v":36},{"$f":"VLOOKUP($E165,'FSA 18'!$E$5:$O$248,7,0)","v":28},1,0.94736842105263153,1.125,1,1.3214285714285714,1.0787593984962407]
["26081","Michigan","Kent","Soybeans","KentSoybeansIrrigated","Irrigated",45.28,42.58,63.96,58.59,46.06,null,49.98,9.6300000000000008,481.31,413.93,48.13,null,{"$f":"VLOOKUP($E166,'FSA 18'!$E$5:$O$248,3,0)","v":{"$error":"#N/A"}},{"$f":"VLOOKUP($E166,'FSA 18'!$E$5:$O$248,4,0)","v":{"$error":"#N/A"}},{"$f":"VLOOKUP($E166,'FSA 18'!$E$5:$O$248,5,0)","v":{"$error":"#N/A"}},{"$f":"VLOOKUP($E166,'FSA 18'!$E$5:$O$248,6,0)","v":{"$error":"#N/A"}},{"$f":"VLOOKUP($E166,'FSA 18'!$E$5:$O$248,7,0)","v":{"$error":"#N/A"}},{"$error":"#N/A"},{"$error":"#N/A"},{"$error":"#N/A"},{"$error":"#N/A"},{"$error":"#N/A"},""]
["26081","Michigan","Kent","Soybeans","KentSoybeansNonirrigated","Nonirrigated",43.21,39.590000000000003,49.74,52.91,41.13,null,44.69,9.6300000000000008,430.36,370.11,43.04,null,{"$f":"VLOOKUP($E167,'FSA 18'!$E$5:$O$248,3,0)","v":{"$error":"#N/A"}},{"$f":"VLOOKUP($E167,'FSA 18'!$E$5:$O$248,4,0)","v":{"$error":"#N/A"}},{"$f":"VLOOKUP($E167,'FSA 18'!$E$5:$O$248,5,0)","v":{"$error":"#N/A"}},{"$f":"VLOOKUP($E167,'FSA 18'!$E$5:$O$248,6,0)","v":{"$error":"#N/A"}},{"$f":"VLOOKUP($E167,'FSA 18'!$E$5:$O$248,7,0)","v":{"$error":"#N/A"}},{"$error":"#N/A"},{"$error":"#N/A"},{"$error":"#N/A"},{"$error":"#N/A"},{"$error":"#N/A"},""]
["26087","Michigan","Lapeer","Soybeans","LapeerSoybeansAll","All",46.53,38.81,50.84,52.54,40.840000000000003,null,46.07,9.6300000000000008,443.65,381.54,44.37,null,{"$f":"VLOOKUP($E168,'FSA 18'!$E$5:$O$248,3,0)","v":{"$error":"#N/A"}},{"$f":"VLOOKUP($E168,'FSA 18'!$E$5:$O$248,4,0)","v":{"$error":"#N/A"}},{"$f":"VLOOKUP($E168,'FSA 18'!$E$5:$O$248,5,0)","v":{"$error":"#N/A"}},{"$f":"VLOOKUP($E168,'FSA 18'!$E$5:$O$248,6,0)","v":{"$error":"#N/A"}},{"$f":"VLOOKUP($E168,'FSA 18'!$E$5:$O$248,7,0)","v":{"$error":"#N/A"}},{"$error":"#N/A"},{"$error":"#N/A"},{"$error":"#N/A"},{"$error":"#N/A"},{"$error":"#N/A"},""]
["26089","Michigan","Leelanau","Soybeans","LeelanauSoybeansAll","All",42.4,48.8,48.8,44,45.1,null,45.97,9.6300000000000008,442.69,380.71,44.27,null,{"$f":"VLOOKUP($E169,'FSA 18'!$E$5:$O$248,3,0)","v":{"$error":"#N/A"}},{"$f":"VLOOKUP($E169,'FSA 18'!$E$5:$O$248,4,0)","v":{"$error":"#N/A"}},{"$f":"VLOOKUP($E169,'FSA 18'!$E$5:$O$248,5,0)","v":{"$error":"#N/A"}},{"$f":"VLOOKUP($E169,'FSA 18'!$E$5:$O$248,6,0)","v":{"$error":"#N/A"}},{"$f":"VLOOKUP($E169,'FSA 18'!$E$5:$O$248,7,0)","v":{"$error":"#N/A"}},{"$error":"#N/A"},{"$error":"#N/A"},{"$error":"#N/A"},{"$error":"#N/A"},{"$error":"#N/A"},""]
["26091","Michigan","Lenawee","Soybeans","LenaweeSoybeansIrrigated","Irrigated",54.96,56.29,57.46,61.46,55.74,null,56.5,9.6300000000000008,544.1,467.93,54.41,null,{"$f":"VLOOKUP($E170,'FSA 18'!$E$5:$O$248,3,0)","v":{"$error":"#N/A"}},{"$f":"VLOOKUP($E170,'FSA 18'!$E$5:$O$248,4,0)","v":{"$error":"#N/A"}},{"$f":"VLOOKUP($E170,'FSA 18'!$E$5:$O$248,5,0)","v":{"$error":"#N/A"}},{"$f":"VLOOKUP($E170,'FSA 18'!$E$5:$O$248,6,0)","v":{"$error":"#N/A"}},{"$f":"VLOOKUP($E170,'FSA 18'!$E$5:$O$248,7,0)","v":{"$error":"#N/A"}},{"$error":"#N/A"},{"$error":"#N/A"},{"$error":"#N/A"},{"$error":"#N/A"},{"$error":"#N/A"},""]
["26091","Michigan","Lenawee","Soybeans","LenaweeSoybeansNonirrigated","Nonirrigated",56.78,50.4,51.83,58.96,49.53,null,53,9.6300000000000008,510.39,438.94,51.04,null,{"$f":"VLOOKUP($E171,'FSA 18'!$E$5:$O$248,3,0)","v":{"$error":"#N/A"}},{"$f":"VLOOKUP($E171,'FSA 18'!$E$5:$O$248,4,0)","v":{"$error":"#N/A"}},{"$f":"VLOOKUP($E171,'FSA 18'!$E$5:$O$248,5,0)","v":{"$error":"#N/A"}},{"$f":"VLOOKUP($E171,'FSA 18'!$E$5:$O$248,6,0)","v":{"$error":"#N/A"}},{"$f":"VLOOKUP($E171,'FSA 18'!$E$5:$O$248,7,0)","v":{"$error":"#N/A"}},{"$error":"#N/A"},{"$error":"#N/A"},{"$error":"#N/A"},{"$error":"#N/A"},{"$error":"#N/A"},""]
["26093","Michigan","Livingston","Soybeans","LivingstonSoybeansAll","All",51.74,46.89,48.28,51.46,39.549999999999997,null,48.88,9.6300000000000008,470.71,404.81,47.07,null,{"$f":"VLOOKUP($E172,'FSA 18'!$E$5:$O$248,3,0)","v":{"$error":"#N/A"}},{"$f":"VLOOKUP($E172,'FSA 18'!$E$5:$O$248,4,0)","v":{"$error":"#N/A"}},{"$f":"VLOOKUP($E172,'FSA 18'!$E$5:$O$248,5,0)","v":{"$error":"#N/A"}},{"$f":"VLOOKUP($E172,'FSA 18'!$E$5:$O$248,6,0)","v":{"$error":"#N/A"}},{"$f":"VLOOKUP($E172,'FSA 18'!$E$5:$O$248,7,0)","v":{"$error":"#N/A"}},{"$error":"#N/A"},{"$error":"#N/A"},{"$error":"#N/A"},{"$error":"#N/A"},{"$error":"#N/A"},""]
["26095","Michigan","Luce","Soybeans","LuceSoybeansAll","All",28,25.6,36,35,37,null,33,9.6300000000000008,317.79000000000002,273.3,31.78,null,{"$f":"VLOOKUP($E173,'FSA 18'!$E$5:$O$248,3,0)","v":{"$error":"#N/A"}},{"$f":"VLOOKUP($E173,'FSA 18'!$E$5:$O$248,4,0)","v":{"$error":"#N/A"}},{"$f":"VLOOKUP($E173,'FSA 18'!$E$5:$O$248,5,0)","v":{"$error":"#N/A"}},{"$f":"VLOOKUP($E173,'FSA 18'!$E$5:$O$248,6,0)","v":{"$error":"#N/A"}},{"$f":"VLOOKUP($E173,'FSA 18'!$E$5:$O$248,7,0)","v":{"$error":"#N/A"}},{"$error":"#N/A"},{"$error":"#N/A"},{"$error":"#N/A"},{"$error":"#N/A"},{"$error":"#N/A"},""]
["26099","Michigan","Macomb","Soybeans","MacombSoybeansAll","All",42.18,42.18,43.19,51.82,42.24,null,42.54,9.6300000000000008,409.66,352.31,40.97,null,{"$f":"VLOOKUP($E174,'FSA 18'!$E$5:$O$248,3,0)","v":{"$error":"#N/A"}},{"$f":"VLOOKUP($E174,'FSA 18'!$E$5:$O$248,4,0)","v":{"$error":"#N/A"}},{"$f":"VLOOKUP($E174,'FSA 18'!$E$5:$O$248,5,0)","v":{"$error":"#N/A"}},{"$f":"VLOOKUP($E174,'FSA 18'!$E$5:$O$248,6,0)","v":{"$error":"#N/A"}},{"$f":"VLOOKUP($E174,'FSA 18'!$E$5:$O$248,7,0)","v":{"$error":"#N/A"}},{"$error":"#N/A"},{"$error":"#N/A"},{"$error":"#N/A"},{"$error":"#N/A"},{"$error":"#N/A"},""]
["26105","Michigan","Mason","Soybeans","MasonSoybeansAll","All",39.24,36.520000000000003,45.88,47.41,47.31,null,44.14,9.6300000000000008,425.07,365.56,42.51,null,{"$f":"VLOOKUP($E175,'FSA 18'!$E$5:$O$248,3,0)","v":{"$error":"#N/A"}},{"$f":"VLOOKUP($E175,'FSA 18'!$E$5:$O$248,4,0)","v":{"$error":"#N/A"}},{"$f":"VLOOKUP($E175,'FSA 18'!$E$5:$O$248,5,0)","v":{"$error":"#N/A"}},{"$f":"VLOOKUP($E175,'FSA 18'!$E$5:$O$248,6,0)","v":{"$error":"#N/A"}},{"$f":"VLOOKUP($E175,'FSA 18'!$E$5:$O$248,7,0)","v":{"$error":"#N/A"}},{"$error":"#N/A"},{"$error":"#N/A"},{"$error":"#N/A"},{"$error":"#N/A"},{"$error":"#N/A"},""]
["26107","Michigan","Mecosta","Soybeans","MecostaSoybeansIrrigated","Irrigated",32,44.22,46,51,55.54,null,47.07,9.6300000000000008,453.28,389.82,45.33,null,{"$f":"VLOOKUP($E176,'FSA 18'!$E$5:$O$248,3,0)","v":{"$error":"#N/A"}},{"$f":"VLOOKUP($E176,'FSA 18'!$E$5:$O$248,4,0)","v":{"$error":"#N/A"}},{"$f":"VLOOKUP($E176,'FSA 18'!$E$5:$O$248,5,0)","v":{"$error":"#N/A"}},{"$f":"VLOOKUP($E176,'FSA 18'!$E$5:$O$248,6,0)","v":{"$error":"#N/A"}},{"$f":"VLOOKUP($E176,'FSA 18'!$E$5:$O$248,7,0)","v":{"$error":"#N/A"}},{"$error":"#N/A"},{"$error":"#N/A"},{"$error":"#N/A"},{"$error":"#N/A"},{"$error":"#N/A"},""]
["26107","Michigan","Mecosta","Soybeans","MecostaSoybeansNonirrigated","Nonirrigated",25.6,26.81,32.57,36.299999999999997,33.32,null,30.9,9.6300000000000008,297.57,255.91,29.76,null,{"$f":"VLOOKUP($E177,'FSA 18'!$E$5:$O$248,3,0)","v":{"$error":"#N/A"}},{"$f":"VLOOKUP($E177,'FSA 18'!$E$5:$O$248,4,0)","v":{"$error":"#N/A"}},{"$f":"VLOOKUP($E177,'FSA 18'!$E$5:$O$248,5,0)","v":{"$error":"#N/A"}},{"$f":"VLOOKUP($E177,'FSA 18'!$E$5:$O$248,6,0)","v":{"$error":"#N/A"}},{"$f":"VLOOKUP($E177,'FSA 18'!$E$5:$O$248,7,0)","v":{"$error":"#N/A"}},{"$error":"#N/A"},{"$error":"#N/A"},{"$error":"#N/A"},{"$error":"#N/A"},{"$error":"#N/A"},""]
["26109","Michigan","Menominee","Soybeans","MenomineeSoybeansAll","All",24.81,19.2,27.57,22.13,24.18,null,23.71,9.6300000000000008,228.33,196.36,22.83,null,{"$f":"VLOOKUP($E178,'FSA 18'!$E$5:$O$248,3,0)","v":{"$error":"#N/A"}},{"$f":"VLOOKUP($E178,'FSA 18'!$E$5:$O$248,4,0)","v":{"$error":"#N/A"}},{"$f":"VLOOKUP($E178,'FSA 18'!$E$5:$O$248,5,0)","v":{"$error":"#N/A"}},{"$f":"VLOOKUP($E178,'FSA 18'!$E$5:$O$248,6,0)","v":{"$error":"#N/A"}},{"$f":"VLOOKUP($E178,'FSA 18'!$E$5:$O$248,7,0)","v":{"$error":"#N/A"}},{"$error":"#N/A"},{"$error":"#N/A"},{"$error":"#N/A"},{"$error":"#N/A"},{"$error":"#N/A"},""]
["26111","Michigan","Midland","Soybeans","MidlandSoybeansAll","All",48.2,45.19,50.86,50.13,40.93,null,47.84,9.6300000000000008,460.7,396.2,46.07,null,{"$f":"VLOOKUP($E179,'FSA 18'!$E$5:$O$248,3,0)","v":{"$error":"#N/A"}},{"$f":"VLOOKUP($E179,'FSA 18'!$E$5:$O$248,4,0)","v":{"$error":"#N/A"}},{"$f":"VLOOKUP($E179,'FSA 18'!$E$5:$O$248,5,0)","v":{"$error":"#N/A"}},{"$f":"VLOOKUP($E179,'FSA 18'!$E$5:$O$248,6,0)","v":{"$error":"#N/A"}},{"$f":"VLOOKUP($E179,'FSA 18'!$E$5:$O$248,7,0)","v":{"$error":"#N/A"}},{"$error":"#N/A"},{"$error":"#N/A"},{"$error":"#N/A"},{"$error":"#N/A"},{"$error":"#N/A"},""]
["26113","Michigan","Missaukee","Soybeans","MissaukeeSoybeansAll","All",28,36,36,36,37,null,36,9.6300000000000008,346.68,298.14,34.67,null,{"$f":"VLOOKUP($E180,'FSA 18'!$E$5:$O$248,3,0)","v":{"$error":"#N/A"}},{"$f":"VLOOKUP($E180,'FSA 18'!$E$5:$O$248,4,0)","v":{"$error":"#N/A"}},{"$f":"VLOOKUP($E180,'FSA 18'!$E$5:$O$248,5,0)","v":{"$error":"#N/A"}},{"$f":"VLOOKUP($E180,'FSA 18'!$E$5:$O$248,6,0)","v":{"$error":"#N/A"}},{"$f":"VLOOKUP($E180,'FSA 18'!$E$5:$O$248,7,0)","v":{"$error":"#N/A"}},{"$error":"#N/A"},{"$error":"#N/A"},{"$error":"#N/A"},{"$error":"#N/A"},{"$error":"#N/A"},""]
["26115","Michigan","Monroe","Soybeans","MonroeSoybeansAll","All",52.98,52.18,47.59,54.09,50.27,null,51.81,9.6300000000000008,498.93,429.08,49.89,null,{"$f":"VLOOKUP($E181,'FSA 18'!$E$5:$O$248,3,0)","v":{"$error":"#N/A"}},{"$f":"VLOOKUP($E181,'FSA 18'!$E$5:$O$248,4,0)","v":{"$error":"#N/A"}},{"$f":"VLOOKUP($E181,'FSA 18'!$E$5:$O$248,5,0)","v":{"$error":"#N/A"}},{"$f":"VLOOKUP($E181,'FSA 18'!$E$5:$O$248,6,0)","v":{"$error":"#N/A"}},{"$f":"VLOOKUP($E181,'FSA 18'!$E$5:$O$248,7,0)","v":{"$error":"#N/A"}},{"$error":"#N/A"},{"$error":"#N/A"},{"$error":"#N/A"},{"$error":"#N/A"},{"$error":"#N/A"},""]
["26117","Michigan","Montcalm","Soybeans","MontcalmSoybeansIrrigated","Irrigated",46.92,44.61,49.61,62.53,51.05,null,49.19,9.6300000000000008,473.7,407.38,47.37,null,{"$f":"VLOOKUP($E182,'FSA 18'!$E$5:$O$248,3,0)","v":{"$error":"#N/A"}},{"$f":"VLOOKUP($E182,'FSA 18'!$E$5:$O$248,4,0)","v":{"$error":"#N/A"}},{"$f":"VLOOKUP($E182,'FSA 18'!$E$5:$O$248,5,0)","v":{"$error":"#N/A"}},{"$f":"VLOOKUP($E182,'FSA 18'!$E$5:$O$248,6,0)","v":{"$error":"#N/A"}},{"$f":"VLOOKUP($E182,'FSA 18'!$E$5:$O$248,7,0)","v":{"$error":"#N/A"}},{"$error":"#N/A"},{"$error":"#N/A"},{"$error":"#N/A"},{"$error":"#N/A"},{"$error":"#N/A"},""]
["26117","Michigan","Montcalm","Soybeans","MontcalmSoybeansNonirrigated","Nonirrigated",34.26,38.44,44.69,51.05,34.24,null,39.130000000000003,9.6300000000000008,376.82,324.07,37.68,null,{"$f":"VLOOKUP($E183,'FSA 18'!$E$5:$O$248,3,0)","v":{"$error":"#N/A"}},{"$f":"VLOOKUP($E183,'FSA 18'!$E$5:$O$248,4,0)","v":{"$error":"#N/A"}},{"$f":"VLOOKUP($E183,'FSA 18'!$E$5:$O$248,5,0)","v":{"$error":"#N/A"}},{"$f":"VLOOKUP($E183,'FSA 18'!$E$5:$O$248,6,0)","v":{"$error":"#N/A"}},{"$f":"VLOOKUP($E183,'FSA 18'!$E$5:$O$248,7,0)","v":{"$error":"#N/A"}},{"$error":"#N/A"},{"$error":"#N/A"},{"$error":"#N/A"},{"$error":"#N/A"},{"$error":"#N/A"},""]
["26119","Michigan","Montmorency","Soybeans","MontmorencySoybeansAll","All",29.37,27.2,36,29.75,41.8,null,31.71,9.6300000000000008,305.37,262.62,30.54,null,{"$f":"VLOOKUP($E184,'FSA 18'!$E$5:$O$248,3,0)","v":{"$error":"#N/A"}},{"$f":"VLOOKUP($E184,'FSA 18'!$E$5:$O$248,4,0)","v":{"$error":"#N/A"}},{"$f":"VLOOKUP($E184,'FSA 18'!$E$5:$O$248,5,0)","v":{"$error":"#N/A"}},{"$f":"VLOOKUP($E184,'FSA 18'!$E$5:$O$248,6,0)","v":{"$error":"#N/A"}},{"$f":"VLOOKUP($E184,'FSA 18'!$E$5:$O$248,7,0)","v":{"$error":"#N/A"}},{"$error":"#N/A"},{"$error":"#N/A"},{"$error":"#N/A"},{"$error":"#N/A"},{"$error":"#N/A"},""]
["26121","Michigan","Muskegon","Soybeans","MuskegonSoybeansAll","All",43.27,41.05,48.07,52.51,46.73,null,46.02,9.6300000000000008,443.17,381.13,44.32,null,{"$f":"VLOOKUP($E185,'FSA 18'!$E$5:$O$248,3,0)","v":{"$error":"#N/A"}},{"$f":"VLOOKUP($E185,'FSA 18'!$E$5:$O$248,4,0)","v":{"$error":"#N/A"}},{"$f":"VLOOKUP($E185,'FSA 18'!$E$5:$O$248,5,0)","v":{"$error":"#N/A"}},{"$f":"VLOOKUP($E185,'FSA 18'!$E$5:$O$248,6,0)","v":{"$error":"#N/A"}},{"$f":"VLOOKUP($E185,'FSA 18'!$E$5:$O$248,7,0)","v":{"$error":"#N/A"}},{"$error":"#N/A"},{"$error":"#N/A"},{"$error":"#N/A"},{"$error":"#N/A"},{"$error":"#N/A"},""]
["26123","Michigan","Newaygo","Soybeans","NewaygoSoybeansAll","All",40.14,29.16,40.700000000000003,46.55,34.409999999999997,null,38.42,9.6300000000000008,369.98,318.18,37,null,{"$f":"VLOOKUP($E186,'FSA 18'!$E$5:$O$248,3,0)","v":{"$error":"#N/A"}},{"$f":"VLOOKUP($E186,'FSA 18'!$E$5:$O$248,4,0)","v":{"$error":"#N/A"}},{"$f":"VLOOKUP($E186,'FSA 18'!$E$5:$O$248,5,0)","v":{"$error":"#N/A"}},{"$f":"VLOOKUP($E186,'FSA 18'!$E$5:$O$248,6,0)","v":{"$error":"#N/A"}},{"$f":"VLOOKUP($E186,'FSA 18'!$E$5:$O$248,7,0)","v":{"$error":"#N/A"}},{"$error":"#N/A"},{"$error":"#N/A"},{"$error":"#N/A"},{"$error":"#N/A"},{"$error":"#N/A"},""]
["26125","Michigan","Oakland","Soybeans","OaklandSoybeansAll","All",40.22,36.880000000000003,39.15,34.89,33.07,null,36.97,9.6300000000000008,356.02,306.18,35.6,null,{"$f":"VLOOKUP($E187,'FSA 18'!$E$5:$O$248,3,0)","v":{"$error":"#N/A"}},{"$f":"VLOOKUP($E187,'FSA 18'!$E$5:$O$248,4,0)","v":{"$error":"#N/A"}},{"$f":"VLOOKUP($E187,'FSA 18'!$E$5:$O$248,5,0)","v":{"$error":"#N/A"}},{"$f":"VLOOKUP($E187,'FSA 18'!$E$5:$O$248,6,0)","v":{"$error":"#N/A"}},{"$f":"VLOOKUP($E187,'FSA 18'!$E$5:$O$248,7,0)","v":{"$error":"#N/A"}},{"$error":"#N/A"},{"$error":"#N/A"},{"$error":"#N/A"},{"$error":"#N/A"},{"$error":"#N/A"},""]
["26127","Michigan","Oceana","Soybeans","OceanaSoybeansIrrigated","Irrigated",45.46,46.15,42.3,47.5,46.82,null,46.14,9.6300000000000008,444.33,382.12,44.43,null,{"$f":"VLOOKUP($E188,'FSA 18'!$E$5:$O$248,3,0)","v":{"$error":"#N/A"}},{"$f":"VLOOKUP($E188,'FSA 18'!$E$5:$O$248,4,0)","v":{"$error":"#N/A"}},{"$f":"VLOOKUP($E188,'FSA 18'!$E$5:$O$248,5,0)","v":{"$error":"#N/A"}},{"$f":"VLOOKUP($E188,'FSA 18'!$E$5:$O$248,6,0)","v":{"$error":"#N/A"}},{"$f":"VLOOKUP($E188,'FSA 18'!$E$5:$O$248,7,0)","v":{"$error":"#N/A"}},{"$error":"#N/A"},{"$error":"#N/A"},{"$error":"#N/A"},{"$error":"#N/A"},{"$error":"#N/A"},""]
["26127","Michigan","Oceana","Soybeans","OceanaSoybeansNonirrigated","Nonirrigated",37.85,31.51,32.619999999999997,44.93,38.97,null,36.479999999999997,9.6300000000000008,351.3,302.12,35.130000000000003,null,{"$f":"VLOOKUP($E189,'FSA 18'!$E$5:$O$248,3,0)","v":{"$error":"#N/A"}},{"$f":"VLOOKUP($E189,'FSA 18'!$E$5:$O$248,4,0)","v":{"$error":"#N/A"}},{"$f":"VLOOKUP($E189,'FSA 18'!$E$5:$O$248,5,0)","v":{"$error":"#N/A"}},{"$f":"VLOOKUP($E189,'FSA 18'!$E$5:$O$248,6,0)","v":{"$error":"#N/A"}},{"$f":"VLOOKUP($E189,'FSA 18'!$E$5:$O$248,7,0)","v":{"$error":"#N/A"}},{"$error":"#N/A"},{"$error":"#N/A"},{"$error":"#N/A"},{"$error":"#N/A"},{"$error":"#N/A"},""]
["26129","Michigan","Ogemaw","Soybeans","OgemawSoybeansAll","All",30.62,33.03,39.94,45.27,43.66,null,38.880000000000003,9.6300000000000008,374.41,321.99,37.44,null,{"$f":"VLOOKUP($E190,'FSA 18'!$E$5:$O$248,3,0)","v":{"$error":"#N/A"}},{"$f":"VLOOKUP($E190,'FSA 18'!$E$5:$O$248,4,0)","v":{"$error":"#N/A"}},{"$f":"VLOOKUP($E190,'FSA 18'!$E$5:$O$248,5,0)","v":{"$error":"#N/A"}},{"$f":"VLOOKUP($E190,'FSA 18'!$E$5:$O$248,6,0)","v":{"$error":"#N/A"}},{"$f":"VLOOKUP($E190,'FSA 18'!$E$5:$O$248,7,0)","v":{"$error":"#N/A"}},{"$error":"#N/A"},{"$error":"#N/A"},{"$error":"#N/A"},{"$error":"#N/A"},{"$error":"#N/A"},""]
["26133","Michigan","Osceola","Soybeans","OsceolaSoybeansAll","All",23.78,26.19,40.92,38.82,33.47,null,32.83,9.6300000000000008,316.14999999999998,271.89,31.62,null,{"$f":"VLOOKUP($E191,'FSA 18'!$E$5:$O$248,3,0)","v":{"$error":"#N/A"}},{"$f":"VLOOKUP($E191,'FSA 18'!$E$5:$O$248,4,0)","v":{"$error":"#N/A"}},{"$f":"VLOOKUP($E191,'FSA 18'!$E$5:$O$248,5,0)","v":{"$error":"#N/A"}},{"$f":"VLOOKUP($E191,'FSA 18'!$E$5:$O$248,6,0)","v":{"$error":"#N/A"}},{"$f":"VLOOKUP($E191,'FSA 18'!$E$5:$O$248,7,0)","v":{"$error":"#N/A"}},{"$error":"#N/A"},{"$error":"#N/A"},{"$error":"#N/A"},{"$error":"#N/A"},{"$error":"#N/A"},""]
["26137","Michigan","Otsego","Soybeans","OtsegoSoybeansAll","All",28,28,29,25,27.5,null,27.83,9.6300000000000008,268,230.48,26.8,null,{"$f":"VLOOKUP($E192,'FSA 18'!$E$5:$O$248,3,0)","v":{"$error":"#N/A"}},{"$f":"VLOOKUP($E192,'FSA 18'!$E$5:$O$248,4,0)","v":{"$error":"#N/A"}},{"$f":"VLOOKUP($E192,'FSA 18'!$E$5:$O$248,5,0)","v":{"$error":"#N/A"}},{"$f":"VLOOKUP($E192,'FSA 18'!$E$5:$O$248,6,0)","v":{"$error":"#N/A"}},{"$f":"VLOOKUP($E192,'FSA 18'!$E$5:$O$248,7,0)","v":{"$error":"#N/A"}},{"$error":"#N/A"},{"$error":"#N/A"},{"$error":"#N/A"},{"$error":"#N/A"},{"$error":"#N/A"},""]
["26139","Michigan","Ottawa","Soybeans","OttawaSoybeansIrrigated","Irrigated",48.18,55.31,49.28,65.349999999999994,51.18,null,51.92,9.6300000000000008,499.99,429.99,50,null,{"$f":"VLOOKUP($E193,'FSA 18'!$E$5:$O$248,3,0)","v":{"$error":"#N/A"}},{"$f":"VLOOKUP($E193,'FSA 18'!$E$5:$O$248,4,0)","v":{"$error":"#N/A"}},{"$f":"VLOOKUP($E193,'FSA 18'!$E$5:$O$248,5,0)","v":{"$error":"#N/A"}},{"$f":"VLOOKUP($E193,'FSA 18'!$E$5:$O$248,6,0)","v":{"$error":"#N/A"}},{"$f":"VLOOKUP($E193,'FSA 18'!$E$5:$O$248,7,0)","v":{"$error":"#N/A"}},{"$error":"#N/A"},{"$error":"#N/A"},{"$error":"#N/A"},{"$error":"#N/A"},{"$error":"#N/A"},""]
["26139","Michigan","Ottawa","Soybeans","OttawaSoybeansNonirrigated","Nonirrigated",45.13,51.2,51.21,62.19,47.24,null,49.88,9.6300000000000008,480.34,413.09,48.03,null,{"$f":"VLOOKUP($E194,'FSA 18'!$E$5:$O$248,3,0)","v":{"$error":"#N/A"}},{"$f":"VLOOKUP($E194,'FSA 18'!$E$5:$O$248,4,0)","v":{"$error":"#N/A"}},{"$f":"VLOOKUP($E194,'FSA 18'!$E$5:$O$248,5,0)","v":{"$error":"#N/A"}},{"$f":"VLOOKUP($E194,'FSA 18'!$E$5:$O$248,6,0)","v":{"$error":"#N/A"}},{"$f":"VLOOKUP($E194,'FSA 18'!$E$5:$O$248,7,0)","v":{"$error":"#N/A"}},{"$error":"#N/A"},{"$error":"#N/A"},{"$error":"#N/A"},{"$error":"#N/A"},{"$error":"#N/A"},""]
["26141","Michigan","Presque Isle","Soybeans","Presque IsleSoybeansAll","All",21.55,22.49,30.76,19.2,37,null,24.93,9.6300000000000008,240.08,206.47,24.01,null,{"$f":"VLOOKUP($E195,'FSA 18'!$E$5:$O$248,3,0)","v":{"$error":"#N/A"}},{"$f":"VLOOKUP($E195,'FSA 18'!$E$5:$O$248,4,0)","v":{"$error":"#N/A"}},{"$f":"VLOOKUP($E195,'FSA 18'!$E$5:$O$248,5,0)","v":{"$error":"#N/A"}},{"$f":"VLOOKUP($E195,'FSA 18'!$E$5:$O$248,6,0)","v":{"$error":"#N/A"}},{"$f":"VLOOKUP($E195,'FSA 18'!$E$5:$O$248,7,0)","v":{"$error":"#N/A"}},{"$error":"#N/A"},{"$error":"#N/A"},{"$error":"#N/A"},{"$error":"#N/A"},{"$error":"#N/A"},""]
["26145","Michigan","Saginaw","Soybeans","SaginawSoybeansIrrigated","Irrigated",55.14,52.64,62.24,56.74,55.01,null,55.63,9.6300000000000008,535.72,460.72,53.57,null,{"$f":"VLOOKUP($E196,'FSA 18'!$E$5:$O$248,3,0)","v":{"$error":"#N/A"}},{"$f":"VLOOKUP($E196,'FSA 18'!$E$5:$O$248,4,0)","v":{"$error":"#N/A"}},{"$f":"VLOOKUP($E196,'FSA 18'!$E$5:$O$248,5,0)","v":{"$error":"#N/A"}},{"$f":"VLOOKUP($E196,'FSA 18'!$E$5:$O$248,6,0)","v":{"$error":"#N/A"}},{"$f":"VLOOKUP($E196,'FSA 18'!$E$5:$O$248,7,0)","v":{"$error":"#N/A"}},{"$error":"#N/A"},{"$error":"#N/A"},{"$error":"#N/A"},{"$error":"#N/A"},{"$error":"#N/A"},""]
["26145","Michigan","Saginaw","Soybeans","SaginawSoybeansNonirrigated","Nonirrigated",48.5,47.19,53.82,55.81,45.49,null,49.84,9.6300000000000008,479.96,412.77,48,null,{"$f":"VLOOKUP($E197,'FSA 18'!$E$5:$O$248,3,0)","v":{"$error":"#N/A"}},{"$f":"VLOOKUP($E197,'FSA 18'!$E$5:$O$248,4,0)","v":{"$error":"#N/A"}},{"$f":"VLOOKUP($E197,'FSA 18'!$E$5:$O$248,5,0)","v":{"$error":"#N/A"}},{"$f":"VLOOKUP($E197,'FSA 18'!$E$5:$O$248,6,0)","v":{"$error":"#N/A"}},{"$f":"VLOOKUP($E197,'FSA 18'!$E$5:$O$248,7,0)","v":{"$error":"#N/A"}},{"$error":"#N/A"},{"$f":"H197/T197","v":{"$error":"#N/A"}},{"$f":"I197/U197","v":{"$error":"#N/A"}},{"$f":"J197/V197","v":{"$error":"#N/A"}},{"$f":"K197/W197","v":{"$error":"#N/A"}},{"$f":"IFERROR(AVERAGE(X197:AB197),\"\")","v":""}]
["26147","Michigan","St. Clair","Soybeans",{"$f":"C198&D198&F198","v":"St. ClairSoybeansAll"},"All",45.81,41.11,44.42,49.94,39.299999999999997,null,43.78,9.6300000000000008,421.6,362.58,42.16,null,{"$f":"VLOOKUP($E198,'FSA 18'!$E$5:$O$248,3,0)","v":{"$error":"#N/A"}},{"$f":"VLOOKUP($E198,'FSA 18'!$E$5:$O$248,4,0)","v":{"$error":"#N/A"}},{"$f":"VLOOKUP($E198,'FSA 18'!$E$5:$O$248,5,0)","v":{"$error":"#N/A"}},{"$f":"VLOOKUP($E198,'FSA 18'!$E$5:$O$248,6,0)","v":{"$error":"#N/A"}},{"$f":"VLOOKUP($E198,'FSA 18'!$E$5:$O$248,7,0)","v":{"$error":"#N/A"}},{"$f":"G198/S198","v":{"$error":"#N/A"}},{"$error":"#N/A"},{"$error":"#N/A"},{"$error":"#N/A"},{"$error":"#N/A"},""]
["26149","Michigan","St. Joseph","Soybeans","St. JosephSoybeansIrrigated","Irrigated",48.59,52.41,58.04,55.96,49.28,null,52.55,9.6300000000000008,506.06,435.21,50.61,null,{"$f":"VLOOKUP($E199,'FSA 18'!$E$5:$O$248,3,0)","v":{"$error":"#N/A"}},{"$f":"VLOOKUP($E199,'FSA 18'!$E$5:$O$248,4,0)","v":{"$error":"#N/A"}},{"$f":"VLOOKUP($E199,'FSA 18'!$E$5:$O$248,5,0)","v":{"$error":"#N/A"}},{"$f":"VLOOKUP($E199,'FSA 18'!$E$5:$O$248,6,0)","v":{"$error":"#N/A"}},{"$f":"VLOOKUP($E199,'FSA 18'!$E$5:$O$248,7,0)","v":{"$error":"#N/A"}},{"$error":"#N/A"},{"$error":"#N/A"},{"$error":"#N/A"},{"$error":"#N/A"},{"$error":"#N/A"},""]
["26149","Michigan","St. Joseph","Soybeans","St. JosephSoybeansNonirrigated","Nonirrigated",38.67,37.22,43.5,43.51,31.83,null,39.799999999999997,9.6300000000000008,383.27,329.61,38.33,null,{"$f":"VLOOKUP($E200,'FSA 18'!$E$5:$O$248,3,0)","v":{"$error":"#N/A"}},{"$f":"VLOOKUP($E200,'FSA 18'!$E$5:$O$248,4,0)","v":{"$error":"#N/A"}},{"$f":"VLOOKUP($E200,'FSA 18'!$E$5:$O$248,5,0)","v":{"$error":"#N/A"}},{"$f":"VLOOKUP($E200,'FSA 18'!$E$5:$O$248,6,0)","v":{"$error":"#N/A"}},{"$f":"VLOOKUP($E200,'FSA 18'!$E$5:$O$248,7,0)","v":{"$error":"#N/A"}},{"$error":"#N/A"},{"$error":"#N/A"},{"$error":"#N/A"},{"$error":"#N/A"},{"$error":"#N/A"},""]
["26151","Michigan","Sanilac","Soybeans","SanilacSoybeansAll","All",52.09,42.91,54.27,58.18,48.23,null,51.53,9.6300000000000008,496.23,426.76,49.62,null,{"$f":"VLOOKUP($E201,'FSA 18'!$E$5:$O$248,3,0)","v":{"$error":"#N/A"}},{"$f":"VLOOKUP($E201,'FSA 18'!$E$5:$O$248,4,0)","v":{"$error":"#N/A"}},{"$f":"VLOOKUP($E201,'FSA 18'!$E$5:$O$248,5,0)","v":{"$error":"#N/A"}},{"$f":"VLOOKUP($E201,'FSA 18'!$E$5:$O$248,6,0)","v":{"$error":"#N/A"}},{"$f":"VLOOKUP($E201,'FSA 18'!$E$5:$O$248,7,0)","v":{"$error":"#N/A"}},{"$error":"#N/A"},{"$error":"#N/A"},{"$error":"#N/A"},{"$error":"#N/A"},{"$error":"#N/A"},""]
["26153","Michigan","Schoolcraft","Soybeans","SchoolcraftSoybeansAll","All",41.6,48,48,44,40.799999999999997,null,44.53,9.6300000000000008,428.82,368.79,42.88,null,{"$f":"VLOOKUP($E202,'FSA 18'!$E$5:$O$248,3,0)","v":{"$error":"#N/A"}},{"$f":"VLOOKUP($E202,'FSA 18'!$E$5:$O$248,4,0)","v":{"$error":"#N/A"}},{"$f":"VLOOKUP($E202,'FSA 18'!$E$5:$O$248,5,0)","v":{"$error":"#N/A"}},{"$f":"VLOOKUP($E202,'FSA 18'!$E$5:$O$248,6,0)","v":{"$error":"#N/A"}},{"$f":"VLOOKUP($E202,'FSA 18'!$E$5:$O$248,7,0)","v":{"$error":"#N/A"}},{"$error":"#N/A"},{"$error":"#N/A"},{"$error":"#N/A"},{"$error":"#N/A"},{"$error":"#N/A"},""]
["26155","Michigan","Shiawassee","Soybeans","ShiawasseeSoybeansIrrigated","Irrigated",45.35,46,53.48,53.75,38.64,null,48.28,9.6300000000000008,464.94,399.85,46.49,null,{"$f":"VLOOKUP($E203,'FSA 18'!$E$5:$O$248,3,0)","v":{"$error":"#N/A"}},{"$f":"VLOOKUP($E203,'FSA 18'!$E$5:$O$248,4,0)","v":{"$error":"#N/A"}},{"$f":"VLOOKUP($E203,'FSA 18'!$E$5:$O$248,5,0)","v":{"$error":"#N/A"}},{"$f":"VLOOKUP($E203,'FSA 18'!$E$5:$O$248,6,0)","v":{"$error":"#N/A"}},{"$f":"VLOOKUP($E203,'FSA 18'!$E$5:$O$248,7,0)","v":{"$error":"#N/A"}},{"$error":"#N/A"},{"$error":"#N/A"},{"$error":"#N/A"},{"$error":"#N/A"},{"$error":"#N/A"},""]
["26155","Michigan","Shiawassee","Soybeans","ShiawasseeSoybeansNonirrigated","Nonirrigated",47.64,43.73,52.72,51.91,40.78,null,47.76,9.6300000000000008,459.93,395.54,45.99,null,{"$f":"VLOOKUP($E204,'FSA 18'!$E$5:$O$248,3,0)","v":{"$error":"#N/A"}},{"$f":"VLOOKUP($E204,'FSA 18'!$E$5:$O$248,4,0)","v":{"$error":"#N/A"}},{"$f":"VLOOKUP($E204,'FSA 18'!$E$5:$O$248,5,0)","v":{"$error":"#N/A"}},{"$f":"VLOOKUP($E204,'FSA 18'!$E$5:$O$248,6,0)","v":{"$error":"#N/A"}},{"$f":"VLOOKUP($E204,'FSA 18'!$E$5:$O$248,7,0)","v":{"$error":"#N/A"}},{"$error":"#N/A"},{"$error":"#N/A"},{"$error":"#N/A"},{"$error":"#N/A"},{"$error":"#N/A"},""]
["26157","Michigan","Tuscola","Soybeans","TuscolaSoybeansIrrigated","Irrigated",43.46,41.72,49.28,60.85,41.88,null,44.87,9.6300000000000008,432.1,371.61,43.21,null,{"$f":"VLOOKUP($E205,'FSA 18'!$E$5:$O$248,3,0)","v":{"$error":"#N/A"}},{"$f":"VLOOKUP($E205,'FSA 18'!$E$5:$O$248,4,0)","v":{"$error":"#N/A"}},{"$f":"VLOOKUP($E205,'FSA 18'!$E$5:$O$248,5,0)","v":{"$error":"#N/A"}},{"$f":"VLOOKUP($E205,'FSA 18'!$E$5:$O$248,6,0)","v":{"$error":"#N/A"}},{"$f":"VLOOKUP($E205,'FSA 18'!$E$5:$O$248,7,0)","v":{"$error":"#N/A"}},{"$error":"#N/A"},{"$error":"#N/A"},{"$error":"#N/A"},{"$error":"#N/A"},{"$error":"#N/A"},""]
["26157","Michigan","Tuscola","Soybeans","TuscolaSoybeansNonirrigated","Nonirrigated",47.74,48.68,56.28,57.42,46.25,null,50.9,9.6300000000000008,490.17,421.55,49.02,null,{"$f":"VLOOKUP($E206,'FSA 18'!$E$5:$O$248,3,0)","v":{"$error":"#N/A"}},{"$f":"VLOOKUP($E206,'FSA 18'!$E$5:$O$248,4,0)","v":{"$error":"#N/A"}},{"$f":"VLOOKUP($E206,'FSA 18'!$E$5:$O$248,5,0)","v":{"$error":"#N/A"}},{"$f":"VLOOKUP($E206,'FSA 18'!$E$5:$O$248,6,0)","v":{"$error":"#N/A"}},{"$f":"VLOOKUP($E206,'FSA 18'!$E$5:$O$248,7,0)","v":{"$error":"#N/A"}},{"$error":"#N/A"},{"$error":"#N/A"},{"$error":"#N/A"},{"$error":"#N/A"},{"$error":"#N/A"},""]
["26159","Michigan","Van Buren","Soybeans","Van BurenSoybeansIrrigated","Irrigated",58.5,62.47,63.73,65.599999999999994,51.48,null,61.57,9.6300000000000008,592.91999999999996,509.91,59.29,null,{"$f":"VLOOKUP($E207,'FSA 18'!$E$5:$O$248,3,0)","v":{"$error":"#N/A"}},{"$f":"VLOOKUP($E207,'FSA 18'!$E$5:$O$248,4,0)","v":{"$error":"#N/A"}},{"$f":"VLOOKUP($E207,'FSA 18'!$E$5:$O$248,5,0)","v":{"$error":"#N/A"}},{"$f":"VLOOKUP($E207,'FSA 18'!$E$5:$O$248,6,0)","v":{"$error":"#N/A"}},{"$f":"VLOOKUP($E207,'FSA 18'!$E$5:$O$248,7,0)","v":{"$error":"#N/A"}},{"$error":"#N/A"},{"$error":"#N/A"},{"$error":"#N/A"},{"$error":"#N/A"},{"$error":"#N/A"},""]
["26159","Michigan","Van Buren","Soybeans","Van BurenSoybeansNonirrigated","Nonirrigated",45.79,42.31,47.1,46.65,38.83,null,44.92,9.6300000000000008,432.58,372.02,43.26,null,{"$f":"VLOOKUP($E208,'FSA 18'!$E$5:$O$248,3,0)","v":{"$error":"#N/A"}},{"$f":"VLOOKUP($E208,'FSA 18'!$E$5:$O$248,4,0)","v":{"$error":"#N/A"}},{"$f":"VLOOKUP($E208,'FSA 18'!$E$5:$O$248,5,0)","v":{"$error":"#N/A"}},{"$f":"VLOOKUP($E208,'FSA 18'!$E$5:$O$248,6,0)","v":{"$error":"#N/A"}},{"$f":"VLOOKUP($E208,'FSA 18'!$E$5:$O$248,7,0)","v":{"$error":"#N/A"}},{"$error":"#N/A"},{"$error":"#N/A"},{"$error":"#N/A"},{"$error":"#N/A"},{"$error":"#N/A"},""]
["26161","Michigan","Washtenaw","Soybeans","WashtenawSoybeansIrrigated","Irrigated",57.07,48.84,46.64,60.03,65.650000000000006,null,55.31,9.6300000000000008,532.64,458.07,53.26,null,{"$f":"VLOOKUP($E209,'FSA 18'!$E$5:$O$248,3,0)","v":{"$error":"#N/A"}},{"$f":"VLOOKUP($E209,'FSA 18'!$E$5:$O$248,4,0)","v":{"$error":"#N/A"}},{"$f":"VLOOKUP($E209,'FSA 18'!$E$5:$O$248,5,0)","v":{"$error":"#N/A"}},{"$f":"VLOOKUP($E209,'FSA 18'!$E$5:$O$248,6,0)","v":{"$error":"#N/A"}},{"$f":"VLOOKUP($E209,'FSA 18'!$E$5:$O$248,7,0)","v":{"$error":"#N/A"}},{"$error":"#N/A"},{"$error":"#N/A"},{"$error":"#N/A"},{"$error":"#N/A"},{"$error":"#N/A"},""]
["26161","Michigan","Washtenaw","Soybeans","WashtenawSoybeansNonirrigated","Nonirrigated",52.9,45.4,47.1,50.31,38.72,null,47.6,9.6300000000000008,458.39,394.22,45.84,null,{"$f":"VLOOKUP($E210,'FSA 18'!$E$5:$O$248,3,0)","v":{"$error":"#N/A"}},{"$f":"VLOOKUP($E210,'FSA 18'!$E$5:$O$248,4,0)","v":{"$error":"#N/A"}},{"$f":"VLOOKUP($E210,'FSA 18'!$E$5:$O$248,5,0)","v":{"$error":"#N/A"}},{"$f":"VLOOKUP($E210,'FSA 18'!$E$5:$O$248,6,0)","v":{"$error":"#N/A"}},{"$f":"VLOOKUP($E210,'FSA 18'!$E$5:$O$248,7,0)","v":{"$error":"#N/A"}},{"$error":"#N/A"},{"$error":"#N/A"},{"$error":"#N/A"},{"$error":"#N/A"},{"$error":"#N/A"},""]
["26163","Michigan","Wayne","Soybeans","WayneSoybeansAll","All",42.98,35.700000000000003,38.799999999999997,32.24,26.54,null,35.58,9.6300000000000008,342.64,294.67,34.26,null,{"$f":"VLOOKUP($E211,'FSA 18'!$E$5:$O$248,3,0)","v":{"$error":"#N/A"}},{"$f":"VLOOKUP($E211,'FSA 18'!$E$5:$O$248,4,0)","v":{"$error":"#N/A"}},{"$f":"VLOOKUP($E211,'FSA 18'!$E$5:$O$248,5,0)","v":{"$error":"#N/A"}},{"$f":"VLOOKUP($E211,'FSA 18'!$E$5:$O$248,6,0)","v":{"$error":"#N/A"}},{"$f":"VLOOKUP($E211,'FSA 18'!$E$5:$O$248,7,0)","v":{"$error":"#N/A"}},{"$error":"#N/A"},{"$error":"#N/A"},{"$error":"#N/A"},{"$error":"#N/A"},{"$error":"#N/A"},""]
["26165","Michigan","Wexford","Soybeans","WexfordSoybeansAll","All",28,36,36,36,37,null,36,9.6300000000000008,346.68,298.14,34.67,null,{"$f":"VLOOKUP($E212,'FSA 18'!$E$5:$O$248,3,0)","v":{"$error":"#N/A"}},{"$f":"VLOOKUP($E212,'FSA 18'!$E$5:$O$248,4,0)","v":{"$error":"#N/A"}},{"$f":"VLOOKUP($E212,'FSA 18'!$E$5:$O$248,5,0)","v":{"$error":"#N/A"}},{"$f":"VLOOKUP($E212,'FSA 18'!$E$5:$O$248,6,0)","v":{"$error":"#N/A"}},{"$f":"VLOOKUP($E212,'FSA 18'!$E$5:$O$248,7,0)","v":{"$error":"#N/A"}},{"$error":"#N/A"},{"$error":"#N/A"},{"$error":"#N/A"},{"$error":"#N/A"},{"$error":"#N/A"},""]
["26001","Michigan","Alcona","Wheat","AlconaWheatAll","All",49.74,49.57,80.760000000000005,76.12,46.98,null,58.48,5.66,331,284.66000000000003,33.1,null,{"$f":"VLOOKUP($E213,'FSA 18'!$E$5:$O$248,3,0)","v":49},{"$f":"VLOOKUP($E213,'FSA 18'!$E$5:$O$248,4,0)","v":66},{"$f":"VLOOKUP($E213,'FSA 18'!$E$5:$O$248,5,0)","v":70},{"$f":"VLOOKUP($E213,'FSA 18'!$E$5:$O$248,6,0)","v":68},{"$f":"VLOOKUP($E213,'FSA 18'!$E$5:$O$248,7,0)","v":40},1.0151020408163265,0.7510606060606061,1.1537142857142857,1.1194117647058823,1.1744999999999999,1.0427577394594201]
["26003","Michigan","Alger","Wheat","AlgerWheatAll","All",41,47,51,55.2,53.6,null,50.53,5.66,286,245.96,28.6,null,{"$f":"VLOOKUP($E214,'FSA 18'!$E$5:$O$248,3,0)","v":47},{"$f":"VLOOKUP($E214,'FSA 18'!$E$5:$O$248,4,0)","v":56},{"$f":"VLOOKUP($E214,'FSA 18'!$E$5:$O$248,5,0)","v":50},{"$f":"VLOOKUP($E214,'FSA 18'!$E$5:$O$248,6,0)","v":41},{"$f":"VLOOKUP($E214,'FSA 18'!$E$5:$O$248,7,0)","v":41},0.87234042553191493,0.8392857142857143,1.02,1.3463414634146342,1.3073170731707318,1.077056935280599]
["26005","Michigan","Allegan","Wheat","AlleganWheatAll","All",71.05,65.66,55.66,68.67,64.38,null,66.239999999999995,5.66,374.92,322.43,37.49,null,{"$f":"VLOOKUP($E215,'FSA 18'!$E$5:$O$248,3,0)","v":58},{"$f":"VLOOKUP($E215,'FSA 18'!$E$5:$O$248,4,0)","v":55},{"$f":"VLOOKUP($E215,'FSA 18'!$E$5:$O$248,5,0)","v":75},{"$f":"VLOOKUP($E215,'FSA 18'!$E$5:$O$248,6,0)","v":64},{"$f":"VLOOKUP($E215,'FSA 18'!$E$5:$O$248,7,0)","v":68},1.2249999999999999,1.1938181818181817,0.74213333333333331,1.07296875,0.94676470588235284,1.0361369942067735]
["26007","Michigan","Alpena","Wheat","AlpenaWheatAll","All",53.99,48.52,59.23,46.13,61.83,null,53.91,5.66,305.13,262.41000000000003,30.51,null,{"$f":"VLOOKUP($E216,'FSA 18'!$E$5:$O$248,3,0)","v":51},{"$f":"VLOOKUP($E216,'FSA 18'!$E$5:$O$248,4,0)","v":54},{"$f":"VLOOKUP($E216,'FSA 18'!$E$5:$O$248,5,0)","v":64},{"$f":"VLOOKUP($E216,'FSA 18'!$E$5:$O$248,6,0)","v":69},{"$f":"VLOOKUP($E216,'FSA 18'!$E$5:$O$248,7,0)","v":44},1.0586274509803921,0.89851851851851861,0.92546874999999995,0.66855072463768117,1.4052272727272728,0.99127854337277288]
["26009","Michigan","Antrim","Wheat","AntrimWheatAll","All",49.55,74,51,55,52,null,52.67,5.66,298.11,256.37,29.81,null,{"$f":"VLOOKUP($E217,'FSA 18'!$E$5:$O$248,3,0)","v":{"$error":"#N/A"}},{"$f":"VLOOKUP($E217,'FSA 18'!$E$5:$O$248,4,0)","v":{"$error":"#N/A"}},{"$f":"VLOOKUP($E217,'FSA 18'!$E$5:$O$248,5,0)","v":{"$error":"#N/A"}},{"$f":"VLOOKUP($E217,'FSA 18'!$E$5:$O$248,6,0)","v":{"$error":"#N/A"}},{"$f":"VLOOKUP($E217,'FSA 18'!$E$5:$O$248,7,0)","v":{"$error":"#N/A"}},{"$error":"#N/A"},{"$error":"#N/A"},{"$error":"#N/A"},{"$error":"#N/A"},{"$error":"#N/A"},""]
["26011","Michigan","Arenac","Wheat","ArenacWheatAll","All",64.12,81.13,88.51,83.65,67.290000000000006,null,77.36,5.66,437.86,376.56,43.79,null,{"$f":"VLOOKUP($E218,'FSA 18'!$E$5:$O$248,3,0)","v":68},{"$f":"VLOOKUP($E218,'FSA 18'!$E$5:$O$248,4,0)","v":72},{"$f":"VLOOKUP($E218,'FSA 18'!$E$5:$O$248,5,0)","v":76},{"$f":"VLOOKUP($E218,'FSA 18'!$E$5:$O$248,6,0)","v":76},{"$f":"VLOOKUP($E218,'FSA 18'!$E$5:$O$248,7,0)","v":63},0.94294117647058828,1.1268055555555554,1.1646052631578947,1.1006578947368422,1.0680952380952382,1.0806210256032238]
["26015","Michigan","Barry","Wheat","BarryWheatAll","All",74.98,75.63,69.989999999999995,90.51,65,null,73.53,5.66,416.18,357.91,41.62,null,{"$f":"VLOOKUP($E219,'FSA 18'!$E$5:$O$248,3,0)","v":64},{"$f":"VLOOKUP($E219,'FSA 18'!$E$5:$O$248,4,0)","v":57},{"$f":"VLOOKUP($E219,'FSA 18'!$E$5:$O$248,5,0)","v":70},{"$f":"VLOOKUP($E219,'FSA 18'!$E$5:$O$248,6,0)","v":72},{"$f":"VLOOKUP($E219,'FSA 18'!$E$5:$O$248,7,0)","v":72},1.1715625000000001,1.3268421052631578,0.99985714285714278,1.2570833333333333,0.90277777777777779,1.1316245718462823]
["26017","Michigan","Bay","Wheat","BayWheatAll","All",83.05,83.4,98.06,96.72,82.71,null,87.72,5.66,496.5,426.99,49.65,null,{"$f":"VLOOKUP($E220,'FSA 18'!$E$5:$O$248,3,0)","v":75},{"$f":"VLOOKUP($E220,'FSA 18'!$E$5:$O$248,4,0)","v":71},{"$f":"VLOOKUP($E220,'FSA 18'!$E$5:$O$248,5,0)","v":85},{"$f":"VLOOKUP($E220,'FSA 18'!$E$5:$O$248,6,0)","v":80},{"$f":"VLOOKUP($E220,'FSA 18'!$E$5:$O$248,7,0)","v":75},1.1073333333333333,1.1746478873239437,1.1536470588235295,1.2090000000000001,1.1028,1.1494856558961613]
["26021","Michigan","Berrien","Wheat","BerrienWheatAll","All",71.45,76.319999999999993,74.959999999999994,85.24,67.38,null,74.239999999999995,5.66,420.2,361.37,42.02,null,{"$f":"VLOOKUP($E221,'FSA 18'!$E$5:$O$248,3,0)","v":62},{"$f":"VLOOKUP($E221,'FSA 18'!$E$5:$O$248,4,0)","v":57},{"$f":"VLOOKUP($E221,'FSA 18'!$E$5:$O$248,5,0)","v":71},{"$f":"VLOOKUP($E221,'FSA 18'!$E$5:$O$248,6,0)","v":62},{"$f":"VLOOKUP($E221,'FSA 18'!$E$5:$O$248,7,0)","v":63},1.1524193548387098,1.3389473684210524,1.0557746478873238,1.3748387096774193,1.0695238095238095,1.1983007780696631]
["26023","Michigan","Branch","Wheat","BranchWheatAll","All",62.37,62.75,63.56,79.349999999999994,78.069999999999993,null,68.13,5.66,385.62,331.63,38.56,null,{"$f":"VLOOKUP($E222,'FSA 18'!$E$5:$O$248,3,0)","v":62},{"$f":"VLOOKUP($E222,'FSA 18'!$E$5:$O$248,4,0)","v":55},{"$f":"VLOOKUP($E222,'FSA 18'!$E$5:$O$248,5,0)","v":66},{"$f":"VLOOKUP($E222,'FSA 18'!$E$5:$O$248,6,0)","v":58},{"$f":"VLOOKUP($E222,'FSA 18'!$E$5:$O$248,7,0)","v":53},1.0059677419354838,1.1409090909090909,0.96303030303030301,1.3681034482758621,1.4730188679245282,1.1902058904150536]
["26025","Michigan","Calhoun","Wheat","CalhounWheatAll","All",65.180000000000007,64.650000000000006,57.03,75.680000000000007,68.319999999999993,null,66.05,5.66,373.84,321.5,37.380000000000003,null,{"$f":"VLOOKUP($E223,'FSA 18'!$E$5:$O$248,3,0)","v":65},{"$f":"VLOOKUP($E223,'FSA 18'!$E$5:$O$248,4,0)","v":63},{"$f":"VLOOKUP($E223,'FSA 18'!$E$5:$O$248,5,0)","v":65},{"$f":"VLOOKUP($E223,'FSA 18'!$E$5:$O$248,6,0)","v":62},{"$f":"VLOOKUP($E223,'FSA 18'!$E$5:$O$248,7,0)","v":59},1.0027692307692309,1.0261904761904763,0.87738461538461543,1.2206451612903226,1.1579661016949152,1.0569911170659121]
["26027","Michigan","Cass","Wheat","CassWheatAll","All",57.06,55.85,66.739999999999995,54.63,65.92,null,59.61,5.66,337.39,290.16000000000003,33.74,null,{"$f":"VLOOKUP($E224,'FSA 18'!$E$5:$O$248,3,0)","v":60},{"$f":"VLOOKUP($E224,'FSA 18'!$E$5:$O$248,4,0)","v":54},{"$f":"VLOOKUP($E224,'FSA 18'!$E$5:$O$248,5,0)","v":68},{"$f":"VLOOKUP($E224,'FSA 18'!$E$5:$O$248,6,0)","v":50},{"$f":"VLOOKUP($E224,'FSA 18'!$E$5:$O$248,7,0)","v":53},0.95100000000000007,1.0342592592592592,0.98147058823529409,1.0926,1.2437735849056604,1.0606206864800427]
["26029","Michigan","Charlevoix","Wheat","CharlevoixWheatAll","All",41,54,51,55.2,55.2,null,53.4,5.66,302.24,259.93,30.22,null,{"$f":"VLOOKUP($E225,'FSA 18'!$E$5:$O$248,3,0)","v":50},{"$f":"VLOOKUP($E225,'FSA 18'!$E$5:$O$248,4,0)","v":40},{"$f":"VLOOKUP($E225,'FSA 18'!$E$5:$O$248,5,0)","v":59},{"$f":"VLOOKUP($E225,'FSA 18'!$E$5:$O$248,6,0)","v":55},{"$f":"VLOOKUP($E225,'FSA 18'!$E$5:$O$248,7,0)","v":41},0.82,1.35,0.86440677966101698,1.0036363636363637,1.3463414634146342,1.076876921342403]
["26031","Michigan","Cheboygan","Wheat","CheboyganWheatAll","All",55,52,78,79.599999999999994,52,null,61.67,5.66,349.05,300.18,34.909999999999997,null,{"$f":"VLOOKUP($E226,'FSA 18'!$E$5:$O$248,3,0)","v":56},{"$f":"VLOOKUP($E226,'FSA 18'!$E$5:$O$248,4,0)","v":48},{"$f":"VLOOKUP($E226,'FSA 18'!$E$5:$O$248,5,0)","v":62},{"$f":"VLOOKUP($E226,'FSA 18'!$E$5:$O$248,6,0)","v":68},{"$f":"VLOOKUP($E226,'FSA 18'!$E$5:$O$248,7,0)","v":55},0.9821428571428571,1.0833333333333333,1.2580645161290323,1.1705882352941175,0.94545454545454544,1.0879166974707772]
["26033","Michigan","Chippewa","Wheat","ChippewaWheatAll","All",41,47,51,55,52,null,50,5.66,283,243.38,28.3,null,{"$f":"VLOOKUP($E227,'FSA 18'!$E$5:$O$248,3,0)","v":47},{"$f":"VLOOKUP($E227,'FSA 18'!$E$5:$O$248,4,0)","v":56},{"$f":"VLOOKUP($E227,'FSA 18'!$E$5:$O$248,5,0)","v":50},{"$f":"VLOOKUP($E227,'FSA 18'!$E$5:$O$248,6,0)","v":41},{"$f":"VLOOKUP($E227,'FSA 18'!$E$5:$O$248,7,0)","v":41},0.87234042553191493,0.8392857142857143,1.02,1.3414634146341464,1.2682926829268293,1.0682764474757209]
["26035","Michigan","Clare","Wheat","ClareWheatAll","All",59.74,59.67,67.89,71.8,47.8,null,62.43,5.66,353.35,303.88,35.340000000000003,null,{"$f":"VLOOKUP($E228,'FSA 18'!$E$5:$O$248,3,0)","v":40},{"$f":"VLOOKUP($E228,'FSA 18'!$E$5:$O$248,4,0)","v":67},{"$f":"VLOOKUP($E228,'FSA 18'!$E$5:$O$248,5,0)","v":63},{"$f":"VLOOKUP($E228,'FSA 18'!$E$5:$O$248,6,0)","v":41},{"$f":"VLOOKUP($E228,'FSA 18'!$E$5:$O$248,7,0)","v":55},1.4935,0.89059701492537313,1.0776190476190477,1.751219512195122,0.86909090909090903,1.2164052967660903]
["26037","Michigan","Clinton","Wheat","ClintonWheatAll","All",83.34,83.32,92.54,94.97,75.430000000000007,null,86.4,5.66,489.02,420.56,48.9,null,{"$f":"VLOOKUP($E229,'FSA 18'!$E$5:$O$248,3,0)","v":67},{"$f":"VLOOKUP($E229,'FSA 18'!$E$5:$O$248,4,0)","v":66},{"$f":"VLOOKUP($E229,'FSA 18'!$E$5:$O$248,5,0)","v":81},{"$f":"VLOOKUP($E229,'FSA 18'!$E$5:$O$248,6,0)","v":79},{"$f":"VLOOKUP($E229,'FSA 18'!$E$5:$O$248,7,0)","v":82},1.2438805970149254,1.2624242424242422,1.1424691358024692,1.2021518987341773,0.91987804878048784,1.1541607845512605]
["26041","Michigan","Delta","Wheat","DeltaWheatAll","All",41,47,51,55,52,null,50,5.66,283,243.38,28.3,null,{"$f":"VLOOKUP($E230,'FSA 18'!$E$5:$O$248,3,0)","v":47},{"$f":"VLOOKUP($E230,'FSA 18'!$E$5:$O$248,4,0)","v":56},{"$f":"VLOOKUP($E230,'FSA 18'!$E$5:$O$248,5,0)","v":50},{"$f":"VLOOKUP($E230,'FSA 18'!$E$5:$O$248,6,0)","v":41},{"$f":"VLOOKUP($E230,'FSA 18'!$E$5:$O$248,7,0)","v":41},0.87234042553191493,0.8392857142857143,1.02,1.3414634146341464,1.2682926829268293,1.0682764474757209]
["26043","Michigan","Dickinson","Wheat","DickinsonWheatAll","All",41,47,51,55.2,53.6,null,50.53,5.66,286,245.96,28.6,null,{"$f":"VLOOKUP($E231,'FSA 18'!$E$5:$O$248,3,0)","v":47},{"$f":"VLOOKUP($E231,'FSA 18'!$E$5:$O$248,4,0)","v":56},{"$f":"VLOOKUP($E231,'FSA 18'!$E$5:$O$248,5,0)","v":50},{"$f":"VLOOKUP($E231,'FSA 18'!$E$5:$O$248,6,0)","v":41},{"$f":"VLOOKUP($E231,'FSA 18'!$E$5:$O$248,7,0)","v":41},0.87234042553191493,0.8392857142857143,1.02,1.3463414634146342,1.3073170731707318,1.077056935280599]
["26045","Michigan","Eaton","Wheat","EatonWheatAll","All",79.08,78.27,73.69,84.15,74.62,null,77.319999999999993,5.66,437.63,376.36,43.76,null,{"$f":"VLOOKUP($E232,'FSA 18'!$E$5:$O$248,3,0)","v":64},{"$f":"VLOOKUP($E232,'FSA 18'!$E$5:$O$248,4,0)","v":65},{"$f":"VLOOKUP($E232,'FSA 18'!$E$5:$O$248,5,0)","v":76},{"$f":"VLOOKUP($E232,'FSA 18'!$E$5:$O$248,6,0)","v":75},{"$f":"VLOOKUP($E232,'FSA 18'!$E$5:$O$248,7,0)","v":72},1.235625,1.2041538461538461,0.96960526315789475,1.1220000000000001,1.036388888888889,1.1135545996401262]
["26047","Michigan","Emmet","Wheat","EmmetWheatAll","All",41,52,49.6,55.2,55.2,null,52.27,5.66,295.85000000000002,254.43,29.59,null,{"$f":"VLOOKUP($E233,'FSA 18'!$E$5:$O$248,3,0)","v":50},{"$f":"VLOOKUP($E233,'FSA 18'!$E$5:$O$248,4,0)","v":40},{"$f":"VLOOKUP($E233,'FSA 18'!$E$5:$O$248,5,0)","v":59},{"$f":"VLOOKUP($E233,'FSA 18'!$E$5:$O$248,6,0)","v":55},{"$f":"VLOOKUP($E233,'FSA 18'!$E$5:$O$248,7,0)","v":41},0.82,1.3,0.84067796610169498,1.0036363636363637,1.3463414634146342,1.0621311586305386]
["26049","Michigan","Genesee","Wheat","GeneseeWheatAll","All",63.81,55.93,80.48,82.47,69.86,null,71.38,5.66,404.01,347.45,40.4,null,{"$f":"VLOOKUP($E234,'FSA 18'!$E$5:$O$248,3,0)","v":49},{"$f":"VLOOKUP($E234,'FSA 18'!$E$5:$O$248,4,0)","v":58},{"$f":"VLOOKUP($E234,'FSA 18'!$E$5:$O$248,5,0)","v":60},{"$f":"VLOOKUP($E234,'FSA 18'!$E$5:$O$248,6,0)","v":66},{"$f":"VLOOKUP($E234,'FSA 18'!$E$5:$O$248,7,0)","v":63},1.3022448979591836,0.96431034482758615,1.3413333333333335,1.2495454545454545,1.1088888888888888,1.1932645839108893]
["26051","Michigan","Gladwin","Wheat","GladwinWheatAll","All",75.290000000000006,71.92,91.45,82.95,60.48,null,76.72,5.66,434.24,373.45,43.42,null,{"$f":"VLOOKUP($E235,'FSA 18'!$E$5:$O$248,3,0)","v":63},{"$f":"VLOOKUP($E235,'FSA 18'!$E$5:$O$248,4,0)","v":76},{"$f":"VLOOKUP($E235,'FSA 18'!$E$5:$O$248,5,0)","v":64},{"$f":"VLOOKUP($E235,'FSA 18'!$E$5:$O$248,6,0)","v":78},{"$f":"VLOOKUP($E235,'FSA 18'!$E$5:$O$248,7,0)","v":71},1.1950793650793652,0.94631578947368422,1.42890625,1.0634615384615385,0.85183098591549289,1.0971187857860163]
["26055","Michigan","Grand Traverse","Wheat","Grand TraverseWheatAll","All",41.91,37.200000000000003,44.95,46.67,54.78,null,44.51,5.66,251.93,216.66,25.19,null,{"$f":"VLOOKUP($E236,'FSA 18'!$E$5:$O$248,3,0)","v":44},{"$f":"VLOOKUP($E236,'FSA 18'!$E$5:$O$248,4,0)","v":35},{"$f":"VLOOKUP($E236,'FSA 18'!$E$5:$O$248,5,0)","v":49},{"$f":"VLOOKUP($E236,'FSA 18'!$E$5:$O$248,6,0)","v":47},{"$f":"VLOOKUP($E236,'FSA 18'!$E$5:$O$248,7,0)","v":40},0.9524999999999999,1.0628571428571429,0.91734693877551021,0.9929787234042553,1.3694999999999999,1.0590365610073817]
["26057","Michigan","Gratiot","Wheat","GratiotWheatAll","All",74.599999999999994,82.61,90.98,89.06,77.319999999999993,null,83,5.66,469.78,404.01,46.98,null,{"$f":"VLOOKUP($E237,'FSA 18'!$E$5:$O$248,3,0)","v":70},{"$f":"VLOOKUP($E237,'FSA 18'!$E$5:$O$248,4,0)","v":73},{"$f":"VLOOKUP($E237,'FSA 18'!$E$5:$O$248,5,0)","v":74},{"$f":"VLOOKUP($E237,'FSA 18'!$E$5:$O$248,6,0)","v":92},{"$f":"VLOOKUP($E237,'FSA 18'!$E$5:$O$248,7,0)","v":72},1.0657142857142856,1.1316438356164384,1.2294594594594594,0.96804347826086956,1.0738888888888889,1.0937499895879885]
["26059","Michigan","Hillsdale","Wheat","HillsdaleWheatAll","All",73.98,72.67,71.56,85.96,83.28,null,76.64,5.66,433.78,373.05,43.38,null,{"$f":"VLOOKUP($E238,'FSA 18'!$E$5:$O$248,3,0)","v":66},{"$f":"VLOOKUP($E238,'FSA 18'!$E$5:$O$248,4,0)","v":62},{"$f":"VLOOKUP($E238,'FSA 18'!$E$5:$O$248,5,0)","v":65},{"$f":"VLOOKUP($E238,'FSA 18'!$E$5:$O$248,6,0)","v":69},{"$f":"VLOOKUP($E238,'FSA 18'!$E$5:$O$248,7,0)","v":74},1.1209090909090911,1.1720967741935484,1.1009230769230769,1.2457971014492752,1.1254054054054055,1.1530262897760792]
["26061","Michigan","Houghton","Wheat","HoughtonWheatAll","All",41,47,51,55.2,53.6,null,50.53,5.66,286,245.96,28.6,null,{"$f":"VLOOKUP($E239,'FSA 18'!$E$5:$O$248,3,0)","v":47},{"$f":"VLOOKUP($E239,'FSA 18'!$E$5:$O$248,4,0)","v":56},{"$f":"VLOOKUP($E239,'FSA 18'!$E$5:$O$248,5,0)","v":50},{"$f":"VLOOKUP($E239,'FSA 18'!$E$5:$O$248,6,0)","v":41},{"$f":"VLOOKUP($E239,'FSA 18'!$E$5:$O$248,7,0)","v":41},0.87234042553191493,0.8392857142857143,1.02,1.3463414634146342,1.3073170731707318,1.077056935280599]
["26063","Michigan","Huron","Wheat","HuronWheatAll","All",97.02,83.33,112.68,109.14,97.36,null,101.17,5.66,572.62,492.45,57.26,null,{"$f":"VLOOKUP($E240,'FSA 18'!$E$5:$O$248,3,0)","v":64},{"$f":"VLOOKUP($E240,'FSA 18'!$E$5:$O$248,4,0)","v":86},{"$f":"VLOOKUP($E240,'FSA 18'!$E$5:$O$248,5,0)","v":91},{"$f":"VLOOKUP($E240,'FSA 18'!$E$5:$O$248,6,0)","v":88},{"$f":"VLOOKUP($E240,'FSA 18'!$E$5:$O$248,7,0)","v":92},1.5159374999999999,0.96895348837209305,1.2382417582417584,1.2402272727272727,1.0582608695652174,1.2043241777812681]
["26065","Michigan","Ingham","Wheat","InghamWheatAll","All",83.68,84.86,76.56,97.29,72.91,null,81.7,5.66,462.42,397.68,46.24,null,{"$f":"VLOOKUP($E241,'FSA 18'!$E$5:$O$248,3,0)","v":66},{"$f":"VLOOKUP($E241,'FSA 18'!$E$5:$O$248,4,0)","v":70},{"$f":"VLOOKUP($E241,'FSA 18'!$E$5:$O$248,5,0)","v":80},{"$f":"VLOOKUP($E241,'FSA 18'!$E$5:$O$248,6,0)","v":84},{"$f":"VLOOKUP($E241,'FSA 18'!$E$5:$O$248,7,0)","v":84},1.267878787878788,1.2122857142857142,0.95700000000000007,1.1582142857142859,0.86797619047619046,1.0926709956709957]
["26067","Michigan","Ionia","Wheat","IoniaWheatAll","All",82.7,79.569999999999993,86,96.14,78.349999999999994,null,82.76,5.66,468.42,402.84,46.84,null,{"$f":"VLOOKUP($E242,'FSA 18'!$E$5:$O$248,3,0)","v":66},{"$f":"VLOOKUP($E242,'FSA 18'!$E$5:$O$248,4,0)","v":63},{"$f":"VLOOKUP($E242,'FSA 18'!$E$5:$O$248,5,0)","v":77},{"$f":"VLOOKUP($E242,'FSA 18'!$E$5:$O$248,6,0)","v":74},{"$f":"VLOOKUP($E242,'FSA 18'!$E$5:$O$248,7,0)","v":78},1.2530303030303032,1.2630158730158729,1.1168831168831168,1.2991891891891891,1.0044871794871795,1.1873211323211321]
["26069","Michigan","Iosco","Wheat","IoscoWheatAll","All",68.61,71.62,91.54,85.62,74.59,null,77.28,5.66,437.4,376.16,43.74,null,{"$f":"VLOOKUP($E243,'FSA 18'!$E$5:$O$248,3,0)","v":71},{"$f":"VLOOKUP($E243,'FSA 18'!$E$5:$O$248,4,0)","v":52},{"$f":"VLOOKUP($E243,'FSA 18'!$E$5:$O$248,5,0)","v":77},{"$f":"VLOOKUP($E243,'FSA 18'!$E$5:$O$248,6,0)","v":67},{"$f":"VLOOKUP($E243,'FSA 18'!$E$5:$O$248,7,0)","v":64},0.96633802816901404,1.3773076923076923,1.188831168831169,1.277910447761194,1.1654687500000001,1.1951712174138138]
["26071","Michigan","Iron","Wheat","IronWheatAll","All",41,47,51,55.2,53.6,null,50.53,5.66,286,245.96,28.6,null,{"$f":"VLOOKUP($E244,'FSA 18'!$E$5:$O$248,3,0)","v":47},{"$f":"VLOOKUP($E244,'FSA 18'!$E$5:$O$248,4,0)","v":56},{"$f":"VLOOKUP($E244,'FSA 18'!$E$5:$O$248,5,0)","v":50},{"$f":"VLOOKUP($E244,'FSA 18'!$E$5:$O$248,6,0)","v":41},{"$f":"VLOOKUP($E244,'FSA 18'!$E$5:$O$248,7,0)","v":41},0.87234042553191493,0.8392857142857143,1.02,1.3463414634146342,1.3073170731707318,1.077056935280599]
["26073","Michigan","Isabella","Wheat","IsabellaWheatAll","All",70.69,63.55,86.02,80.02,74.73,null,75.150000000000006,5.66,425.35,365.8,42.54,null,{"$f":"VLOOKUP($E245,'FSA 18'!$E$5:$O$248,3,0)","v":70},{"$f":"VLOOKUP($E245,'FSA 18'!$E$5:$O$248,4,0)","v":70},{"$f":"VLOOKUP($E245,'FSA 18'!$E$5:$O$248,5,0)","v":80},{"$f":"VLOOKUP($E245,'FSA 18'!$E$5:$O$248,6,0)","v":77},{"$f":"VLOOKUP($E245,'FSA 18'!$E$5:$O$248,7,0)","v":68},1.0098571428571428,0.90785714285714281,1.07525,1.0392207792207793,1.0989705882352943,1.0262311306340721]
["26075","Michigan","Jackson","Wheat","JacksonWheatAll","All",63.44,64.39,73.72,80.47,74.849999999999994,null,70.989999999999995,5.66,401.8,345.55,40.18,null,{"$f":"VLOOKUP($E246,'FSA 18'!$E$5:$O$248,3,0)","v":57},{"$f":"VLOOKUP($E246,'FSA 18'!$E$5:$O$248,4,0)","v":55},{"$f":"VLOOKUP($E246,'FSA 18'!$E$5:$O$248,5,0)","v":66},{"$f":"VLOOKUP($E246,'FSA 18'!$E$5:$O$248,6,0)","v":63},{"$f":"VLOOKUP($E246,'FSA 18'!$E$5:$O$248,7,0)","v":64},1.1129824561403507,1.1707272727272728,1.1169696969696969,1.2773015873015874,1.1695312499999999,1.1695024526277815]
["26077","Michigan","Kalamazoo","Wheat","KalamazooWheatAll","All",77.19,70.260000000000005,72.459999999999994,73.2,70.88,null,72.180000000000007,5.66,408.54,351.34,40.85,null,{"$f":"VLOOKUP($E247,'FSA 18'!$E$5:$O$248,3,0)","v":66},{"$f":"VLOOKUP($E247,'FSA 18'!$E$5:$O$248,4,0)","v":67},{"$f":"VLOOKUP($E247,'FSA 18'!$E$5:$O$248,5,0)","v":68},{"$f":"VLOOKUP($E247,'FSA 18'!$E$5:$O$248,6,0)","v":66},{"$f":"VLOOKUP($E247,'FSA 18'!$E$5:$O$248,7,0)","v":73},1.1695454545454544,1.0486567164179106,1.0655882352941175,1.1090909090909091,0.97095890410958896,1.0727680438915961]
["26079","Michigan","Kalkaska","Wheat","KalkaskaWheatAll","All",63.89,62.44,72.099999999999994,67.540000000000006,52,null,64.62,5.66,365.75,314.55,36.58,null,{"$f":"VLOOKUP($E248,'FSA 18'!$E$5:$O$248,3,0)","v":{"$error":"#N/A"}},{"$f":"VLOOKUP($E248,'FSA 18'!$E$5:$O$248,4,0)","v":{"$error":"#N/A"}},{"$f":"VLOOKUP($E248,'FSA 18'!$E$5:$O$248,5,0)","v":{"$error":"#N/A"}},{"$f":"VLOOKUP($E248,'FSA 18'!$E$5:$O$248,6,0)","v":{"$error":"#N/A"}},{"$f":"VLOOKUP($E248,'FSA 18'!$E$5:$O$248,7,0)","v":{"$error":"#N/A"}},{"$error":"#N/A"},{"$error":"#N/A"},{"$error":"#N/A"},{"$error":"#N/A"},{"$error":"#N/A"},""]
["26081","Michigan","Kent","Wheat","KentWheatAll","All",72.239999999999995,64.12,66.88,82.47,59.12,null,67.75,5.66,383.47,329.78,38.35,null,{"$f":"VLOOKUP($E249,'FSA 18'!$E$5:$O$248,3,0)","v":62},{"$f":"VLOOKUP($E249,'FSA 18'!$E$5:$O$248,4,0)","v":62},{"$f":"VLOOKUP($E249,'FSA 18'!$E$5:$O$248,5,0)","v":66},{"$f":"VLOOKUP($E249,'FSA 18'!$E$5:$O$248,6,0)","v":79},{"$f":"VLOOKUP($E249,'FSA 18'!$E$5:$O$248,7,0)","v":69},1.1651612903225805,1.0341935483870968,1.0133333333333332,1.0439240506329113,0.85681159420289854,1.0226847633757641]
["26085","Michigan","Lake","Wheat","LakeWheatAll","All",63,51,66,77.8,65,null,64.67,5.66,366.03,314.79000000000002,36.6,null,{"$f":"VLOOKUP($E250,'FSA 18'!$E$5:$O$248,3,0)","v":54},{"$f":"VLOOKUP($E250,'FSA 18'!$E$5:$O$248,4,0)","v":57},{"$f":"VLOOKUP($E250,'FSA 18'!$E$5:$O$248,5,0)","v":68},{"$f":"VLOOKUP($E250,'FSA 18'!$E$5:$O$248,6,0)","v":62},{"$f":"VLOOKUP($E250,'FSA 18'!$E$5:$O$248,7,0)","v":63},1.1666666666666667,0.89473684210526316,0.97058823529411764,1.2548387096774194,1.0317460317460319,1.0637152970978998]
["26087","Michigan","Lapeer","Wheat","LapeerWheatAll","All",69.28,67.680000000000007,78.459999999999994,90.23,74.72,null,74.150000000000006,5.66,419.69,360.93,41.97,null,{"$f":"VLOOKUP($E251,'FSA 18'!$E$5:$O$248,3,0)","v":{"$error":"#N/A"}},{"$f":"VLOOKUP($E251,'FSA 18'!$E$5:$O$248,4,0)","v":{"$error":"#N/A"}},{"$f":"VLOOKUP($E251,'FSA 18'!$E$5:$O$248,5,0)","v":{"$error":"#N/A"}},{"$f":"VLOOKUP($E251,'FSA 18'!$E$5:$O$248,6,0)","v":{"$error":"#N/A"}},{"$f":"VLOOKUP($E251,'FSA 18'!$E$5:$O$248,7,0)","v":{"$error":"#N/A"}},{"$error":"#N/A"},{"$error":"#N/A"},{"$error":"#N/A"},{"$error":"#N/A"},{"$error":"#N/A"},""]
["26089","Michigan","Leelanau","Wheat","LeelanauWheatAll","All",41,36,51,55,52,null,48,5.66,271.68,233.64,27.17,null,{"$f":"VLOOKUP($E252,'FSA 18'!$E$5:$O$248,3,0)","v":{"$error":"#N/A"}},{"$f":"VLOOKUP($E252,'FSA 18'!$E$5:$O$248,4,0)","v":{"$error":"#N/A"}},{"$f":"VLOOKUP($E252,'FSA 18'!$E$5:$O$248,5,0)","v":{"$error":"#N/A"}},{"$f":"VLOOKUP($E252,'FSA 18'!$E$5:$O$248,6,0)","v":{"$error":"#N/A"}},{"$f":"VLOOKUP($E252,'FSA 18'!$E$5:$O$248,7,0)","v":{"$error":"#N/A"}},{"$error":"#N/A"},{"$error":"#N/A"},{"$error":"#N/A"},{"$error":"#N/A"},{"$error":"#N/A"},""]
["26091","Michigan","Lenawee","Wheat","LenaweeWheatAll","All",89.52,81.5,64.36,98.97,86.67,null,85.9,5.66,486.19,418.12,48.62,null,{"$f":"VLOOKUP($E253,'FSA 18'!$E$5:$O$248,3,0)","v":{"$error":"#N/A"}},{"$f":"VLOOKUP($E253,'FSA 18'!$E$5:$O$248,4,0)","v":{"$error":"#N/A"}},{"$f":"VLOOKUP($E253,'FSA 18'!$E$5:$O$248,5,0)","v":{"$error":"#N/A"}},{"$f":"VLOOKUP($E253,'FSA 18'!$E$5:$O$248,6,0)","v":{"$error":"#N/A"}},{"$f":"VLOOKUP($E253,'FSA 18'!$E$5:$O$248,7,0)","v":{"$error":"#N/A"}},{"$error":"#N/A"},{"$error":"#N/A"},{"$error":"#N/A"},{"$error":"#N/A"},{"$error":"#N/A"},""]
["26093","Michigan","Livingston","Wheat","LivingstonWheatAll","All",64,69.430000000000007,76.97,82.59,78.3,null,74.900000000000006,5.66,423.93,364.58,42.39,null,{"$f":"VLOOKUP($E254,'FSA 18'!$E$5:$O$248,3,0)","v":{"$error":"#N/A"}},{"$f":"VLOOKUP($E254,'FSA 18'!$E$5:$O$248,4,0)","v":{"$error":"#N/A"}},{"$f":"VLOOKUP($E254,'FSA 18'!$E$5:$O$248,5,0)","v":{"$error":"#N/A"}},{"$f":"VLOOKUP($E254,'FSA 18'!$E$5:$O$248,6,0)","v":{"$error":"#N/A"}},{"$f":"VLOOKUP($E254,'FSA 18'!$E$5:$O$248,7,0)","v":{"$error":"#N/A"}},{"$error":"#N/A"},{"$error":"#N/A"},{"$error":"#N/A"},{"$error":"#N/A"},{"$error":"#N/A"},""]
["26095","Michigan","Luce","Wheat","LuceWheatAll","All",41,47,51,55.2,53.6,null,50.53,5.66,286,245.96,28.6,null,{"$f":"VLOOKUP($E255,'FSA 18'!$E$5:$O$248,3,0)","v":{"$error":"#N/A"}},{"$f":"VLOOKUP($E255,'FSA 18'!$E$5:$O$248,4,0)","v":{"$error":"#N/A"}},{"$f":"VLOOKUP($E255,'FSA 18'!$E$5:$O$248,5,0)","v":{"$error":"#N/A"}},{"$f":"VLOOKUP($E255,'FSA 18'!$E$5:$O$248,6,0)","v":{"$error":"#N/A"}},{"$f":"VLOOKUP($E255,'FSA 18'!$E$5:$O$248,7,0)","v":{"$error":"#N/A"}},{"$error":"#N/A"},{"$error":"#N/A"},{"$error":"#N/A"},{"$error":"#N/A"},{"$error":"#N/A"},""]
["26097","Michigan","Mackinac","Wheat","MackinacWheatAll","All",41,47,51,55,52,null,50,5.66,283,243.38,28.3,null,{"$f":"VLOOKUP($E256,'FSA 18'!$E$5:$O$248,3,0)","v":{"$error":"#N/A"}},{"$f":"VLOOKUP($E256,'FSA 18'!$E$5:$O$248,4,0)","v":{"$error":"#N/A"}},{"$f":"VLOOKUP($E256,'FSA 18'!$E$5:$O$248,5,0)","v":{"$error":"#N/A"}},{"$f":"VLOOKUP($E256,'FSA 18'!$E$5:$O$248,6,0)","v":{"$error":"#N/A"}},{"$f":"VLOOKUP($E256,'FSA 18'!$E$5:$O$248,7,0)","v":{"$error":"#N/A"}},{"$error":"#N/A"},{"$error":"#N/A"},{"$error":"#N/A"},{"$error":"#N/A"},{"$error":"#N/A"},""]
["26099","Michigan","Macomb","Wheat","MacombWheatAll","All",64.260000000000005,56.18,69.78,84.24,68.040000000000006,null,67.36,5.66,381.26,327.88,38.130000000000003,null,{"$f":"VLOOKUP($E257,'FSA 18'!$E$5:$O$248,3,0)","v":{"$error":"#N/A"}},{"$f":"VLOOKUP($E257,'FSA 18'!$E$5:$O$248,4,0)","v":{"$error":"#N/A"}},{"$f":"VLOOKUP($E257,'FSA 18'!$E$5:$O$248,5,0)","v":{"$error":"#N/A"}},{"$f":"VLOOKUP($E257,'FSA 18'!$E$5:$O$248,6,0)","v":{"$error":"#N/A"}},{"$f":"VLOOKUP($E257,'FSA 18'!$E$5:$O$248,7,0)","v":{"$error":"#N/A"}},{"$error":"#N/A"},{"$error":"#N/A"},{"$error":"#N/A"},{"$error":"#N/A"},{"$error":"#N/A"},""]
["26101","Michigan","Manistee","Wheat","ManisteeWheatAll","All",41,49,51,55,52,null,50.67,5.66,286.79000000000002,246.64,28.68,null,{"$f":"VLOOKUP($E258,'FSA 18'!$E$5:$O$248,3,0)","v":{"$error":"#N/A"}},{"$f":"VLOOKUP($E258,'FSA 18'!$E$5:$O$248,4,0)","v":{"$error":"#N/A"}},{"$f":"VLOOKUP($E258,'FSA 18'!$E$5:$O$248,5,0)","v":{"$error":"#N/A"}},{"$f":"VLOOKUP($E258,'FSA 18'!$E$5:$O$248,6,0)","v":{"$error":"#N/A"}},{"$f":"VLOOKUP($E258,'FSA 18'!$E$5:$O$248,7,0)","v":{"$error":"#N/A"}},{"$error":"#N/A"},{"$error":"#N/A"},{"$error":"#N/A"},{"$error":"#N/A"},{"$error":"#N/A"},""]
["26105","Michigan","Mason","Wheat","MasonWheatAll","All",65.47,49.83,58.98,72.56,57.86,null,60.77,5.66,343.96,295.81,34.4,null,{"$f":"VLOOKUP($E259,'FSA 18'!$E$5:$O$248,3,0)","v":{"$error":"#N/A"}},{"$f":"VLOOKUP($E259,'FSA 18'!$E$5:$O$248,4,0)","v":{"$error":"#N/A"}},{"$f":"VLOOKUP($E259,'FSA 18'!$E$5:$O$248,5,0)","v":{"$error":"#N/A"}},{"$f":"VLOOKUP($E259,'FSA 18'!$E$5:$O$248,6,0)","v":{"$error":"#N/A"}},{"$f":"VLOOKUP($E259,'FSA 18'!$E$5:$O$248,7,0)","v":{"$error":"#N/A"}},{"$error":"#N/A"},{"$error":"#N/A"},{"$error":"#N/A"},{"$error":"#N/A"},{"$error":"#N/A"},{"$f":"IFERROR(AVERAGE(X259:AB259),\"\")","v":""}]
["26107","Michigan","Mecosta","Wheat","MecostaWheatAll","All",55.61,40.4,75.13,77.12,60.23,null,63.66,5.66,360.32,309.88,36.03,null,{"$f":"VLOOKUP($E260,'FSA 18'!$E$5:$O$248,3,0)","v":{"$error":"#N/A"}},{"$f":"VLOOKUP($E260,'FSA 18'!$E$5:$O$248,4,0)","v":{"$error":"#N/A"}},{"$f":"VLOOKUP($E260,'FSA 18'!$E$5:$O$248,5,0)","v":{"$error":"#N/A"}},{"$f":"VLOOKUP($E260,'FSA 18'!$E$5:$O$248,6,0)","v":{"$error":"#N/A"}},{"$f":"VLOOKUP($E260,'FSA 18'!$E$5:$O$248,7,0)","v":{"$error":"#N/A"}},{"$error":"#N/A"},{"$error":"#N/A"},{"$error":"#N/A"},{"$error":"#N/A"},{"$error":"#N/A"},""]
["26109","Michigan","Menominee","Wheat","MenomineeWheatAll","All",41,47,51,55.2,53.6,null,50.53,5.66,286,245.96,28.6,null,{"$f":"VLOOKUP($E261,'FSA 18'!$E$5:$O$248,3,0)","v":{"$error":"#N/A"}},{"$f":"VLOOKUP($E261,'FSA 18'!$E$5:$O$248,4,0)","v":{"$error":"#N/A"}},{"$f":"VLOOKUP($E261,'FSA 18'!$E$5:$O$248,5,0)","v":{"$error":"#N/A"}},{"$f":"VLOOKUP($E261,'FSA 18'!$E$5:$O$248,6,0)","v":{"$error":"#N/A"}},{"$f":"VLOOKUP($E261,'FSA 18'!$E$5:$O$248,7,0)","v":{"$error":"#N/A"}},{"$error":"#N/A"},{"$f":"H261/T261","v":{"$error":"#N/A"}},{"$f":"I261/U261","v":{"$error":"#N/A"}},{"$f":"J261/V261","v":{"$error":"#N/A"}},{"$f":"K261/W261","v":{"$error":"#N/A"}},{"$f":"IFERROR(AVERAGE(X261:AB261),\"\")","v":""}]
["26111","Michigan","Midland","Wheat",{"$f":"C262&D262&F262","v":"MidlandWheatAll"},"All",70.87,81.290000000000006,95.94,86.42,69.569999999999993,null,79.53,5.66,450.14,387.12,45.01,null,{"$f":"VLOOKUP($E262,'FSA 18'!$E$5:$O$248,3,0)","v":{"$error":"#N/A"}},{"$f":"VLOOKUP($E262,'FSA 18'!$E$5:$O$248,4,0)","v":{"$error":"#N/A"}},{"$f":"VLOOKUP($E262,'FSA 18'!$E$5:$O$248,5,0)","v":{"$error":"#N/A"}},{"$f":"VLOOKUP($E262,'FSA 18'!$E$5:$O$248,6,0)","v":{"$error":"#N/A"}},{"$f":"VLOOKUP($E262,'FSA 18'!$E$5:$O$248,7,0)","v":{"$error":"#N/A"}},{"$f":"G262/S262","v":{"$error":"#N/A"}},{"$error":"#N/A"},{"$error":"#N/A"},{"$error":"#N/A"},{"$error":"#N/A"},""]
["26113","Michigan","Missaukee","Wheat","MissaukeeWheatAll","All",73.56,77.510000000000005,53.16,56.62,53.08,null,61.11,5.66,345.88,297.45999999999998,34.590000000000003,null,{"$f":"VLOOKUP($E263,'FSA 18'!$E$5:$O$248,3,0)","v":{"$error":"#N/A"}},{"$f":"VLOOKUP($E263,'FSA 18'!$E$5:$O$248,4,0)","v":{"$error":"#N/A"}},{"$f":"VLOOKUP($E263,'FSA 18'!$E$5:$O$248,5,0)","v":{"$error":"#N/A"}},{"$f":"VLOOKUP($E263,'FSA 18'!$E$5:$O$248,6,0)","v":{"$error":"#N/A"}},{"$f":"VLOOKUP($E263,'FSA 18'!$E$5:$O$248,7,0)","v":{"$error":"#N/A"}},{"$error":"#N/A"},{"$error":"#N/A"},{"$error":"#N/A"},{"$error":"#N/A"},{"$error":"#N/A"},""]
["26115","Michigan","Monroe","Wheat","MonroeWheatAll","All",84.38,84.89,65.569999999999993,89.18,86.62,null,85.3,5.66,482.8,415.21,48.28,null,{"$f":"VLOOKUP($E264,'FSA 18'!$E$5:$O$248,3,0)","v":{"$error":"#N/A"}},{"$f":"VLOOKUP($E264,'FSA 18'!$E$5:$O$248,4,0)","v":{"$error":"#N/A"}},{"$f":"VLOOKUP($E264,'FSA 18'!$E$5:$O$248,5,0)","v":{"$error":"#N/A"}},{"$f":"VLOOKUP($E264,'FSA 18'!$E$5:$O$248,6,0)","v":{"$error":"#N/A"}},{"$f":"VLOOKUP($E264,'FSA 18'!$E$5:$O$248,7,0)","v":{"$error":"#N/A"}},{"$error":"#N/A"},{"$error":"#N/A"},{"$error":"#N/A"},{"$error":"#N/A"},{"$error":"#N/A"},""]
["26117","Michigan","Montcalm","Wheat","MontcalmWheatIrrigated","Irrigated",72.42,70.22,86.14,79.260000000000005,73.02,null,74.900000000000006,5.66,423.93,364.58,42.39,null,{"$f":"VLOOKUP($E265,'FSA 18'!$E$5:$O$248,3,0)","v":{"$error":"#N/A"}},{"$f":"VLOOKUP($E265,'FSA 18'!$E$5:$O$248,4,0)","v":{"$error":"#N/A"}},{"$f":"VLOOKUP($E265,'FSA 18'!$E$5:$O$248,5,0)","v":{"$error":"#N/A"}},{"$f":"VLOOKUP($E265,'FSA 18'!$E$5:$O$248,6,0)","v":{"$error":"#N/A"}},{"$f":"VLOOKUP($E265,'FSA 18'!$E$5:$O$248,7,0)","v":{"$error":"#N/A"}},{"$error":"#N/A"},{"$error":"#N/A"},{"$error":"#N/A"},{"$error":"#N/A"},{"$error":"#N/A"},""]
["26117","Michigan","Montcalm","Wheat","MontcalmWheatNonirrigated","Nonirrigated",68.31,68.34,78.86,77,64.75,null,71.22,5.66,403.11,346.67,40.31,null,{"$f":"VLOOKUP($E266,'FSA 18'!$E$5:$O$248,3,0)","v":{"$error":"#N/A"}},{"$f":"VLOOKUP($E266,'FSA 18'!$E$5:$O$248,4,0)","v":{"$error":"#N/A"}},{"$f":"VLOOKUP($E266,'FSA 18'!$E$5:$O$248,5,0)","v":{"$error":"#N/A"}},{"$f":"VLOOKUP($E266,'FSA 18'!$E$5:$O$248,6,0)","v":{"$error":"#N/A"}},{"$f":"VLOOKUP($E266,'FSA 18'!$E$5:$O$248,7,0)","v":{"$error":"#N/A"}},{"$error":"#N/A"},{"$error":"#N/A"},{"$error":"#N/A"},{"$error":"#N/A"},{"$error":"#N/A"},""]
["26119","Michigan","Montmorency","Wheat","MontmorencyWheatAll","All",59.08,55.4,80.72,60.74,58.86,null,59.56,5.66,337.11,289.91000000000003,33.71,null,{"$f":"VLOOKUP($E267,'FSA 18'!$E$5:$O$248,3,0)","v":{"$error":"#N/A"}},{"$f":"VLOOKUP($E267,'FSA 18'!$E$5:$O$248,4,0)","v":{"$error":"#N/A"}},{"$f":"VLOOKUP($E267,'FSA 18'!$E$5:$O$248,5,0)","v":{"$error":"#N/A"}},{"$f":"VLOOKUP($E267,'FSA 18'!$E$5:$O$248,6,0)","v":{"$error":"#N/A"}},{"$f":"VLOOKUP($E267,'FSA 18'!$E$5:$O$248,7,0)","v":{"$error":"#N/A"}},{"$error":"#N/A"},{"$error":"#N/A"},{"$error":"#N/A"},{"$error":"#N/A"},{"$error":"#N/A"},""]
["26121","Michigan","Muskegon","Wheat","MuskegonWheatAll","All",53.8,42.09,52.11,62.83,62.95,null,56.25,5.66,318.38,273.81,31.84,null,{"$f":"VLOOKUP($E268,'FSA 18'!$E$5:$O$248,3,0)","v":{"$error":"#N/A"}},{"$f":"VLOOKUP($E268,'FSA 18'!$E$5:$O$248,4,0)","v":{"$error":"#N/A"}},{"$f":"VLOOKUP($E268,'FSA 18'!$E$5:$O$248,5,0)","v":{"$error":"#N/A"}},{"$f":"VLOOKUP($E268,'FSA 18'!$E$5:$O$248,6,0)","v":{"$error":"#N/A"}},{"$f":"VLOOKUP($E268,'FSA 18'!$E$5:$O$248,7,0)","v":{"$error":"#N/A"}},{"$error":"#N/A"},{"$error":"#N/A"},{"$error":"#N/A"},{"$error":"#N/A"},{"$error":"#N/A"},""]
["26123","Michigan","Newaygo","Wheat","NewaygoWheatAll","All",52.73,55.34,62.45,68.66,71.900000000000006,null,62.15,5.66,351.77,302.52,35.18,null,{"$f":"VLOOKUP($E269,'FSA 18'!$E$5:$O$248,3,0)","v":{"$error":"#N/A"}},{"$f":"VLOOKUP($E269,'FSA 18'!$E$5:$O$248,4,0)","v":{"$error":"#N/A"}},{"$f":"VLOOKUP($E269,'FSA 18'!$E$5:$O$248,5,0)","v":{"$error":"#N/A"}},{"$f":"VLOOKUP($E269,'FSA 18'!$E$5:$O$248,6,0)","v":{"$error":"#N/A"}},{"$f":"VLOOKUP($E269,'FSA 18'!$E$5:$O$248,7,0)","v":{"$error":"#N/A"}},{"$error":"#N/A"},{"$error":"#N/A"},{"$error":"#N/A"},{"$error":"#N/A"},{"$error":"#N/A"},""]
["26125","Michigan","Oakland","Wheat","OaklandWheatAll","All",73.67,54.37,41.6,73.400000000000006,68.099999999999994,null,65.290000000000006,5.66,369.54,317.8,36.950000000000003,null,{"$f":"VLOOKUP($E270,'FSA 18'!$E$5:$O$248,3,0)","v":{"$error":"#N/A"}},{"$f":"VLOOKUP($E270,'FSA 18'!$E$5:$O$248,4,0)","v":{"$error":"#N/A"}},{"$f":"VLOOKUP($E270,'FSA 18'!$E$5:$O$248,5,0)","v":{"$error":"#N/A"}},{"$f":"VLOOKUP($E270,'FSA 18'!$E$5:$O$248,6,0)","v":{"$error":"#N/A"}},{"$f":"VLOOKUP($E270,'FSA 18'!$E$5:$O$248,7,0)","v":{"$error":"#N/A"}},{"$error":"#N/A"},{"$error":"#N/A"},{"$error":"#N/A"},{"$error":"#N/A"},{"$error":"#N/A"},""]
["26127","Michigan","Oceana","Wheat","OceanaWheatAll","All",66.180000000000007,61.25,65.12,62.29,75.06,null,64.53,5.66,365.24,314.11,36.520000000000003,null,{"$f":"VLOOKUP($E271,'FSA 18'!$E$5:$O$248,3,0)","v":{"$error":"#N/A"}},{"$f":"VLOOKUP($E271,'FSA 18'!$E$5:$O$248,4,0)","v":{"$error":"#N/A"}},{"$f":"VLOOKUP($E271,'FSA 18'!$E$5:$O$248,5,0)","v":{"$error":"#N/A"}},{"$f":"VLOOKUP($E271,'FSA 18'!$E$5:$O$248,6,0)","v":{"$error":"#N/A"}},{"$f":"VLOOKUP($E271,'FSA 18'!$E$5:$O$248,7,0)","v":{"$error":"#N/A"}},{"$error":"#N/A"},{"$error":"#N/A"},{"$error":"#N/A"},{"$error":"#N/A"},{"$error":"#N/A"},""]
["26129","Michigan","Ogemaw","Wheat","OgemawWheatAll","All",65.42,68.03,93.52,81.5,60.58,null,71.650000000000006,5.66,405.54,348.76,40.549999999999997,null,{"$f":"VLOOKUP($E272,'FSA 18'!$E$5:$O$248,3,0)","v":{"$error":"#N/A"}},{"$f":"VLOOKUP($E272,'FSA 18'!$E$5:$O$248,4,0)","v":{"$error":"#N/A"}},{"$f":"VLOOKUP($E272,'FSA 18'!$E$5:$O$248,5,0)","v":{"$error":"#N/A"}},{"$f":"VLOOKUP($E272,'FSA 18'!$E$5:$O$248,6,0)","v":{"$error":"#N/A"}},{"$f":"VLOOKUP($E272,'FSA 18'!$E$5:$O$248,7,0)","v":{"$error":"#N/A"}},{"$error":"#N/A"},{"$error":"#N/A"},{"$error":"#N/A"},{"$error":"#N/A"},{"$error":"#N/A"},""]
["26131","Michigan","Ontonagon","Wheat","OntonagonWheatAll","All",41,47,51,55,52,null,50,5.66,283,243.38,28.3,null,{"$f":"VLOOKUP($E273,'FSA 18'!$E$5:$O$248,3,0)","v":{"$error":"#N/A"}},{"$f":"VLOOKUP($E273,'FSA 18'!$E$5:$O$248,4,0)","v":{"$error":"#N/A"}},{"$f":"VLOOKUP($E273,'FSA 18'!$E$5:$O$248,5,0)","v":{"$error":"#N/A"}},{"$f":"VLOOKUP($E273,'FSA 18'!$E$5:$O$248,6,0)","v":{"$error":"#N/A"}},{"$f":"VLOOKUP($E273,'FSA 18'!$E$5:$O$248,7,0)","v":{"$error":"#N/A"}},{"$error":"#N/A"},{"$error":"#N/A"},{"$error":"#N/A"},{"$error":"#N/A"},{"$error":"#N/A"},""]
["26133","Michigan","Osceola","Wheat","OsceolaWheatAll","All",41.74,48.47,73.88,50.27,69,null,55.91,5.66,316.45,272.14999999999998,31.65,null,{"$f":"VLOOKUP($E274,'FSA 18'!$E$5:$O$248,3,0)","v":{"$error":"#N/A"}},{"$f":"VLOOKUP($E274,'FSA 18'!$E$5:$O$248,4,0)","v":{"$error":"#N/A"}},{"$f":"VLOOKUP($E274,'FSA 18'!$E$5:$O$248,5,0)","v":{"$error":"#N/A"}},{"$f":"VLOOKUP($E274,'FSA 18'!$E$5:$O$248,6,0)","v":{"$error":"#N/A"}},{"$f":"VLOOKUP($E274,'FSA 18'!$E$5:$O$248,7,0)","v":{"$error":"#N/A"}},{"$error":"#N/A"},{"$error":"#N/A"},{"$error":"#N/A"},{"$error":"#N/A"},{"$error":"#N/A"},""]
["26135","Michigan","Oscoda","Wheat","OscodaWheatAll","All",55,52,78,61,52,null,56,5.66,316.95999999999998,272.58999999999997,31.7,null,{"$f":"VLOOKUP($E275,'FSA 18'!$E$5:$O$248,3,0)","v":{"$error":"#N/A"}},{"$f":"VLOOKUP($E275,'FSA 18'!$E$5:$O$248,4,0)","v":{"$error":"#N/A"}},{"$f":"VLOOKUP($E275,'FSA 18'!$E$5:$O$248,5,0)","v":{"$error":"#N/A"}},{"$f":"VLOOKUP($E275,'FSA 18'!$E$5:$O$248,6,0)","v":{"$error":"#N/A"}},{"$f":"VLOOKUP($E275,'FSA 18'!$E$5:$O$248,7,0)","v":{"$error":"#N/A"}},{"$error":"#N/A"},{"$error":"#N/A"},{"$error":"#N/A"},{"$error":"#N/A"},{"$error":"#N/A"},""]
["26137","Michigan","Otsego","Wheat","OtsegoWheatAll","All",51.6,56,78,73,45.5,null,60.2,5.66,340.73,293.02999999999997,34.07,null,{"$f":"VLOOKUP($E276,'FSA 18'!$E$5:$O$248,3,0)","v":{"$error":"#N/A"}},{"$f":"VLOOKUP($E276,'FSA 18'!$E$5:$O$248,4,0)","v":{"$error":"#N/A"}},{"$f":"VLOOKUP($E276,'FSA 18'!$E$5:$O$248,5,0)","v":{"$error":"#N/A"}},{"$f":"VLOOKUP($E276,'FSA 18'!$E$5:$O$248,6,0)","v":{"$error":"#N/A"}},{"$f":"VLOOKUP($E276,'FSA 18'!$E$5:$O$248,7,0)","v":{"$error":"#N/A"}},{"$error":"#N/A"},{"$error":"#N/A"},{"$error":"#N/A"},{"$error":"#N/A"},{"$error":"#N/A"},""]
["26139","Michigan","Ottawa","Wheat","OttawaWheatAll","All",77.239999999999995,68.17,72.44,88.68,56.48,null,72.62,5.66,411.03,353.49,41.1,null,{"$f":"VLOOKUP($E277,'FSA 18'!$E$5:$O$248,3,0)","v":{"$error":"#N/A"}},{"$f":"VLOOKUP($E277,'FSA 18'!$E$5:$O$248,4,0)","v":{"$error":"#N/A"}},{"$f":"VLOOKUP($E277,'FSA 18'!$E$5:$O$248,5,0)","v":{"$error":"#N/A"}},{"$f":"VLOOKUP($E277,'FSA 18'!$E$5:$O$248,6,0)","v":{"$error":"#N/A"}},{"$f":"VLOOKUP($E277,'FSA 18'!$E$5:$O$248,7,0)","v":{"$error":"#N/A"}},{"$error":"#N/A"},{"$error":"#N/A"},{"$error":"#N/A"},{"$error":"#N/A"},{"$error":"#N/A"},""]
["26141","Michigan","Presque Isle","Wheat","Presque IsleWheatAll","All",57.34,49.55,67.8,44.03,57.04,null,54.64,5.66,309.26,265.95999999999998,30.93,null,{"$f":"VLOOKUP($E278,'FSA 18'!$E$5:$O$248,3,0)","v":{"$error":"#N/A"}},{"$f":"VLOOKUP($E278,'FSA 18'!$E$5:$O$248,4,0)","v":{"$error":"#N/A"}},{"$f":"VLOOKUP($E278,'FSA 18'!$E$5:$O$248,5,0)","v":{"$error":"#N/A"}},{"$f":"VLOOKUP($E278,'FSA 18'!$E$5:$O$248,6,0)","v":{"$error":"#N/A"}},{"$f":"VLOOKUP($E278,'FSA 18'!$E$5:$O$248,7,0)","v":{"$error":"#N/A"}},{"$error":"#N/A"},{"$error":"#N/A"},{"$error":"#N/A"},{"$error":"#N/A"},{"$error":"#N/A"},""]
["26143","Michigan","Roscommon","Wheat","RoscommonWheatAll","All",55,52,78,61,52,null,56,5.66,316.95999999999998,272.58999999999997,31.7,null,{"$f":"VLOOKUP($E279,'FSA 18'!$E$5:$O$248,3,0)","v":{"$error":"#N/A"}},{"$f":"VLOOKUP($E279,'FSA 18'!$E$5:$O$248,4,0)","v":{"$error":"#N/A"}},{"$f":"VLOOKUP($E279,'FSA 18'!$E$5:$O$248,5,0)","v":{"$error":"#N/A"}},{"$f":"VLOOKUP($E279,'FSA 18'!$E$5:$O$248,6,0)","v":{"$error":"#N/A"}},{"$f":"VLOOKUP($E279,'FSA 18'!$E$5:$O$248,7,0)","v":{"$error":"#N/A"}},{"$error":"#N/A"},{"$error":"#N/A"},{"$error":"#N/A"},{"$error":"#N/A"},{"$error":"#N/A"},""]
["26145","Michigan","Saginaw","Wheat","SaginawWheatAll","All",78.95,75.11,91.57,95.29,77.2,null,82.57,5.66,467.35,401.92,46.74,null,{"$f":"VLOOKUP($E280,'FSA 18'!$E$5:$O$248,3,0)","v":{"$error":"#N/A"}},{"$f":"VLOOKUP($E280,'FSA 18'!$E$5:$O$248,4,0)","v":{"$error":"#N/A"}},{"$f":"VLOOKUP($E280,'FSA 18'!$E$5:$O$248,5,0)","v":{"$error":"#N/A"}},{"$f":"VLOOKUP($E280,'FSA 18'!$E$5:$O$248,6,0)","v":{"$error":"#N/A"}},{"$f":"VLOOKUP($E280,'FSA 18'!$E$5:$O$248,7,0)","v":{"$error":"#N/A"}},{"$error":"#N/A"},{"$error":"#N/A"},{"$error":"#N/A"},{"$error":"#N/A"},{"$error":"#N/A"},""]
["26147","Michigan","St. Clair","Wheat","St. ClairWheatAll","All",78.03,72.150000000000006,68.099999999999994,77.150000000000006,68.349999999999994,null,72.55,5.66,410.63,353.14,41.06,null,{"$f":"VLOOKUP($E281,'FSA 18'!$E$5:$O$248,3,0)","v":{"$error":"#N/A"}},{"$f":"VLOOKUP($E281,'FSA 18'!$E$5:$O$248,4,0)","v":{"$error":"#N/A"}},{"$f":"VLOOKUP($E281,'FSA 18'!$E$5:$O$248,5,0)","v":{"$error":"#N/A"}},{"$f":"VLOOKUP($E281,'FSA 18'!$E$5:$O$248,6,0)","v":{"$error":"#N/A"}},{"$f":"VLOOKUP($E281,'FSA 18'!$E$5:$O$248,7,0)","v":{"$error":"#N/A"}},{"$error":"#N/A"},{"$error":"#N/A"},{"$error":"#N/A"},{"$error":"#N/A"},{"$error":"#N/A"},""]
["26149","Michigan","St. Joseph","Wheat","St. JosephWheatAll","All",68.02,70.650000000000006,78.680000000000007,83.61,85.24,null,77.650000000000006,5.66,439.5,377.97,43.95,null,{"$f":"VLOOKUP($E282,'FSA 18'!$E$5:$O$248,3,0)","v":{"$error":"#N/A"}},{"$f":"VLOOKUP($E282,'FSA 18'!$E$5:$O$248,4,0)","v":{"$error":"#N/A"}},{"$f":"VLOOKUP($E282,'FSA 18'!$E$5:$O$248,5,0)","v":{"$error":"#N/A"}},{"$f":"VLOOKUP($E282,'FSA 18'!$E$5:$O$248,6,0)","v":{"$error":"#N/A"}},{"$f":"VLOOKUP($E282,'FSA 18'!$E$5:$O$248,7,0)","v":{"$error":"#N/A"}},{"$error":"#N/A"},{"$error":"#N/A"},{"$error":"#N/A"},{"$error":"#N/A"},{"$error":"#N/A"},""]
["26151","Michigan","Sanilac","Wheat","SanilacWheatAll","All",87.27,63.45,99.12,106.52,89.28,null,91.89,5.66,520.1,447.29,52.01,null,{"$f":"VLOOKUP($E283,'FSA 18'!$E$5:$O$248,3,0)","v":{"$error":"#N/A"}},{"$f":"VLOOKUP($E283,'FSA 18'!$E$5:$O$248,4,0)","v":{"$error":"#N/A"}},{"$f":"VLOOKUP($E283,'FSA 18'!$E$5:$O$248,5,0)","v":{"$error":"#N/A"}},{"$f":"VLOOKUP($E283,'FSA 18'!$E$5:$O$248,6,0)","v":{"$error":"#N/A"}},{"$f":"VLOOKUP($E283,'FSA 18'!$E$5:$O$248,7,0)","v":{"$error":"#N/A"}},{"$error":"#N/A"},{"$error":"#N/A"},{"$error":"#N/A"},{"$error":"#N/A"},{"$error":"#N/A"},""]
["26153","Michigan","Schoolcraft","Wheat","SchoolcraftWheatAll","All",41,47,51,55.2,53.6,null,50.53,5.66,286,245.96,28.6,null,{"$f":"VLOOKUP($E284,'FSA 18'!$E$5:$O$248,3,0)","v":{"$error":"#N/A"}},{"$f":"VLOOKUP($E284,'FSA 18'!$E$5:$O$248,4,0)","v":{"$error":"#N/A"}},{"$f":"VLOOKUP($E284,'FSA 18'!$E$5:$O$248,5,0)","v":{"$error":"#N/A"}},{"$f":"VLOOKUP($E284,'FSA 18'!$E$5:$O$248,6,0)","v":{"$error":"#N/A"}},{"$f":"VLOOKUP($E284,'FSA 18'!$E$5:$O$248,7,0)","v":{"$error":"#N/A"}},{"$error":"#N/A"},{"$error":"#N/A"},{"$error":"#N/A"},{"$error":"#N/A"},{"$error":"#N/A"},""]
["26155","Michigan","Shiawassee","Wheat","ShiawasseeWheatAll","All",71.709999999999994,61.52,87.57,81.31,68.19,null,73.739999999999995,5.66,417.37,358.94,41.74,null,{"$f":"VLOOKUP($E285,'FSA 18'!$E$5:$O$248,3,0)","v":{"$error":"#N/A"}},{"$f":"VLOOKUP($E285,'FSA 18'!$E$5:$O$248,4,0)","v":{"$error":"#N/A"}},{"$f":"VLOOKUP($E285,'FSA 18'!$E$5:$O$248,5,0)","v":{"$error":"#N/A"}},{"$f":"VLOOKUP($E285,'FSA 18'!$E$5:$O$248,6,0)","v":{"$error":"#N/A"}},{"$f":"VLOOKUP($E285,'FSA 18'!$E$5:$O$248,7,0)","v":{"$error":"#N/A"}},{"$error":"#N/A"},{"$error":"#N/A"},{"$error":"#N/A"},{"$error":"#N/A"},{"$error":"#N/A"},""]
["26157","Michigan","Tuscola","Wheat","TuscolaWheatAll","All",88.24,73.099999999999994,98.34,96.05,88.03,null,90.77,5.66,513.76,441.83,51.38,null,{"$f":"VLOOKUP($E286,'FSA 18'!$E$5:$O$248,3,0)","v":{"$error":"#N/A"}},{"$f":"VLOOKUP($E286,'FSA 18'!$E$5:$O$248,4,0)","v":{"$error":"#N/A"}},{"$f":"VLOOKUP($E286,'FSA 18'!$E$5:$O$248,5,0)","v":{"$error":"#N/A"}},{"$f":"VLOOKUP($E286,'FSA 18'!$E$5:$O$248,6,0)","v":{"$error":"#N/A"}},{"$f":"VLOOKUP($E286,'FSA 18'!$E$5:$O$248,7,0)","v":{"$error":"#N/A"}},{"$error":"#N/A"},{"$error":"#N/A"},{"$error":"#N/A"},{"$error":"#N/A"},{"$error":"#N/A"},""]
["26159","Michigan","Van Buren","Wheat","Van BurenWheatAll","All",59.42,52.8,60.66,68.319999999999993,67.08,null,62.39,5.66,353.13,303.69,35.31,null,{"$f":"VLOOKUP($E287,'FSA 18'!$E$5:$O$248,3,0)","v":{"$error":"#N/A"}},{"$f":"VLOOKUP($E287,'FSA 18'!$E$5:$O$248,4,0)","v":{"$error":"#N/A"}},{"$f":"VLOOKUP($E287,'FSA 18'!$E$5:$O$248,5,0)","v":{"$error":"#N/A"}},{"$f":"VLOOKUP($E287,'FSA 18'!$E$5:$O$248,6,0)","v":{"$error":"#N/A"}},{"$f":"VLOOKUP($E287,'FSA 18'!$E$5:$O$248,7,0)","v":{"$error":"#N/A"}},{"$error":"#N/A"},{"$error":"#N/A"},{"$error":"#N/A"},{"$error":"#N/A"},{"$error":"#N/A"},""]
["26161","Michigan","Washtenaw","Wheat","WashtenawWheatAll","All",68.94,73.38,70.89,88.51,80.42,null,74.900000000000006,5.66,423.93,364.58,42.39,null,{"$f":"VLOOKUP($E288,'FSA 18'!$E$5:$O$248,3,0)","v":{"$error":"#N/A"}},{"$f":"VLOOKUP($E288,'FSA 18'!$E$5:$O$248,4,0)","v":{"$error":"#N/A"}},{"$f":"VLOOKUP($E288,'FSA 18'!$E$5:$O$248,5,0)","v":{"$error":"#N/A"}},{"$f":"VLOOKUP($E288,'FSA 18'!$E$5:$O$248,6,0)","v":{"$error":"#N/A"}},{"$f":"VLOOKUP($E288,'FSA 18'!$E$5:$O$248,7,0)","v":{"$error":"#N/A"}},{"$error":"#N/A"},{"$error":"#N/A"},{"$error":"#N/A"},{"$error":"#N/A"},{"$error":"#N/A"},""]
["26163","Michigan","Wayne","Wheat","WayneWheatAll","All",48.43,74,74,88,77,null,75,5.66,424.5,365.07,42.45,null,{"$f":"VLOOKUP($E289,'FSA 18'!$E$5:$O$248,3,0)","v":{"$error":"#N/A"}},{"$f":"VLOOKUP($E289,'FSA 18'!$E$5:$O$248,4,0)","v":{"$error":"#N/A"}},{"$f":"VLOOKUP($E289,'FSA 18'!$E$5:$O$248,5,0)","v":{"$error":"#N/A"}},{"$f":"VLOOKUP($E289,'FSA 18'!$E$5:$O$248,6,0)","v":{"$error":"#N/A"}},{"$f":"VLOOKUP($E289,'FSA 18'!$E$5:$O$248,7,0)","v":{"$error":"#N/A"}},{"$error":"#N/A"},{"$error":"#N/A"},{"$error":"#N/A"},{"$error":"#N/A"},{"$error":"#N/A"},""]
["26165","Michigan","Wexford","Wheat","WexfordWheatAll","All",36,39.35,47.85,55,52,null,46.4,5.66,262.62,225.85,26.26,null,{"$f":"VLOOKUP($E290,'FSA 18'!$E$5:$O$248,3,0)","v":{"$error":"#N/A"}},{"$f":"VLOOKUP($E290,'FSA 18'!$E$5:$O$248,4,0)","v":{"$error":"#N/A"}},{"$f":"VLOOKUP($E290,'FSA 18'!$E$5:$O$248,5,0)","v":{"$error":"#N/A"}},{"$f":"VLOOKUP($E290,'FSA 18'!$E$5:$O$248,6,0)","v":{"$error":"#N/A"}},{"$f":"VLOOKUP($E290,'FSA 18'!$E$5:$O$248,7,0)","v":{"$error":"#N/A"}},{"$error":"#N/A"},{"$error":"#N/A"},{"$error":"#N/A"},{"$error":"#N/A"},{"$error":"#N/A"},""]